BEGIN:VCALENDAR
VERSION:2.0
PRODID:-//Space Center Houston - ECPv6.15.15//NONSGML v1.0//EN
CALSCALE:GREGORIAN
METHOD:PUBLISH
X-WR-CALNAME:Space Center Houston
X-ORIGINAL-URL:https://spacecenter.org
X-WR-CALDESC:Events for Space Center Houston
REFRESH-INTERVAL;VALUE=DURATION:PT1H
X-Robots-Tag:noindex
X-PUBLISHED-TTL:PT1H
BEGIN:VTIMEZONE
TZID:America/Chicago
BEGIN:DAYLIGHT
TZOFFSETFROM:-0600
TZOFFSETTO:-0500
TZNAME:CDT
DTSTART:20250309T080000
END:DAYLIGHT
BEGIN:STANDARD
TZOFFSETFROM:-0500
TZOFFSETTO:-0600
TZNAME:CST
DTSTART:20251102T070000
END:STANDARD
BEGIN:DAYLIGHT
TZOFFSETFROM:-0600
TZOFFSETTO:-0500
TZNAME:CDT
DTSTART:20260308T080000
END:DAYLIGHT
BEGIN:STANDARD
TZOFFSETFROM:-0500
TZOFFSETTO:-0600
TZNAME:CST
DTSTART:20261101T070000
END:STANDARD
BEGIN:DAYLIGHT
TZOFFSETFROM:-0600
TZOFFSETTO:-0500
TZNAME:CDT
DTSTART:20270314T080000
END:DAYLIGHT
BEGIN:STANDARD
TZOFFSETFROM:-0500
TZOFFSETTO:-0600
TZNAME:CST
DTSTART:20271107T070000
END:STANDARD
END:VTIMEZONE
BEGIN:VEVENT
DTSTART;TZID=America/Chicago:20260421T103000
DTEND;TZID=America/Chicago:20260421T104500
DTSTAMP:20260421T105354
CREATED:20250602T214417Z
LAST-MODIFIED:20250603T184348Z
UID:10086966-1776767400-1776768300@spacecenter.org
SUMMARY:Human Destiny Film
DESCRIPTION:
URL:https://spacecenter.org/events-calendar-event/human-destiny-film-2/2026-04-21/
LOCATION:Theater – Destiny
CATEGORIES:Film
ATTACH;FMTTYPE=image/jpeg:https://spacecenter.org/wp-content/uploads/2022/10/Destiny-Theater.jpg
END:VEVENT
BEGIN:VEVENT
DTSTART;TZID=America/Chicago:20260421T101500
DTEND;TZID=America/Chicago:20260421T103000
DTSTAMP:20260421T105354
CREATED:20250602T214310Z
LAST-MODIFIED:20250603T184018Z
UID:10083310-1776766500-1776767400@spacecenter.org
SUMMARY:Human Destiny Film
DESCRIPTION:
URL:https://spacecenter.org/events-calendar-event/human-destiny-film/2026-04-21/
LOCATION:Theater – Destiny
CATEGORIES:Film
ATTACH;FMTTYPE=image/jpeg:https://spacecenter.org/wp-content/uploads/2022/10/Destiny-Theater.jpg
END:VEVENT
BEGIN:VEVENT
DTSTART;TZID=America/Chicago:20260420T154500
DTEND;TZID=America/Chicago:20260420T161500
DTSTAMP:20260421T105354
CREATED:20250602T214125Z
LAST-MODIFIED:20250603T192119Z
UID:10207613-1776699900-1776701700@spacecenter.org
SUMMARY:Artemis Live Presentation
DESCRIPTION:
URL:https://spacecenter.org/events-calendar-event/artemis-live-presentation-3/2026-04-20/
LOCATION:Theater – Destiny
CATEGORIES:Live Presentation
ATTACH;FMTTYPE=image/jpeg:https://spacecenter.org/wp-content/uploads/2022/10/Artemis-Capsule.jpeg
END:VEVENT
BEGIN:VEVENT
DTSTART;TZID=America/Chicago:20260420T144500
DTEND;TZID=America/Chicago:20260420T150000
DTSTAMP:20260421T105354
CREATED:20250602T213716Z
LAST-MODIFIED:20250603T191759Z
UID:10189333-1776696300-1776697200@spacecenter.org
SUMMARY:James Webb Live Presentation
DESCRIPTION:
URL:https://spacecenter.org/events-calendar-event/james-webb-live-presentation-3/2026-04-20/
LOCATION:Theater – Destiny
CATEGORIES:Live Presentation
END:VEVENT
BEGIN:VEVENT
DTSTART;TZID=America/Chicago:20260420T134500
DTEND;TZID=America/Chicago:20260420T140000
DTSTAMP:20260421T105354
CREATED:20250602T213557Z
LAST-MODIFIED:20250603T191327Z
UID:10174709-1776692700-1776693600@spacecenter.org
SUMMARY:James Webb Live Presentation
DESCRIPTION:
URL:https://spacecenter.org/events-calendar-event/james-webb-live-presentation-2/2026-04-20/
LOCATION:Theater – Destiny
CATEGORIES:Live Presentation
END:VEVENT
BEGIN:VEVENT
DTSTART;TZID=America/Chicago:20260420T124500
DTEND;TZID=America/Chicago:20260420T131500
DTSTAMP:20260421T105354
CREATED:20250602T214012Z
LAST-MODIFIED:20250603T190811Z
UID:10152773-1776689100-1776690900@spacecenter.org
SUMMARY:Artemis Live Presentation
DESCRIPTION:
URL:https://spacecenter.org/events-calendar-event/artemis-live-presentation-2/2026-04-20/
LOCATION:Theater – Destiny
CATEGORIES:Live Presentation
ATTACH;FMTTYPE=image/jpeg:https://spacecenter.org/wp-content/uploads/2022/10/Artemis-Capsule.jpeg
END:VEVENT
BEGIN:VEVENT
DTSTART;TZID=America/Chicago:20260420T114500
DTEND;TZID=America/Chicago:20260420T120000
DTSTAMP:20260421T105354
CREATED:20250602T213503Z
LAST-MODIFIED:20250603T190256Z
UID:10138149-1776685500-1776686400@spacecenter.org
SUMMARY:James Webb Live Presentation
DESCRIPTION:
URL:https://spacecenter.org/events-calendar-event/james-webb-live-presentation/2026-04-20/
LOCATION:Theater – Destiny
CATEGORIES:Live Presentation
END:VEVENT
BEGIN:VEVENT
DTSTART;TZID=America/Chicago:20260420T113000
DTEND;TZID=America/Chicago:20260420T114500
DTSTAMP:20260421T105354
CREATED:20250602T214945Z
LAST-MODIFIED:20250603T190019Z
UID:10127181-1776684600-1776685500@spacecenter.org
SUMMARY:Human Destiny Film
DESCRIPTION:
URL:https://spacecenter.org/events-calendar-event/human-destiny-film-6/2026-04-20/
LOCATION:Theater – Destiny
CATEGORIES:Film
ATTACH;FMTTYPE=image/jpeg:https://spacecenter.org/wp-content/uploads/2022/10/Destiny-Theater.jpg
END:VEVENT
BEGIN:VEVENT
DTSTART;TZID=America/Chicago:20260420T111500
DTEND;TZID=America/Chicago:20260420T113000
DTSTAMP:20260421T105354
CREATED:20250602T214855Z
LAST-MODIFIED:20250603T185944Z
UID:10123525-1776683700-1776684600@spacecenter.org
SUMMARY:Human Destiny Film
DESCRIPTION:
URL:https://spacecenter.org/events-calendar-event/human-destiny-film-5/2026-04-20/
LOCATION:Theater – Destiny
CATEGORIES:Film
ATTACH;FMTTYPE=image/jpeg:https://spacecenter.org/wp-content/uploads/2022/10/Destiny-Theater.jpg
END:VEVENT
BEGIN:VEVENT
DTSTART;TZID=America/Chicago:20260420T110000
DTEND;TZID=America/Chicago:20260420T111500
DTSTAMP:20260421T105354
CREATED:20250602T214802Z
LAST-MODIFIED:20250603T185720Z
UID:10112557-1776682800-1776683700@spacecenter.org
SUMMARY:Human Destiny Film
DESCRIPTION:
URL:https://spacecenter.org/events-calendar-event/human-destiny-film-4/2026-04-20/
LOCATION:Theater – Destiny
CATEGORIES:Film
ATTACH;FMTTYPE=image/jpeg:https://spacecenter.org/wp-content/uploads/2022/10/Destiny-Theater.jpg
END:VEVENT
BEGIN:VEVENT
DTSTART;TZID=America/Chicago:20260420T104500
DTEND;TZID=America/Chicago:20260420T111500
DTSTAMP:20260421T105354
CREATED:20250602T213905Z
LAST-MODIFIED:20250603T185637Z
UID:10108901-1776681900-1776683700@spacecenter.org
SUMMARY:Artemis Live Presentation
DESCRIPTION:
URL:https://spacecenter.org/events-calendar-event/artemis-live-presentation/2026-04-20/
LOCATION:Theater – Destiny
CATEGORIES:Live Presentation
ATTACH;FMTTYPE=image/jpeg:https://spacecenter.org/wp-content/uploads/2022/10/Artemis-Capsule.jpeg
END:VEVENT
BEGIN:VEVENT
DTSTART;TZID=America/Chicago:20260420T104500
DTEND;TZID=America/Chicago:20260420T110000
DTSTAMP:20260421T105354
CREATED:20250602T214618Z
LAST-MODIFIED:20250603T185541Z
UID:10105245-1776681900-1776682800@spacecenter.org
SUMMARY:Human Destiny Film
DESCRIPTION:
URL:https://spacecenter.org/events-calendar-event/human-destiny-film-3/2026-04-20/
LOCATION:Theater – Destiny
CATEGORIES:Film
ATTACH;FMTTYPE=image/jpeg:https://spacecenter.org/wp-content/uploads/2022/10/Destiny-Theater.jpg
END:VEVENT
BEGIN:VEVENT
DTSTART;TZID=America/Chicago:20260420T103000
DTEND;TZID=America/Chicago:20260420T104500
DTSTAMP:20260421T105354
CREATED:20250602T214417Z
LAST-MODIFIED:20250603T184348Z
UID:10086965-1776681000-1776681900@spacecenter.org
SUMMARY:Human Destiny Film
DESCRIPTION:
URL:https://spacecenter.org/events-calendar-event/human-destiny-film-2/2026-04-20/
LOCATION:Theater – Destiny
CATEGORIES:Film
ATTACH;FMTTYPE=image/jpeg:https://spacecenter.org/wp-content/uploads/2022/10/Destiny-Theater.jpg
END:VEVENT
BEGIN:VEVENT
DTSTART;TZID=America/Chicago:20260420T101500
DTEND;TZID=America/Chicago:20260420T103000
DTSTAMP:20260421T105354
CREATED:20250602T214310Z
LAST-MODIFIED:20250603T184018Z
UID:10083309-1776680100-1776681000@spacecenter.org
SUMMARY:Human Destiny Film
DESCRIPTION:
URL:https://spacecenter.org/events-calendar-event/human-destiny-film/2026-04-20/
LOCATION:Theater – Destiny
CATEGORIES:Film
ATTACH;FMTTYPE=image/jpeg:https://spacecenter.org/wp-content/uploads/2022/10/Destiny-Theater.jpg
END:VEVENT
BEGIN:VEVENT
DTSTART;TZID=America/Chicago:20260419T154500
DTEND;TZID=America/Chicago:20260419T161500
DTSTAMP:20260421T105354
CREATED:20250602T214125Z
LAST-MODIFIED:20250603T192119Z
UID:10207612-1776613500-1776615300@spacecenter.org
SUMMARY:Artemis Live Presentation
DESCRIPTION:
URL:https://spacecenter.org/events-calendar-event/artemis-live-presentation-3/2026-04-19/
LOCATION:Theater – Destiny
CATEGORIES:Live Presentation
ATTACH;FMTTYPE=image/jpeg:https://spacecenter.org/wp-content/uploads/2022/10/Artemis-Capsule.jpeg
END:VEVENT
BEGIN:VEVENT
DTSTART;TZID=America/Chicago:20260419T144500
DTEND;TZID=America/Chicago:20260419T150000
DTSTAMP:20260421T105354
CREATED:20250602T213716Z
LAST-MODIFIED:20250603T191759Z
UID:10189332-1776609900-1776610800@spacecenter.org
SUMMARY:James Webb Live Presentation
DESCRIPTION:
URL:https://spacecenter.org/events-calendar-event/james-webb-live-presentation-3/2026-04-19/
LOCATION:Theater – Destiny
CATEGORIES:Live Presentation
END:VEVENT
BEGIN:VEVENT
DTSTART;TZID=America/Chicago:20260419T134500
DTEND;TZID=America/Chicago:20260419T140000
DTSTAMP:20260421T105354
CREATED:20250602T213557Z
LAST-MODIFIED:20250603T191327Z
UID:10174708-1776606300-1776607200@spacecenter.org
SUMMARY:James Webb Live Presentation
DESCRIPTION:
URL:https://spacecenter.org/events-calendar-event/james-webb-live-presentation-2/2026-04-19/
LOCATION:Theater – Destiny
CATEGORIES:Live Presentation
END:VEVENT
BEGIN:VEVENT
DTSTART;TZID=America/Chicago:20260419T124500
DTEND;TZID=America/Chicago:20260419T131500
DTSTAMP:20260421T105354
CREATED:20250602T214012Z
LAST-MODIFIED:20250603T190811Z
UID:10152772-1776602700-1776604500@spacecenter.org
SUMMARY:Artemis Live Presentation
DESCRIPTION:
URL:https://spacecenter.org/events-calendar-event/artemis-live-presentation-2/2026-04-19/
LOCATION:Theater – Destiny
CATEGORIES:Live Presentation
ATTACH;FMTTYPE=image/jpeg:https://spacecenter.org/wp-content/uploads/2022/10/Artemis-Capsule.jpeg
END:VEVENT
BEGIN:VEVENT
DTSTART;TZID=America/Chicago:20260419T114500
DTEND;TZID=America/Chicago:20260419T120000
DTSTAMP:20260421T105355
CREATED:20250602T213503Z
LAST-MODIFIED:20250603T190256Z
UID:10138148-1776599100-1776600000@spacecenter.org
SUMMARY:James Webb Live Presentation
DESCRIPTION:
URL:https://spacecenter.org/events-calendar-event/james-webb-live-presentation/2026-04-19/
LOCATION:Theater – Destiny
CATEGORIES:Live Presentation
END:VEVENT
BEGIN:VEVENT
DTSTART;TZID=America/Chicago:20260419T113000
DTEND;TZID=America/Chicago:20260419T114500
DTSTAMP:20260421T105355
CREATED:20250602T214945Z
LAST-MODIFIED:20250603T190019Z
UID:10127180-1776598200-1776599100@spacecenter.org
SUMMARY:Human Destiny Film
DESCRIPTION:
URL:https://spacecenter.org/events-calendar-event/human-destiny-film-6/2026-04-19/
LOCATION:Theater – Destiny
CATEGORIES:Film
ATTACH;FMTTYPE=image/jpeg:https://spacecenter.org/wp-content/uploads/2022/10/Destiny-Theater.jpg
END:VEVENT
BEGIN:VEVENT
DTSTART;TZID=America/Chicago:20260419T111500
DTEND;TZID=America/Chicago:20260419T113000
DTSTAMP:20260421T105355
CREATED:20250602T214855Z
LAST-MODIFIED:20250603T185944Z
UID:10123524-1776597300-1776598200@spacecenter.org
SUMMARY:Human Destiny Film
DESCRIPTION:
URL:https://spacecenter.org/events-calendar-event/human-destiny-film-5/2026-04-19/
LOCATION:Theater – Destiny
CATEGORIES:Film
ATTACH;FMTTYPE=image/jpeg:https://spacecenter.org/wp-content/uploads/2022/10/Destiny-Theater.jpg
END:VEVENT
BEGIN:VEVENT
DTSTART;TZID=America/Chicago:20260419T110000
DTEND;TZID=America/Chicago:20260419T111500
DTSTAMP:20260421T105355
CREATED:20250602T214802Z
LAST-MODIFIED:20250603T185720Z
UID:10112556-1776596400-1776597300@spacecenter.org
SUMMARY:Human Destiny Film
DESCRIPTION:
URL:https://spacecenter.org/events-calendar-event/human-destiny-film-4/2026-04-19/
LOCATION:Theater – Destiny
CATEGORIES:Film
ATTACH;FMTTYPE=image/jpeg:https://spacecenter.org/wp-content/uploads/2022/10/Destiny-Theater.jpg
END:VEVENT
BEGIN:VEVENT
DTSTART;TZID=America/Chicago:20260419T104500
DTEND;TZID=America/Chicago:20260419T111500
DTSTAMP:20260421T105355
CREATED:20250602T213905Z
LAST-MODIFIED:20250603T185637Z
UID:10108900-1776595500-1776597300@spacecenter.org
SUMMARY:Artemis Live Presentation
DESCRIPTION:
URL:https://spacecenter.org/events-calendar-event/artemis-live-presentation/2026-04-19/
LOCATION:Theater – Destiny
CATEGORIES:Live Presentation
ATTACH;FMTTYPE=image/jpeg:https://spacecenter.org/wp-content/uploads/2022/10/Artemis-Capsule.jpeg
END:VEVENT
BEGIN:VEVENT
DTSTART;TZID=America/Chicago:20260419T104500
DTEND;TZID=America/Chicago:20260419T110000
DTSTAMP:20260421T105355
CREATED:20250602T214618Z
LAST-MODIFIED:20250603T185541Z
UID:10105244-1776595500-1776596400@spacecenter.org
SUMMARY:Human Destiny Film
DESCRIPTION:
URL:https://spacecenter.org/events-calendar-event/human-destiny-film-3/2026-04-19/
LOCATION:Theater – Destiny
CATEGORIES:Film
ATTACH;FMTTYPE=image/jpeg:https://spacecenter.org/wp-content/uploads/2022/10/Destiny-Theater.jpg
END:VEVENT
BEGIN:VEVENT
DTSTART;TZID=America/Chicago:20260419T103000
DTEND;TZID=America/Chicago:20260419T104500
DTSTAMP:20260421T105355
CREATED:20250602T214417Z
LAST-MODIFIED:20250603T184348Z
UID:10086964-1776594600-1776595500@spacecenter.org
SUMMARY:Human Destiny Film
DESCRIPTION:
URL:https://spacecenter.org/events-calendar-event/human-destiny-film-2/2026-04-19/
LOCATION:Theater – Destiny
CATEGORIES:Film
ATTACH;FMTTYPE=image/jpeg:https://spacecenter.org/wp-content/uploads/2022/10/Destiny-Theater.jpg
END:VEVENT
BEGIN:VEVENT
DTSTART;TZID=America/Chicago:20260419T101500
DTEND;TZID=America/Chicago:20260419T103000
DTSTAMP:20260421T105355
CREATED:20250602T214310Z
LAST-MODIFIED:20250603T184018Z
UID:10083308-1776593700-1776594600@spacecenter.org
SUMMARY:Human Destiny Film
DESCRIPTION:
URL:https://spacecenter.org/events-calendar-event/human-destiny-film/2026-04-19/
LOCATION:Theater – Destiny
CATEGORIES:Film
ATTACH;FMTTYPE=image/jpeg:https://spacecenter.org/wp-content/uploads/2022/10/Destiny-Theater.jpg
END:VEVENT
BEGIN:VEVENT
DTSTART;TZID=America/Chicago:20260418T154500
DTEND;TZID=America/Chicago:20260418T161500
DTSTAMP:20260421T105355
CREATED:20250602T214125Z
LAST-MODIFIED:20250603T192119Z
UID:10207611-1776527100-1776528900@spacecenter.org
SUMMARY:Artemis Live Presentation
DESCRIPTION:
URL:https://spacecenter.org/events-calendar-event/artemis-live-presentation-3/2026-04-18/
LOCATION:Theater – Destiny
CATEGORIES:Live Presentation
ATTACH;FMTTYPE=image/jpeg:https://spacecenter.org/wp-content/uploads/2022/10/Artemis-Capsule.jpeg
END:VEVENT
BEGIN:VEVENT
DTSTART;TZID=America/Chicago:20260418T144500
DTEND;TZID=America/Chicago:20260418T150000
DTSTAMP:20260421T105355
CREATED:20250602T213716Z
LAST-MODIFIED:20250603T191759Z
UID:10189331-1776523500-1776524400@spacecenter.org
SUMMARY:James Webb Live Presentation
DESCRIPTION:
URL:https://spacecenter.org/events-calendar-event/james-webb-live-presentation-3/2026-04-18/
LOCATION:Theater – Destiny
CATEGORIES:Live Presentation
END:VEVENT
BEGIN:VEVENT
DTSTART;TZID=America/Chicago:20260418T134500
DTEND;TZID=America/Chicago:20260418T140000
DTSTAMP:20260421T105355
CREATED:20250602T213557Z
LAST-MODIFIED:20250603T191327Z
UID:10174707-1776519900-1776520800@spacecenter.org
SUMMARY:James Webb Live Presentation
DESCRIPTION:
URL:https://spacecenter.org/events-calendar-event/james-webb-live-presentation-2/2026-04-18/
LOCATION:Theater – Destiny
CATEGORIES:Live Presentation
END:VEVENT
BEGIN:VEVENT
DTSTART;TZID=America/Chicago:20260418T124500
DTEND;TZID=America/Chicago:20260418T131500
DTSTAMP:20260421T105355
CREATED:20250602T214012Z
LAST-MODIFIED:20250603T190811Z
UID:10152771-1776516300-1776518100@spacecenter.org
SUMMARY:Artemis Live Presentation
DESCRIPTION:
URL:https://spacecenter.org/events-calendar-event/artemis-live-presentation-2/2026-04-18/
LOCATION:Theater – Destiny
CATEGORIES:Live Presentation
ATTACH;FMTTYPE=image/jpeg:https://spacecenter.org/wp-content/uploads/2022/10/Artemis-Capsule.jpeg
END:VEVENT
END:VCALENDAR