BEGIN:VCALENDAR
VERSION:2.0
PRODID:-//Space Center Houston - ECPv6.15.15//NONSGML v1.0//EN
CALSCALE:GREGORIAN
METHOD:PUBLISH
X-ORIGINAL-URL:https://spacecenter.org
X-WR-CALDESC:Events for Space Center Houston
REFRESH-INTERVAL;VALUE=DURATION:PT1H
X-Robots-Tag:noindex
X-PUBLISHED-TTL:PT1H
BEGIN:VTIMEZONE
TZID:America/Chicago
BEGIN:DAYLIGHT
TZOFFSETFROM:-0600
TZOFFSETTO:-0500
TZNAME:CDT
DTSTART:20250309T080000
END:DAYLIGHT
BEGIN:STANDARD
TZOFFSETFROM:-0500
TZOFFSETTO:-0600
TZNAME:CST
DTSTART:20251102T070000
END:STANDARD
BEGIN:DAYLIGHT
TZOFFSETFROM:-0600
TZOFFSETTO:-0500
TZNAME:CDT
DTSTART:20260308T080000
END:DAYLIGHT
BEGIN:STANDARD
TZOFFSETFROM:-0500
TZOFFSETTO:-0600
TZNAME:CST
DTSTART:20261101T070000
END:STANDARD
BEGIN:DAYLIGHT
TZOFFSETFROM:-0600
TZOFFSETTO:-0500
TZNAME:CDT
DTSTART:20270314T080000
END:DAYLIGHT
BEGIN:STANDARD
TZOFFSETFROM:-0500
TZOFFSETTO:-0600
TZNAME:CST
DTSTART:20271107T070000
END:STANDARD
END:VTIMEZONE
BEGIN:VEVENT
DTSTART;TZID=America/Chicago:20260514T151500
DTEND;TZID=America/Chicago:20260514T153000
DTSTAMP:20260419T141344
CREATED:20250602T213249Z
LAST-MODIFIED:20250603T191942Z
UID:10196669-1778771700-1778772600@spacecenter.org
SUMMARY:Story Corner Live Presentation
DESCRIPTION:
URL:https://spacecenter.org/events-calendar-event/story-corner-live-presentation-4/2026-05-14/
LOCATION:Theater – Artemis
CATEGORIES:Live Presentation
END:VEVENT
BEGIN:VEVENT
DTSTART;TZID=America/Chicago:20260515T111500
DTEND;TZID=America/Chicago:20260515T113000
DTSTAMP:20260419T141344
CREATED:20250602T213010Z
LAST-MODIFIED:20250603T185901Z
UID:10119894-1778843700-1778844600@spacecenter.org
SUMMARY:Story Corner Live Presentation
DESCRIPTION:
URL:https://spacecenter.org/events-calendar-event/story-corner-live-presentation/2026-05-15/
LOCATION:Theater – Artemis
CATEGORIES:Live Presentation
END:VEVENT
BEGIN:VEVENT
DTSTART;TZID=America/Chicago:20260515T121500
DTEND;TZID=America/Chicago:20260515T123000
DTSTAMP:20260419T141344
CREATED:20250602T213059Z
LAST-MODIFIED:20250603T190345Z
UID:10141830-1778847300-1778848200@spacecenter.org
SUMMARY:Story Corner Live Presentation
DESCRIPTION:
URL:https://spacecenter.org/events-calendar-event/story-corner-live-presentation-2/2026-05-15/
LOCATION:Theater – Artemis
CATEGORIES:Live Presentation
END:VEVENT
BEGIN:VEVENT
DTSTART;TZID=America/Chicago:20260515T131500
DTEND;TZID=America/Chicago:20260515T133000
DTSTAMP:20260419T141344
CREATED:20250602T213201Z
LAST-MODIFIED:20250603T190922Z
UID:10160110-1778850900-1778851800@spacecenter.org
SUMMARY:Story Corner Live Presentation
DESCRIPTION:
URL:https://spacecenter.org/events-calendar-event/story-corner-live-presentation-3/2026-05-15/
LOCATION:Theater – Artemis
CATEGORIES:Live Presentation
END:VEVENT
BEGIN:VEVENT
DTSTART;TZID=America/Chicago:20260515T151500
DTEND;TZID=America/Chicago:20260515T153000
DTSTAMP:20260419T141344
CREATED:20250602T213249Z
LAST-MODIFIED:20250603T191942Z
UID:10196670-1778858100-1778859000@spacecenter.org
SUMMARY:Story Corner Live Presentation
DESCRIPTION:
URL:https://spacecenter.org/events-calendar-event/story-corner-live-presentation-4/2026-05-15/
LOCATION:Theater – Artemis
CATEGORIES:Live Presentation
END:VEVENT
BEGIN:VEVENT
DTSTART;TZID=America/Chicago:20260516T111500
DTEND;TZID=America/Chicago:20260516T113000
DTSTAMP:20260419T141344
CREATED:20250602T213010Z
LAST-MODIFIED:20250603T185901Z
UID:10119895-1778930100-1778931000@spacecenter.org
SUMMARY:Story Corner Live Presentation
DESCRIPTION:
URL:https://spacecenter.org/events-calendar-event/story-corner-live-presentation/2026-05-16/
LOCATION:Theater – Artemis
CATEGORIES:Live Presentation
END:VEVENT
BEGIN:VEVENT
DTSTART;TZID=America/Chicago:20260516T121500
DTEND;TZID=America/Chicago:20260516T123000
DTSTAMP:20260419T141344
CREATED:20250602T213059Z
LAST-MODIFIED:20250603T190345Z
UID:10141831-1778933700-1778934600@spacecenter.org
SUMMARY:Story Corner Live Presentation
DESCRIPTION:
URL:https://spacecenter.org/events-calendar-event/story-corner-live-presentation-2/2026-05-16/
LOCATION:Theater – Artemis
CATEGORIES:Live Presentation
END:VEVENT
BEGIN:VEVENT
DTSTART;TZID=America/Chicago:20260516T131500
DTEND;TZID=America/Chicago:20260516T133000
DTSTAMP:20260419T141344
CREATED:20250602T213201Z
LAST-MODIFIED:20250603T190922Z
UID:10160111-1778937300-1778938200@spacecenter.org
SUMMARY:Story Corner Live Presentation
DESCRIPTION:
URL:https://spacecenter.org/events-calendar-event/story-corner-live-presentation-3/2026-05-16/
LOCATION:Theater – Artemis
CATEGORIES:Live Presentation
END:VEVENT
BEGIN:VEVENT
DTSTART;TZID=America/Chicago:20260516T151500
DTEND;TZID=America/Chicago:20260516T153000
DTSTAMP:20260419T141344
CREATED:20250602T213249Z
LAST-MODIFIED:20250603T191942Z
UID:10196671-1778944500-1778945400@spacecenter.org
SUMMARY:Story Corner Live Presentation
DESCRIPTION:
URL:https://spacecenter.org/events-calendar-event/story-corner-live-presentation-4/2026-05-16/
LOCATION:Theater – Artemis
CATEGORIES:Live Presentation
END:VEVENT
BEGIN:VEVENT
DTSTART;TZID=America/Chicago:20260517T111500
DTEND;TZID=America/Chicago:20260517T113000
DTSTAMP:20260419T141344
CREATED:20250602T213010Z
LAST-MODIFIED:20250603T185901Z
UID:10119896-1779016500-1779017400@spacecenter.org
SUMMARY:Story Corner Live Presentation
DESCRIPTION:
URL:https://spacecenter.org/events-calendar-event/story-corner-live-presentation/2026-05-17/
LOCATION:Theater – Artemis
CATEGORIES:Live Presentation
END:VEVENT
BEGIN:VEVENT
DTSTART;TZID=America/Chicago:20260517T121500
DTEND;TZID=America/Chicago:20260517T123000
DTSTAMP:20260419T141344
CREATED:20250602T213059Z
LAST-MODIFIED:20250603T190345Z
UID:10141832-1779020100-1779021000@spacecenter.org
SUMMARY:Story Corner Live Presentation
DESCRIPTION:
URL:https://spacecenter.org/events-calendar-event/story-corner-live-presentation-2/2026-05-17/
LOCATION:Theater – Artemis
CATEGORIES:Live Presentation
END:VEVENT
BEGIN:VEVENT
DTSTART;TZID=America/Chicago:20260517T131500
DTEND;TZID=America/Chicago:20260517T133000
DTSTAMP:20260419T141344
CREATED:20250602T213201Z
LAST-MODIFIED:20250603T190922Z
UID:10160112-1779023700-1779024600@spacecenter.org
SUMMARY:Story Corner Live Presentation
DESCRIPTION:
URL:https://spacecenter.org/events-calendar-event/story-corner-live-presentation-3/2026-05-17/
LOCATION:Theater – Artemis
CATEGORIES:Live Presentation
END:VEVENT
BEGIN:VEVENT
DTSTART;TZID=America/Chicago:20260517T151500
DTEND;TZID=America/Chicago:20260517T153000
DTSTAMP:20260419T141344
CREATED:20250602T213249Z
LAST-MODIFIED:20250603T191942Z
UID:10196672-1779030900-1779031800@spacecenter.org
SUMMARY:Story Corner Live Presentation
DESCRIPTION:
URL:https://spacecenter.org/events-calendar-event/story-corner-live-presentation-4/2026-05-17/
LOCATION:Theater – Artemis
CATEGORIES:Live Presentation
END:VEVENT
BEGIN:VEVENT
DTSTART;TZID=America/Chicago:20260518T111500
DTEND;TZID=America/Chicago:20260518T113000
DTSTAMP:20260419T141344
CREATED:20250602T213010Z
LAST-MODIFIED:20250603T185901Z
UID:10119897-1779102900-1779103800@spacecenter.org
SUMMARY:Story Corner Live Presentation
DESCRIPTION:
URL:https://spacecenter.org/events-calendar-event/story-corner-live-presentation/2026-05-18/
LOCATION:Theater – Artemis
CATEGORIES:Live Presentation
END:VEVENT
BEGIN:VEVENT
DTSTART;TZID=America/Chicago:20260518T121500
DTEND;TZID=America/Chicago:20260518T123000
DTSTAMP:20260419T141344
CREATED:20250602T213059Z
LAST-MODIFIED:20250603T190345Z
UID:10141833-1779106500-1779107400@spacecenter.org
SUMMARY:Story Corner Live Presentation
DESCRIPTION:
URL:https://spacecenter.org/events-calendar-event/story-corner-live-presentation-2/2026-05-18/
LOCATION:Theater – Artemis
CATEGORIES:Live Presentation
END:VEVENT
BEGIN:VEVENT
DTSTART;TZID=America/Chicago:20260518T131500
DTEND;TZID=America/Chicago:20260518T133000
DTSTAMP:20260419T141344
CREATED:20250602T213201Z
LAST-MODIFIED:20250603T190922Z
UID:10160113-1779110100-1779111000@spacecenter.org
SUMMARY:Story Corner Live Presentation
DESCRIPTION:
URL:https://spacecenter.org/events-calendar-event/story-corner-live-presentation-3/2026-05-18/
LOCATION:Theater – Artemis
CATEGORIES:Live Presentation
END:VEVENT
BEGIN:VEVENT
DTSTART;TZID=America/Chicago:20260518T151500
DTEND;TZID=America/Chicago:20260518T153000
DTSTAMP:20260419T141344
CREATED:20250602T213249Z
LAST-MODIFIED:20250603T191942Z
UID:10196673-1779117300-1779118200@spacecenter.org
SUMMARY:Story Corner Live Presentation
DESCRIPTION:
URL:https://spacecenter.org/events-calendar-event/story-corner-live-presentation-4/2026-05-18/
LOCATION:Theater – Artemis
CATEGORIES:Live Presentation
END:VEVENT
BEGIN:VEVENT
DTSTART;TZID=America/Chicago:20260519T111500
DTEND;TZID=America/Chicago:20260519T113000
DTSTAMP:20260419T141344
CREATED:20250602T213010Z
LAST-MODIFIED:20250603T185901Z
UID:10119898-1779189300-1779190200@spacecenter.org
SUMMARY:Story Corner Live Presentation
DESCRIPTION:
URL:https://spacecenter.org/events-calendar-event/story-corner-live-presentation/2026-05-19/
LOCATION:Theater – Artemis
CATEGORIES:Live Presentation
END:VEVENT
BEGIN:VEVENT
DTSTART;TZID=America/Chicago:20260519T121500
DTEND;TZID=America/Chicago:20260519T123000
DTSTAMP:20260419T141344
CREATED:20250602T213059Z
LAST-MODIFIED:20250603T190345Z
UID:10141834-1779192900-1779193800@spacecenter.org
SUMMARY:Story Corner Live Presentation
DESCRIPTION:
URL:https://spacecenter.org/events-calendar-event/story-corner-live-presentation-2/2026-05-19/
LOCATION:Theater – Artemis
CATEGORIES:Live Presentation
END:VEVENT
BEGIN:VEVENT
DTSTART;TZID=America/Chicago:20260519T131500
DTEND;TZID=America/Chicago:20260519T133000
DTSTAMP:20260419T141344
CREATED:20250602T213201Z
LAST-MODIFIED:20250603T190922Z
UID:10160114-1779196500-1779197400@spacecenter.org
SUMMARY:Story Corner Live Presentation
DESCRIPTION:
URL:https://spacecenter.org/events-calendar-event/story-corner-live-presentation-3/2026-05-19/
LOCATION:Theater – Artemis
CATEGORIES:Live Presentation
END:VEVENT
BEGIN:VEVENT
DTSTART;TZID=America/Chicago:20260519T151500
DTEND;TZID=America/Chicago:20260519T153000
DTSTAMP:20260419T141344
CREATED:20250602T213249Z
LAST-MODIFIED:20250603T191942Z
UID:10196674-1779203700-1779204600@spacecenter.org
SUMMARY:Story Corner Live Presentation
DESCRIPTION:
URL:https://spacecenter.org/events-calendar-event/story-corner-live-presentation-4/2026-05-19/
LOCATION:Theater – Artemis
CATEGORIES:Live Presentation
END:VEVENT
BEGIN:VEVENT
DTSTART;TZID=America/Chicago:20260520T111500
DTEND;TZID=America/Chicago:20260520T113000
DTSTAMP:20260419T141344
CREATED:20250602T213010Z
LAST-MODIFIED:20250603T185901Z
UID:10119899-1779275700-1779276600@spacecenter.org
SUMMARY:Story Corner Live Presentation
DESCRIPTION:
URL:https://spacecenter.org/events-calendar-event/story-corner-live-presentation/2026-05-20/
LOCATION:Theater – Artemis
CATEGORIES:Live Presentation
END:VEVENT
BEGIN:VEVENT
DTSTART;TZID=America/Chicago:20260520T121500
DTEND;TZID=America/Chicago:20260520T123000
DTSTAMP:20260419T141344
CREATED:20250602T213059Z
LAST-MODIFIED:20250603T190345Z
UID:10141835-1779279300-1779280200@spacecenter.org
SUMMARY:Story Corner Live Presentation
DESCRIPTION:
URL:https://spacecenter.org/events-calendar-event/story-corner-live-presentation-2/2026-05-20/
LOCATION:Theater – Artemis
CATEGORIES:Live Presentation
END:VEVENT
BEGIN:VEVENT
DTSTART;TZID=America/Chicago:20260520T131500
DTEND;TZID=America/Chicago:20260520T133000
DTSTAMP:20260419T141344
CREATED:20250602T213201Z
LAST-MODIFIED:20250603T190922Z
UID:10160115-1779282900-1779283800@spacecenter.org
SUMMARY:Story Corner Live Presentation
DESCRIPTION:
URL:https://spacecenter.org/events-calendar-event/story-corner-live-presentation-3/2026-05-20/
LOCATION:Theater – Artemis
CATEGORIES:Live Presentation
END:VEVENT
BEGIN:VEVENT
DTSTART;TZID=America/Chicago:20260520T151500
DTEND;TZID=America/Chicago:20260520T153000
DTSTAMP:20260419T141344
CREATED:20250602T213249Z
LAST-MODIFIED:20250603T191942Z
UID:10196675-1779290100-1779291000@spacecenter.org
SUMMARY:Story Corner Live Presentation
DESCRIPTION:
URL:https://spacecenter.org/events-calendar-event/story-corner-live-presentation-4/2026-05-20/
LOCATION:Theater – Artemis
CATEGORIES:Live Presentation
END:VEVENT
BEGIN:VEVENT
DTSTART;TZID=America/Chicago:20260521T111500
DTEND;TZID=America/Chicago:20260521T113000
DTSTAMP:20260419T141344
CREATED:20250602T213010Z
LAST-MODIFIED:20250603T185901Z
UID:10119900-1779362100-1779363000@spacecenter.org
SUMMARY:Story Corner Live Presentation
DESCRIPTION:
URL:https://spacecenter.org/events-calendar-event/story-corner-live-presentation/2026-05-21/
LOCATION:Theater – Artemis
CATEGORIES:Live Presentation
END:VEVENT
BEGIN:VEVENT
DTSTART;TZID=America/Chicago:20260521T121500
DTEND;TZID=America/Chicago:20260521T123000
DTSTAMP:20260419T141344
CREATED:20250602T213059Z
LAST-MODIFIED:20250603T190345Z
UID:10141836-1779365700-1779366600@spacecenter.org
SUMMARY:Story Corner Live Presentation
DESCRIPTION:
URL:https://spacecenter.org/events-calendar-event/story-corner-live-presentation-2/2026-05-21/
LOCATION:Theater – Artemis
CATEGORIES:Live Presentation
END:VEVENT
BEGIN:VEVENT
DTSTART;TZID=America/Chicago:20260521T131500
DTEND;TZID=America/Chicago:20260521T133000
DTSTAMP:20260419T141344
CREATED:20250602T213201Z
LAST-MODIFIED:20250603T190922Z
UID:10160116-1779369300-1779370200@spacecenter.org
SUMMARY:Story Corner Live Presentation
DESCRIPTION:
URL:https://spacecenter.org/events-calendar-event/story-corner-live-presentation-3/2026-05-21/
LOCATION:Theater – Artemis
CATEGORIES:Live Presentation
END:VEVENT
BEGIN:VEVENT
DTSTART;TZID=America/Chicago:20260521T151500
DTEND;TZID=America/Chicago:20260521T153000
DTSTAMP:20260419T141344
CREATED:20250602T213249Z
LAST-MODIFIED:20250603T191942Z
UID:10196676-1779376500-1779377400@spacecenter.org
SUMMARY:Story Corner Live Presentation
DESCRIPTION:
URL:https://spacecenter.org/events-calendar-event/story-corner-live-presentation-4/2026-05-21/
LOCATION:Theater – Artemis
CATEGORIES:Live Presentation
END:VEVENT
BEGIN:VEVENT
DTSTART;TZID=America/Chicago:20260522T111500
DTEND;TZID=America/Chicago:20260522T113000
DTSTAMP:20260419T141344
CREATED:20250602T213010Z
LAST-MODIFIED:20250603T185901Z
UID:10119901-1779448500-1779449400@spacecenter.org
SUMMARY:Story Corner Live Presentation
DESCRIPTION:
URL:https://spacecenter.org/events-calendar-event/story-corner-live-presentation/2026-05-22/
LOCATION:Theater – Artemis
CATEGORIES:Live Presentation
END:VEVENT
END:VCALENDAR