BEGIN:VCALENDAR
VERSION:2.0
PRODID:-//Space Center Houston - ECPv6.15.15//NONSGML v1.0//EN
CALSCALE:GREGORIAN
METHOD:PUBLISH
X-ORIGINAL-URL:https://spacecenter.org
X-WR-CALDESC:Events for Space Center Houston
REFRESH-INTERVAL;VALUE=DURATION:PT1H
X-Robots-Tag:noindex
X-PUBLISHED-TTL:PT1H
BEGIN:VTIMEZONE
TZID:America/Chicago
BEGIN:DAYLIGHT
TZOFFSETFROM:-0600
TZOFFSETTO:-0500
TZNAME:CDT
DTSTART:20250309T080000
END:DAYLIGHT
BEGIN:STANDARD
TZOFFSETFROM:-0500
TZOFFSETTO:-0600
TZNAME:CST
DTSTART:20251102T070000
END:STANDARD
BEGIN:DAYLIGHT
TZOFFSETFROM:-0600
TZOFFSETTO:-0500
TZNAME:CDT
DTSTART:20260308T080000
END:DAYLIGHT
BEGIN:STANDARD
TZOFFSETFROM:-0500
TZOFFSETTO:-0600
TZNAME:CST
DTSTART:20261101T070000
END:STANDARD
BEGIN:DAYLIGHT
TZOFFSETFROM:-0600
TZOFFSETTO:-0500
TZNAME:CDT
DTSTART:20270314T080000
END:DAYLIGHT
BEGIN:STANDARD
TZOFFSETFROM:-0500
TZOFFSETTO:-0600
TZNAME:CST
DTSTART:20271107T070000
END:STANDARD
END:VTIMEZONE
BEGIN:VEVENT
DTSTART;TZID=America/Chicago:20260325T151500
DTEND;TZID=America/Chicago:20260325T153000
DTSTAMP:20260420T004411
CREATED:20250602T213249Z
LAST-MODIFIED:20250603T191942Z
UID:10196619-1774451700-1774452600@spacecenter.org
SUMMARY:Story Corner Live Presentation
DESCRIPTION:
URL:https://spacecenter.org/events-calendar-event/story-corner-live-presentation-4/2026-03-25/
LOCATION:Theater – Artemis
CATEGORIES:Live Presentation
END:VEVENT
BEGIN:VEVENT
DTSTART;TZID=America/Chicago:20260325T131500
DTEND;TZID=America/Chicago:20260325T133000
DTSTAMP:20260420T004411
CREATED:20250602T213201Z
LAST-MODIFIED:20250603T190922Z
UID:10160059-1774444500-1774445400@spacecenter.org
SUMMARY:Story Corner Live Presentation
DESCRIPTION:
URL:https://spacecenter.org/events-calendar-event/story-corner-live-presentation-3/2026-03-25/
LOCATION:Theater – Artemis
CATEGORIES:Live Presentation
END:VEVENT
BEGIN:VEVENT
DTSTART;TZID=America/Chicago:20260325T121500
DTEND;TZID=America/Chicago:20260325T123000
DTSTAMP:20260420T004411
CREATED:20250602T213059Z
LAST-MODIFIED:20250603T190345Z
UID:10141779-1774440900-1774441800@spacecenter.org
SUMMARY:Story Corner Live Presentation
DESCRIPTION:
URL:https://spacecenter.org/events-calendar-event/story-corner-live-presentation-2/2026-03-25/
LOCATION:Theater – Artemis
CATEGORIES:Live Presentation
END:VEVENT
BEGIN:VEVENT
DTSTART;TZID=America/Chicago:20260325T111500
DTEND;TZID=America/Chicago:20260325T113000
DTSTAMP:20260420T004411
CREATED:20250602T213010Z
LAST-MODIFIED:20250603T185901Z
UID:10119843-1774437300-1774438200@spacecenter.org
SUMMARY:Story Corner Live Presentation
DESCRIPTION:
URL:https://spacecenter.org/events-calendar-event/story-corner-live-presentation/2026-03-25/
LOCATION:Theater – Artemis
CATEGORIES:Live Presentation
END:VEVENT
BEGIN:VEVENT
DTSTART;TZID=America/Chicago:20260324T151500
DTEND;TZID=America/Chicago:20260324T153000
DTSTAMP:20260420T004411
CREATED:20250602T213249Z
LAST-MODIFIED:20250603T191942Z
UID:10196618-1774365300-1774366200@spacecenter.org
SUMMARY:Story Corner Live Presentation
DESCRIPTION:
URL:https://spacecenter.org/events-calendar-event/story-corner-live-presentation-4/2026-03-24/
LOCATION:Theater – Artemis
CATEGORIES:Live Presentation
END:VEVENT
BEGIN:VEVENT
DTSTART;TZID=America/Chicago:20260324T131500
DTEND;TZID=America/Chicago:20260324T133000
DTSTAMP:20260420T004411
CREATED:20250602T213201Z
LAST-MODIFIED:20250603T190922Z
UID:10160058-1774358100-1774359000@spacecenter.org
SUMMARY:Story Corner Live Presentation
DESCRIPTION:
URL:https://spacecenter.org/events-calendar-event/story-corner-live-presentation-3/2026-03-24/
LOCATION:Theater – Artemis
CATEGORIES:Live Presentation
END:VEVENT
BEGIN:VEVENT
DTSTART;TZID=America/Chicago:20260324T121500
DTEND;TZID=America/Chicago:20260324T123000
DTSTAMP:20260420T004411
CREATED:20250602T213059Z
LAST-MODIFIED:20250603T190345Z
UID:10141778-1774354500-1774355400@spacecenter.org
SUMMARY:Story Corner Live Presentation
DESCRIPTION:
URL:https://spacecenter.org/events-calendar-event/story-corner-live-presentation-2/2026-03-24/
LOCATION:Theater – Artemis
CATEGORIES:Live Presentation
END:VEVENT
BEGIN:VEVENT
DTSTART;TZID=America/Chicago:20260324T111500
DTEND;TZID=America/Chicago:20260324T113000
DTSTAMP:20260420T004411
CREATED:20250602T213010Z
LAST-MODIFIED:20250603T185901Z
UID:10119842-1774350900-1774351800@spacecenter.org
SUMMARY:Story Corner Live Presentation
DESCRIPTION:
URL:https://spacecenter.org/events-calendar-event/story-corner-live-presentation/2026-03-24/
LOCATION:Theater – Artemis
CATEGORIES:Live Presentation
END:VEVENT
BEGIN:VEVENT
DTSTART;TZID=America/Chicago:20260323T151500
DTEND;TZID=America/Chicago:20260323T153000
DTSTAMP:20260420T004411
CREATED:20250602T213249Z
LAST-MODIFIED:20250603T191942Z
UID:10196617-1774278900-1774279800@spacecenter.org
SUMMARY:Story Corner Live Presentation
DESCRIPTION:
URL:https://spacecenter.org/events-calendar-event/story-corner-live-presentation-4/2026-03-23/
LOCATION:Theater – Artemis
CATEGORIES:Live Presentation
END:VEVENT
BEGIN:VEVENT
DTSTART;TZID=America/Chicago:20260323T131500
DTEND;TZID=America/Chicago:20260323T133000
DTSTAMP:20260420T004411
CREATED:20250602T213201Z
LAST-MODIFIED:20250603T190922Z
UID:10160057-1774271700-1774272600@spacecenter.org
SUMMARY:Story Corner Live Presentation
DESCRIPTION:
URL:https://spacecenter.org/events-calendar-event/story-corner-live-presentation-3/2026-03-23/
LOCATION:Theater – Artemis
CATEGORIES:Live Presentation
END:VEVENT
BEGIN:VEVENT
DTSTART;TZID=America/Chicago:20260323T121500
DTEND;TZID=America/Chicago:20260323T123000
DTSTAMP:20260420T004411
CREATED:20250602T213059Z
LAST-MODIFIED:20250603T190345Z
UID:10141777-1774268100-1774269000@spacecenter.org
SUMMARY:Story Corner Live Presentation
DESCRIPTION:
URL:https://spacecenter.org/events-calendar-event/story-corner-live-presentation-2/2026-03-23/
LOCATION:Theater – Artemis
CATEGORIES:Live Presentation
END:VEVENT
BEGIN:VEVENT
DTSTART;TZID=America/Chicago:20260323T111500
DTEND;TZID=America/Chicago:20260323T113000
DTSTAMP:20260420T004411
CREATED:20250602T213010Z
LAST-MODIFIED:20250603T185901Z
UID:10119841-1774264500-1774265400@spacecenter.org
SUMMARY:Story Corner Live Presentation
DESCRIPTION:
URL:https://spacecenter.org/events-calendar-event/story-corner-live-presentation/2026-03-23/
LOCATION:Theater – Artemis
CATEGORIES:Live Presentation
END:VEVENT
BEGIN:VEVENT
DTSTART;TZID=America/Chicago:20260322T151500
DTEND;TZID=America/Chicago:20260322T153000
DTSTAMP:20260420T004411
CREATED:20250602T213249Z
LAST-MODIFIED:20250603T191942Z
UID:10196616-1774192500-1774193400@spacecenter.org
SUMMARY:Story Corner Live Presentation
DESCRIPTION:
URL:https://spacecenter.org/events-calendar-event/story-corner-live-presentation-4/2026-03-22/
LOCATION:Theater – Artemis
CATEGORIES:Live Presentation
END:VEVENT
BEGIN:VEVENT
DTSTART;TZID=America/Chicago:20260322T131500
DTEND;TZID=America/Chicago:20260322T133000
DTSTAMP:20260420T004411
CREATED:20250602T213201Z
LAST-MODIFIED:20250603T190922Z
UID:10160056-1774185300-1774186200@spacecenter.org
SUMMARY:Story Corner Live Presentation
DESCRIPTION:
URL:https://spacecenter.org/events-calendar-event/story-corner-live-presentation-3/2026-03-22/
LOCATION:Theater – Artemis
CATEGORIES:Live Presentation
END:VEVENT
BEGIN:VEVENT
DTSTART;TZID=America/Chicago:20260322T121500
DTEND;TZID=America/Chicago:20260322T123000
DTSTAMP:20260420T004411
CREATED:20250602T213059Z
LAST-MODIFIED:20250603T190345Z
UID:10141776-1774181700-1774182600@spacecenter.org
SUMMARY:Story Corner Live Presentation
DESCRIPTION:
URL:https://spacecenter.org/events-calendar-event/story-corner-live-presentation-2/2026-03-22/
LOCATION:Theater – Artemis
CATEGORIES:Live Presentation
END:VEVENT
BEGIN:VEVENT
DTSTART;TZID=America/Chicago:20260322T111500
DTEND;TZID=America/Chicago:20260322T113000
DTSTAMP:20260420T004411
CREATED:20250602T213010Z
LAST-MODIFIED:20250603T185901Z
UID:10119840-1774178100-1774179000@spacecenter.org
SUMMARY:Story Corner Live Presentation
DESCRIPTION:
URL:https://spacecenter.org/events-calendar-event/story-corner-live-presentation/2026-03-22/
LOCATION:Theater – Artemis
CATEGORIES:Live Presentation
END:VEVENT
BEGIN:VEVENT
DTSTART;TZID=America/Chicago:20260321T151500
DTEND;TZID=America/Chicago:20260321T153000
DTSTAMP:20260420T004411
CREATED:20250602T213249Z
LAST-MODIFIED:20250603T191942Z
UID:10196615-1774106100-1774107000@spacecenter.org
SUMMARY:Story Corner Live Presentation
DESCRIPTION:
URL:https://spacecenter.org/events-calendar-event/story-corner-live-presentation-4/2026-03-21/
LOCATION:Theater – Artemis
CATEGORIES:Live Presentation
END:VEVENT
BEGIN:VEVENT
DTSTART;TZID=America/Chicago:20260321T131500
DTEND;TZID=America/Chicago:20260321T133000
DTSTAMP:20260420T004411
CREATED:20250602T213201Z
LAST-MODIFIED:20250603T190922Z
UID:10160055-1774098900-1774099800@spacecenter.org
SUMMARY:Story Corner Live Presentation
DESCRIPTION:
URL:https://spacecenter.org/events-calendar-event/story-corner-live-presentation-3/2026-03-21/
LOCATION:Theater – Artemis
CATEGORIES:Live Presentation
END:VEVENT
BEGIN:VEVENT
DTSTART;TZID=America/Chicago:20260321T121500
DTEND;TZID=America/Chicago:20260321T123000
DTSTAMP:20260420T004411
CREATED:20250602T213059Z
LAST-MODIFIED:20250603T190345Z
UID:10141775-1774095300-1774096200@spacecenter.org
SUMMARY:Story Corner Live Presentation
DESCRIPTION:
URL:https://spacecenter.org/events-calendar-event/story-corner-live-presentation-2/2026-03-21/
LOCATION:Theater – Artemis
CATEGORIES:Live Presentation
END:VEVENT
BEGIN:VEVENT
DTSTART;TZID=America/Chicago:20260321T111500
DTEND;TZID=America/Chicago:20260321T113000
DTSTAMP:20260420T004411
CREATED:20250602T213010Z
LAST-MODIFIED:20250603T185901Z
UID:10119839-1774091700-1774092600@spacecenter.org
SUMMARY:Story Corner Live Presentation
DESCRIPTION:
URL:https://spacecenter.org/events-calendar-event/story-corner-live-presentation/2026-03-21/
LOCATION:Theater – Artemis
CATEGORIES:Live Presentation
END:VEVENT
BEGIN:VEVENT
DTSTART;TZID=America/Chicago:20260320T151500
DTEND;TZID=America/Chicago:20260320T153000
DTSTAMP:20260420T004411
CREATED:20250602T213249Z
LAST-MODIFIED:20250603T191942Z
UID:10196614-1774019700-1774020600@spacecenter.org
SUMMARY:Story Corner Live Presentation
DESCRIPTION:
URL:https://spacecenter.org/events-calendar-event/story-corner-live-presentation-4/2026-03-20/
LOCATION:Theater – Artemis
CATEGORIES:Live Presentation
END:VEVENT
BEGIN:VEVENT
DTSTART;TZID=America/Chicago:20260320T131500
DTEND;TZID=America/Chicago:20260320T133000
DTSTAMP:20260420T004411
CREATED:20250602T213201Z
LAST-MODIFIED:20250603T190922Z
UID:10160054-1774012500-1774013400@spacecenter.org
SUMMARY:Story Corner Live Presentation
DESCRIPTION:
URL:https://spacecenter.org/events-calendar-event/story-corner-live-presentation-3/2026-03-20/
LOCATION:Theater – Artemis
CATEGORIES:Live Presentation
END:VEVENT
BEGIN:VEVENT
DTSTART;TZID=America/Chicago:20260320T121500
DTEND;TZID=America/Chicago:20260320T123000
DTSTAMP:20260420T004411
CREATED:20250602T213059Z
LAST-MODIFIED:20250603T190345Z
UID:10141774-1774008900-1774009800@spacecenter.org
SUMMARY:Story Corner Live Presentation
DESCRIPTION:
URL:https://spacecenter.org/events-calendar-event/story-corner-live-presentation-2/2026-03-20/
LOCATION:Theater – Artemis
CATEGORIES:Live Presentation
END:VEVENT
BEGIN:VEVENT
DTSTART;TZID=America/Chicago:20260320T111500
DTEND;TZID=America/Chicago:20260320T113000
DTSTAMP:20260420T004411
CREATED:20250602T213010Z
LAST-MODIFIED:20250603T185901Z
UID:10119838-1774005300-1774006200@spacecenter.org
SUMMARY:Story Corner Live Presentation
DESCRIPTION:
URL:https://spacecenter.org/events-calendar-event/story-corner-live-presentation/2026-03-20/
LOCATION:Theater – Artemis
CATEGORIES:Live Presentation
END:VEVENT
BEGIN:VEVENT
DTSTART;TZID=America/Chicago:20260319T151500
DTEND;TZID=America/Chicago:20260319T153000
DTSTAMP:20260420T004411
CREATED:20250602T213249Z
LAST-MODIFIED:20250603T191942Z
UID:10196613-1773933300-1773934200@spacecenter.org
SUMMARY:Story Corner Live Presentation
DESCRIPTION:
URL:https://spacecenter.org/events-calendar-event/story-corner-live-presentation-4/2026-03-19/
LOCATION:Theater – Artemis
CATEGORIES:Live Presentation
END:VEVENT
BEGIN:VEVENT
DTSTART;TZID=America/Chicago:20260319T131500
DTEND;TZID=America/Chicago:20260319T133000
DTSTAMP:20260420T004411
CREATED:20250602T213201Z
LAST-MODIFIED:20250603T190922Z
UID:10160053-1773926100-1773927000@spacecenter.org
SUMMARY:Story Corner Live Presentation
DESCRIPTION:
URL:https://spacecenter.org/events-calendar-event/story-corner-live-presentation-3/2026-03-19/
LOCATION:Theater – Artemis
CATEGORIES:Live Presentation
END:VEVENT
BEGIN:VEVENT
DTSTART;TZID=America/Chicago:20260319T121500
DTEND;TZID=America/Chicago:20260319T123000
DTSTAMP:20260420T004411
CREATED:20250602T213059Z
LAST-MODIFIED:20250603T190345Z
UID:10141773-1773922500-1773923400@spacecenter.org
SUMMARY:Story Corner Live Presentation
DESCRIPTION:
URL:https://spacecenter.org/events-calendar-event/story-corner-live-presentation-2/2026-03-19/
LOCATION:Theater – Artemis
CATEGORIES:Live Presentation
END:VEVENT
BEGIN:VEVENT
DTSTART;TZID=America/Chicago:20260319T111500
DTEND;TZID=America/Chicago:20260319T113000
DTSTAMP:20260420T004411
CREATED:20250602T213010Z
LAST-MODIFIED:20250603T185901Z
UID:10119837-1773918900-1773919800@spacecenter.org
SUMMARY:Story Corner Live Presentation
DESCRIPTION:
URL:https://spacecenter.org/events-calendar-event/story-corner-live-presentation/2026-03-19/
LOCATION:Theater – Artemis
CATEGORIES:Live Presentation
END:VEVENT
BEGIN:VEVENT
DTSTART;TZID=America/Chicago:20260318T151500
DTEND;TZID=America/Chicago:20260318T153000
DTSTAMP:20260420T004411
CREATED:20250602T213249Z
LAST-MODIFIED:20250603T191942Z
UID:10196612-1773846900-1773847800@spacecenter.org
SUMMARY:Story Corner Live Presentation
DESCRIPTION:
URL:https://spacecenter.org/events-calendar-event/story-corner-live-presentation-4/2026-03-18/
LOCATION:Theater – Artemis
CATEGORIES:Live Presentation
END:VEVENT
BEGIN:VEVENT
DTSTART;TZID=America/Chicago:20260318T131500
DTEND;TZID=America/Chicago:20260318T133000
DTSTAMP:20260420T004411
CREATED:20250602T213201Z
LAST-MODIFIED:20250603T190922Z
UID:10160052-1773839700-1773840600@spacecenter.org
SUMMARY:Story Corner Live Presentation
DESCRIPTION:
URL:https://spacecenter.org/events-calendar-event/story-corner-live-presentation-3/2026-03-18/
LOCATION:Theater – Artemis
CATEGORIES:Live Presentation
END:VEVENT
END:VCALENDAR