BEGIN:VCALENDAR
VERSION:2.0
PRODID:-//Space Center Houston - ECPv6.15.15//NONSGML v1.0//EN
CALSCALE:GREGORIAN
METHOD:PUBLISH
X-ORIGINAL-URL:https://spacecenter.org
X-WR-CALDESC:Events for Space Center Houston
REFRESH-INTERVAL;VALUE=DURATION:PT1H
X-Robots-Tag:noindex
X-PUBLISHED-TTL:PT1H
BEGIN:VTIMEZONE
TZID:America/Chicago
BEGIN:DAYLIGHT
TZOFFSETFROM:-0600
TZOFFSETTO:-0500
TZNAME:CDT
DTSTART:20250309T080000
END:DAYLIGHT
BEGIN:STANDARD
TZOFFSETFROM:-0500
TZOFFSETTO:-0600
TZNAME:CST
DTSTART:20251102T070000
END:STANDARD
BEGIN:DAYLIGHT
TZOFFSETFROM:-0600
TZOFFSETTO:-0500
TZNAME:CDT
DTSTART:20260308T080000
END:DAYLIGHT
BEGIN:STANDARD
TZOFFSETFROM:-0500
TZOFFSETTO:-0600
TZNAME:CST
DTSTART:20261101T070000
END:STANDARD
BEGIN:DAYLIGHT
TZOFFSETFROM:-0600
TZOFFSETTO:-0500
TZNAME:CDT
DTSTART:20270314T080000
END:DAYLIGHT
BEGIN:STANDARD
TZOFFSETFROM:-0500
TZOFFSETTO:-0600
TZNAME:CST
DTSTART:20271107T070000
END:STANDARD
END:VTIMEZONE
BEGIN:VEVENT
DTSTART;TZID=America/Chicago:20260407T121500
DTEND;TZID=America/Chicago:20260407T123000
DTSTAMP:20260420T004325
CREATED:20250602T213059Z
LAST-MODIFIED:20250603T190345Z
UID:10141792-1775564100-1775565000@spacecenter.org
SUMMARY:Story Corner Live Presentation
DESCRIPTION:
URL:https://spacecenter.org/events-calendar-event/story-corner-live-presentation-2/2026-04-07/
LOCATION:Theater – Artemis
CATEGORIES:Live Presentation
END:VEVENT
BEGIN:VEVENT
DTSTART;TZID=America/Chicago:20260407T111500
DTEND;TZID=America/Chicago:20260407T113000
DTSTAMP:20260420T004325
CREATED:20250602T213010Z
LAST-MODIFIED:20250603T185901Z
UID:10119856-1775560500-1775561400@spacecenter.org
SUMMARY:Story Corner Live Presentation
DESCRIPTION:
URL:https://spacecenter.org/events-calendar-event/story-corner-live-presentation/2026-04-07/
LOCATION:Theater – Artemis
CATEGORIES:Live Presentation
END:VEVENT
BEGIN:VEVENT
DTSTART;TZID=America/Chicago:20260406T151500
DTEND;TZID=America/Chicago:20260406T153000
DTSTAMP:20260420T004325
CREATED:20250602T213249Z
LAST-MODIFIED:20250603T191942Z
UID:10196631-1775488500-1775489400@spacecenter.org
SUMMARY:Story Corner Live Presentation
DESCRIPTION:
URL:https://spacecenter.org/events-calendar-event/story-corner-live-presentation-4/2026-04-06/
LOCATION:Theater – Artemis
CATEGORIES:Live Presentation
END:VEVENT
BEGIN:VEVENT
DTSTART;TZID=America/Chicago:20260406T131500
DTEND;TZID=America/Chicago:20260406T133000
DTSTAMP:20260420T004325
CREATED:20250602T213201Z
LAST-MODIFIED:20250603T190922Z
UID:10160071-1775481300-1775482200@spacecenter.org
SUMMARY:Story Corner Live Presentation
DESCRIPTION:
URL:https://spacecenter.org/events-calendar-event/story-corner-live-presentation-3/2026-04-06/
LOCATION:Theater – Artemis
CATEGORIES:Live Presentation
END:VEVENT
BEGIN:VEVENT
DTSTART;TZID=America/Chicago:20260406T121500
DTEND;TZID=America/Chicago:20260406T123000
DTSTAMP:20260420T004325
CREATED:20250602T213059Z
LAST-MODIFIED:20250603T190345Z
UID:10141791-1775477700-1775478600@spacecenter.org
SUMMARY:Story Corner Live Presentation
DESCRIPTION:
URL:https://spacecenter.org/events-calendar-event/story-corner-live-presentation-2/2026-04-06/
LOCATION:Theater – Artemis
CATEGORIES:Live Presentation
END:VEVENT
BEGIN:VEVENT
DTSTART;TZID=America/Chicago:20260406T111500
DTEND;TZID=America/Chicago:20260406T113000
DTSTAMP:20260420T004325
CREATED:20250602T213010Z
LAST-MODIFIED:20250603T185901Z
UID:10119855-1775474100-1775475000@spacecenter.org
SUMMARY:Story Corner Live Presentation
DESCRIPTION:
URL:https://spacecenter.org/events-calendar-event/story-corner-live-presentation/2026-04-06/
LOCATION:Theater – Artemis
CATEGORIES:Live Presentation
END:VEVENT
BEGIN:VEVENT
DTSTART;TZID=America/Chicago:20260405T151500
DTEND;TZID=America/Chicago:20260405T153000
DTSTAMP:20260420T004325
CREATED:20250602T213249Z
LAST-MODIFIED:20250603T191942Z
UID:10196630-1775402100-1775403000@spacecenter.org
SUMMARY:Story Corner Live Presentation
DESCRIPTION:
URL:https://spacecenter.org/events-calendar-event/story-corner-live-presentation-4/2026-04-05/
LOCATION:Theater – Artemis
CATEGORIES:Live Presentation
END:VEVENT
BEGIN:VEVENT
DTSTART;TZID=America/Chicago:20260405T131500
DTEND;TZID=America/Chicago:20260405T133000
DTSTAMP:20260420T004325
CREATED:20250602T213201Z
LAST-MODIFIED:20250603T190922Z
UID:10160070-1775394900-1775395800@spacecenter.org
SUMMARY:Story Corner Live Presentation
DESCRIPTION:
URL:https://spacecenter.org/events-calendar-event/story-corner-live-presentation-3/2026-04-05/
LOCATION:Theater – Artemis
CATEGORIES:Live Presentation
END:VEVENT
BEGIN:VEVENT
DTSTART;TZID=America/Chicago:20260405T121500
DTEND;TZID=America/Chicago:20260405T123000
DTSTAMP:20260420T004325
CREATED:20250602T213059Z
LAST-MODIFIED:20250603T190345Z
UID:10141790-1775391300-1775392200@spacecenter.org
SUMMARY:Story Corner Live Presentation
DESCRIPTION:
URL:https://spacecenter.org/events-calendar-event/story-corner-live-presentation-2/2026-04-05/
LOCATION:Theater – Artemis
CATEGORIES:Live Presentation
END:VEVENT
BEGIN:VEVENT
DTSTART;TZID=America/Chicago:20260405T111500
DTEND;TZID=America/Chicago:20260405T113000
DTSTAMP:20260420T004325
CREATED:20250602T213010Z
LAST-MODIFIED:20250603T185901Z
UID:10119854-1775387700-1775388600@spacecenter.org
SUMMARY:Story Corner Live Presentation
DESCRIPTION:
URL:https://spacecenter.org/events-calendar-event/story-corner-live-presentation/2026-04-05/
LOCATION:Theater – Artemis
CATEGORIES:Live Presentation
END:VEVENT
BEGIN:VEVENT
DTSTART;TZID=America/Chicago:20260404T151500
DTEND;TZID=America/Chicago:20260404T153000
DTSTAMP:20260420T004325
CREATED:20250602T213249Z
LAST-MODIFIED:20250603T191942Z
UID:10196629-1775315700-1775316600@spacecenter.org
SUMMARY:Story Corner Live Presentation
DESCRIPTION:
URL:https://spacecenter.org/events-calendar-event/story-corner-live-presentation-4/2026-04-04/
LOCATION:Theater – Artemis
CATEGORIES:Live Presentation
END:VEVENT
BEGIN:VEVENT
DTSTART;TZID=America/Chicago:20260404T131500
DTEND;TZID=America/Chicago:20260404T133000
DTSTAMP:20260420T004325
CREATED:20250602T213201Z
LAST-MODIFIED:20250603T190922Z
UID:10160069-1775308500-1775309400@spacecenter.org
SUMMARY:Story Corner Live Presentation
DESCRIPTION:
URL:https://spacecenter.org/events-calendar-event/story-corner-live-presentation-3/2026-04-04/
LOCATION:Theater – Artemis
CATEGORIES:Live Presentation
END:VEVENT
BEGIN:VEVENT
DTSTART;TZID=America/Chicago:20260404T121500
DTEND;TZID=America/Chicago:20260404T123000
DTSTAMP:20260420T004325
CREATED:20250602T213059Z
LAST-MODIFIED:20250603T190345Z
UID:10141789-1775304900-1775305800@spacecenter.org
SUMMARY:Story Corner Live Presentation
DESCRIPTION:
URL:https://spacecenter.org/events-calendar-event/story-corner-live-presentation-2/2026-04-04/
LOCATION:Theater – Artemis
CATEGORIES:Live Presentation
END:VEVENT
BEGIN:VEVENT
DTSTART;TZID=America/Chicago:20260404T111500
DTEND;TZID=America/Chicago:20260404T113000
DTSTAMP:20260420T004325
CREATED:20250602T213010Z
LAST-MODIFIED:20250603T185901Z
UID:10119853-1775301300-1775302200@spacecenter.org
SUMMARY:Story Corner Live Presentation
DESCRIPTION:
URL:https://spacecenter.org/events-calendar-event/story-corner-live-presentation/2026-04-04/
LOCATION:Theater – Artemis
CATEGORIES:Live Presentation
END:VEVENT
BEGIN:VEVENT
DTSTART;TZID=America/Chicago:20260403T151500
DTEND;TZID=America/Chicago:20260403T153000
DTSTAMP:20260420T004325
CREATED:20250602T213249Z
LAST-MODIFIED:20250603T191942Z
UID:10196628-1775229300-1775230200@spacecenter.org
SUMMARY:Story Corner Live Presentation
DESCRIPTION:
URL:https://spacecenter.org/events-calendar-event/story-corner-live-presentation-4/2026-04-03/
LOCATION:Theater – Artemis
CATEGORIES:Live Presentation
END:VEVENT
BEGIN:VEVENT
DTSTART;TZID=America/Chicago:20260403T131500
DTEND;TZID=America/Chicago:20260403T133000
DTSTAMP:20260420T004325
CREATED:20250602T213201Z
LAST-MODIFIED:20250603T190922Z
UID:10160068-1775222100-1775223000@spacecenter.org
SUMMARY:Story Corner Live Presentation
DESCRIPTION:
URL:https://spacecenter.org/events-calendar-event/story-corner-live-presentation-3/2026-04-03/
LOCATION:Theater – Artemis
CATEGORIES:Live Presentation
END:VEVENT
BEGIN:VEVENT
DTSTART;TZID=America/Chicago:20260403T121500
DTEND;TZID=America/Chicago:20260403T123000
DTSTAMP:20260420T004325
CREATED:20250602T213059Z
LAST-MODIFIED:20250603T190345Z
UID:10141788-1775218500-1775219400@spacecenter.org
SUMMARY:Story Corner Live Presentation
DESCRIPTION:
URL:https://spacecenter.org/events-calendar-event/story-corner-live-presentation-2/2026-04-03/
LOCATION:Theater – Artemis
CATEGORIES:Live Presentation
END:VEVENT
BEGIN:VEVENT
DTSTART;TZID=America/Chicago:20260403T111500
DTEND;TZID=America/Chicago:20260403T113000
DTSTAMP:20260420T004325
CREATED:20250602T213010Z
LAST-MODIFIED:20250603T185901Z
UID:10119852-1775214900-1775215800@spacecenter.org
SUMMARY:Story Corner Live Presentation
DESCRIPTION:
URL:https://spacecenter.org/events-calendar-event/story-corner-live-presentation/2026-04-03/
LOCATION:Theater – Artemis
CATEGORIES:Live Presentation
END:VEVENT
BEGIN:VEVENT
DTSTART;TZID=America/Chicago:20260402T151500
DTEND;TZID=America/Chicago:20260402T153000
DTSTAMP:20260420T004325
CREATED:20250602T213249Z
LAST-MODIFIED:20250603T191942Z
UID:10196627-1775142900-1775143800@spacecenter.org
SUMMARY:Story Corner Live Presentation
DESCRIPTION:
URL:https://spacecenter.org/events-calendar-event/story-corner-live-presentation-4/2026-04-02/
LOCATION:Theater – Artemis
CATEGORIES:Live Presentation
END:VEVENT
BEGIN:VEVENT
DTSTART;TZID=America/Chicago:20260402T131500
DTEND;TZID=America/Chicago:20260402T133000
DTSTAMP:20260420T004325
CREATED:20250602T213201Z
LAST-MODIFIED:20250603T190922Z
UID:10160067-1775135700-1775136600@spacecenter.org
SUMMARY:Story Corner Live Presentation
DESCRIPTION:
URL:https://spacecenter.org/events-calendar-event/story-corner-live-presentation-3/2026-04-02/
LOCATION:Theater – Artemis
CATEGORIES:Live Presentation
END:VEVENT
BEGIN:VEVENT
DTSTART;TZID=America/Chicago:20260402T121500
DTEND;TZID=America/Chicago:20260402T123000
DTSTAMP:20260420T004325
CREATED:20250602T213059Z
LAST-MODIFIED:20250603T190345Z
UID:10141787-1775132100-1775133000@spacecenter.org
SUMMARY:Story Corner Live Presentation
DESCRIPTION:
URL:https://spacecenter.org/events-calendar-event/story-corner-live-presentation-2/2026-04-02/
LOCATION:Theater – Artemis
CATEGORIES:Live Presentation
END:VEVENT
BEGIN:VEVENT
DTSTART;TZID=America/Chicago:20260402T111500
DTEND;TZID=America/Chicago:20260402T113000
DTSTAMP:20260420T004325
CREATED:20250602T213010Z
LAST-MODIFIED:20250603T185901Z
UID:10119851-1775128500-1775129400@spacecenter.org
SUMMARY:Story Corner Live Presentation
DESCRIPTION:
URL:https://spacecenter.org/events-calendar-event/story-corner-live-presentation/2026-04-02/
LOCATION:Theater – Artemis
CATEGORIES:Live Presentation
END:VEVENT
BEGIN:VEVENT
DTSTART;TZID=America/Chicago:20260401T151500
DTEND;TZID=America/Chicago:20260401T153000
DTSTAMP:20260420T004325
CREATED:20250602T213249Z
LAST-MODIFIED:20250603T191942Z
UID:10196626-1775056500-1775057400@spacecenter.org
SUMMARY:Story Corner Live Presentation
DESCRIPTION:
URL:https://spacecenter.org/events-calendar-event/story-corner-live-presentation-4/2026-04-01/
LOCATION:Theater – Artemis
CATEGORIES:Live Presentation
END:VEVENT
BEGIN:VEVENT
DTSTART;TZID=America/Chicago:20260401T131500
DTEND;TZID=America/Chicago:20260401T133000
DTSTAMP:20260420T004325
CREATED:20250602T213201Z
LAST-MODIFIED:20250603T190922Z
UID:10160066-1775049300-1775050200@spacecenter.org
SUMMARY:Story Corner Live Presentation
DESCRIPTION:
URL:https://spacecenter.org/events-calendar-event/story-corner-live-presentation-3/2026-04-01/
LOCATION:Theater – Artemis
CATEGORIES:Live Presentation
END:VEVENT
BEGIN:VEVENT
DTSTART;TZID=America/Chicago:20260401T121500
DTEND;TZID=America/Chicago:20260401T123000
DTSTAMP:20260420T004325
CREATED:20250602T213059Z
LAST-MODIFIED:20250603T190345Z
UID:10141786-1775045700-1775046600@spacecenter.org
SUMMARY:Story Corner Live Presentation
DESCRIPTION:
URL:https://spacecenter.org/events-calendar-event/story-corner-live-presentation-2/2026-04-01/
LOCATION:Theater – Artemis
CATEGORIES:Live Presentation
END:VEVENT
BEGIN:VEVENT
DTSTART;TZID=America/Chicago:20260401T111500
DTEND;TZID=America/Chicago:20260401T113000
DTSTAMP:20260420T004325
CREATED:20250602T213010Z
LAST-MODIFIED:20250603T185901Z
UID:10119850-1775042100-1775043000@spacecenter.org
SUMMARY:Story Corner Live Presentation
DESCRIPTION:
URL:https://spacecenter.org/events-calendar-event/story-corner-live-presentation/2026-04-01/
LOCATION:Theater – Artemis
CATEGORIES:Live Presentation
END:VEVENT
BEGIN:VEVENT
DTSTART;TZID=America/Chicago:20260331T151500
DTEND;TZID=America/Chicago:20260331T153000
DTSTAMP:20260420T004325
CREATED:20250602T213249Z
LAST-MODIFIED:20250603T191942Z
UID:10196625-1774970100-1774971000@spacecenter.org
SUMMARY:Story Corner Live Presentation
DESCRIPTION:
URL:https://spacecenter.org/events-calendar-event/story-corner-live-presentation-4/2026-03-31/
LOCATION:Theater – Artemis
CATEGORIES:Live Presentation
END:VEVENT
BEGIN:VEVENT
DTSTART;TZID=America/Chicago:20260331T131500
DTEND;TZID=America/Chicago:20260331T133000
DTSTAMP:20260420T004325
CREATED:20250602T213201Z
LAST-MODIFIED:20250603T190922Z
UID:10160065-1774962900-1774963800@spacecenter.org
SUMMARY:Story Corner Live Presentation
DESCRIPTION:
URL:https://spacecenter.org/events-calendar-event/story-corner-live-presentation-3/2026-03-31/
LOCATION:Theater – Artemis
CATEGORIES:Live Presentation
END:VEVENT
BEGIN:VEVENT
DTSTART;TZID=America/Chicago:20260331T121500
DTEND;TZID=America/Chicago:20260331T123000
DTSTAMP:20260420T004325
CREATED:20250602T213059Z
LAST-MODIFIED:20250603T190345Z
UID:10141785-1774959300-1774960200@spacecenter.org
SUMMARY:Story Corner Live Presentation
DESCRIPTION:
URL:https://spacecenter.org/events-calendar-event/story-corner-live-presentation-2/2026-03-31/
LOCATION:Theater – Artemis
CATEGORIES:Live Presentation
END:VEVENT
BEGIN:VEVENT
DTSTART;TZID=America/Chicago:20260331T111500
DTEND;TZID=America/Chicago:20260331T113000
DTSTAMP:20260420T004325
CREATED:20250602T213010Z
LAST-MODIFIED:20250603T185901Z
UID:10119849-1774955700-1774956600@spacecenter.org
SUMMARY:Story Corner Live Presentation
DESCRIPTION:
URL:https://spacecenter.org/events-calendar-event/story-corner-live-presentation/2026-03-31/
LOCATION:Theater – Artemis
CATEGORIES:Live Presentation
END:VEVENT
END:VCALENDAR