BEGIN:VCALENDAR
VERSION:2.0
PRODID:-//Space Center Houston - ECPv6.15.15//NONSGML v1.0//EN
CALSCALE:GREGORIAN
METHOD:PUBLISH
X-WR-CALNAME:Space Center Houston
X-ORIGINAL-URL:https://spacecenter.org
X-WR-CALDESC:Events for Space Center Houston
REFRESH-INTERVAL;VALUE=DURATION:PT1H
X-Robots-Tag:noindex
X-PUBLISHED-TTL:PT1H
BEGIN:VTIMEZONE
TZID:America/Chicago
BEGIN:DAYLIGHT
TZOFFSETFROM:-0600
TZOFFSETTO:-0500
TZNAME:CDT
DTSTART:20250309T080000
END:DAYLIGHT
BEGIN:STANDARD
TZOFFSETFROM:-0500
TZOFFSETTO:-0600
TZNAME:CST
DTSTART:20251102T070000
END:STANDARD
BEGIN:DAYLIGHT
TZOFFSETFROM:-0600
TZOFFSETTO:-0500
TZNAME:CDT
DTSTART:20260308T080000
END:DAYLIGHT
BEGIN:STANDARD
TZOFFSETFROM:-0500
TZOFFSETTO:-0600
TZNAME:CST
DTSTART:20261101T070000
END:STANDARD
BEGIN:DAYLIGHT
TZOFFSETFROM:-0600
TZOFFSETTO:-0500
TZNAME:CDT
DTSTART:20270314T080000
END:DAYLIGHT
BEGIN:STANDARD
TZOFFSETFROM:-0500
TZOFFSETTO:-0600
TZNAME:CST
DTSTART:20271107T070000
END:STANDARD
END:VTIMEZONE
BEGIN:VEVENT
DTSTART;TZID=America/Chicago:20260420T151500
DTEND;TZID=America/Chicago:20260420T153000
DTSTAMP:20260421T080130
CREATED:20250602T213249Z
LAST-MODIFIED:20250603T191942Z
UID:10196645-1776698100-1776699000@spacecenter.org
SUMMARY:Story Corner Live Presentation
DESCRIPTION:
URL:https://spacecenter.org/events-calendar-event/story-corner-live-presentation-4/2026-04-20/
LOCATION:Theater – Artemis
CATEGORIES:Live Presentation
END:VEVENT
BEGIN:VEVENT
DTSTART;TZID=America/Chicago:20260420T131500
DTEND;TZID=America/Chicago:20260420T133000
DTSTAMP:20260421T080130
CREATED:20250602T213201Z
LAST-MODIFIED:20250603T190922Z
UID:10160085-1776690900-1776691800@spacecenter.org
SUMMARY:Story Corner Live Presentation
DESCRIPTION:
URL:https://spacecenter.org/events-calendar-event/story-corner-live-presentation-3/2026-04-20/
LOCATION:Theater – Artemis
CATEGORIES:Live Presentation
END:VEVENT
BEGIN:VEVENT
DTSTART;TZID=America/Chicago:20260420T121500
DTEND;TZID=America/Chicago:20260420T123000
DTSTAMP:20260421T080130
CREATED:20250602T213059Z
LAST-MODIFIED:20250603T190345Z
UID:10141805-1776687300-1776688200@spacecenter.org
SUMMARY:Story Corner Live Presentation
DESCRIPTION:
URL:https://spacecenter.org/events-calendar-event/story-corner-live-presentation-2/2026-04-20/
LOCATION:Theater – Artemis
CATEGORIES:Live Presentation
END:VEVENT
BEGIN:VEVENT
DTSTART;TZID=America/Chicago:20260420T111500
DTEND;TZID=America/Chicago:20260420T113000
DTSTAMP:20260421T080130
CREATED:20250602T213010Z
LAST-MODIFIED:20250603T185901Z
UID:10119869-1776683700-1776684600@spacecenter.org
SUMMARY:Story Corner Live Presentation
DESCRIPTION:
URL:https://spacecenter.org/events-calendar-event/story-corner-live-presentation/2026-04-20/
LOCATION:Theater – Artemis
CATEGORIES:Live Presentation
END:VEVENT
BEGIN:VEVENT
DTSTART;TZID=America/Chicago:20260419T151500
DTEND;TZID=America/Chicago:20260419T153000
DTSTAMP:20260421T080130
CREATED:20250602T213249Z
LAST-MODIFIED:20250603T191942Z
UID:10196644-1776611700-1776612600@spacecenter.org
SUMMARY:Story Corner Live Presentation
DESCRIPTION:
URL:https://spacecenter.org/events-calendar-event/story-corner-live-presentation-4/2026-04-19/
LOCATION:Theater – Artemis
CATEGORIES:Live Presentation
END:VEVENT
BEGIN:VEVENT
DTSTART;TZID=America/Chicago:20260419T131500
DTEND;TZID=America/Chicago:20260419T133000
DTSTAMP:20260421T080130
CREATED:20250602T213201Z
LAST-MODIFIED:20250603T190922Z
UID:10160084-1776604500-1776605400@spacecenter.org
SUMMARY:Story Corner Live Presentation
DESCRIPTION:
URL:https://spacecenter.org/events-calendar-event/story-corner-live-presentation-3/2026-04-19/
LOCATION:Theater – Artemis
CATEGORIES:Live Presentation
END:VEVENT
BEGIN:VEVENT
DTSTART;TZID=America/Chicago:20260419T121500
DTEND;TZID=America/Chicago:20260419T123000
DTSTAMP:20260421T080130
CREATED:20250602T213059Z
LAST-MODIFIED:20250603T190345Z
UID:10141804-1776600900-1776601800@spacecenter.org
SUMMARY:Story Corner Live Presentation
DESCRIPTION:
URL:https://spacecenter.org/events-calendar-event/story-corner-live-presentation-2/2026-04-19/
LOCATION:Theater – Artemis
CATEGORIES:Live Presentation
END:VEVENT
BEGIN:VEVENT
DTSTART;TZID=America/Chicago:20260419T111500
DTEND;TZID=America/Chicago:20260419T113000
DTSTAMP:20260421T080130
CREATED:20250602T213010Z
LAST-MODIFIED:20250603T185901Z
UID:10119868-1776597300-1776598200@spacecenter.org
SUMMARY:Story Corner Live Presentation
DESCRIPTION:
URL:https://spacecenter.org/events-calendar-event/story-corner-live-presentation/2026-04-19/
LOCATION:Theater – Artemis
CATEGORIES:Live Presentation
END:VEVENT
BEGIN:VEVENT
DTSTART;TZID=America/Chicago:20260418T151500
DTEND;TZID=America/Chicago:20260418T153000
DTSTAMP:20260421T080130
CREATED:20250602T213249Z
LAST-MODIFIED:20250603T191942Z
UID:10196643-1776525300-1776526200@spacecenter.org
SUMMARY:Story Corner Live Presentation
DESCRIPTION:
URL:https://spacecenter.org/events-calendar-event/story-corner-live-presentation-4/2026-04-18/
LOCATION:Theater – Artemis
CATEGORIES:Live Presentation
END:VEVENT
BEGIN:VEVENT
DTSTART;TZID=America/Chicago:20260418T131500
DTEND;TZID=America/Chicago:20260418T133000
DTSTAMP:20260421T080130
CREATED:20250602T213201Z
LAST-MODIFIED:20250603T190922Z
UID:10160083-1776518100-1776519000@spacecenter.org
SUMMARY:Story Corner Live Presentation
DESCRIPTION:
URL:https://spacecenter.org/events-calendar-event/story-corner-live-presentation-3/2026-04-18/
LOCATION:Theater – Artemis
CATEGORIES:Live Presentation
END:VEVENT
BEGIN:VEVENT
DTSTART;TZID=America/Chicago:20260418T121500
DTEND;TZID=America/Chicago:20260418T123000
DTSTAMP:20260421T080130
CREATED:20250602T213059Z
LAST-MODIFIED:20250603T190345Z
UID:10141803-1776514500-1776515400@spacecenter.org
SUMMARY:Story Corner Live Presentation
DESCRIPTION:
URL:https://spacecenter.org/events-calendar-event/story-corner-live-presentation-2/2026-04-18/
LOCATION:Theater – Artemis
CATEGORIES:Live Presentation
END:VEVENT
BEGIN:VEVENT
DTSTART;TZID=America/Chicago:20260418T111500
DTEND;TZID=America/Chicago:20260418T113000
DTSTAMP:20260421T080130
CREATED:20250602T213010Z
LAST-MODIFIED:20250603T185901Z
UID:10119867-1776510900-1776511800@spacecenter.org
SUMMARY:Story Corner Live Presentation
DESCRIPTION:
URL:https://spacecenter.org/events-calendar-event/story-corner-live-presentation/2026-04-18/
LOCATION:Theater – Artemis
CATEGORIES:Live Presentation
END:VEVENT
BEGIN:VEVENT
DTSTART;TZID=America/Chicago:20260417T151500
DTEND;TZID=America/Chicago:20260417T153000
DTSTAMP:20260421T080130
CREATED:20250602T213249Z
LAST-MODIFIED:20250603T191942Z
UID:10196642-1776438900-1776439800@spacecenter.org
SUMMARY:Story Corner Live Presentation
DESCRIPTION:
URL:https://spacecenter.org/events-calendar-event/story-corner-live-presentation-4/2026-04-17/
LOCATION:Theater – Artemis
CATEGORIES:Live Presentation
END:VEVENT
BEGIN:VEVENT
DTSTART;TZID=America/Chicago:20260417T131500
DTEND;TZID=America/Chicago:20260417T133000
DTSTAMP:20260421T080131
CREATED:20250602T213201Z
LAST-MODIFIED:20250603T190922Z
UID:10160082-1776431700-1776432600@spacecenter.org
SUMMARY:Story Corner Live Presentation
DESCRIPTION:
URL:https://spacecenter.org/events-calendar-event/story-corner-live-presentation-3/2026-04-17/
LOCATION:Theater – Artemis
CATEGORIES:Live Presentation
END:VEVENT
BEGIN:VEVENT
DTSTART;TZID=America/Chicago:20260417T121500
DTEND;TZID=America/Chicago:20260417T123000
DTSTAMP:20260421T080131
CREATED:20250602T213059Z
LAST-MODIFIED:20250603T190345Z
UID:10141802-1776428100-1776429000@spacecenter.org
SUMMARY:Story Corner Live Presentation
DESCRIPTION:
URL:https://spacecenter.org/events-calendar-event/story-corner-live-presentation-2/2026-04-17/
LOCATION:Theater – Artemis
CATEGORIES:Live Presentation
END:VEVENT
BEGIN:VEVENT
DTSTART;TZID=America/Chicago:20260417T111500
DTEND;TZID=America/Chicago:20260417T113000
DTSTAMP:20260421T080131
CREATED:20250602T213010Z
LAST-MODIFIED:20250603T185901Z
UID:10119866-1776424500-1776425400@spacecenter.org
SUMMARY:Story Corner Live Presentation
DESCRIPTION:
URL:https://spacecenter.org/events-calendar-event/story-corner-live-presentation/2026-04-17/
LOCATION:Theater – Artemis
CATEGORIES:Live Presentation
END:VEVENT
BEGIN:VEVENT
DTSTART;TZID=America/Chicago:20260416T151500
DTEND;TZID=America/Chicago:20260416T153000
DTSTAMP:20260421T080131
CREATED:20250602T213249Z
LAST-MODIFIED:20250603T191942Z
UID:10196641-1776352500-1776353400@spacecenter.org
SUMMARY:Story Corner Live Presentation
DESCRIPTION:
URL:https://spacecenter.org/events-calendar-event/story-corner-live-presentation-4/2026-04-16/
LOCATION:Theater – Artemis
CATEGORIES:Live Presentation
END:VEVENT
BEGIN:VEVENT
DTSTART;TZID=America/Chicago:20260416T131500
DTEND;TZID=America/Chicago:20260416T133000
DTSTAMP:20260421T080131
CREATED:20250602T213201Z
LAST-MODIFIED:20250603T190922Z
UID:10160081-1776345300-1776346200@spacecenter.org
SUMMARY:Story Corner Live Presentation
DESCRIPTION:
URL:https://spacecenter.org/events-calendar-event/story-corner-live-presentation-3/2026-04-16/
LOCATION:Theater – Artemis
CATEGORIES:Live Presentation
END:VEVENT
BEGIN:VEVENT
DTSTART;TZID=America/Chicago:20260416T121500
DTEND;TZID=America/Chicago:20260416T123000
DTSTAMP:20260421T080131
CREATED:20250602T213059Z
LAST-MODIFIED:20250603T190345Z
UID:10141801-1776341700-1776342600@spacecenter.org
SUMMARY:Story Corner Live Presentation
DESCRIPTION:
URL:https://spacecenter.org/events-calendar-event/story-corner-live-presentation-2/2026-04-16/
LOCATION:Theater – Artemis
CATEGORIES:Live Presentation
END:VEVENT
BEGIN:VEVENT
DTSTART;TZID=America/Chicago:20260416T111500
DTEND;TZID=America/Chicago:20260416T113000
DTSTAMP:20260421T080131
CREATED:20250602T213010Z
LAST-MODIFIED:20250603T185901Z
UID:10119865-1776338100-1776339000@spacecenter.org
SUMMARY:Story Corner Live Presentation
DESCRIPTION:
URL:https://spacecenter.org/events-calendar-event/story-corner-live-presentation/2026-04-16/
LOCATION:Theater – Artemis
CATEGORIES:Live Presentation
END:VEVENT
BEGIN:VEVENT
DTSTART;TZID=America/Chicago:20260415T151500
DTEND;TZID=America/Chicago:20260415T153000
DTSTAMP:20260421T080131
CREATED:20250602T213249Z
LAST-MODIFIED:20250603T191942Z
UID:10196640-1776266100-1776267000@spacecenter.org
SUMMARY:Story Corner Live Presentation
DESCRIPTION:
URL:https://spacecenter.org/events-calendar-event/story-corner-live-presentation-4/2026-04-15/
LOCATION:Theater – Artemis
CATEGORIES:Live Presentation
END:VEVENT
BEGIN:VEVENT
DTSTART;TZID=America/Chicago:20260415T131500
DTEND;TZID=America/Chicago:20260415T133000
DTSTAMP:20260421T080131
CREATED:20250602T213201Z
LAST-MODIFIED:20250603T190922Z
UID:10160080-1776258900-1776259800@spacecenter.org
SUMMARY:Story Corner Live Presentation
DESCRIPTION:
URL:https://spacecenter.org/events-calendar-event/story-corner-live-presentation-3/2026-04-15/
LOCATION:Theater – Artemis
CATEGORIES:Live Presentation
END:VEVENT
BEGIN:VEVENT
DTSTART;TZID=America/Chicago:20260415T121500
DTEND;TZID=America/Chicago:20260415T123000
DTSTAMP:20260421T080131
CREATED:20250602T213059Z
LAST-MODIFIED:20250603T190345Z
UID:10141800-1776255300-1776256200@spacecenter.org
SUMMARY:Story Corner Live Presentation
DESCRIPTION:
URL:https://spacecenter.org/events-calendar-event/story-corner-live-presentation-2/2026-04-15/
LOCATION:Theater – Artemis
CATEGORIES:Live Presentation
END:VEVENT
BEGIN:VEVENT
DTSTART;TZID=America/Chicago:20260415T111500
DTEND;TZID=America/Chicago:20260415T113000
DTSTAMP:20260421T080131
CREATED:20250602T213010Z
LAST-MODIFIED:20250603T185901Z
UID:10119864-1776251700-1776252600@spacecenter.org
SUMMARY:Story Corner Live Presentation
DESCRIPTION:
URL:https://spacecenter.org/events-calendar-event/story-corner-live-presentation/2026-04-15/
LOCATION:Theater – Artemis
CATEGORIES:Live Presentation
END:VEVENT
BEGIN:VEVENT
DTSTART;TZID=America/Chicago:20260414T151500
DTEND;TZID=America/Chicago:20260414T153000
DTSTAMP:20260421T080131
CREATED:20250602T213249Z
LAST-MODIFIED:20250603T191942Z
UID:10196639-1776179700-1776180600@spacecenter.org
SUMMARY:Story Corner Live Presentation
DESCRIPTION:
URL:https://spacecenter.org/events-calendar-event/story-corner-live-presentation-4/2026-04-14/
LOCATION:Theater – Artemis
CATEGORIES:Live Presentation
END:VEVENT
BEGIN:VEVENT
DTSTART;TZID=America/Chicago:20260414T131500
DTEND;TZID=America/Chicago:20260414T133000
DTSTAMP:20260421T080131
CREATED:20250602T213201Z
LAST-MODIFIED:20250603T190922Z
UID:10160079-1776172500-1776173400@spacecenter.org
SUMMARY:Story Corner Live Presentation
DESCRIPTION:
URL:https://spacecenter.org/events-calendar-event/story-corner-live-presentation-3/2026-04-14/
LOCATION:Theater – Artemis
CATEGORIES:Live Presentation
END:VEVENT
BEGIN:VEVENT
DTSTART;TZID=America/Chicago:20260414T121500
DTEND;TZID=America/Chicago:20260414T123000
DTSTAMP:20260421T080131
CREATED:20250602T213059Z
LAST-MODIFIED:20250603T190345Z
UID:10141799-1776168900-1776169800@spacecenter.org
SUMMARY:Story Corner Live Presentation
DESCRIPTION:
URL:https://spacecenter.org/events-calendar-event/story-corner-live-presentation-2/2026-04-14/
LOCATION:Theater – Artemis
CATEGORIES:Live Presentation
END:VEVENT
BEGIN:VEVENT
DTSTART;TZID=America/Chicago:20260414T111500
DTEND;TZID=America/Chicago:20260414T113000
DTSTAMP:20260421T080131
CREATED:20250602T213010Z
LAST-MODIFIED:20250603T185901Z
UID:10119863-1776165300-1776166200@spacecenter.org
SUMMARY:Story Corner Live Presentation
DESCRIPTION:
URL:https://spacecenter.org/events-calendar-event/story-corner-live-presentation/2026-04-14/
LOCATION:Theater – Artemis
CATEGORIES:Live Presentation
END:VEVENT
BEGIN:VEVENT
DTSTART;TZID=America/Chicago:20260413T151500
DTEND;TZID=America/Chicago:20260413T153000
DTSTAMP:20260421T080131
CREATED:20250602T213249Z
LAST-MODIFIED:20250603T191942Z
UID:10196638-1776093300-1776094200@spacecenter.org
SUMMARY:Story Corner Live Presentation
DESCRIPTION:
URL:https://spacecenter.org/events-calendar-event/story-corner-live-presentation-4/2026-04-13/
LOCATION:Theater – Artemis
CATEGORIES:Live Presentation
END:VEVENT
BEGIN:VEVENT
DTSTART;TZID=America/Chicago:20260413T131500
DTEND;TZID=America/Chicago:20260413T133000
DTSTAMP:20260421T080131
CREATED:20250602T213201Z
LAST-MODIFIED:20250603T190922Z
UID:10160078-1776086100-1776087000@spacecenter.org
SUMMARY:Story Corner Live Presentation
DESCRIPTION:
URL:https://spacecenter.org/events-calendar-event/story-corner-live-presentation-3/2026-04-13/
LOCATION:Theater – Artemis
CATEGORIES:Live Presentation
END:VEVENT
END:VCALENDAR