BEGIN:VCALENDAR
VERSION:2.0
PRODID:-//Space Center Houston - ECPv6.15.15//NONSGML v1.0//EN
CALSCALE:GREGORIAN
METHOD:PUBLISH
X-ORIGINAL-URL:https://spacecenter.org
X-WR-CALDESC:Events for Space Center Houston
REFRESH-INTERVAL;VALUE=DURATION:PT1H
X-Robots-Tag:noindex
X-PUBLISHED-TTL:PT1H
BEGIN:VTIMEZONE
TZID:America/Chicago
BEGIN:DAYLIGHT
TZOFFSETFROM:-0600
TZOFFSETTO:-0500
TZNAME:CDT
DTSTART:20260308T080000
END:DAYLIGHT
BEGIN:STANDARD
TZOFFSETFROM:-0500
TZOFFSETTO:-0600
TZNAME:CST
DTSTART:20261101T070000
END:STANDARD
BEGIN:DAYLIGHT
TZOFFSETFROM:-0600
TZOFFSETTO:-0500
TZNAME:CDT
DTSTART:20270314T080000
END:DAYLIGHT
BEGIN:STANDARD
TZOFFSETFROM:-0500
TZOFFSETTO:-0600
TZNAME:CST
DTSTART:20271107T070000
END:STANDARD
BEGIN:DAYLIGHT
TZOFFSETFROM:-0600
TZOFFSETTO:-0500
TZNAME:CDT
DTSTART:20280312T080000
END:DAYLIGHT
BEGIN:STANDARD
TZOFFSETFROM:-0500
TZOFFSETTO:-0600
TZNAME:CST
DTSTART:20281105T070000
END:STANDARD
END:VTIMEZONE
BEGIN:VEVENT
DTSTART;TZID=America/Chicago:20270530T111500
DTEND;TZID=America/Chicago:20270530T113000
DTSTAMP:20260424T200011
CREATED:20250602T214855Z
LAST-MODIFIED:20250603T185944Z
UID:10123930-1811675700-1811676600@spacecenter.org
SUMMARY:Human Destiny Film
DESCRIPTION:
URL:https://spacecenter.org/events-calendar-event/human-destiny-film-5/2027-05-30/
LOCATION:Theater – Destiny
CATEGORIES:Film
ATTACH;FMTTYPE=image/jpeg:https://spacecenter.org/wp-content/uploads/2022/10/Destiny-Theater.jpg
END:VEVENT
BEGIN:VEVENT
DTSTART;TZID=America/Chicago:20270531T111500
DTEND;TZID=America/Chicago:20270531T113000
DTSTAMP:20260424T200011
CREATED:20250602T214855Z
LAST-MODIFIED:20250603T185944Z
UID:10123931-1811762100-1811763000@spacecenter.org
SUMMARY:Human Destiny Film
DESCRIPTION:
URL:https://spacecenter.org/events-calendar-event/human-destiny-film-5/2027-05-31/
LOCATION:Theater – Destiny
CATEGORIES:Film
ATTACH;FMTTYPE=image/jpeg:https://spacecenter.org/wp-content/uploads/2022/10/Destiny-Theater.jpg
END:VEVENT
BEGIN:VEVENT
DTSTART;TZID=America/Chicago:20270601T111500
DTEND;TZID=America/Chicago:20270601T113000
DTSTAMP:20260424T200011
CREATED:20250602T214855Z
LAST-MODIFIED:20250603T185944Z
UID:10123932-1811848500-1811849400@spacecenter.org
SUMMARY:Human Destiny Film
DESCRIPTION:
URL:https://spacecenter.org/events-calendar-event/human-destiny-film-5/2027-06-01/
LOCATION:Theater – Destiny
CATEGORIES:Film
ATTACH;FMTTYPE=image/jpeg:https://spacecenter.org/wp-content/uploads/2022/10/Destiny-Theater.jpg
END:VEVENT
BEGIN:VEVENT
DTSTART;TZID=America/Chicago:20270602T111500
DTEND;TZID=America/Chicago:20270602T113000
DTSTAMP:20260424T200011
CREATED:20250602T214855Z
LAST-MODIFIED:20250603T185944Z
UID:10123933-1811934900-1811935800@spacecenter.org
SUMMARY:Human Destiny Film
DESCRIPTION:
URL:https://spacecenter.org/events-calendar-event/human-destiny-film-5/2027-06-02/
LOCATION:Theater – Destiny
CATEGORIES:Film
ATTACH;FMTTYPE=image/jpeg:https://spacecenter.org/wp-content/uploads/2022/10/Destiny-Theater.jpg
END:VEVENT
BEGIN:VEVENT
DTSTART;TZID=America/Chicago:20270603T111500
DTEND;TZID=America/Chicago:20270603T113000
DTSTAMP:20260424T200011
CREATED:20250602T214855Z
LAST-MODIFIED:20250603T185944Z
UID:10123934-1812021300-1812022200@spacecenter.org
SUMMARY:Human Destiny Film
DESCRIPTION:
URL:https://spacecenter.org/events-calendar-event/human-destiny-film-5/2027-06-03/
LOCATION:Theater – Destiny
CATEGORIES:Film
ATTACH;FMTTYPE=image/jpeg:https://spacecenter.org/wp-content/uploads/2022/10/Destiny-Theater.jpg
END:VEVENT
BEGIN:VEVENT
DTSTART;TZID=America/Chicago:20270604T111500
DTEND;TZID=America/Chicago:20270604T113000
DTSTAMP:20260424T200011
CREATED:20250602T214855Z
LAST-MODIFIED:20250603T185944Z
UID:10123935-1812107700-1812108600@spacecenter.org
SUMMARY:Human Destiny Film
DESCRIPTION:
URL:https://spacecenter.org/events-calendar-event/human-destiny-film-5/2027-06-04/
LOCATION:Theater – Destiny
CATEGORIES:Film
ATTACH;FMTTYPE=image/jpeg:https://spacecenter.org/wp-content/uploads/2022/10/Destiny-Theater.jpg
END:VEVENT
BEGIN:VEVENT
DTSTART;TZID=America/Chicago:20270605T111500
DTEND;TZID=America/Chicago:20270605T113000
DTSTAMP:20260424T200011
CREATED:20250602T214855Z
LAST-MODIFIED:20250603T185944Z
UID:10123936-1812194100-1812195000@spacecenter.org
SUMMARY:Human Destiny Film
DESCRIPTION:
URL:https://spacecenter.org/events-calendar-event/human-destiny-film-5/2027-06-05/
LOCATION:Theater – Destiny
CATEGORIES:Film
ATTACH;FMTTYPE=image/jpeg:https://spacecenter.org/wp-content/uploads/2022/10/Destiny-Theater.jpg
END:VEVENT
BEGIN:VEVENT
DTSTART;TZID=America/Chicago:20270606T111500
DTEND;TZID=America/Chicago:20270606T113000
DTSTAMP:20260424T200011
CREATED:20250602T214855Z
LAST-MODIFIED:20250603T185944Z
UID:10123937-1812280500-1812281400@spacecenter.org
SUMMARY:Human Destiny Film
DESCRIPTION:
URL:https://spacecenter.org/events-calendar-event/human-destiny-film-5/2027-06-06/
LOCATION:Theater – Destiny
CATEGORIES:Film
ATTACH;FMTTYPE=image/jpeg:https://spacecenter.org/wp-content/uploads/2022/10/Destiny-Theater.jpg
END:VEVENT
BEGIN:VEVENT
DTSTART;TZID=America/Chicago:20270607T111500
DTEND;TZID=America/Chicago:20270607T113000
DTSTAMP:20260424T200011
CREATED:20250602T214855Z
LAST-MODIFIED:20250603T185944Z
UID:10123938-1812366900-1812367800@spacecenter.org
SUMMARY:Human Destiny Film
DESCRIPTION:
URL:https://spacecenter.org/events-calendar-event/human-destiny-film-5/2027-06-07/
LOCATION:Theater – Destiny
CATEGORIES:Film
ATTACH;FMTTYPE=image/jpeg:https://spacecenter.org/wp-content/uploads/2022/10/Destiny-Theater.jpg
END:VEVENT
BEGIN:VEVENT
DTSTART;TZID=America/Chicago:20270608T111500
DTEND;TZID=America/Chicago:20270608T113000
DTSTAMP:20260424T200011
CREATED:20250602T214855Z
LAST-MODIFIED:20250603T185944Z
UID:10123939-1812453300-1812454200@spacecenter.org
SUMMARY:Human Destiny Film
DESCRIPTION:
URL:https://spacecenter.org/events-calendar-event/human-destiny-film-5/2027-06-08/
LOCATION:Theater – Destiny
CATEGORIES:Film
ATTACH;FMTTYPE=image/jpeg:https://spacecenter.org/wp-content/uploads/2022/10/Destiny-Theater.jpg
END:VEVENT
BEGIN:VEVENT
DTSTART;TZID=America/Chicago:20270609T111500
DTEND;TZID=America/Chicago:20270609T113000
DTSTAMP:20260424T200011
CREATED:20250602T214855Z
LAST-MODIFIED:20250603T185944Z
UID:10123940-1812539700-1812540600@spacecenter.org
SUMMARY:Human Destiny Film
DESCRIPTION:
URL:https://spacecenter.org/events-calendar-event/human-destiny-film-5/2027-06-09/
LOCATION:Theater – Destiny
CATEGORIES:Film
ATTACH;FMTTYPE=image/jpeg:https://spacecenter.org/wp-content/uploads/2022/10/Destiny-Theater.jpg
END:VEVENT
BEGIN:VEVENT
DTSTART;TZID=America/Chicago:20270610T111500
DTEND;TZID=America/Chicago:20270610T113000
DTSTAMP:20260424T200011
CREATED:20250602T214855Z
LAST-MODIFIED:20250603T185944Z
UID:10123941-1812626100-1812627000@spacecenter.org
SUMMARY:Human Destiny Film
DESCRIPTION:
URL:https://spacecenter.org/events-calendar-event/human-destiny-film-5/2027-06-10/
LOCATION:Theater – Destiny
CATEGORIES:Film
ATTACH;FMTTYPE=image/jpeg:https://spacecenter.org/wp-content/uploads/2022/10/Destiny-Theater.jpg
END:VEVENT
BEGIN:VEVENT
DTSTART;TZID=America/Chicago:20270611T111500
DTEND;TZID=America/Chicago:20270611T113000
DTSTAMP:20260424T200011
CREATED:20250602T214855Z
LAST-MODIFIED:20250603T185944Z
UID:10123942-1812712500-1812713400@spacecenter.org
SUMMARY:Human Destiny Film
DESCRIPTION:
URL:https://spacecenter.org/events-calendar-event/human-destiny-film-5/2027-06-11/
LOCATION:Theater – Destiny
CATEGORIES:Film
ATTACH;FMTTYPE=image/jpeg:https://spacecenter.org/wp-content/uploads/2022/10/Destiny-Theater.jpg
END:VEVENT
BEGIN:VEVENT
DTSTART;TZID=America/Chicago:20270612T111500
DTEND;TZID=America/Chicago:20270612T113000
DTSTAMP:20260424T200011
CREATED:20250602T214855Z
LAST-MODIFIED:20250603T185944Z
UID:10123943-1812798900-1812799800@spacecenter.org
SUMMARY:Human Destiny Film
DESCRIPTION:
URL:https://spacecenter.org/events-calendar-event/human-destiny-film-5/2027-06-12/
LOCATION:Theater – Destiny
CATEGORIES:Film
ATTACH;FMTTYPE=image/jpeg:https://spacecenter.org/wp-content/uploads/2022/10/Destiny-Theater.jpg
END:VEVENT
BEGIN:VEVENT
DTSTART;TZID=America/Chicago:20270613T111500
DTEND;TZID=America/Chicago:20270613T113000
DTSTAMP:20260424T200011
CREATED:20250602T214855Z
LAST-MODIFIED:20250603T185944Z
UID:10123944-1812885300-1812886200@spacecenter.org
SUMMARY:Human Destiny Film
DESCRIPTION:
URL:https://spacecenter.org/events-calendar-event/human-destiny-film-5/2027-06-13/
LOCATION:Theater – Destiny
CATEGORIES:Film
ATTACH;FMTTYPE=image/jpeg:https://spacecenter.org/wp-content/uploads/2022/10/Destiny-Theater.jpg
END:VEVENT
BEGIN:VEVENT
DTSTART;TZID=America/Chicago:20270614T111500
DTEND;TZID=America/Chicago:20270614T113000
DTSTAMP:20260424T200011
CREATED:20250602T214855Z
LAST-MODIFIED:20250603T185944Z
UID:10123945-1812971700-1812972600@spacecenter.org
SUMMARY:Human Destiny Film
DESCRIPTION:
URL:https://spacecenter.org/events-calendar-event/human-destiny-film-5/2027-06-14/
LOCATION:Theater – Destiny
CATEGORIES:Film
ATTACH;FMTTYPE=image/jpeg:https://spacecenter.org/wp-content/uploads/2022/10/Destiny-Theater.jpg
END:VEVENT
BEGIN:VEVENT
DTSTART;TZID=America/Chicago:20270615T111500
DTEND;TZID=America/Chicago:20270615T113000
DTSTAMP:20260424T200011
CREATED:20250602T214855Z
LAST-MODIFIED:20250603T185944Z
UID:10123946-1813058100-1813059000@spacecenter.org
SUMMARY:Human Destiny Film
DESCRIPTION:
URL:https://spacecenter.org/events-calendar-event/human-destiny-film-5/2027-06-15/
LOCATION:Theater – Destiny
CATEGORIES:Film
ATTACH;FMTTYPE=image/jpeg:https://spacecenter.org/wp-content/uploads/2022/10/Destiny-Theater.jpg
END:VEVENT
BEGIN:VEVENT
DTSTART;TZID=America/Chicago:20270616T111500
DTEND;TZID=America/Chicago:20270616T113000
DTSTAMP:20260424T200011
CREATED:20250602T214855Z
LAST-MODIFIED:20250603T185944Z
UID:10123947-1813144500-1813145400@spacecenter.org
SUMMARY:Human Destiny Film
DESCRIPTION:
URL:https://spacecenter.org/events-calendar-event/human-destiny-film-5/2027-06-16/
LOCATION:Theater – Destiny
CATEGORIES:Film
ATTACH;FMTTYPE=image/jpeg:https://spacecenter.org/wp-content/uploads/2022/10/Destiny-Theater.jpg
END:VEVENT
BEGIN:VEVENT
DTSTART;TZID=America/Chicago:20270617T111500
DTEND;TZID=America/Chicago:20270617T113000
DTSTAMP:20260424T200011
CREATED:20250602T214855Z
LAST-MODIFIED:20250603T185944Z
UID:10123948-1813230900-1813231800@spacecenter.org
SUMMARY:Human Destiny Film
DESCRIPTION:
URL:https://spacecenter.org/events-calendar-event/human-destiny-film-5/2027-06-17/
LOCATION:Theater – Destiny
CATEGORIES:Film
ATTACH;FMTTYPE=image/jpeg:https://spacecenter.org/wp-content/uploads/2022/10/Destiny-Theater.jpg
END:VEVENT
BEGIN:VEVENT
DTSTART;TZID=America/Chicago:20270618T111500
DTEND;TZID=America/Chicago:20270618T113000
DTSTAMP:20260424T200011
CREATED:20250602T214855Z
LAST-MODIFIED:20250603T185944Z
UID:10123949-1813317300-1813318200@spacecenter.org
SUMMARY:Human Destiny Film
DESCRIPTION:
URL:https://spacecenter.org/events-calendar-event/human-destiny-film-5/2027-06-18/
LOCATION:Theater – Destiny
CATEGORIES:Film
ATTACH;FMTTYPE=image/jpeg:https://spacecenter.org/wp-content/uploads/2022/10/Destiny-Theater.jpg
END:VEVENT
BEGIN:VEVENT
DTSTART;TZID=America/Chicago:20270619T111500
DTEND;TZID=America/Chicago:20270619T113000
DTSTAMP:20260424T200011
CREATED:20250602T214855Z
LAST-MODIFIED:20250603T185944Z
UID:10123950-1813403700-1813404600@spacecenter.org
SUMMARY:Human Destiny Film
DESCRIPTION:
URL:https://spacecenter.org/events-calendar-event/human-destiny-film-5/2027-06-19/
LOCATION:Theater – Destiny
CATEGORIES:Film
ATTACH;FMTTYPE=image/jpeg:https://spacecenter.org/wp-content/uploads/2022/10/Destiny-Theater.jpg
END:VEVENT
BEGIN:VEVENT
DTSTART;TZID=America/Chicago:20270620T111500
DTEND;TZID=America/Chicago:20270620T113000
DTSTAMP:20260424T200011
CREATED:20250602T214855Z
LAST-MODIFIED:20250603T185944Z
UID:10123951-1813490100-1813491000@spacecenter.org
SUMMARY:Human Destiny Film
DESCRIPTION:
URL:https://spacecenter.org/events-calendar-event/human-destiny-film-5/2027-06-20/
LOCATION:Theater – Destiny
CATEGORIES:Film
ATTACH;FMTTYPE=image/jpeg:https://spacecenter.org/wp-content/uploads/2022/10/Destiny-Theater.jpg
END:VEVENT
BEGIN:VEVENT
DTSTART;TZID=America/Chicago:20270621T111500
DTEND;TZID=America/Chicago:20270621T113000
DTSTAMP:20260424T200011
CREATED:20250602T214855Z
LAST-MODIFIED:20250603T185944Z
UID:10123952-1813576500-1813577400@spacecenter.org
SUMMARY:Human Destiny Film
DESCRIPTION:
URL:https://spacecenter.org/events-calendar-event/human-destiny-film-5/2027-06-21/
LOCATION:Theater – Destiny
CATEGORIES:Film
ATTACH;FMTTYPE=image/jpeg:https://spacecenter.org/wp-content/uploads/2022/10/Destiny-Theater.jpg
END:VEVENT
BEGIN:VEVENT
DTSTART;TZID=America/Chicago:20270622T111500
DTEND;TZID=America/Chicago:20270622T113000
DTSTAMP:20260424T200011
CREATED:20250602T214855Z
LAST-MODIFIED:20250603T185944Z
UID:10123953-1813662900-1813663800@spacecenter.org
SUMMARY:Human Destiny Film
DESCRIPTION:
URL:https://spacecenter.org/events-calendar-event/human-destiny-film-5/2027-06-22/
LOCATION:Theater – Destiny
CATEGORIES:Film
ATTACH;FMTTYPE=image/jpeg:https://spacecenter.org/wp-content/uploads/2022/10/Destiny-Theater.jpg
END:VEVENT
BEGIN:VEVENT
DTSTART;TZID=America/Chicago:20270623T111500
DTEND;TZID=America/Chicago:20270623T113000
DTSTAMP:20260424T200011
CREATED:20250602T214855Z
LAST-MODIFIED:20250603T185944Z
UID:10123954-1813749300-1813750200@spacecenter.org
SUMMARY:Human Destiny Film
DESCRIPTION:
URL:https://spacecenter.org/events-calendar-event/human-destiny-film-5/2027-06-23/
LOCATION:Theater – Destiny
CATEGORIES:Film
ATTACH;FMTTYPE=image/jpeg:https://spacecenter.org/wp-content/uploads/2022/10/Destiny-Theater.jpg
END:VEVENT
BEGIN:VEVENT
DTSTART;TZID=America/Chicago:20270624T111500
DTEND;TZID=America/Chicago:20270624T113000
DTSTAMP:20260424T200011
CREATED:20250602T214855Z
LAST-MODIFIED:20250603T185944Z
UID:10123955-1813835700-1813836600@spacecenter.org
SUMMARY:Human Destiny Film
DESCRIPTION:
URL:https://spacecenter.org/events-calendar-event/human-destiny-film-5/2027-06-24/
LOCATION:Theater – Destiny
CATEGORIES:Film
ATTACH;FMTTYPE=image/jpeg:https://spacecenter.org/wp-content/uploads/2022/10/Destiny-Theater.jpg
END:VEVENT
BEGIN:VEVENT
DTSTART;TZID=America/Chicago:20270625T111500
DTEND;TZID=America/Chicago:20270625T113000
DTSTAMP:20260424T200011
CREATED:20250602T214855Z
LAST-MODIFIED:20250603T185944Z
UID:10123956-1813922100-1813923000@spacecenter.org
SUMMARY:Human Destiny Film
DESCRIPTION:
URL:https://spacecenter.org/events-calendar-event/human-destiny-film-5/2027-06-25/
LOCATION:Theater – Destiny
CATEGORIES:Film
ATTACH;FMTTYPE=image/jpeg:https://spacecenter.org/wp-content/uploads/2022/10/Destiny-Theater.jpg
END:VEVENT
BEGIN:VEVENT
DTSTART;TZID=America/Chicago:20270626T111500
DTEND;TZID=America/Chicago:20270626T113000
DTSTAMP:20260424T200011
CREATED:20250602T214855Z
LAST-MODIFIED:20250603T185944Z
UID:10123957-1814008500-1814009400@spacecenter.org
SUMMARY:Human Destiny Film
DESCRIPTION:
URL:https://spacecenter.org/events-calendar-event/human-destiny-film-5/2027-06-26/
LOCATION:Theater – Destiny
CATEGORIES:Film
ATTACH;FMTTYPE=image/jpeg:https://spacecenter.org/wp-content/uploads/2022/10/Destiny-Theater.jpg
END:VEVENT
BEGIN:VEVENT
DTSTART;TZID=America/Chicago:20270627T111500
DTEND;TZID=America/Chicago:20270627T113000
DTSTAMP:20260424T200011
CREATED:20250602T214855Z
LAST-MODIFIED:20250603T185944Z
UID:10123958-1814094900-1814095800@spacecenter.org
SUMMARY:Human Destiny Film
DESCRIPTION:
URL:https://spacecenter.org/events-calendar-event/human-destiny-film-5/2027-06-27/
LOCATION:Theater – Destiny
CATEGORIES:Film
ATTACH;FMTTYPE=image/jpeg:https://spacecenter.org/wp-content/uploads/2022/10/Destiny-Theater.jpg
END:VEVENT
BEGIN:VEVENT
DTSTART;TZID=America/Chicago:20270628T111500
DTEND;TZID=America/Chicago:20270628T113000
DTSTAMP:20260424T200011
CREATED:20250602T214855Z
LAST-MODIFIED:20250603T185944Z
UID:10123959-1814181300-1814182200@spacecenter.org
SUMMARY:Human Destiny Film
DESCRIPTION:
URL:https://spacecenter.org/events-calendar-event/human-destiny-film-5/2027-06-28/
LOCATION:Theater – Destiny
CATEGORIES:Film
ATTACH;FMTTYPE=image/jpeg:https://spacecenter.org/wp-content/uploads/2022/10/Destiny-Theater.jpg
END:VEVENT
END:VCALENDAR