BEGIN:VCALENDAR
VERSION:2.0
PRODID:-//Space Center Houston - ECPv6.15.15//NONSGML v1.0//EN
CALSCALE:GREGORIAN
METHOD:PUBLISH
X-ORIGINAL-URL:https://spacecenter.org
X-WR-CALDESC:Events for Space Center Houston
REFRESH-INTERVAL;VALUE=DURATION:PT1H
X-Robots-Tag:noindex
X-PUBLISHED-TTL:PT1H
BEGIN:VTIMEZONE
TZID:America/Chicago
BEGIN:DAYLIGHT
TZOFFSETFROM:-0600
TZOFFSETTO:-0500
TZNAME:CDT
DTSTART:20260308T080000
END:DAYLIGHT
BEGIN:STANDARD
TZOFFSETFROM:-0500
TZOFFSETTO:-0600
TZNAME:CST
DTSTART:20261101T070000
END:STANDARD
BEGIN:DAYLIGHT
TZOFFSETFROM:-0600
TZOFFSETTO:-0500
TZNAME:CDT
DTSTART:20270314T080000
END:DAYLIGHT
BEGIN:STANDARD
TZOFFSETFROM:-0500
TZOFFSETTO:-0600
TZNAME:CST
DTSTART:20271107T070000
END:STANDARD
BEGIN:DAYLIGHT
TZOFFSETFROM:-0600
TZOFFSETTO:-0500
TZNAME:CDT
DTSTART:20280312T080000
END:DAYLIGHT
BEGIN:STANDARD
TZOFFSETFROM:-0500
TZOFFSETTO:-0600
TZNAME:CST
DTSTART:20281105T070000
END:STANDARD
END:VTIMEZONE
BEGIN:VEVENT
DTSTART;TZID=America/Chicago:20270530T134500
DTEND;TZID=America/Chicago:20270530T140000
DTSTAMP:20260425T114648
CREATED:20250602T213557Z
LAST-MODIFIED:20250603T191327Z
UID:10175114-1811684700-1811685600@spacecenter.org
SUMMARY:James Webb Live Presentation
DESCRIPTION:
URL:https://spacecenter.org/events-calendar-event/james-webb-live-presentation-2/2027-05-30/
LOCATION:Theater – Destiny
CATEGORIES:Live Presentation
END:VEVENT
BEGIN:VEVENT
DTSTART;TZID=America/Chicago:20270531T134500
DTEND;TZID=America/Chicago:20270531T140000
DTSTAMP:20260425T114648
CREATED:20250602T213557Z
LAST-MODIFIED:20250603T191327Z
UID:10175115-1811771100-1811772000@spacecenter.org
SUMMARY:James Webb Live Presentation
DESCRIPTION:
URL:https://spacecenter.org/events-calendar-event/james-webb-live-presentation-2/2027-05-31/
LOCATION:Theater – Destiny
CATEGORIES:Live Presentation
END:VEVENT
BEGIN:VEVENT
DTSTART;TZID=America/Chicago:20270601T134500
DTEND;TZID=America/Chicago:20270601T140000
DTSTAMP:20260425T114648
CREATED:20250602T213557Z
LAST-MODIFIED:20250603T191327Z
UID:10175116-1811857500-1811858400@spacecenter.org
SUMMARY:James Webb Live Presentation
DESCRIPTION:
URL:https://spacecenter.org/events-calendar-event/james-webb-live-presentation-2/2027-06-01/
LOCATION:Theater – Destiny
CATEGORIES:Live Presentation
END:VEVENT
BEGIN:VEVENT
DTSTART;TZID=America/Chicago:20270602T134500
DTEND;TZID=America/Chicago:20270602T140000
DTSTAMP:20260425T114648
CREATED:20250602T213557Z
LAST-MODIFIED:20250603T191327Z
UID:10175117-1811943900-1811944800@spacecenter.org
SUMMARY:James Webb Live Presentation
DESCRIPTION:
URL:https://spacecenter.org/events-calendar-event/james-webb-live-presentation-2/2027-06-02/
LOCATION:Theater – Destiny
CATEGORIES:Live Presentation
END:VEVENT
BEGIN:VEVENT
DTSTART;TZID=America/Chicago:20270603T134500
DTEND;TZID=America/Chicago:20270603T140000
DTSTAMP:20260425T114648
CREATED:20250602T213557Z
LAST-MODIFIED:20250603T191327Z
UID:10175118-1812030300-1812031200@spacecenter.org
SUMMARY:James Webb Live Presentation
DESCRIPTION:
URL:https://spacecenter.org/events-calendar-event/james-webb-live-presentation-2/2027-06-03/
LOCATION:Theater – Destiny
CATEGORIES:Live Presentation
END:VEVENT
BEGIN:VEVENT
DTSTART;TZID=America/Chicago:20270604T134500
DTEND;TZID=America/Chicago:20270604T140000
DTSTAMP:20260425T114648
CREATED:20250602T213557Z
LAST-MODIFIED:20250603T191327Z
UID:10175119-1812116700-1812117600@spacecenter.org
SUMMARY:James Webb Live Presentation
DESCRIPTION:
URL:https://spacecenter.org/events-calendar-event/james-webb-live-presentation-2/2027-06-04/
LOCATION:Theater – Destiny
CATEGORIES:Live Presentation
END:VEVENT
BEGIN:VEVENT
DTSTART;TZID=America/Chicago:20270605T134500
DTEND;TZID=America/Chicago:20270605T140000
DTSTAMP:20260425T114648
CREATED:20250602T213557Z
LAST-MODIFIED:20250603T191327Z
UID:10175120-1812203100-1812204000@spacecenter.org
SUMMARY:James Webb Live Presentation
DESCRIPTION:
URL:https://spacecenter.org/events-calendar-event/james-webb-live-presentation-2/2027-06-05/
LOCATION:Theater – Destiny
CATEGORIES:Live Presentation
END:VEVENT
BEGIN:VEVENT
DTSTART;TZID=America/Chicago:20270606T134500
DTEND;TZID=America/Chicago:20270606T140000
DTSTAMP:20260425T114648
CREATED:20250602T213557Z
LAST-MODIFIED:20250603T191327Z
UID:10175121-1812289500-1812290400@spacecenter.org
SUMMARY:James Webb Live Presentation
DESCRIPTION:
URL:https://spacecenter.org/events-calendar-event/james-webb-live-presentation-2/2027-06-06/
LOCATION:Theater – Destiny
CATEGORIES:Live Presentation
END:VEVENT
BEGIN:VEVENT
DTSTART;TZID=America/Chicago:20270607T134500
DTEND;TZID=America/Chicago:20270607T140000
DTSTAMP:20260425T114648
CREATED:20250602T213557Z
LAST-MODIFIED:20250603T191327Z
UID:10175122-1812375900-1812376800@spacecenter.org
SUMMARY:James Webb Live Presentation
DESCRIPTION:
URL:https://spacecenter.org/events-calendar-event/james-webb-live-presentation-2/2027-06-07/
LOCATION:Theater – Destiny
CATEGORIES:Live Presentation
END:VEVENT
BEGIN:VEVENT
DTSTART;TZID=America/Chicago:20270608T134500
DTEND;TZID=America/Chicago:20270608T140000
DTSTAMP:20260425T114648
CREATED:20250602T213557Z
LAST-MODIFIED:20250603T191327Z
UID:10175123-1812462300-1812463200@spacecenter.org
SUMMARY:James Webb Live Presentation
DESCRIPTION:
URL:https://spacecenter.org/events-calendar-event/james-webb-live-presentation-2/2027-06-08/
LOCATION:Theater – Destiny
CATEGORIES:Live Presentation
END:VEVENT
BEGIN:VEVENT
DTSTART;TZID=America/Chicago:20270609T134500
DTEND;TZID=America/Chicago:20270609T140000
DTSTAMP:20260425T114648
CREATED:20250602T213557Z
LAST-MODIFIED:20250603T191327Z
UID:10175124-1812548700-1812549600@spacecenter.org
SUMMARY:James Webb Live Presentation
DESCRIPTION:
URL:https://spacecenter.org/events-calendar-event/james-webb-live-presentation-2/2027-06-09/
LOCATION:Theater – Destiny
CATEGORIES:Live Presentation
END:VEVENT
BEGIN:VEVENT
DTSTART;TZID=America/Chicago:20270610T134500
DTEND;TZID=America/Chicago:20270610T140000
DTSTAMP:20260425T114648
CREATED:20250602T213557Z
LAST-MODIFIED:20250603T191327Z
UID:10175125-1812635100-1812636000@spacecenter.org
SUMMARY:James Webb Live Presentation
DESCRIPTION:
URL:https://spacecenter.org/events-calendar-event/james-webb-live-presentation-2/2027-06-10/
LOCATION:Theater – Destiny
CATEGORIES:Live Presentation
END:VEVENT
BEGIN:VEVENT
DTSTART;TZID=America/Chicago:20270611T134500
DTEND;TZID=America/Chicago:20270611T140000
DTSTAMP:20260425T114648
CREATED:20250602T213557Z
LAST-MODIFIED:20250603T191327Z
UID:10175126-1812721500-1812722400@spacecenter.org
SUMMARY:James Webb Live Presentation
DESCRIPTION:
URL:https://spacecenter.org/events-calendar-event/james-webb-live-presentation-2/2027-06-11/
LOCATION:Theater – Destiny
CATEGORIES:Live Presentation
END:VEVENT
BEGIN:VEVENT
DTSTART;TZID=America/Chicago:20270612T134500
DTEND;TZID=America/Chicago:20270612T140000
DTSTAMP:20260425T114648
CREATED:20250602T213557Z
LAST-MODIFIED:20250603T191327Z
UID:10175127-1812807900-1812808800@spacecenter.org
SUMMARY:James Webb Live Presentation
DESCRIPTION:
URL:https://spacecenter.org/events-calendar-event/james-webb-live-presentation-2/2027-06-12/
LOCATION:Theater – Destiny
CATEGORIES:Live Presentation
END:VEVENT
BEGIN:VEVENT
DTSTART;TZID=America/Chicago:20270613T134500
DTEND;TZID=America/Chicago:20270613T140000
DTSTAMP:20260425T114648
CREATED:20250602T213557Z
LAST-MODIFIED:20250603T191327Z
UID:10175128-1812894300-1812895200@spacecenter.org
SUMMARY:James Webb Live Presentation
DESCRIPTION:
URL:https://spacecenter.org/events-calendar-event/james-webb-live-presentation-2/2027-06-13/
LOCATION:Theater – Destiny
CATEGORIES:Live Presentation
END:VEVENT
BEGIN:VEVENT
DTSTART;TZID=America/Chicago:20270614T134500
DTEND;TZID=America/Chicago:20270614T140000
DTSTAMP:20260425T114648
CREATED:20250602T213557Z
LAST-MODIFIED:20250603T191327Z
UID:10175129-1812980700-1812981600@spacecenter.org
SUMMARY:James Webb Live Presentation
DESCRIPTION:
URL:https://spacecenter.org/events-calendar-event/james-webb-live-presentation-2/2027-06-14/
LOCATION:Theater – Destiny
CATEGORIES:Live Presentation
END:VEVENT
BEGIN:VEVENT
DTSTART;TZID=America/Chicago:20270615T134500
DTEND;TZID=America/Chicago:20270615T140000
DTSTAMP:20260425T114648
CREATED:20250602T213557Z
LAST-MODIFIED:20250603T191327Z
UID:10175130-1813067100-1813068000@spacecenter.org
SUMMARY:James Webb Live Presentation
DESCRIPTION:
URL:https://spacecenter.org/events-calendar-event/james-webb-live-presentation-2/2027-06-15/
LOCATION:Theater – Destiny
CATEGORIES:Live Presentation
END:VEVENT
BEGIN:VEVENT
DTSTART;TZID=America/Chicago:20270616T134500
DTEND;TZID=America/Chicago:20270616T140000
DTSTAMP:20260425T114648
CREATED:20250602T213557Z
LAST-MODIFIED:20250603T191327Z
UID:10175131-1813153500-1813154400@spacecenter.org
SUMMARY:James Webb Live Presentation
DESCRIPTION:
URL:https://spacecenter.org/events-calendar-event/james-webb-live-presentation-2/2027-06-16/
LOCATION:Theater – Destiny
CATEGORIES:Live Presentation
END:VEVENT
BEGIN:VEVENT
DTSTART;TZID=America/Chicago:20270617T134500
DTEND;TZID=America/Chicago:20270617T140000
DTSTAMP:20260425T114648
CREATED:20250602T213557Z
LAST-MODIFIED:20250603T191327Z
UID:10175132-1813239900-1813240800@spacecenter.org
SUMMARY:James Webb Live Presentation
DESCRIPTION:
URL:https://spacecenter.org/events-calendar-event/james-webb-live-presentation-2/2027-06-17/
LOCATION:Theater – Destiny
CATEGORIES:Live Presentation
END:VEVENT
BEGIN:VEVENT
DTSTART;TZID=America/Chicago:20270618T134500
DTEND;TZID=America/Chicago:20270618T140000
DTSTAMP:20260425T114648
CREATED:20250602T213557Z
LAST-MODIFIED:20250603T191327Z
UID:10175133-1813326300-1813327200@spacecenter.org
SUMMARY:James Webb Live Presentation
DESCRIPTION:
URL:https://spacecenter.org/events-calendar-event/james-webb-live-presentation-2/2027-06-18/
LOCATION:Theater – Destiny
CATEGORIES:Live Presentation
END:VEVENT
BEGIN:VEVENT
DTSTART;TZID=America/Chicago:20270619T134500
DTEND;TZID=America/Chicago:20270619T140000
DTSTAMP:20260425T114648
CREATED:20250602T213557Z
LAST-MODIFIED:20250603T191327Z
UID:10175134-1813412700-1813413600@spacecenter.org
SUMMARY:James Webb Live Presentation
DESCRIPTION:
URL:https://spacecenter.org/events-calendar-event/james-webb-live-presentation-2/2027-06-19/
LOCATION:Theater – Destiny
CATEGORIES:Live Presentation
END:VEVENT
BEGIN:VEVENT
DTSTART;TZID=America/Chicago:20270620T134500
DTEND;TZID=America/Chicago:20270620T140000
DTSTAMP:20260425T114648
CREATED:20250602T213557Z
LAST-MODIFIED:20250603T191327Z
UID:10175135-1813499100-1813500000@spacecenter.org
SUMMARY:James Webb Live Presentation
DESCRIPTION:
URL:https://spacecenter.org/events-calendar-event/james-webb-live-presentation-2/2027-06-20/
LOCATION:Theater – Destiny
CATEGORIES:Live Presentation
END:VEVENT
BEGIN:VEVENT
DTSTART;TZID=America/Chicago:20270621T134500
DTEND;TZID=America/Chicago:20270621T140000
DTSTAMP:20260425T114648
CREATED:20250602T213557Z
LAST-MODIFIED:20250603T191327Z
UID:10175136-1813585500-1813586400@spacecenter.org
SUMMARY:James Webb Live Presentation
DESCRIPTION:
URL:https://spacecenter.org/events-calendar-event/james-webb-live-presentation-2/2027-06-21/
LOCATION:Theater – Destiny
CATEGORIES:Live Presentation
END:VEVENT
BEGIN:VEVENT
DTSTART;TZID=America/Chicago:20270622T134500
DTEND;TZID=America/Chicago:20270622T140000
DTSTAMP:20260425T114648
CREATED:20250602T213557Z
LAST-MODIFIED:20250603T191327Z
UID:10175137-1813671900-1813672800@spacecenter.org
SUMMARY:James Webb Live Presentation
DESCRIPTION:
URL:https://spacecenter.org/events-calendar-event/james-webb-live-presentation-2/2027-06-22/
LOCATION:Theater – Destiny
CATEGORIES:Live Presentation
END:VEVENT
BEGIN:VEVENT
DTSTART;TZID=America/Chicago:20270623T134500
DTEND;TZID=America/Chicago:20270623T140000
DTSTAMP:20260425T114648
CREATED:20250602T213557Z
LAST-MODIFIED:20250603T191327Z
UID:10175138-1813758300-1813759200@spacecenter.org
SUMMARY:James Webb Live Presentation
DESCRIPTION:
URL:https://spacecenter.org/events-calendar-event/james-webb-live-presentation-2/2027-06-23/
LOCATION:Theater – Destiny
CATEGORIES:Live Presentation
END:VEVENT
BEGIN:VEVENT
DTSTART;TZID=America/Chicago:20270624T134500
DTEND;TZID=America/Chicago:20270624T140000
DTSTAMP:20260425T114648
CREATED:20250602T213557Z
LAST-MODIFIED:20250603T191327Z
UID:10175139-1813844700-1813845600@spacecenter.org
SUMMARY:James Webb Live Presentation
DESCRIPTION:
URL:https://spacecenter.org/events-calendar-event/james-webb-live-presentation-2/2027-06-24/
LOCATION:Theater – Destiny
CATEGORIES:Live Presentation
END:VEVENT
BEGIN:VEVENT
DTSTART;TZID=America/Chicago:20270625T134500
DTEND;TZID=America/Chicago:20270625T140000
DTSTAMP:20260425T114648
CREATED:20250602T213557Z
LAST-MODIFIED:20250603T191327Z
UID:10175140-1813931100-1813932000@spacecenter.org
SUMMARY:James Webb Live Presentation
DESCRIPTION:
URL:https://spacecenter.org/events-calendar-event/james-webb-live-presentation-2/2027-06-25/
LOCATION:Theater – Destiny
CATEGORIES:Live Presentation
END:VEVENT
BEGIN:VEVENT
DTSTART;TZID=America/Chicago:20270626T134500
DTEND;TZID=America/Chicago:20270626T140000
DTSTAMP:20260425T114648
CREATED:20250602T213557Z
LAST-MODIFIED:20250603T191327Z
UID:10175141-1814017500-1814018400@spacecenter.org
SUMMARY:James Webb Live Presentation
DESCRIPTION:
URL:https://spacecenter.org/events-calendar-event/james-webb-live-presentation-2/2027-06-26/
LOCATION:Theater – Destiny
CATEGORIES:Live Presentation
END:VEVENT
BEGIN:VEVENT
DTSTART;TZID=America/Chicago:20270627T134500
DTEND;TZID=America/Chicago:20270627T140000
DTSTAMP:20260425T114648
CREATED:20250602T213557Z
LAST-MODIFIED:20250603T191327Z
UID:10175142-1814103900-1814104800@spacecenter.org
SUMMARY:James Webb Live Presentation
DESCRIPTION:
URL:https://spacecenter.org/events-calendar-event/james-webb-live-presentation-2/2027-06-27/
LOCATION:Theater – Destiny
CATEGORIES:Live Presentation
END:VEVENT
BEGIN:VEVENT
DTSTART;TZID=America/Chicago:20270628T134500
DTEND;TZID=America/Chicago:20270628T140000
DTSTAMP:20260425T114648
CREATED:20250602T213557Z
LAST-MODIFIED:20250603T191327Z
UID:10175143-1814190300-1814191200@spacecenter.org
SUMMARY:James Webb Live Presentation
DESCRIPTION:
URL:https://spacecenter.org/events-calendar-event/james-webb-live-presentation-2/2027-06-28/
LOCATION:Theater – Destiny
CATEGORIES:Live Presentation
END:VEVENT
END:VCALENDAR