BEGIN:VCALENDAR
VERSION:2.0
PRODID:-//Space Center Houston - ECPv6.15.15//NONSGML v1.0//EN
CALSCALE:GREGORIAN
METHOD:PUBLISH
X-WR-CALNAME:Space Center Houston
X-ORIGINAL-URL:https://spacecenter.org
X-WR-CALDESC:Events for Space Center Houston
REFRESH-INTERVAL;VALUE=DURATION:PT1H
X-Robots-Tag:noindex
X-PUBLISHED-TTL:PT1H
BEGIN:VTIMEZONE
TZID:America/Chicago
BEGIN:DAYLIGHT
TZOFFSETFROM:-0600
TZOFFSETTO:-0500
TZNAME:CDT
DTSTART:20260308T080000
END:DAYLIGHT
BEGIN:STANDARD
TZOFFSETFROM:-0500
TZOFFSETTO:-0600
TZNAME:CST
DTSTART:20261101T070000
END:STANDARD
BEGIN:DAYLIGHT
TZOFFSETFROM:-0600
TZOFFSETTO:-0500
TZNAME:CDT
DTSTART:20270314T080000
END:DAYLIGHT
BEGIN:STANDARD
TZOFFSETFROM:-0500
TZOFFSETTO:-0600
TZNAME:CST
DTSTART:20271107T070000
END:STANDARD
BEGIN:DAYLIGHT
TZOFFSETFROM:-0600
TZOFFSETTO:-0500
TZNAME:CDT
DTSTART:20280312T080000
END:DAYLIGHT
BEGIN:STANDARD
TZOFFSETFROM:-0500
TZOFFSETTO:-0600
TZNAME:CST
DTSTART:20281105T070000
END:STANDARD
END:VTIMEZONE
BEGIN:VEVENT
DTSTART;TZID=America/Chicago:20270528T144500
DTEND;TZID=America/Chicago:20270528T150000
DTSTAMP:20260423T050306
CREATED:20250602T213716Z
LAST-MODIFIED:20250603T191759Z
UID:10189736-1811515500-1811516400@spacecenter.org
SUMMARY:James Webb Live Presentation
DESCRIPTION:
URL:https://spacecenter.org/events-calendar-event/james-webb-live-presentation-3/2027-05-28/
LOCATION:Theater – Destiny
CATEGORIES:Live Presentation
END:VEVENT
BEGIN:VEVENT
DTSTART;TZID=America/Chicago:20270529T144500
DTEND;TZID=America/Chicago:20270529T150000
DTSTAMP:20260423T050306
CREATED:20250602T213716Z
LAST-MODIFIED:20250603T191759Z
UID:10189737-1811601900-1811602800@spacecenter.org
SUMMARY:James Webb Live Presentation
DESCRIPTION:
URL:https://spacecenter.org/events-calendar-event/james-webb-live-presentation-3/2027-05-29/
LOCATION:Theater – Destiny
CATEGORIES:Live Presentation
END:VEVENT
BEGIN:VEVENT
DTSTART;TZID=America/Chicago:20270530T144500
DTEND;TZID=America/Chicago:20270530T150000
DTSTAMP:20260423T050306
CREATED:20250602T213716Z
LAST-MODIFIED:20250603T191759Z
UID:10189738-1811688300-1811689200@spacecenter.org
SUMMARY:James Webb Live Presentation
DESCRIPTION:
URL:https://spacecenter.org/events-calendar-event/james-webb-live-presentation-3/2027-05-30/
LOCATION:Theater – Destiny
CATEGORIES:Live Presentation
END:VEVENT
BEGIN:VEVENT
DTSTART;TZID=America/Chicago:20270531T144500
DTEND;TZID=America/Chicago:20270531T150000
DTSTAMP:20260423T050306
CREATED:20250602T213716Z
LAST-MODIFIED:20250603T191759Z
UID:10189739-1811774700-1811775600@spacecenter.org
SUMMARY:James Webb Live Presentation
DESCRIPTION:
URL:https://spacecenter.org/events-calendar-event/james-webb-live-presentation-3/2027-05-31/
LOCATION:Theater – Destiny
CATEGORIES:Live Presentation
END:VEVENT
BEGIN:VEVENT
DTSTART;TZID=America/Chicago:20270601T144500
DTEND;TZID=America/Chicago:20270601T150000
DTSTAMP:20260423T050306
CREATED:20250602T213716Z
LAST-MODIFIED:20250603T191759Z
UID:10189740-1811861100-1811862000@spacecenter.org
SUMMARY:James Webb Live Presentation
DESCRIPTION:
URL:https://spacecenter.org/events-calendar-event/james-webb-live-presentation-3/2027-06-01/
LOCATION:Theater – Destiny
CATEGORIES:Live Presentation
END:VEVENT
BEGIN:VEVENT
DTSTART;TZID=America/Chicago:20270602T144500
DTEND;TZID=America/Chicago:20270602T150000
DTSTAMP:20260423T050306
CREATED:20250602T213716Z
LAST-MODIFIED:20250603T191759Z
UID:10189741-1811947500-1811948400@spacecenter.org
SUMMARY:James Webb Live Presentation
DESCRIPTION:
URL:https://spacecenter.org/events-calendar-event/james-webb-live-presentation-3/2027-06-02/
LOCATION:Theater – Destiny
CATEGORIES:Live Presentation
END:VEVENT
BEGIN:VEVENT
DTSTART;TZID=America/Chicago:20270603T144500
DTEND;TZID=America/Chicago:20270603T150000
DTSTAMP:20260423T050306
CREATED:20250602T213716Z
LAST-MODIFIED:20250603T191759Z
UID:10189742-1812033900-1812034800@spacecenter.org
SUMMARY:James Webb Live Presentation
DESCRIPTION:
URL:https://spacecenter.org/events-calendar-event/james-webb-live-presentation-3/2027-06-03/
LOCATION:Theater – Destiny
CATEGORIES:Live Presentation
END:VEVENT
BEGIN:VEVENT
DTSTART;TZID=America/Chicago:20270604T144500
DTEND;TZID=America/Chicago:20270604T150000
DTSTAMP:20260423T050306
CREATED:20250602T213716Z
LAST-MODIFIED:20250603T191759Z
UID:10189743-1812120300-1812121200@spacecenter.org
SUMMARY:James Webb Live Presentation
DESCRIPTION:
URL:https://spacecenter.org/events-calendar-event/james-webb-live-presentation-3/2027-06-04/
LOCATION:Theater – Destiny
CATEGORIES:Live Presentation
END:VEVENT
BEGIN:VEVENT
DTSTART;TZID=America/Chicago:20270605T144500
DTEND;TZID=America/Chicago:20270605T150000
DTSTAMP:20260423T050306
CREATED:20250602T213716Z
LAST-MODIFIED:20250603T191759Z
UID:10189744-1812206700-1812207600@spacecenter.org
SUMMARY:James Webb Live Presentation
DESCRIPTION:
URL:https://spacecenter.org/events-calendar-event/james-webb-live-presentation-3/2027-06-05/
LOCATION:Theater – Destiny
CATEGORIES:Live Presentation
END:VEVENT
BEGIN:VEVENT
DTSTART;TZID=America/Chicago:20270606T144500
DTEND;TZID=America/Chicago:20270606T150000
DTSTAMP:20260423T050306
CREATED:20250602T213716Z
LAST-MODIFIED:20250603T191759Z
UID:10189745-1812293100-1812294000@spacecenter.org
SUMMARY:James Webb Live Presentation
DESCRIPTION:
URL:https://spacecenter.org/events-calendar-event/james-webb-live-presentation-3/2027-06-06/
LOCATION:Theater – Destiny
CATEGORIES:Live Presentation
END:VEVENT
BEGIN:VEVENT
DTSTART;TZID=America/Chicago:20270607T144500
DTEND;TZID=America/Chicago:20270607T150000
DTSTAMP:20260423T050306
CREATED:20250602T213716Z
LAST-MODIFIED:20250603T191759Z
UID:10189746-1812379500-1812380400@spacecenter.org
SUMMARY:James Webb Live Presentation
DESCRIPTION:
URL:https://spacecenter.org/events-calendar-event/james-webb-live-presentation-3/2027-06-07/
LOCATION:Theater – Destiny
CATEGORIES:Live Presentation
END:VEVENT
BEGIN:VEVENT
DTSTART;TZID=America/Chicago:20270608T144500
DTEND;TZID=America/Chicago:20270608T150000
DTSTAMP:20260423T050306
CREATED:20250602T213716Z
LAST-MODIFIED:20250603T191759Z
UID:10189747-1812465900-1812466800@spacecenter.org
SUMMARY:James Webb Live Presentation
DESCRIPTION:
URL:https://spacecenter.org/events-calendar-event/james-webb-live-presentation-3/2027-06-08/
LOCATION:Theater – Destiny
CATEGORIES:Live Presentation
END:VEVENT
BEGIN:VEVENT
DTSTART;TZID=America/Chicago:20270609T144500
DTEND;TZID=America/Chicago:20270609T150000
DTSTAMP:20260423T050306
CREATED:20250602T213716Z
LAST-MODIFIED:20250603T191759Z
UID:10189748-1812552300-1812553200@spacecenter.org
SUMMARY:James Webb Live Presentation
DESCRIPTION:
URL:https://spacecenter.org/events-calendar-event/james-webb-live-presentation-3/2027-06-09/
LOCATION:Theater – Destiny
CATEGORIES:Live Presentation
END:VEVENT
BEGIN:VEVENT
DTSTART;TZID=America/Chicago:20270610T144500
DTEND;TZID=America/Chicago:20270610T150000
DTSTAMP:20260423T050306
CREATED:20250602T213716Z
LAST-MODIFIED:20250603T191759Z
UID:10189749-1812638700-1812639600@spacecenter.org
SUMMARY:James Webb Live Presentation
DESCRIPTION:
URL:https://spacecenter.org/events-calendar-event/james-webb-live-presentation-3/2027-06-10/
LOCATION:Theater – Destiny
CATEGORIES:Live Presentation
END:VEVENT
BEGIN:VEVENT
DTSTART;TZID=America/Chicago:20270611T144500
DTEND;TZID=America/Chicago:20270611T150000
DTSTAMP:20260423T050306
CREATED:20250602T213716Z
LAST-MODIFIED:20250603T191759Z
UID:10189750-1812725100-1812726000@spacecenter.org
SUMMARY:James Webb Live Presentation
DESCRIPTION:
URL:https://spacecenter.org/events-calendar-event/james-webb-live-presentation-3/2027-06-11/
LOCATION:Theater – Destiny
CATEGORIES:Live Presentation
END:VEVENT
BEGIN:VEVENT
DTSTART;TZID=America/Chicago:20270612T144500
DTEND;TZID=America/Chicago:20270612T150000
DTSTAMP:20260423T050306
CREATED:20250602T213716Z
LAST-MODIFIED:20250603T191759Z
UID:10189751-1812811500-1812812400@spacecenter.org
SUMMARY:James Webb Live Presentation
DESCRIPTION:
URL:https://spacecenter.org/events-calendar-event/james-webb-live-presentation-3/2027-06-12/
LOCATION:Theater – Destiny
CATEGORIES:Live Presentation
END:VEVENT
BEGIN:VEVENT
DTSTART;TZID=America/Chicago:20270613T144500
DTEND;TZID=America/Chicago:20270613T150000
DTSTAMP:20260423T050306
CREATED:20250602T213716Z
LAST-MODIFIED:20250603T191759Z
UID:10189752-1812897900-1812898800@spacecenter.org
SUMMARY:James Webb Live Presentation
DESCRIPTION:
URL:https://spacecenter.org/events-calendar-event/james-webb-live-presentation-3/2027-06-13/
LOCATION:Theater – Destiny
CATEGORIES:Live Presentation
END:VEVENT
BEGIN:VEVENT
DTSTART;TZID=America/Chicago:20270614T144500
DTEND;TZID=America/Chicago:20270614T150000
DTSTAMP:20260423T050306
CREATED:20250602T213716Z
LAST-MODIFIED:20250603T191759Z
UID:10189753-1812984300-1812985200@spacecenter.org
SUMMARY:James Webb Live Presentation
DESCRIPTION:
URL:https://spacecenter.org/events-calendar-event/james-webb-live-presentation-3/2027-06-14/
LOCATION:Theater – Destiny
CATEGORIES:Live Presentation
END:VEVENT
BEGIN:VEVENT
DTSTART;TZID=America/Chicago:20270615T144500
DTEND;TZID=America/Chicago:20270615T150000
DTSTAMP:20260423T050306
CREATED:20250602T213716Z
LAST-MODIFIED:20250603T191759Z
UID:10189754-1813070700-1813071600@spacecenter.org
SUMMARY:James Webb Live Presentation
DESCRIPTION:
URL:https://spacecenter.org/events-calendar-event/james-webb-live-presentation-3/2027-06-15/
LOCATION:Theater – Destiny
CATEGORIES:Live Presentation
END:VEVENT
BEGIN:VEVENT
DTSTART;TZID=America/Chicago:20270616T144500
DTEND;TZID=America/Chicago:20270616T150000
DTSTAMP:20260423T050306
CREATED:20250602T213716Z
LAST-MODIFIED:20250603T191759Z
UID:10189755-1813157100-1813158000@spacecenter.org
SUMMARY:James Webb Live Presentation
DESCRIPTION:
URL:https://spacecenter.org/events-calendar-event/james-webb-live-presentation-3/2027-06-16/
LOCATION:Theater – Destiny
CATEGORIES:Live Presentation
END:VEVENT
BEGIN:VEVENT
DTSTART;TZID=America/Chicago:20270617T144500
DTEND;TZID=America/Chicago:20270617T150000
DTSTAMP:20260423T050306
CREATED:20250602T213716Z
LAST-MODIFIED:20250603T191759Z
UID:10189756-1813243500-1813244400@spacecenter.org
SUMMARY:James Webb Live Presentation
DESCRIPTION:
URL:https://spacecenter.org/events-calendar-event/james-webb-live-presentation-3/2027-06-17/
LOCATION:Theater – Destiny
CATEGORIES:Live Presentation
END:VEVENT
BEGIN:VEVENT
DTSTART;TZID=America/Chicago:20270618T144500
DTEND;TZID=America/Chicago:20270618T150000
DTSTAMP:20260423T050306
CREATED:20250602T213716Z
LAST-MODIFIED:20250603T191759Z
UID:10189757-1813329900-1813330800@spacecenter.org
SUMMARY:James Webb Live Presentation
DESCRIPTION:
URL:https://spacecenter.org/events-calendar-event/james-webb-live-presentation-3/2027-06-18/
LOCATION:Theater – Destiny
CATEGORIES:Live Presentation
END:VEVENT
BEGIN:VEVENT
DTSTART;TZID=America/Chicago:20270619T144500
DTEND;TZID=America/Chicago:20270619T150000
DTSTAMP:20260423T050306
CREATED:20250602T213716Z
LAST-MODIFIED:20250603T191759Z
UID:10189758-1813416300-1813417200@spacecenter.org
SUMMARY:James Webb Live Presentation
DESCRIPTION:
URL:https://spacecenter.org/events-calendar-event/james-webb-live-presentation-3/2027-06-19/
LOCATION:Theater – Destiny
CATEGORIES:Live Presentation
END:VEVENT
BEGIN:VEVENT
DTSTART;TZID=America/Chicago:20270620T144500
DTEND;TZID=America/Chicago:20270620T150000
DTSTAMP:20260423T050306
CREATED:20250602T213716Z
LAST-MODIFIED:20250603T191759Z
UID:10189759-1813502700-1813503600@spacecenter.org
SUMMARY:James Webb Live Presentation
DESCRIPTION:
URL:https://spacecenter.org/events-calendar-event/james-webb-live-presentation-3/2027-06-20/
LOCATION:Theater – Destiny
CATEGORIES:Live Presentation
END:VEVENT
BEGIN:VEVENT
DTSTART;TZID=America/Chicago:20270621T144500
DTEND;TZID=America/Chicago:20270621T150000
DTSTAMP:20260423T050306
CREATED:20250602T213716Z
LAST-MODIFIED:20250603T191759Z
UID:10189760-1813589100-1813590000@spacecenter.org
SUMMARY:James Webb Live Presentation
DESCRIPTION:
URL:https://spacecenter.org/events-calendar-event/james-webb-live-presentation-3/2027-06-21/
LOCATION:Theater – Destiny
CATEGORIES:Live Presentation
END:VEVENT
BEGIN:VEVENT
DTSTART;TZID=America/Chicago:20270622T144500
DTEND;TZID=America/Chicago:20270622T150000
DTSTAMP:20260423T050306
CREATED:20250602T213716Z
LAST-MODIFIED:20250603T191759Z
UID:10189761-1813675500-1813676400@spacecenter.org
SUMMARY:James Webb Live Presentation
DESCRIPTION:
URL:https://spacecenter.org/events-calendar-event/james-webb-live-presentation-3/2027-06-22/
LOCATION:Theater – Destiny
CATEGORIES:Live Presentation
END:VEVENT
BEGIN:VEVENT
DTSTART;TZID=America/Chicago:20270623T144500
DTEND;TZID=America/Chicago:20270623T150000
DTSTAMP:20260423T050306
CREATED:20250602T213716Z
LAST-MODIFIED:20250603T191759Z
UID:10189762-1813761900-1813762800@spacecenter.org
SUMMARY:James Webb Live Presentation
DESCRIPTION:
URL:https://spacecenter.org/events-calendar-event/james-webb-live-presentation-3/2027-06-23/
LOCATION:Theater – Destiny
CATEGORIES:Live Presentation
END:VEVENT
BEGIN:VEVENT
DTSTART;TZID=America/Chicago:20270624T144500
DTEND;TZID=America/Chicago:20270624T150000
DTSTAMP:20260423T050306
CREATED:20250602T213716Z
LAST-MODIFIED:20250603T191759Z
UID:10189763-1813848300-1813849200@spacecenter.org
SUMMARY:James Webb Live Presentation
DESCRIPTION:
URL:https://spacecenter.org/events-calendar-event/james-webb-live-presentation-3/2027-06-24/
LOCATION:Theater – Destiny
CATEGORIES:Live Presentation
END:VEVENT
BEGIN:VEVENT
DTSTART;TZID=America/Chicago:20270625T144500
DTEND;TZID=America/Chicago:20270625T150000
DTSTAMP:20260423T050306
CREATED:20250602T213716Z
LAST-MODIFIED:20250603T191759Z
UID:10189764-1813934700-1813935600@spacecenter.org
SUMMARY:James Webb Live Presentation
DESCRIPTION:
URL:https://spacecenter.org/events-calendar-event/james-webb-live-presentation-3/2027-06-25/
LOCATION:Theater – Destiny
CATEGORIES:Live Presentation
END:VEVENT
BEGIN:VEVENT
DTSTART;TZID=America/Chicago:20270626T144500
DTEND;TZID=America/Chicago:20270626T150000
DTSTAMP:20260423T050306
CREATED:20250602T213716Z
LAST-MODIFIED:20250603T191759Z
UID:10189765-1814021100-1814022000@spacecenter.org
SUMMARY:James Webb Live Presentation
DESCRIPTION:
URL:https://spacecenter.org/events-calendar-event/james-webb-live-presentation-3/2027-06-26/
LOCATION:Theater – Destiny
CATEGORIES:Live Presentation
END:VEVENT
END:VCALENDAR