BEGIN:VCALENDAR
VERSION:2.0
PRODID:-//Space Center Houston - ECPv6.15.15//NONSGML v1.0//EN
CALSCALE:GREGORIAN
METHOD:PUBLISH
X-ORIGINAL-URL:https://spacecenter.org
X-WR-CALDESC:Events for Space Center Houston
REFRESH-INTERVAL;VALUE=DURATION:PT1H
X-Robots-Tag:noindex
X-PUBLISHED-TTL:PT1H
BEGIN:VTIMEZONE
TZID:America/Chicago
BEGIN:DAYLIGHT
TZOFFSETFROM:-0600
TZOFFSETTO:-0500
TZNAME:CDT
DTSTART:20260308T080000
END:DAYLIGHT
BEGIN:STANDARD
TZOFFSETFROM:-0500
TZOFFSETTO:-0600
TZNAME:CST
DTSTART:20261101T070000
END:STANDARD
BEGIN:DAYLIGHT
TZOFFSETFROM:-0600
TZOFFSETTO:-0500
TZNAME:CDT
DTSTART:20270314T080000
END:DAYLIGHT
BEGIN:STANDARD
TZOFFSETFROM:-0500
TZOFFSETTO:-0600
TZNAME:CST
DTSTART:20271107T070000
END:STANDARD
BEGIN:DAYLIGHT
TZOFFSETFROM:-0600
TZOFFSETTO:-0500
TZNAME:CDT
DTSTART:20280312T080000
END:DAYLIGHT
BEGIN:STANDARD
TZOFFSETFROM:-0500
TZOFFSETTO:-0600
TZNAME:CST
DTSTART:20281105T070000
END:STANDARD
END:VTIMEZONE
BEGIN:VEVENT
DTSTART;TZID=America/Chicago:20270411T121500
DTEND;TZID=America/Chicago:20270411T123000
DTSTAMP:20260425T174748
CREATED:20250602T213059Z
LAST-MODIFIED:20250603T190345Z
UID:10142161-1807445700-1807446600@spacecenter.org
SUMMARY:Story Corner Live Presentation
DESCRIPTION:
URL:https://spacecenter.org/events-calendar-event/story-corner-live-presentation-2/2027-04-11/
LOCATION:Theater – Artemis
CATEGORIES:Live Presentation
END:VEVENT
BEGIN:VEVENT
DTSTART;TZID=America/Chicago:20270412T121500
DTEND;TZID=America/Chicago:20270412T123000
DTSTAMP:20260425T174748
CREATED:20250602T213059Z
LAST-MODIFIED:20250603T190345Z
UID:10142162-1807532100-1807533000@spacecenter.org
SUMMARY:Story Corner Live Presentation
DESCRIPTION:
URL:https://spacecenter.org/events-calendar-event/story-corner-live-presentation-2/2027-04-12/
LOCATION:Theater – Artemis
CATEGORIES:Live Presentation
END:VEVENT
BEGIN:VEVENT
DTSTART;TZID=America/Chicago:20270413T121500
DTEND;TZID=America/Chicago:20270413T123000
DTSTAMP:20260425T174748
CREATED:20250602T213059Z
LAST-MODIFIED:20250603T190345Z
UID:10142163-1807618500-1807619400@spacecenter.org
SUMMARY:Story Corner Live Presentation
DESCRIPTION:
URL:https://spacecenter.org/events-calendar-event/story-corner-live-presentation-2/2027-04-13/
LOCATION:Theater – Artemis
CATEGORIES:Live Presentation
END:VEVENT
BEGIN:VEVENT
DTSTART;TZID=America/Chicago:20270414T121500
DTEND;TZID=America/Chicago:20270414T123000
DTSTAMP:20260425T174748
CREATED:20250602T213059Z
LAST-MODIFIED:20250603T190345Z
UID:10142164-1807704900-1807705800@spacecenter.org
SUMMARY:Story Corner Live Presentation
DESCRIPTION:
URL:https://spacecenter.org/events-calendar-event/story-corner-live-presentation-2/2027-04-14/
LOCATION:Theater – Artemis
CATEGORIES:Live Presentation
END:VEVENT
BEGIN:VEVENT
DTSTART;TZID=America/Chicago:20270415T121500
DTEND;TZID=America/Chicago:20270415T123000
DTSTAMP:20260425T174748
CREATED:20250602T213059Z
LAST-MODIFIED:20250603T190345Z
UID:10142165-1807791300-1807792200@spacecenter.org
SUMMARY:Story Corner Live Presentation
DESCRIPTION:
URL:https://spacecenter.org/events-calendar-event/story-corner-live-presentation-2/2027-04-15/
LOCATION:Theater – Artemis
CATEGORIES:Live Presentation
END:VEVENT
BEGIN:VEVENT
DTSTART;TZID=America/Chicago:20270416T121500
DTEND;TZID=America/Chicago:20270416T123000
DTSTAMP:20260425T174748
CREATED:20250602T213059Z
LAST-MODIFIED:20250603T190345Z
UID:10142166-1807877700-1807878600@spacecenter.org
SUMMARY:Story Corner Live Presentation
DESCRIPTION:
URL:https://spacecenter.org/events-calendar-event/story-corner-live-presentation-2/2027-04-16/
LOCATION:Theater – Artemis
CATEGORIES:Live Presentation
END:VEVENT
BEGIN:VEVENT
DTSTART;TZID=America/Chicago:20270417T121500
DTEND;TZID=America/Chicago:20270417T123000
DTSTAMP:20260425T174748
CREATED:20250602T213059Z
LAST-MODIFIED:20250603T190345Z
UID:10142167-1807964100-1807965000@spacecenter.org
SUMMARY:Story Corner Live Presentation
DESCRIPTION:
URL:https://spacecenter.org/events-calendar-event/story-corner-live-presentation-2/2027-04-17/
LOCATION:Theater – Artemis
CATEGORIES:Live Presentation
END:VEVENT
BEGIN:VEVENT
DTSTART;TZID=America/Chicago:20270418T121500
DTEND;TZID=America/Chicago:20270418T123000
DTSTAMP:20260425T174748
CREATED:20250602T213059Z
LAST-MODIFIED:20250603T190345Z
UID:10142168-1808050500-1808051400@spacecenter.org
SUMMARY:Story Corner Live Presentation
DESCRIPTION:
URL:https://spacecenter.org/events-calendar-event/story-corner-live-presentation-2/2027-04-18/
LOCATION:Theater – Artemis
CATEGORIES:Live Presentation
END:VEVENT
BEGIN:VEVENT
DTSTART;TZID=America/Chicago:20270419T121500
DTEND;TZID=America/Chicago:20270419T123000
DTSTAMP:20260425T174748
CREATED:20250602T213059Z
LAST-MODIFIED:20250603T190345Z
UID:10142169-1808136900-1808137800@spacecenter.org
SUMMARY:Story Corner Live Presentation
DESCRIPTION:
URL:https://spacecenter.org/events-calendar-event/story-corner-live-presentation-2/2027-04-19/
LOCATION:Theater – Artemis
CATEGORIES:Live Presentation
END:VEVENT
BEGIN:VEVENT
DTSTART;TZID=America/Chicago:20270420T121500
DTEND;TZID=America/Chicago:20270420T123000
DTSTAMP:20260425T174748
CREATED:20250602T213059Z
LAST-MODIFIED:20250603T190345Z
UID:10142170-1808223300-1808224200@spacecenter.org
SUMMARY:Story Corner Live Presentation
DESCRIPTION:
URL:https://spacecenter.org/events-calendar-event/story-corner-live-presentation-2/2027-04-20/
LOCATION:Theater – Artemis
CATEGORIES:Live Presentation
END:VEVENT
BEGIN:VEVENT
DTSTART;TZID=America/Chicago:20270421T121500
DTEND;TZID=America/Chicago:20270421T123000
DTSTAMP:20260425T174748
CREATED:20250602T213059Z
LAST-MODIFIED:20250603T190345Z
UID:10142171-1808309700-1808310600@spacecenter.org
SUMMARY:Story Corner Live Presentation
DESCRIPTION:
URL:https://spacecenter.org/events-calendar-event/story-corner-live-presentation-2/2027-04-21/
LOCATION:Theater – Artemis
CATEGORIES:Live Presentation
END:VEVENT
BEGIN:VEVENT
DTSTART;TZID=America/Chicago:20270422T121500
DTEND;TZID=America/Chicago:20270422T123000
DTSTAMP:20260425T174748
CREATED:20250602T213059Z
LAST-MODIFIED:20250603T190345Z
UID:10142172-1808396100-1808397000@spacecenter.org
SUMMARY:Story Corner Live Presentation
DESCRIPTION:
URL:https://spacecenter.org/events-calendar-event/story-corner-live-presentation-2/2027-04-22/
LOCATION:Theater – Artemis
CATEGORIES:Live Presentation
END:VEVENT
BEGIN:VEVENT
DTSTART;TZID=America/Chicago:20270423T121500
DTEND;TZID=America/Chicago:20270423T123000
DTSTAMP:20260425T174748
CREATED:20250602T213059Z
LAST-MODIFIED:20250603T190345Z
UID:10142173-1808482500-1808483400@spacecenter.org
SUMMARY:Story Corner Live Presentation
DESCRIPTION:
URL:https://spacecenter.org/events-calendar-event/story-corner-live-presentation-2/2027-04-23/
LOCATION:Theater – Artemis
CATEGORIES:Live Presentation
END:VEVENT
BEGIN:VEVENT
DTSTART;TZID=America/Chicago:20270424T121500
DTEND;TZID=America/Chicago:20270424T123000
DTSTAMP:20260425T174748
CREATED:20250602T213059Z
LAST-MODIFIED:20250603T190345Z
UID:10142174-1808568900-1808569800@spacecenter.org
SUMMARY:Story Corner Live Presentation
DESCRIPTION:
URL:https://spacecenter.org/events-calendar-event/story-corner-live-presentation-2/2027-04-24/
LOCATION:Theater – Artemis
CATEGORIES:Live Presentation
END:VEVENT
BEGIN:VEVENT
DTSTART;TZID=America/Chicago:20270425T121500
DTEND;TZID=America/Chicago:20270425T123000
DTSTAMP:20260425T174748
CREATED:20250602T213059Z
LAST-MODIFIED:20250603T190345Z
UID:10142175-1808655300-1808656200@spacecenter.org
SUMMARY:Story Corner Live Presentation
DESCRIPTION:
URL:https://spacecenter.org/events-calendar-event/story-corner-live-presentation-2/2027-04-25/
LOCATION:Theater – Artemis
CATEGORIES:Live Presentation
END:VEVENT
BEGIN:VEVENT
DTSTART;TZID=America/Chicago:20270426T121500
DTEND;TZID=America/Chicago:20270426T123000
DTSTAMP:20260425T174748
CREATED:20250602T213059Z
LAST-MODIFIED:20250603T190345Z
UID:10142176-1808741700-1808742600@spacecenter.org
SUMMARY:Story Corner Live Presentation
DESCRIPTION:
URL:https://spacecenter.org/events-calendar-event/story-corner-live-presentation-2/2027-04-26/
LOCATION:Theater – Artemis
CATEGORIES:Live Presentation
END:VEVENT
BEGIN:VEVENT
DTSTART;TZID=America/Chicago:20270427T121500
DTEND;TZID=America/Chicago:20270427T123000
DTSTAMP:20260425T174748
CREATED:20250602T213059Z
LAST-MODIFIED:20250603T190345Z
UID:10142177-1808828100-1808829000@spacecenter.org
SUMMARY:Story Corner Live Presentation
DESCRIPTION:
URL:https://spacecenter.org/events-calendar-event/story-corner-live-presentation-2/2027-04-27/
LOCATION:Theater – Artemis
CATEGORIES:Live Presentation
END:VEVENT
BEGIN:VEVENT
DTSTART;TZID=America/Chicago:20270428T121500
DTEND;TZID=America/Chicago:20270428T123000
DTSTAMP:20260425T174748
CREATED:20250602T213059Z
LAST-MODIFIED:20250603T190345Z
UID:10142178-1808914500-1808915400@spacecenter.org
SUMMARY:Story Corner Live Presentation
DESCRIPTION:
URL:https://spacecenter.org/events-calendar-event/story-corner-live-presentation-2/2027-04-28/
LOCATION:Theater – Artemis
CATEGORIES:Live Presentation
END:VEVENT
BEGIN:VEVENT
DTSTART;TZID=America/Chicago:20270429T121500
DTEND;TZID=America/Chicago:20270429T123000
DTSTAMP:20260425T174748
CREATED:20250602T213059Z
LAST-MODIFIED:20250603T190345Z
UID:10142179-1809000900-1809001800@spacecenter.org
SUMMARY:Story Corner Live Presentation
DESCRIPTION:
URL:https://spacecenter.org/events-calendar-event/story-corner-live-presentation-2/2027-04-29/
LOCATION:Theater – Artemis
CATEGORIES:Live Presentation
END:VEVENT
BEGIN:VEVENT
DTSTART;TZID=America/Chicago:20270430T121500
DTEND;TZID=America/Chicago:20270430T123000
DTSTAMP:20260425T174748
CREATED:20250602T213059Z
LAST-MODIFIED:20250603T190345Z
UID:10142180-1809087300-1809088200@spacecenter.org
SUMMARY:Story Corner Live Presentation
DESCRIPTION:
URL:https://spacecenter.org/events-calendar-event/story-corner-live-presentation-2/2027-04-30/
LOCATION:Theater – Artemis
CATEGORIES:Live Presentation
END:VEVENT
BEGIN:VEVENT
DTSTART;TZID=America/Chicago:20270501T121500
DTEND;TZID=America/Chicago:20270501T123000
DTSTAMP:20260425T174748
CREATED:20250602T213059Z
LAST-MODIFIED:20250603T190345Z
UID:10142181-1809173700-1809174600@spacecenter.org
SUMMARY:Story Corner Live Presentation
DESCRIPTION:
URL:https://spacecenter.org/events-calendar-event/story-corner-live-presentation-2/2027-05-01/
LOCATION:Theater – Artemis
CATEGORIES:Live Presentation
END:VEVENT
BEGIN:VEVENT
DTSTART;TZID=America/Chicago:20270502T121500
DTEND;TZID=America/Chicago:20270502T123000
DTSTAMP:20260425T174748
CREATED:20250602T213059Z
LAST-MODIFIED:20250603T190345Z
UID:10142182-1809260100-1809261000@spacecenter.org
SUMMARY:Story Corner Live Presentation
DESCRIPTION:
URL:https://spacecenter.org/events-calendar-event/story-corner-live-presentation-2/2027-05-02/
LOCATION:Theater – Artemis
CATEGORIES:Live Presentation
END:VEVENT
BEGIN:VEVENT
DTSTART;TZID=America/Chicago:20270503T121500
DTEND;TZID=America/Chicago:20270503T123000
DTSTAMP:20260425T174748
CREATED:20250602T213059Z
LAST-MODIFIED:20250603T190345Z
UID:10142183-1809346500-1809347400@spacecenter.org
SUMMARY:Story Corner Live Presentation
DESCRIPTION:
URL:https://spacecenter.org/events-calendar-event/story-corner-live-presentation-2/2027-05-03/
LOCATION:Theater – Artemis
CATEGORIES:Live Presentation
END:VEVENT
BEGIN:VEVENT
DTSTART;TZID=America/Chicago:20270504T121500
DTEND;TZID=America/Chicago:20270504T123000
DTSTAMP:20260425T174748
CREATED:20250602T213059Z
LAST-MODIFIED:20250603T190345Z
UID:10142184-1809432900-1809433800@spacecenter.org
SUMMARY:Story Corner Live Presentation
DESCRIPTION:
URL:https://spacecenter.org/events-calendar-event/story-corner-live-presentation-2/2027-05-04/
LOCATION:Theater – Artemis
CATEGORIES:Live Presentation
END:VEVENT
BEGIN:VEVENT
DTSTART;TZID=America/Chicago:20270505T121500
DTEND;TZID=America/Chicago:20270505T123000
DTSTAMP:20260425T174748
CREATED:20250602T213059Z
LAST-MODIFIED:20250603T190345Z
UID:10142185-1809519300-1809520200@spacecenter.org
SUMMARY:Story Corner Live Presentation
DESCRIPTION:
URL:https://spacecenter.org/events-calendar-event/story-corner-live-presentation-2/2027-05-05/
LOCATION:Theater – Artemis
CATEGORIES:Live Presentation
END:VEVENT
BEGIN:VEVENT
DTSTART;TZID=America/Chicago:20270506T121500
DTEND;TZID=America/Chicago:20270506T123000
DTSTAMP:20260425T174748
CREATED:20250602T213059Z
LAST-MODIFIED:20250603T190345Z
UID:10142186-1809605700-1809606600@spacecenter.org
SUMMARY:Story Corner Live Presentation
DESCRIPTION:
URL:https://spacecenter.org/events-calendar-event/story-corner-live-presentation-2/2027-05-06/
LOCATION:Theater – Artemis
CATEGORIES:Live Presentation
END:VEVENT
BEGIN:VEVENT
DTSTART;TZID=America/Chicago:20270507T121500
DTEND;TZID=America/Chicago:20270507T123000
DTSTAMP:20260425T174748
CREATED:20250602T213059Z
LAST-MODIFIED:20250603T190345Z
UID:10142187-1809692100-1809693000@spacecenter.org
SUMMARY:Story Corner Live Presentation
DESCRIPTION:
URL:https://spacecenter.org/events-calendar-event/story-corner-live-presentation-2/2027-05-07/
LOCATION:Theater – Artemis
CATEGORIES:Live Presentation
END:VEVENT
BEGIN:VEVENT
DTSTART;TZID=America/Chicago:20270508T121500
DTEND;TZID=America/Chicago:20270508T123000
DTSTAMP:20260425T174748
CREATED:20250602T213059Z
LAST-MODIFIED:20250603T190345Z
UID:10142188-1809778500-1809779400@spacecenter.org
SUMMARY:Story Corner Live Presentation
DESCRIPTION:
URL:https://spacecenter.org/events-calendar-event/story-corner-live-presentation-2/2027-05-08/
LOCATION:Theater – Artemis
CATEGORIES:Live Presentation
END:VEVENT
BEGIN:VEVENT
DTSTART;TZID=America/Chicago:20270509T121500
DTEND;TZID=America/Chicago:20270509T123000
DTSTAMP:20260425T174748
CREATED:20250602T213059Z
LAST-MODIFIED:20250603T190345Z
UID:10142189-1809864900-1809865800@spacecenter.org
SUMMARY:Story Corner Live Presentation
DESCRIPTION:
URL:https://spacecenter.org/events-calendar-event/story-corner-live-presentation-2/2027-05-09/
LOCATION:Theater – Artemis
CATEGORIES:Live Presentation
END:VEVENT
BEGIN:VEVENT
DTSTART;TZID=America/Chicago:20270510T121500
DTEND;TZID=America/Chicago:20270510T123000
DTSTAMP:20260425T174748
CREATED:20250602T213059Z
LAST-MODIFIED:20250603T190345Z
UID:10142190-1809951300-1809952200@spacecenter.org
SUMMARY:Story Corner Live Presentation
DESCRIPTION:
URL:https://spacecenter.org/events-calendar-event/story-corner-live-presentation-2/2027-05-10/
LOCATION:Theater – Artemis
CATEGORIES:Live Presentation
END:VEVENT
END:VCALENDAR