BEGIN:VCALENDAR
VERSION:2.0
PRODID:-//Space Center Houston - ECPv6.15.15//NONSGML v1.0//EN
CALSCALE:GREGORIAN
METHOD:PUBLISH
X-WR-CALNAME:Space Center Houston
X-ORIGINAL-URL:https://spacecenter.org
X-WR-CALDESC:Events for Space Center Houston
REFRESH-INTERVAL;VALUE=DURATION:PT1H
X-Robots-Tag:noindex
X-PUBLISHED-TTL:PT1H
BEGIN:VTIMEZONE
TZID:America/Chicago
BEGIN:DAYLIGHT
TZOFFSETFROM:-0600
TZOFFSETTO:-0500
TZNAME:CDT
DTSTART:20260308T080000
END:DAYLIGHT
BEGIN:STANDARD
TZOFFSETFROM:-0500
TZOFFSETTO:-0600
TZNAME:CST
DTSTART:20261101T070000
END:STANDARD
BEGIN:DAYLIGHT
TZOFFSETFROM:-0600
TZOFFSETTO:-0500
TZNAME:CDT
DTSTART:20270314T080000
END:DAYLIGHT
BEGIN:STANDARD
TZOFFSETFROM:-0500
TZOFFSETTO:-0600
TZNAME:CST
DTSTART:20271107T070000
END:STANDARD
BEGIN:DAYLIGHT
TZOFFSETFROM:-0600
TZOFFSETTO:-0500
TZNAME:CDT
DTSTART:20280312T080000
END:DAYLIGHT
BEGIN:STANDARD
TZOFFSETFROM:-0500
TZOFFSETTO:-0600
TZNAME:CST
DTSTART:20281105T070000
END:STANDARD
END:VTIMEZONE
BEGIN:VEVENT
DTSTART;TZID=America/Chicago:20270406T144500
DTEND;TZID=America/Chicago:20270406T150000
DTSTAMP:20260421T141409
CREATED:20250602T213716Z
LAST-MODIFIED:20250603T191759Z
UID:10189684-1807022700-1807023600@spacecenter.org
SUMMARY:James Webb Live Presentation
DESCRIPTION:
URL:https://spacecenter.org/events-calendar-event/james-webb-live-presentation-3/2027-04-06/
LOCATION:Theater – Destiny
CATEGORIES:Live Presentation
END:VEVENT
BEGIN:VEVENT
DTSTART;TZID=America/Chicago:20270407T144500
DTEND;TZID=America/Chicago:20270407T150000
DTSTAMP:20260421T141409
CREATED:20250602T213716Z
LAST-MODIFIED:20250603T191759Z
UID:10189685-1807109100-1807110000@spacecenter.org
SUMMARY:James Webb Live Presentation
DESCRIPTION:
URL:https://spacecenter.org/events-calendar-event/james-webb-live-presentation-3/2027-04-07/
LOCATION:Theater – Destiny
CATEGORIES:Live Presentation
END:VEVENT
BEGIN:VEVENT
DTSTART;TZID=America/Chicago:20270408T144500
DTEND;TZID=America/Chicago:20270408T150000
DTSTAMP:20260421T141409
CREATED:20250602T213716Z
LAST-MODIFIED:20250603T191759Z
UID:10189686-1807195500-1807196400@spacecenter.org
SUMMARY:James Webb Live Presentation
DESCRIPTION:
URL:https://spacecenter.org/events-calendar-event/james-webb-live-presentation-3/2027-04-08/
LOCATION:Theater – Destiny
CATEGORIES:Live Presentation
END:VEVENT
BEGIN:VEVENT
DTSTART;TZID=America/Chicago:20270409T144500
DTEND;TZID=America/Chicago:20270409T150000
DTSTAMP:20260421T141409
CREATED:20250602T213716Z
LAST-MODIFIED:20250603T191759Z
UID:10189687-1807281900-1807282800@spacecenter.org
SUMMARY:James Webb Live Presentation
DESCRIPTION:
URL:https://spacecenter.org/events-calendar-event/james-webb-live-presentation-3/2027-04-09/
LOCATION:Theater – Destiny
CATEGORIES:Live Presentation
END:VEVENT
BEGIN:VEVENT
DTSTART;TZID=America/Chicago:20270410T144500
DTEND;TZID=America/Chicago:20270410T150000
DTSTAMP:20260421T141409
CREATED:20250602T213716Z
LAST-MODIFIED:20250603T191759Z
UID:10189688-1807368300-1807369200@spacecenter.org
SUMMARY:James Webb Live Presentation
DESCRIPTION:
URL:https://spacecenter.org/events-calendar-event/james-webb-live-presentation-3/2027-04-10/
LOCATION:Theater – Destiny
CATEGORIES:Live Presentation
END:VEVENT
BEGIN:VEVENT
DTSTART;TZID=America/Chicago:20270411T144500
DTEND;TZID=America/Chicago:20270411T150000
DTSTAMP:20260421T141409
CREATED:20250602T213716Z
LAST-MODIFIED:20250603T191759Z
UID:10189689-1807454700-1807455600@spacecenter.org
SUMMARY:James Webb Live Presentation
DESCRIPTION:
URL:https://spacecenter.org/events-calendar-event/james-webb-live-presentation-3/2027-04-11/
LOCATION:Theater – Destiny
CATEGORIES:Live Presentation
END:VEVENT
BEGIN:VEVENT
DTSTART;TZID=America/Chicago:20270412T144500
DTEND;TZID=America/Chicago:20270412T150000
DTSTAMP:20260421T141409
CREATED:20250602T213716Z
LAST-MODIFIED:20250603T191759Z
UID:10189690-1807541100-1807542000@spacecenter.org
SUMMARY:James Webb Live Presentation
DESCRIPTION:
URL:https://spacecenter.org/events-calendar-event/james-webb-live-presentation-3/2027-04-12/
LOCATION:Theater – Destiny
CATEGORIES:Live Presentation
END:VEVENT
BEGIN:VEVENT
DTSTART;TZID=America/Chicago:20270413T144500
DTEND;TZID=America/Chicago:20270413T150000
DTSTAMP:20260421T141409
CREATED:20250602T213716Z
LAST-MODIFIED:20250603T191759Z
UID:10189691-1807627500-1807628400@spacecenter.org
SUMMARY:James Webb Live Presentation
DESCRIPTION:
URL:https://spacecenter.org/events-calendar-event/james-webb-live-presentation-3/2027-04-13/
LOCATION:Theater – Destiny
CATEGORIES:Live Presentation
END:VEVENT
BEGIN:VEVENT
DTSTART;TZID=America/Chicago:20270414T144500
DTEND;TZID=America/Chicago:20270414T150000
DTSTAMP:20260421T141409
CREATED:20250602T213716Z
LAST-MODIFIED:20250603T191759Z
UID:10189692-1807713900-1807714800@spacecenter.org
SUMMARY:James Webb Live Presentation
DESCRIPTION:
URL:https://spacecenter.org/events-calendar-event/james-webb-live-presentation-3/2027-04-14/
LOCATION:Theater – Destiny
CATEGORIES:Live Presentation
END:VEVENT
BEGIN:VEVENT
DTSTART;TZID=America/Chicago:20270415T144500
DTEND;TZID=America/Chicago:20270415T150000
DTSTAMP:20260421T141409
CREATED:20250602T213716Z
LAST-MODIFIED:20250603T191759Z
UID:10189693-1807800300-1807801200@spacecenter.org
SUMMARY:James Webb Live Presentation
DESCRIPTION:
URL:https://spacecenter.org/events-calendar-event/james-webb-live-presentation-3/2027-04-15/
LOCATION:Theater – Destiny
CATEGORIES:Live Presentation
END:VEVENT
BEGIN:VEVENT
DTSTART;TZID=America/Chicago:20270416T144500
DTEND;TZID=America/Chicago:20270416T150000
DTSTAMP:20260421T141409
CREATED:20250602T213716Z
LAST-MODIFIED:20250603T191759Z
UID:10189694-1807886700-1807887600@spacecenter.org
SUMMARY:James Webb Live Presentation
DESCRIPTION:
URL:https://spacecenter.org/events-calendar-event/james-webb-live-presentation-3/2027-04-16/
LOCATION:Theater – Destiny
CATEGORIES:Live Presentation
END:VEVENT
BEGIN:VEVENT
DTSTART;TZID=America/Chicago:20270417T144500
DTEND;TZID=America/Chicago:20270417T150000
DTSTAMP:20260421T141409
CREATED:20250602T213716Z
LAST-MODIFIED:20250603T191759Z
UID:10189695-1807973100-1807974000@spacecenter.org
SUMMARY:James Webb Live Presentation
DESCRIPTION:
URL:https://spacecenter.org/events-calendar-event/james-webb-live-presentation-3/2027-04-17/
LOCATION:Theater – Destiny
CATEGORIES:Live Presentation
END:VEVENT
BEGIN:VEVENT
DTSTART;TZID=America/Chicago:20270418T144500
DTEND;TZID=America/Chicago:20270418T150000
DTSTAMP:20260421T141409
CREATED:20250602T213716Z
LAST-MODIFIED:20250603T191759Z
UID:10189696-1808059500-1808060400@spacecenter.org
SUMMARY:James Webb Live Presentation
DESCRIPTION:
URL:https://spacecenter.org/events-calendar-event/james-webb-live-presentation-3/2027-04-18/
LOCATION:Theater – Destiny
CATEGORIES:Live Presentation
END:VEVENT
BEGIN:VEVENT
DTSTART;TZID=America/Chicago:20270419T144500
DTEND;TZID=America/Chicago:20270419T150000
DTSTAMP:20260421T141409
CREATED:20250602T213716Z
LAST-MODIFIED:20250603T191759Z
UID:10189697-1808145900-1808146800@spacecenter.org
SUMMARY:James Webb Live Presentation
DESCRIPTION:
URL:https://spacecenter.org/events-calendar-event/james-webb-live-presentation-3/2027-04-19/
LOCATION:Theater – Destiny
CATEGORIES:Live Presentation
END:VEVENT
BEGIN:VEVENT
DTSTART;TZID=America/Chicago:20270420T144500
DTEND;TZID=America/Chicago:20270420T150000
DTSTAMP:20260421T141409
CREATED:20250602T213716Z
LAST-MODIFIED:20250603T191759Z
UID:10189698-1808232300-1808233200@spacecenter.org
SUMMARY:James Webb Live Presentation
DESCRIPTION:
URL:https://spacecenter.org/events-calendar-event/james-webb-live-presentation-3/2027-04-20/
LOCATION:Theater – Destiny
CATEGORIES:Live Presentation
END:VEVENT
BEGIN:VEVENT
DTSTART;TZID=America/Chicago:20270421T144500
DTEND;TZID=America/Chicago:20270421T150000
DTSTAMP:20260421T141409
CREATED:20250602T213716Z
LAST-MODIFIED:20250603T191759Z
UID:10189699-1808318700-1808319600@spacecenter.org
SUMMARY:James Webb Live Presentation
DESCRIPTION:
URL:https://spacecenter.org/events-calendar-event/james-webb-live-presentation-3/2027-04-21/
LOCATION:Theater – Destiny
CATEGORIES:Live Presentation
END:VEVENT
BEGIN:VEVENT
DTSTART;TZID=America/Chicago:20270422T144500
DTEND;TZID=America/Chicago:20270422T150000
DTSTAMP:20260421T141409
CREATED:20250602T213716Z
LAST-MODIFIED:20250603T191759Z
UID:10189700-1808405100-1808406000@spacecenter.org
SUMMARY:James Webb Live Presentation
DESCRIPTION:
URL:https://spacecenter.org/events-calendar-event/james-webb-live-presentation-3/2027-04-22/
LOCATION:Theater – Destiny
CATEGORIES:Live Presentation
END:VEVENT
BEGIN:VEVENT
DTSTART;TZID=America/Chicago:20270423T144500
DTEND;TZID=America/Chicago:20270423T150000
DTSTAMP:20260421T141409
CREATED:20250602T213716Z
LAST-MODIFIED:20250603T191759Z
UID:10189701-1808491500-1808492400@spacecenter.org
SUMMARY:James Webb Live Presentation
DESCRIPTION:
URL:https://spacecenter.org/events-calendar-event/james-webb-live-presentation-3/2027-04-23/
LOCATION:Theater – Destiny
CATEGORIES:Live Presentation
END:VEVENT
BEGIN:VEVENT
DTSTART;TZID=America/Chicago:20270424T144500
DTEND;TZID=America/Chicago:20270424T150000
DTSTAMP:20260421T141409
CREATED:20250602T213716Z
LAST-MODIFIED:20250603T191759Z
UID:10189702-1808577900-1808578800@spacecenter.org
SUMMARY:James Webb Live Presentation
DESCRIPTION:
URL:https://spacecenter.org/events-calendar-event/james-webb-live-presentation-3/2027-04-24/
LOCATION:Theater – Destiny
CATEGORIES:Live Presentation
END:VEVENT
BEGIN:VEVENT
DTSTART;TZID=America/Chicago:20270425T144500
DTEND;TZID=America/Chicago:20270425T150000
DTSTAMP:20260421T141409
CREATED:20250602T213716Z
LAST-MODIFIED:20250603T191759Z
UID:10189703-1808664300-1808665200@spacecenter.org
SUMMARY:James Webb Live Presentation
DESCRIPTION:
URL:https://spacecenter.org/events-calendar-event/james-webb-live-presentation-3/2027-04-25/
LOCATION:Theater – Destiny
CATEGORIES:Live Presentation
END:VEVENT
BEGIN:VEVENT
DTSTART;TZID=America/Chicago:20270426T144500
DTEND;TZID=America/Chicago:20270426T150000
DTSTAMP:20260421T141409
CREATED:20250602T213716Z
LAST-MODIFIED:20250603T191759Z
UID:10189704-1808750700-1808751600@spacecenter.org
SUMMARY:James Webb Live Presentation
DESCRIPTION:
URL:https://spacecenter.org/events-calendar-event/james-webb-live-presentation-3/2027-04-26/
LOCATION:Theater – Destiny
CATEGORIES:Live Presentation
END:VEVENT
BEGIN:VEVENT
DTSTART;TZID=America/Chicago:20270427T144500
DTEND;TZID=America/Chicago:20270427T150000
DTSTAMP:20260421T141409
CREATED:20250602T213716Z
LAST-MODIFIED:20250603T191759Z
UID:10189705-1808837100-1808838000@spacecenter.org
SUMMARY:James Webb Live Presentation
DESCRIPTION:
URL:https://spacecenter.org/events-calendar-event/james-webb-live-presentation-3/2027-04-27/
LOCATION:Theater – Destiny
CATEGORIES:Live Presentation
END:VEVENT
BEGIN:VEVENT
DTSTART;TZID=America/Chicago:20270428T144500
DTEND;TZID=America/Chicago:20270428T150000
DTSTAMP:20260421T141409
CREATED:20250602T213716Z
LAST-MODIFIED:20250603T191759Z
UID:10189706-1808923500-1808924400@spacecenter.org
SUMMARY:James Webb Live Presentation
DESCRIPTION:
URL:https://spacecenter.org/events-calendar-event/james-webb-live-presentation-3/2027-04-28/
LOCATION:Theater – Destiny
CATEGORIES:Live Presentation
END:VEVENT
BEGIN:VEVENT
DTSTART;TZID=America/Chicago:20270429T144500
DTEND;TZID=America/Chicago:20270429T150000
DTSTAMP:20260421T141409
CREATED:20250602T213716Z
LAST-MODIFIED:20250603T191759Z
UID:10189707-1809009900-1809010800@spacecenter.org
SUMMARY:James Webb Live Presentation
DESCRIPTION:
URL:https://spacecenter.org/events-calendar-event/james-webb-live-presentation-3/2027-04-29/
LOCATION:Theater – Destiny
CATEGORIES:Live Presentation
END:VEVENT
BEGIN:VEVENT
DTSTART;TZID=America/Chicago:20270430T144500
DTEND;TZID=America/Chicago:20270430T150000
DTSTAMP:20260421T141409
CREATED:20250602T213716Z
LAST-MODIFIED:20250603T191759Z
UID:10189708-1809096300-1809097200@spacecenter.org
SUMMARY:James Webb Live Presentation
DESCRIPTION:
URL:https://spacecenter.org/events-calendar-event/james-webb-live-presentation-3/2027-04-30/
LOCATION:Theater – Destiny
CATEGORIES:Live Presentation
END:VEVENT
BEGIN:VEVENT
DTSTART;TZID=America/Chicago:20270501T144500
DTEND;TZID=America/Chicago:20270501T150000
DTSTAMP:20260421T141409
CREATED:20250602T213716Z
LAST-MODIFIED:20250603T191759Z
UID:10189709-1809182700-1809183600@spacecenter.org
SUMMARY:James Webb Live Presentation
DESCRIPTION:
URL:https://spacecenter.org/events-calendar-event/james-webb-live-presentation-3/2027-05-01/
LOCATION:Theater – Destiny
CATEGORIES:Live Presentation
END:VEVENT
BEGIN:VEVENT
DTSTART;TZID=America/Chicago:20270502T144500
DTEND;TZID=America/Chicago:20270502T150000
DTSTAMP:20260421T141409
CREATED:20250602T213716Z
LAST-MODIFIED:20250603T191759Z
UID:10189710-1809269100-1809270000@spacecenter.org
SUMMARY:James Webb Live Presentation
DESCRIPTION:
URL:https://spacecenter.org/events-calendar-event/james-webb-live-presentation-3/2027-05-02/
LOCATION:Theater – Destiny
CATEGORIES:Live Presentation
END:VEVENT
BEGIN:VEVENT
DTSTART;TZID=America/Chicago:20270503T144500
DTEND;TZID=America/Chicago:20270503T150000
DTSTAMP:20260421T141409
CREATED:20250602T213716Z
LAST-MODIFIED:20250603T191759Z
UID:10189711-1809355500-1809356400@spacecenter.org
SUMMARY:James Webb Live Presentation
DESCRIPTION:
URL:https://spacecenter.org/events-calendar-event/james-webb-live-presentation-3/2027-05-03/
LOCATION:Theater – Destiny
CATEGORIES:Live Presentation
END:VEVENT
BEGIN:VEVENT
DTSTART;TZID=America/Chicago:20270504T144500
DTEND;TZID=America/Chicago:20270504T150000
DTSTAMP:20260421T141409
CREATED:20250602T213716Z
LAST-MODIFIED:20250603T191759Z
UID:10189712-1809441900-1809442800@spacecenter.org
SUMMARY:James Webb Live Presentation
DESCRIPTION:
URL:https://spacecenter.org/events-calendar-event/james-webb-live-presentation-3/2027-05-04/
LOCATION:Theater – Destiny
CATEGORIES:Live Presentation
END:VEVENT
BEGIN:VEVENT
DTSTART;TZID=America/Chicago:20270505T144500
DTEND;TZID=America/Chicago:20270505T150000
DTSTAMP:20260421T141409
CREATED:20250602T213716Z
LAST-MODIFIED:20250603T191759Z
UID:10189713-1809528300-1809529200@spacecenter.org
SUMMARY:James Webb Live Presentation
DESCRIPTION:
URL:https://spacecenter.org/events-calendar-event/james-webb-live-presentation-3/2027-05-05/
LOCATION:Theater – Destiny
CATEGORIES:Live Presentation
END:VEVENT
END:VCALENDAR