BEGIN:VCALENDAR
VERSION:2.0
PRODID:-//Space Center Houston - ECPv6.15.15//NONSGML v1.0//EN
CALSCALE:GREGORIAN
METHOD:PUBLISH
X-WR-CALNAME:Space Center Houston
X-ORIGINAL-URL:https://spacecenter.org
X-WR-CALDESC:Events for Space Center Houston
REFRESH-INTERVAL;VALUE=DURATION:PT1H
X-Robots-Tag:noindex
X-PUBLISHED-TTL:PT1H
BEGIN:VTIMEZONE
TZID:America/Chicago
BEGIN:DAYLIGHT
TZOFFSETFROM:-0600
TZOFFSETTO:-0500
TZNAME:CDT
DTSTART:20270314T080000
END:DAYLIGHT
BEGIN:STANDARD
TZOFFSETFROM:-0500
TZOFFSETTO:-0600
TZNAME:CST
DTSTART:20271107T070000
END:STANDARD
BEGIN:DAYLIGHT
TZOFFSETFROM:-0600
TZOFFSETTO:-0500
TZNAME:CDT
DTSTART:20280312T080000
END:DAYLIGHT
BEGIN:STANDARD
TZOFFSETFROM:-0500
TZOFFSETTO:-0600
TZNAME:CST
DTSTART:20281105T070000
END:STANDARD
BEGIN:DAYLIGHT
TZOFFSETFROM:-0600
TZOFFSETTO:-0500
TZNAME:CDT
DTSTART:20290311T080000
END:DAYLIGHT
BEGIN:STANDARD
TZOFFSETFROM:-0500
TZOFFSETTO:-0600
TZNAME:CST
DTSTART:20291104T070000
END:STANDARD
END:VTIMEZONE
BEGIN:VEVENT
DTSTART;TZID=America/Chicago:20280803T124500
DTEND;TZID=America/Chicago:20280803T131500
DTSTAMP:20260423T122918
CREATED:20250602T214012Z
LAST-MODIFIED:20250603T190811Z
UID:10153609-1848919500-1848921300@spacecenter.org
SUMMARY:Artemis Live Presentation
DESCRIPTION:
URL:https://spacecenter.org/events-calendar-event/artemis-live-presentation-2/2028-08-03/
LOCATION:Theater – Destiny
CATEGORIES:Live Presentation
ATTACH;FMTTYPE=image/jpeg:https://spacecenter.org/wp-content/uploads/2022/10/Artemis-Capsule.jpeg
END:VEVENT
BEGIN:VEVENT
DTSTART;TZID=America/Chicago:20280803T130000
DTEND;TZID=America/Chicago:20280803T134500
DTSTAMP:20260423T122918
CREATED:20250602T211211Z
LAST-MODIFIED:20250603T190850Z
UID:10157265-1848920400-1848923100@spacecenter.org
SUMMARY:Down to Earth: The Astronaut's Perspective Film
DESCRIPTION:
URL:https://spacecenter.org/events-calendar-event/down-to-earth-the-astronauts-perspective-film-2/2028-08-03/
LOCATION:Mission Briefing Center
CATEGORIES:Film
ATTACH;FMTTYPE=image/jpeg:https://spacecenter.org/wp-content/uploads/2025/02/profdeveducators1.jpg
END:VEVENT
BEGIN:VEVENT
DTSTART;TZID=America/Chicago:20280803T131500
DTEND;TZID=America/Chicago:20280803T133000
DTSTAMP:20260423T122918
CREATED:20250602T213201Z
LAST-MODIFIED:20250603T190922Z
UID:10160921-1848921300-1848922200@spacecenter.org
SUMMARY:Story Corner Live Presentation
DESCRIPTION:
URL:https://spacecenter.org/events-calendar-event/story-corner-live-presentation-3/2028-08-03/
LOCATION:Theater – Artemis
CATEGORIES:Live Presentation
END:VEVENT
BEGIN:VEVENT
DTSTART;TZID=America/Chicago:20280803T133000
DTEND;TZID=America/Chicago:20280803T142000
DTSTAMP:20260423T122918
CREATED:20250602T215510Z
LAST-MODIFIED:20250603T190957Z
UID:10164577-1848922200-1848925200@spacecenter.org
SUMMARY:The Moonwalkers: A Journey with Tom Hanks
DESCRIPTION:
URL:https://spacecenter.org/events-calendar-event/the-moonwalkers-a-journey-with-tom-hanks-4/2028-08-03/
LOCATION:Theater – Space Center
CATEGORIES:Film
ATTACH;FMTTYPE=image/png:https://spacecenter.org/wp-content/uploads/2025/03/moonwalkers.png
END:VEVENT
BEGIN:VEVENT
DTSTART;TZID=America/Chicago:20280803T133000
DTEND;TZID=America/Chicago:20280803T143000
DTSTAMP:20260423T122918
CREATED:20250602T210232Z
LAST-MODIFIED:20250603T191037Z
UID:10168233-1848922200-1848925800@spacecenter.org
SUMMARY:Astronaut Training Facility Tram Tour
DESCRIPTION:
URL:https://spacecenter.org/events-calendar-event/astronaut-training-facility-tram-tour-4/2028-08-03/
LOCATION:Tram Boarding Area
CATEGORIES:Tram Tour
ATTACH;FMTTYPE=image/jpeg:https://spacecenter.org/wp-content/uploads/2022/07/IMG_2943.jpg
END:VEVENT
BEGIN:VEVENT
DTSTART;TZID=America/Chicago:20280803T134500
DTEND;TZID=America/Chicago:20280803T140000
DTSTAMP:20260423T122918
CREATED:20250602T212635Z
LAST-MODIFIED:20250603T191121Z
UID:10171889-1848923100-1848924000@spacecenter.org
SUMMARY:OSIRIS Rex Live Presentation
DESCRIPTION:
URL:https://spacecenter.org/events-calendar-event/osiris-rex-live-presentation-2/2028-08-03/
LOCATION:Mission Sketch Staircase
CATEGORIES:Live Presentation
ATTACH;FMTTYPE=image/jpeg:https://spacecenter.org/wp-content/uploads/2024/03/web-march2024_tls_osirisrex.jpg
END:VEVENT
BEGIN:VEVENT
DTSTART;TZID=America/Chicago:20280803T134500
DTEND;TZID=America/Chicago:20280803T140000
DTSTAMP:20260423T122918
CREATED:20250602T213557Z
LAST-MODIFIED:20250603T191327Z
UID:10175545-1848923100-1848924000@spacecenter.org
SUMMARY:James Webb Live Presentation
DESCRIPTION:
URL:https://spacecenter.org/events-calendar-event/james-webb-live-presentation-2/2028-08-03/
LOCATION:Theater – Destiny
CATEGORIES:Live Presentation
END:VEVENT
BEGIN:VEVENT
DTSTART;TZID=America/Chicago:20280803T140000
DTEND;TZID=America/Chicago:20280803T144500
DTSTAMP:20260423T122918
CREATED:20250602T211401Z
LAST-MODIFIED:20250603T191451Z
UID:10179201-1848924000-1848926700@spacecenter.org
SUMMARY:Down to Earth: The Astronaut's Perspective Film
DESCRIPTION:
URL:https://spacecenter.org/events-calendar-event/down-to-earth-the-astronauts-perspective-film-3/2028-08-03/
LOCATION:Mission Briefing Center
CATEGORIES:Film
ATTACH;FMTTYPE=image/jpeg:https://spacecenter.org/wp-content/uploads/2025/02/profdeveducators1.jpg
END:VEVENT
BEGIN:VEVENT
DTSTART;TZID=America/Chicago:20280803T143000
DTEND;TZID=America/Chicago:20280803T152000
DTSTAMP:20260423T122918
CREATED:20250602T215601Z
LAST-MODIFIED:20250603T191630Z
UID:10182857-1848925800-1848928800@spacecenter.org
SUMMARY:The Moonwalkers: A Journey with Tom Hanks
DESCRIPTION:
URL:https://spacecenter.org/events-calendar-event/the-moonwalkers-a-journey-with-tom-hanks-5/2028-08-03/
LOCATION:Theater – Space Center
CATEGORIES:Film
ATTACH;FMTTYPE=image/png:https://spacecenter.org/wp-content/uploads/2025/03/moonwalkers.png
END:VEVENT
BEGIN:VEVENT
DTSTART;TZID=America/Chicago:20280803T143000
DTEND;TZID=America/Chicago:20280803T153000
DTSTAMP:20260423T122918
CREATED:20250602T210317Z
LAST-MODIFIED:20250603T191717Z
UID:10186513-1848925800-1848929400@spacecenter.org
SUMMARY:Astronaut Training Facility Tram Tour
DESCRIPTION:
URL:https://spacecenter.org/events-calendar-event/astronaut-training-facility-tram-tour-5/2028-08-03/
LOCATION:Tram Boarding Area
CATEGORIES:Tram Tour
ATTACH;FMTTYPE=image/jpeg:https://spacecenter.org/wp-content/uploads/2022/07/IMG_2943.jpg
END:VEVENT
BEGIN:VEVENT
DTSTART;TZID=America/Chicago:20280803T144500
DTEND;TZID=America/Chicago:20280803T150000
DTSTAMP:20260423T122918
CREATED:20250602T213716Z
LAST-MODIFIED:20250603T191759Z
UID:10190169-1848926700-1848927600@spacecenter.org
SUMMARY:James Webb Live Presentation
DESCRIPTION:
URL:https://spacecenter.org/events-calendar-event/james-webb-live-presentation-3/2028-08-03/
LOCATION:Theater – Destiny
CATEGORIES:Live Presentation
END:VEVENT
BEGIN:VEVENT
DTSTART;TZID=America/Chicago:20280803T150000
DTEND;TZID=America/Chicago:20280803T154500
DTSTAMP:20260423T122918
CREATED:20250602T211753Z
LAST-MODIFIED:20250603T191844Z
UID:10193825-1848927600-1848930300@spacecenter.org
SUMMARY:Down to Earth: The Astronaut's Perspective Film
DESCRIPTION:
URL:https://spacecenter.org/events-calendar-event/down-to-earth-the-astronauts-perspective-film-4/2028-08-03/
LOCATION:Mission Briefing Center
CATEGORIES:Film
ATTACH;FMTTYPE=image/jpeg:https://spacecenter.org/wp-content/uploads/2025/02/profdeveducators1.jpg
END:VEVENT
BEGIN:VEVENT
DTSTART;TZID=America/Chicago:20280803T151500
DTEND;TZID=America/Chicago:20280803T153000
DTSTAMP:20260423T122918
CREATED:20250602T213249Z
LAST-MODIFIED:20250603T191942Z
UID:10197481-1848928500-1848929400@spacecenter.org
SUMMARY:Story Corner Live Presentation
DESCRIPTION:
URL:https://spacecenter.org/events-calendar-event/story-corner-live-presentation-4/2028-08-03/
LOCATION:Theater – Artemis
CATEGORIES:Live Presentation
END:VEVENT
BEGIN:VEVENT
DTSTART;TZID=America/Chicago:20280803T153000
DTEND;TZID=America/Chicago:20280803T162000
DTSTAMP:20260423T122918
CREATED:20250602T215646Z
LAST-MODIFIED:20260115T171957Z
UID:10201137-1848929400-1848932400@spacecenter.org
SUMMARY:The Moonwalkers: A Journey with Tom Hanks
DESCRIPTION:Test description
URL:https://spacecenter.org/events-calendar-event/the-moonwalkers-a-journey-with-tom-hanks-6/2028-08-03/
LOCATION:Theater – Space Center
CATEGORIES:Film
ATTACH;FMTTYPE=image/png:https://spacecenter.org/wp-content/uploads/2025/03/moonwalkers.png
END:VEVENT
BEGIN:VEVENT
DTSTART;TZID=America/Chicago:20280803T153000
DTEND;TZID=America/Chicago:20280803T163000
DTSTAMP:20260423T122918
CREATED:20250602T210404Z
LAST-MODIFIED:20250603T192048Z
UID:10204793-1848929400-1848933000@spacecenter.org
SUMMARY:Astronaut Training Facility Tram Tour
DESCRIPTION:
URL:https://spacecenter.org/events-calendar-event/astronaut-training-facility-tram-tour-6/2028-08-03/
LOCATION:Tram Boarding Area
CATEGORIES:Tram Tour
ATTACH;FMTTYPE=image/jpeg:https://spacecenter.org/wp-content/uploads/2022/07/IMG_2943.jpg
END:VEVENT
BEGIN:VEVENT
DTSTART;TZID=America/Chicago:20280803T154500
DTEND;TZID=America/Chicago:20280803T161500
DTSTAMP:20260423T122918
CREATED:20250602T214125Z
LAST-MODIFIED:20250603T192119Z
UID:10208449-1848930300-1848932100@spacecenter.org
SUMMARY:Artemis Live Presentation
DESCRIPTION:
URL:https://spacecenter.org/events-calendar-event/artemis-live-presentation-3/2028-08-03/
LOCATION:Theater – Destiny
CATEGORIES:Live Presentation
ATTACH;FMTTYPE=image/jpeg:https://spacecenter.org/wp-content/uploads/2022/10/Artemis-Capsule.jpeg
END:VEVENT
BEGIN:VEVENT
DTSTART;TZID=America/Chicago:20280803T160000
DTEND;TZID=America/Chicago:20280803T164500
DTSTAMP:20260423T122918
CREATED:20250602T211841Z
LAST-MODIFIED:20250603T192151Z
UID:10212105-1848931200-1848933900@spacecenter.org
SUMMARY:Down to Earth: The Astronaut's Perspective Film
DESCRIPTION:
URL:https://spacecenter.org/events-calendar-event/down-to-earth-the-astronauts-perspective-film-5/2028-08-03/
LOCATION:Mission Briefing Center
CATEGORIES:Film
ATTACH;FMTTYPE=image/jpeg:https://spacecenter.org/wp-content/uploads/2025/02/profdeveducators1.jpg
END:VEVENT
BEGIN:VEVENT
DTSTART;TZID=America/Chicago:20280803T163000
DTEND;TZID=America/Chicago:20280803T164500
DTSTAMP:20260423T122918
CREATED:20250602T212726Z
LAST-MODIFIED:20250603T192225Z
UID:10215761-1848933000-1848933900@spacecenter.org
SUMMARY:OSIRIS Rex Live Presentation
DESCRIPTION:
URL:https://spacecenter.org/events-calendar-event/osiris-rex-live-presentation-3/2028-08-03/
LOCATION:Mission Sketch Staircase
CATEGORIES:Live Presentation
ATTACH;FMTTYPE=image/jpeg:https://spacecenter.org/wp-content/uploads/2024/03/web-march2024_tls_osirisrex.jpg
END:VEVENT
BEGIN:VEVENT
DTSTART;TZID=America/Chicago:20280804T101500
DTEND;TZID=America/Chicago:20280804T103000
DTSTAMP:20260423T122918
CREATED:20250602T214310Z
LAST-MODIFIED:20250603T184018Z
UID:10084146-1848996900-1848997800@spacecenter.org
SUMMARY:Human Destiny Film
DESCRIPTION:
URL:https://spacecenter.org/events-calendar-event/human-destiny-film/2028-08-04/
LOCATION:Theater – Destiny
CATEGORIES:Film
ATTACH;FMTTYPE=image/jpeg:https://spacecenter.org/wp-content/uploads/2022/10/Destiny-Theater.jpg
END:VEVENT
BEGIN:VEVENT
DTSTART;TZID=America/Chicago:20280804T101500
DTEND;TZID=America/Chicago:20280804T110000
DTSTAMP:20260423T122918
CREATED:20250602T204328Z
LAST-MODIFIED:20250603T184302Z
UID:10085974-1848996900-1848999600@spacecenter.org
SUMMARY:Rocket Park Tram Tour
DESCRIPTION:
URL:https://spacecenter.org/events-calendar-event/rocket-park-tram-tour/2028-08-04/
LOCATION:Tram Boarding Area
CATEGORIES:Tram Tour
ATTACH;FMTTYPE=image/jpeg:https://spacecenter.org/wp-content/uploads/2024/10/rocket-park.jpg
END:VEVENT
BEGIN:VEVENT
DTSTART;TZID=America/Chicago:20280804T103000
DTEND;TZID=America/Chicago:20280804T104500
DTSTAMP:20260423T122918
CREATED:20250602T214417Z
LAST-MODIFIED:20250603T184348Z
UID:10087802-1848997800-1848998700@spacecenter.org
SUMMARY:Human Destiny Film
DESCRIPTION:
URL:https://spacecenter.org/events-calendar-event/human-destiny-film-2/2028-08-04/
LOCATION:Theater – Destiny
CATEGORIES:Film
ATTACH;FMTTYPE=image/jpeg:https://spacecenter.org/wp-content/uploads/2022/10/Destiny-Theater.jpg
END:VEVENT
BEGIN:VEVENT
DTSTART;TZID=America/Chicago:20280804T103000
DTEND;TZID=America/Chicago:20280804T112000
DTSTAMP:20260423T122918
CREATED:20250602T215207Z
LAST-MODIFIED:20250603T184552Z
UID:10091458-1848997800-1849000800@spacecenter.org
SUMMARY:The Moonwalkers: A Journey with Tom Hanks
DESCRIPTION:
URL:https://spacecenter.org/events-calendar-event/the-moonwalkers-a-journey-with-tom-hanks/2028-08-04/
LOCATION:Theater – Space Center
CATEGORIES:Film
ATTACH;FMTTYPE=image/png:https://spacecenter.org/wp-content/uploads/2025/03/moonwalkers.png
END:VEVENT
BEGIN:VEVENT
DTSTART;TZID=America/Chicago:20280804T103000
DTEND;TZID=America/Chicago:20280804T113000
DTSTAMP:20260423T122918
CREATED:20250602T205851Z
LAST-MODIFIED:20250603T184720Z
UID:10095114-1848997800-1849001400@spacecenter.org
SUMMARY:Astronaut Training Facility Tram Tour
DESCRIPTION:
URL:https://spacecenter.org/events-calendar-event/astronaut-training-facility-tram-tour/2028-08-04/
LOCATION:Tram Boarding Area
CATEGORIES:Tram Tour
ATTACH;FMTTYPE=image/jpeg:https://spacecenter.org/wp-content/uploads/2022/07/IMG_2943.jpg
END:VEVENT
BEGIN:VEVENT
DTSTART;TZID=America/Chicago:20280804T104000
DTEND;TZID=America/Chicago:20280804T112000
DTSTAMP:20260423T122918
CREATED:20250602T205945Z
LAST-MODIFIED:20250603T185259Z
UID:10098770-1848998400-1849000800@spacecenter.org
SUMMARY:Apollo Mission Control Tram Tour
DESCRIPTION:
URL:https://spacecenter.org/events-calendar-event/apollo-mission-control-tram-tour/2028-08-04/
LOCATION:Tram Boarding Area
CATEGORIES:Tram Tour
ATTACH;FMTTYPE=image/jpeg:https://spacecenter.org/wp-content/uploads/2022/09/Apollo-10-web.jpeg
END:VEVENT
BEGIN:VEVENT
DTSTART;TZID=America/Chicago:20280804T104500
DTEND;TZID=America/Chicago:20280804T110000
DTSTAMP:20260423T122918
CREATED:20250602T212526Z
LAST-MODIFIED:20250603T185502Z
UID:10102426-1848998700-1848999600@spacecenter.org
SUMMARY:OSIRIS Rex Live Presentation
DESCRIPTION:
URL:https://spacecenter.org/events-calendar-event/osiris-rex-live-presentation/2028-08-04/
LOCATION:Mission Sketch Staircase
CATEGORIES:Live Presentation
ATTACH;FMTTYPE=image/jpeg:https://spacecenter.org/wp-content/uploads/2024/03/web-march2024_tls_osirisrex.jpg
END:VEVENT
BEGIN:VEVENT
DTSTART;TZID=America/Chicago:20280804T104500
DTEND;TZID=America/Chicago:20280804T110000
DTSTAMP:20260423T122918
CREATED:20250602T214618Z
LAST-MODIFIED:20250603T185541Z
UID:10106082-1848998700-1848999600@spacecenter.org
SUMMARY:Human Destiny Film
DESCRIPTION:
URL:https://spacecenter.org/events-calendar-event/human-destiny-film-3/2028-08-04/
LOCATION:Theater – Destiny
CATEGORIES:Film
ATTACH;FMTTYPE=image/jpeg:https://spacecenter.org/wp-content/uploads/2022/10/Destiny-Theater.jpg
END:VEVENT
BEGIN:VEVENT
DTSTART;TZID=America/Chicago:20280804T104500
DTEND;TZID=America/Chicago:20280804T111500
DTSTAMP:20260423T122918
CREATED:20250602T213905Z
LAST-MODIFIED:20250603T185637Z
UID:10109738-1848998700-1849000500@spacecenter.org
SUMMARY:Artemis Live Presentation
DESCRIPTION:
URL:https://spacecenter.org/events-calendar-event/artemis-live-presentation/2028-08-04/
LOCATION:Theater – Destiny
CATEGORIES:Live Presentation
ATTACH;FMTTYPE=image/jpeg:https://spacecenter.org/wp-content/uploads/2022/10/Artemis-Capsule.jpeg
END:VEVENT
BEGIN:VEVENT
DTSTART;TZID=America/Chicago:20280804T110000
DTEND;TZID=America/Chicago:20280804T111500
DTSTAMP:20260423T122918
CREATED:20250602T214802Z
LAST-MODIFIED:20250603T185720Z
UID:10113394-1848999600-1849000500@spacecenter.org
SUMMARY:Human Destiny Film
DESCRIPTION:
URL:https://spacecenter.org/events-calendar-event/human-destiny-film-4/2028-08-04/
LOCATION:Theater – Destiny
CATEGORIES:Film
ATTACH;FMTTYPE=image/jpeg:https://spacecenter.org/wp-content/uploads/2022/10/Destiny-Theater.jpg
END:VEVENT
BEGIN:VEVENT
DTSTART;TZID=America/Chicago:20280804T110000
DTEND;TZID=America/Chicago:20280804T114500
DTSTAMP:20260423T122918
CREATED:20250602T210952Z
LAST-MODIFIED:20250603T185820Z
UID:10117050-1848999600-1849002300@spacecenter.org
SUMMARY:Down to Earth: The Astronaut's Perspective Film
DESCRIPTION:
URL:https://spacecenter.org/events-calendar-event/down-to-earth-the-astronauts-perspective-film/2028-08-04/
LOCATION:Mission Briefing Center
CATEGORIES:Film
ATTACH;FMTTYPE=image/jpeg:https://spacecenter.org/wp-content/uploads/2025/02/profdeveducators1.jpg
END:VEVENT
BEGIN:VEVENT
DTSTART;TZID=America/Chicago:20280804T111500
DTEND;TZID=America/Chicago:20280804T113000
DTSTAMP:20260423T122918
CREATED:20250602T213010Z
LAST-MODIFIED:20250603T185901Z
UID:10120706-1849000500-1849001400@spacecenter.org
SUMMARY:Story Corner Live Presentation
DESCRIPTION:
URL:https://spacecenter.org/events-calendar-event/story-corner-live-presentation/2028-08-04/
LOCATION:Theater – Artemis
CATEGORIES:Live Presentation
END:VEVENT
END:VCALENDAR