BEGIN:VCALENDAR
VERSION:2.0
PRODID:-//Space Center Houston - ECPv6.15.15//NONSGML v1.0//EN
CALSCALE:GREGORIAN
METHOD:PUBLISH
X-ORIGINAL-URL:https://spacecenter.org
X-WR-CALDESC:Events for Space Center Houston
REFRESH-INTERVAL;VALUE=DURATION:PT1H
X-Robots-Tag:noindex
X-PUBLISHED-TTL:PT1H
BEGIN:VTIMEZONE
TZID:America/Chicago
BEGIN:DAYLIGHT
TZOFFSETFROM:-0600
TZOFFSETTO:-0500
TZNAME:CDT
DTSTART:20260308T080000
END:DAYLIGHT
BEGIN:STANDARD
TZOFFSETFROM:-0500
TZOFFSETTO:-0600
TZNAME:CST
DTSTART:20261101T070000
END:STANDARD
BEGIN:DAYLIGHT
TZOFFSETFROM:-0600
TZOFFSETTO:-0500
TZNAME:CDT
DTSTART:20270314T080000
END:DAYLIGHT
BEGIN:STANDARD
TZOFFSETFROM:-0500
TZOFFSETTO:-0600
TZNAME:CST
DTSTART:20271107T070000
END:STANDARD
BEGIN:DAYLIGHT
TZOFFSETFROM:-0600
TZOFFSETTO:-0500
TZNAME:CDT
DTSTART:20280312T080000
END:DAYLIGHT
BEGIN:STANDARD
TZOFFSETFROM:-0500
TZOFFSETTO:-0600
TZNAME:CST
DTSTART:20281105T070000
END:STANDARD
END:VTIMEZONE
BEGIN:VEVENT
DTSTART;TZID=America/Chicago:20270218T134500
DTEND;TZID=America/Chicago:20270218T140000
DTSTAMP:20260424T133046
CREATED:20250602T213557Z
LAST-MODIFIED:20250603T191327Z
UID:10175013-1802958300-1802959200@spacecenter.org
SUMMARY:James Webb Live Presentation
DESCRIPTION:
URL:https://spacecenter.org/events-calendar-event/james-webb-live-presentation-2/2027-02-18/
LOCATION:Theater – Destiny
CATEGORIES:Live Presentation
END:VEVENT
BEGIN:VEVENT
DTSTART;TZID=America/Chicago:20270219T134500
DTEND;TZID=America/Chicago:20270219T140000
DTSTAMP:20260424T133046
CREATED:20250602T213557Z
LAST-MODIFIED:20250603T191327Z
UID:10175014-1803044700-1803045600@spacecenter.org
SUMMARY:James Webb Live Presentation
DESCRIPTION:
URL:https://spacecenter.org/events-calendar-event/james-webb-live-presentation-2/2027-02-19/
LOCATION:Theater – Destiny
CATEGORIES:Live Presentation
END:VEVENT
BEGIN:VEVENT
DTSTART;TZID=America/Chicago:20270220T134500
DTEND;TZID=America/Chicago:20270220T140000
DTSTAMP:20260424T133046
CREATED:20250602T213557Z
LAST-MODIFIED:20250603T191327Z
UID:10175015-1803131100-1803132000@spacecenter.org
SUMMARY:James Webb Live Presentation
DESCRIPTION:
URL:https://spacecenter.org/events-calendar-event/james-webb-live-presentation-2/2027-02-20/
LOCATION:Theater – Destiny
CATEGORIES:Live Presentation
END:VEVENT
BEGIN:VEVENT
DTSTART;TZID=America/Chicago:20270221T134500
DTEND;TZID=America/Chicago:20270221T140000
DTSTAMP:20260424T133046
CREATED:20250602T213557Z
LAST-MODIFIED:20250603T191327Z
UID:10175016-1803217500-1803218400@spacecenter.org
SUMMARY:James Webb Live Presentation
DESCRIPTION:
URL:https://spacecenter.org/events-calendar-event/james-webb-live-presentation-2/2027-02-21/
LOCATION:Theater – Destiny
CATEGORIES:Live Presentation
END:VEVENT
BEGIN:VEVENT
DTSTART;TZID=America/Chicago:20270222T134500
DTEND;TZID=America/Chicago:20270222T140000
DTSTAMP:20260424T133046
CREATED:20250602T213557Z
LAST-MODIFIED:20250603T191327Z
UID:10175017-1803303900-1803304800@spacecenter.org
SUMMARY:James Webb Live Presentation
DESCRIPTION:
URL:https://spacecenter.org/events-calendar-event/james-webb-live-presentation-2/2027-02-22/
LOCATION:Theater – Destiny
CATEGORIES:Live Presentation
END:VEVENT
BEGIN:VEVENT
DTSTART;TZID=America/Chicago:20270223T134500
DTEND;TZID=America/Chicago:20270223T140000
DTSTAMP:20260424T133046
CREATED:20250602T213557Z
LAST-MODIFIED:20250603T191327Z
UID:10175018-1803390300-1803391200@spacecenter.org
SUMMARY:James Webb Live Presentation
DESCRIPTION:
URL:https://spacecenter.org/events-calendar-event/james-webb-live-presentation-2/2027-02-23/
LOCATION:Theater – Destiny
CATEGORIES:Live Presentation
END:VEVENT
BEGIN:VEVENT
DTSTART;TZID=America/Chicago:20270224T134500
DTEND;TZID=America/Chicago:20270224T140000
DTSTAMP:20260424T133046
CREATED:20250602T213557Z
LAST-MODIFIED:20250603T191327Z
UID:10175019-1803476700-1803477600@spacecenter.org
SUMMARY:James Webb Live Presentation
DESCRIPTION:
URL:https://spacecenter.org/events-calendar-event/james-webb-live-presentation-2/2027-02-24/
LOCATION:Theater – Destiny
CATEGORIES:Live Presentation
END:VEVENT
BEGIN:VEVENT
DTSTART;TZID=America/Chicago:20270225T134500
DTEND;TZID=America/Chicago:20270225T140000
DTSTAMP:20260424T133046
CREATED:20250602T213557Z
LAST-MODIFIED:20250603T191327Z
UID:10175020-1803563100-1803564000@spacecenter.org
SUMMARY:James Webb Live Presentation
DESCRIPTION:
URL:https://spacecenter.org/events-calendar-event/james-webb-live-presentation-2/2027-02-25/
LOCATION:Theater – Destiny
CATEGORIES:Live Presentation
END:VEVENT
BEGIN:VEVENT
DTSTART;TZID=America/Chicago:20270226T134500
DTEND;TZID=America/Chicago:20270226T140000
DTSTAMP:20260424T133046
CREATED:20250602T213557Z
LAST-MODIFIED:20250603T191327Z
UID:10175021-1803649500-1803650400@spacecenter.org
SUMMARY:James Webb Live Presentation
DESCRIPTION:
URL:https://spacecenter.org/events-calendar-event/james-webb-live-presentation-2/2027-02-26/
LOCATION:Theater – Destiny
CATEGORIES:Live Presentation
END:VEVENT
BEGIN:VEVENT
DTSTART;TZID=America/Chicago:20270227T134500
DTEND;TZID=America/Chicago:20270227T140000
DTSTAMP:20260424T133046
CREATED:20250602T213557Z
LAST-MODIFIED:20250603T191327Z
UID:10175022-1803735900-1803736800@spacecenter.org
SUMMARY:James Webb Live Presentation
DESCRIPTION:
URL:https://spacecenter.org/events-calendar-event/james-webb-live-presentation-2/2027-02-27/
LOCATION:Theater – Destiny
CATEGORIES:Live Presentation
END:VEVENT
BEGIN:VEVENT
DTSTART;TZID=America/Chicago:20270228T134500
DTEND;TZID=America/Chicago:20270228T140000
DTSTAMP:20260424T133046
CREATED:20250602T213557Z
LAST-MODIFIED:20250603T191327Z
UID:10175023-1803822300-1803823200@spacecenter.org
SUMMARY:James Webb Live Presentation
DESCRIPTION:
URL:https://spacecenter.org/events-calendar-event/james-webb-live-presentation-2/2027-02-28/
LOCATION:Theater – Destiny
CATEGORIES:Live Presentation
END:VEVENT
BEGIN:VEVENT
DTSTART;TZID=America/Chicago:20270301T134500
DTEND;TZID=America/Chicago:20270301T140000
DTSTAMP:20260424T133046
CREATED:20250602T213557Z
LAST-MODIFIED:20250603T191327Z
UID:10175024-1803908700-1803909600@spacecenter.org
SUMMARY:James Webb Live Presentation
DESCRIPTION:
URL:https://spacecenter.org/events-calendar-event/james-webb-live-presentation-2/2027-03-01/
LOCATION:Theater – Destiny
CATEGORIES:Live Presentation
END:VEVENT
BEGIN:VEVENT
DTSTART;TZID=America/Chicago:20270302T134500
DTEND;TZID=America/Chicago:20270302T140000
DTSTAMP:20260424T133046
CREATED:20250602T213557Z
LAST-MODIFIED:20250603T191327Z
UID:10175025-1803995100-1803996000@spacecenter.org
SUMMARY:James Webb Live Presentation
DESCRIPTION:
URL:https://spacecenter.org/events-calendar-event/james-webb-live-presentation-2/2027-03-02/
LOCATION:Theater – Destiny
CATEGORIES:Live Presentation
END:VEVENT
BEGIN:VEVENT
DTSTART;TZID=America/Chicago:20270303T134500
DTEND;TZID=America/Chicago:20270303T140000
DTSTAMP:20260424T133046
CREATED:20250602T213557Z
LAST-MODIFIED:20250603T191327Z
UID:10175026-1804081500-1804082400@spacecenter.org
SUMMARY:James Webb Live Presentation
DESCRIPTION:
URL:https://spacecenter.org/events-calendar-event/james-webb-live-presentation-2/2027-03-03/
LOCATION:Theater – Destiny
CATEGORIES:Live Presentation
END:VEVENT
BEGIN:VEVENT
DTSTART;TZID=America/Chicago:20270304T134500
DTEND;TZID=America/Chicago:20270304T140000
DTSTAMP:20260424T133046
CREATED:20250602T213557Z
LAST-MODIFIED:20250603T191327Z
UID:10175027-1804167900-1804168800@spacecenter.org
SUMMARY:James Webb Live Presentation
DESCRIPTION:
URL:https://spacecenter.org/events-calendar-event/james-webb-live-presentation-2/2027-03-04/
LOCATION:Theater – Destiny
CATEGORIES:Live Presentation
END:VEVENT
BEGIN:VEVENT
DTSTART;TZID=America/Chicago:20270305T134500
DTEND;TZID=America/Chicago:20270305T140000
DTSTAMP:20260424T133046
CREATED:20250602T213557Z
LAST-MODIFIED:20250603T191327Z
UID:10175028-1804254300-1804255200@spacecenter.org
SUMMARY:James Webb Live Presentation
DESCRIPTION:
URL:https://spacecenter.org/events-calendar-event/james-webb-live-presentation-2/2027-03-05/
LOCATION:Theater – Destiny
CATEGORIES:Live Presentation
END:VEVENT
BEGIN:VEVENT
DTSTART;TZID=America/Chicago:20270306T134500
DTEND;TZID=America/Chicago:20270306T140000
DTSTAMP:20260424T133046
CREATED:20250602T213557Z
LAST-MODIFIED:20250603T191327Z
UID:10175029-1804340700-1804341600@spacecenter.org
SUMMARY:James Webb Live Presentation
DESCRIPTION:
URL:https://spacecenter.org/events-calendar-event/james-webb-live-presentation-2/2027-03-06/
LOCATION:Theater – Destiny
CATEGORIES:Live Presentation
END:VEVENT
BEGIN:VEVENT
DTSTART;TZID=America/Chicago:20270307T134500
DTEND;TZID=America/Chicago:20270307T140000
DTSTAMP:20260424T133046
CREATED:20250602T213557Z
LAST-MODIFIED:20250603T191327Z
UID:10175030-1804427100-1804428000@spacecenter.org
SUMMARY:James Webb Live Presentation
DESCRIPTION:
URL:https://spacecenter.org/events-calendar-event/james-webb-live-presentation-2/2027-03-07/
LOCATION:Theater – Destiny
CATEGORIES:Live Presentation
END:VEVENT
BEGIN:VEVENT
DTSTART;TZID=America/Chicago:20270308T134500
DTEND;TZID=America/Chicago:20270308T140000
DTSTAMP:20260424T133046
CREATED:20250602T213557Z
LAST-MODIFIED:20250603T191327Z
UID:10175031-1804513500-1804514400@spacecenter.org
SUMMARY:James Webb Live Presentation
DESCRIPTION:
URL:https://spacecenter.org/events-calendar-event/james-webb-live-presentation-2/2027-03-08/
LOCATION:Theater – Destiny
CATEGORIES:Live Presentation
END:VEVENT
BEGIN:VEVENT
DTSTART;TZID=America/Chicago:20270309T134500
DTEND;TZID=America/Chicago:20270309T140000
DTSTAMP:20260424T133046
CREATED:20250602T213557Z
LAST-MODIFIED:20250603T191327Z
UID:10175032-1804599900-1804600800@spacecenter.org
SUMMARY:James Webb Live Presentation
DESCRIPTION:
URL:https://spacecenter.org/events-calendar-event/james-webb-live-presentation-2/2027-03-09/
LOCATION:Theater – Destiny
CATEGORIES:Live Presentation
END:VEVENT
BEGIN:VEVENT
DTSTART;TZID=America/Chicago:20270310T134500
DTEND;TZID=America/Chicago:20270310T140000
DTSTAMP:20260424T133046
CREATED:20250602T213557Z
LAST-MODIFIED:20250603T191327Z
UID:10175033-1804686300-1804687200@spacecenter.org
SUMMARY:James Webb Live Presentation
DESCRIPTION:
URL:https://spacecenter.org/events-calendar-event/james-webb-live-presentation-2/2027-03-10/
LOCATION:Theater – Destiny
CATEGORIES:Live Presentation
END:VEVENT
BEGIN:VEVENT
DTSTART;TZID=America/Chicago:20270311T134500
DTEND;TZID=America/Chicago:20270311T140000
DTSTAMP:20260424T133046
CREATED:20250602T213557Z
LAST-MODIFIED:20250603T191327Z
UID:10175034-1804772700-1804773600@spacecenter.org
SUMMARY:James Webb Live Presentation
DESCRIPTION:
URL:https://spacecenter.org/events-calendar-event/james-webb-live-presentation-2/2027-03-11/
LOCATION:Theater – Destiny
CATEGORIES:Live Presentation
END:VEVENT
BEGIN:VEVENT
DTSTART;TZID=America/Chicago:20270312T134500
DTEND;TZID=America/Chicago:20270312T140000
DTSTAMP:20260424T133046
CREATED:20250602T213557Z
LAST-MODIFIED:20250603T191327Z
UID:10175035-1804859100-1804860000@spacecenter.org
SUMMARY:James Webb Live Presentation
DESCRIPTION:
URL:https://spacecenter.org/events-calendar-event/james-webb-live-presentation-2/2027-03-12/
LOCATION:Theater – Destiny
CATEGORIES:Live Presentation
END:VEVENT
BEGIN:VEVENT
DTSTART;TZID=America/Chicago:20270313T134500
DTEND;TZID=America/Chicago:20270313T140000
DTSTAMP:20260424T133046
CREATED:20250602T213557Z
LAST-MODIFIED:20250603T191327Z
UID:10175036-1804945500-1804946400@spacecenter.org
SUMMARY:James Webb Live Presentation
DESCRIPTION:
URL:https://spacecenter.org/events-calendar-event/james-webb-live-presentation-2/2027-03-13/
LOCATION:Theater – Destiny
CATEGORIES:Live Presentation
END:VEVENT
BEGIN:VEVENT
DTSTART;TZID=America/Chicago:20270314T134500
DTEND;TZID=America/Chicago:20270314T140000
DTSTAMP:20260424T133046
CREATED:20250602T213557Z
LAST-MODIFIED:20250603T191327Z
UID:10175037-1805031900-1805032800@spacecenter.org
SUMMARY:James Webb Live Presentation
DESCRIPTION:
URL:https://spacecenter.org/events-calendar-event/james-webb-live-presentation-2/2027-03-14/
LOCATION:Theater – Destiny
CATEGORIES:Live Presentation
END:VEVENT
BEGIN:VEVENT
DTSTART;TZID=America/Chicago:20270315T134500
DTEND;TZID=America/Chicago:20270315T140000
DTSTAMP:20260424T133046
CREATED:20250602T213557Z
LAST-MODIFIED:20250603T191327Z
UID:10175038-1805118300-1805119200@spacecenter.org
SUMMARY:James Webb Live Presentation
DESCRIPTION:
URL:https://spacecenter.org/events-calendar-event/james-webb-live-presentation-2/2027-03-15/
LOCATION:Theater – Destiny
CATEGORIES:Live Presentation
END:VEVENT
BEGIN:VEVENT
DTSTART;TZID=America/Chicago:20270316T134500
DTEND;TZID=America/Chicago:20270316T140000
DTSTAMP:20260424T133046
CREATED:20250602T213557Z
LAST-MODIFIED:20250603T191327Z
UID:10175039-1805204700-1805205600@spacecenter.org
SUMMARY:James Webb Live Presentation
DESCRIPTION:
URL:https://spacecenter.org/events-calendar-event/james-webb-live-presentation-2/2027-03-16/
LOCATION:Theater – Destiny
CATEGORIES:Live Presentation
END:VEVENT
BEGIN:VEVENT
DTSTART;TZID=America/Chicago:20270317T134500
DTEND;TZID=America/Chicago:20270317T140000
DTSTAMP:20260424T133046
CREATED:20250602T213557Z
LAST-MODIFIED:20250603T191327Z
UID:10175040-1805291100-1805292000@spacecenter.org
SUMMARY:James Webb Live Presentation
DESCRIPTION:
URL:https://spacecenter.org/events-calendar-event/james-webb-live-presentation-2/2027-03-17/
LOCATION:Theater – Destiny
CATEGORIES:Live Presentation
END:VEVENT
BEGIN:VEVENT
DTSTART;TZID=America/Chicago:20270318T134500
DTEND;TZID=America/Chicago:20270318T140000
DTSTAMP:20260424T133046
CREATED:20250602T213557Z
LAST-MODIFIED:20250603T191327Z
UID:10175041-1805377500-1805378400@spacecenter.org
SUMMARY:James Webb Live Presentation
DESCRIPTION:
URL:https://spacecenter.org/events-calendar-event/james-webb-live-presentation-2/2027-03-18/
LOCATION:Theater – Destiny
CATEGORIES:Live Presentation
END:VEVENT
BEGIN:VEVENT
DTSTART;TZID=America/Chicago:20270319T134500
DTEND;TZID=America/Chicago:20270319T140000
DTSTAMP:20260424T133046
CREATED:20250602T213557Z
LAST-MODIFIED:20250603T191327Z
UID:10175042-1805463900-1805464800@spacecenter.org
SUMMARY:James Webb Live Presentation
DESCRIPTION:
URL:https://spacecenter.org/events-calendar-event/james-webb-live-presentation-2/2027-03-19/
LOCATION:Theater – Destiny
CATEGORIES:Live Presentation
END:VEVENT
END:VCALENDAR