BEGIN:VCALENDAR
VERSION:2.0
PRODID:-//Space Center Houston - ECPv6.15.15//NONSGML v1.0//EN
CALSCALE:GREGORIAN
METHOD:PUBLISH
X-ORIGINAL-URL:https://spacecenter.org
X-WR-CALDESC:Events for Space Center Houston
REFRESH-INTERVAL;VALUE=DURATION:PT1H
X-Robots-Tag:noindex
X-PUBLISHED-TTL:PT1H
BEGIN:VTIMEZONE
TZID:America/Chicago
BEGIN:DAYLIGHT
TZOFFSETFROM:-0600
TZOFFSETTO:-0500
TZNAME:CDT
DTSTART:20250309T080000
END:DAYLIGHT
BEGIN:STANDARD
TZOFFSETFROM:-0500
TZOFFSETTO:-0600
TZNAME:CST
DTSTART:20251102T070000
END:STANDARD
BEGIN:DAYLIGHT
TZOFFSETFROM:-0600
TZOFFSETTO:-0500
TZNAME:CDT
DTSTART:20260308T080000
END:DAYLIGHT
BEGIN:STANDARD
TZOFFSETFROM:-0500
TZOFFSETTO:-0600
TZNAME:CST
DTSTART:20261101T070000
END:STANDARD
BEGIN:DAYLIGHT
TZOFFSETFROM:-0600
TZOFFSETTO:-0500
TZNAME:CDT
DTSTART:20270314T080000
END:DAYLIGHT
BEGIN:STANDARD
TZOFFSETFROM:-0500
TZOFFSETTO:-0600
TZNAME:CST
DTSTART:20271107T070000
END:STANDARD
BEGIN:DAYLIGHT
TZOFFSETFROM:-0600
TZOFFSETTO:-0500
TZNAME:CDT
DTSTART:20280312T080000
END:DAYLIGHT
BEGIN:STANDARD
TZOFFSETFROM:-0500
TZOFFSETTO:-0600
TZNAME:CST
DTSTART:20281105T070000
END:STANDARD
END:VTIMEZONE
BEGIN:VEVENT
DTSTART;TZID=America/Chicago:20261227T111500
DTEND;TZID=America/Chicago:20261227T113000
DTSTAMP:20260421T023445
CREATED:20250602T214855Z
LAST-MODIFIED:20250603T185944Z
UID:10123776-1798370100-1798371000@spacecenter.org
SUMMARY:Human Destiny Film
DESCRIPTION:
URL:https://spacecenter.org/events-calendar-event/human-destiny-film-5/2026-12-27/
LOCATION:Theater – Destiny
CATEGORIES:Film
ATTACH;FMTTYPE=image/jpeg:https://spacecenter.org/wp-content/uploads/2022/10/Destiny-Theater.jpg
END:VEVENT
BEGIN:VEVENT
DTSTART;TZID=America/Chicago:20261228T111500
DTEND;TZID=America/Chicago:20261228T113000
DTSTAMP:20260421T023445
CREATED:20250602T214855Z
LAST-MODIFIED:20250603T185944Z
UID:10123777-1798456500-1798457400@spacecenter.org
SUMMARY:Human Destiny Film
DESCRIPTION:
URL:https://spacecenter.org/events-calendar-event/human-destiny-film-5/2026-12-28/
LOCATION:Theater – Destiny
CATEGORIES:Film
ATTACH;FMTTYPE=image/jpeg:https://spacecenter.org/wp-content/uploads/2022/10/Destiny-Theater.jpg
END:VEVENT
BEGIN:VEVENT
DTSTART;TZID=America/Chicago:20261229T111500
DTEND;TZID=America/Chicago:20261229T113000
DTSTAMP:20260421T023445
CREATED:20250602T214855Z
LAST-MODIFIED:20250603T185944Z
UID:10123778-1798542900-1798543800@spacecenter.org
SUMMARY:Human Destiny Film
DESCRIPTION:
URL:https://spacecenter.org/events-calendar-event/human-destiny-film-5/2026-12-29/
LOCATION:Theater – Destiny
CATEGORIES:Film
ATTACH;FMTTYPE=image/jpeg:https://spacecenter.org/wp-content/uploads/2022/10/Destiny-Theater.jpg
END:VEVENT
BEGIN:VEVENT
DTSTART;TZID=America/Chicago:20261230T111500
DTEND;TZID=America/Chicago:20261230T113000
DTSTAMP:20260421T023445
CREATED:20250602T214855Z
LAST-MODIFIED:20250603T185944Z
UID:10123779-1798629300-1798630200@spacecenter.org
SUMMARY:Human Destiny Film
DESCRIPTION:
URL:https://spacecenter.org/events-calendar-event/human-destiny-film-5/2026-12-30/
LOCATION:Theater – Destiny
CATEGORIES:Film
ATTACH;FMTTYPE=image/jpeg:https://spacecenter.org/wp-content/uploads/2022/10/Destiny-Theater.jpg
END:VEVENT
BEGIN:VEVENT
DTSTART;TZID=America/Chicago:20261231T111500
DTEND;TZID=America/Chicago:20261231T113000
DTSTAMP:20260421T023445
CREATED:20250602T214855Z
LAST-MODIFIED:20250603T185944Z
UID:10123780-1798715700-1798716600@spacecenter.org
SUMMARY:Human Destiny Film
DESCRIPTION:
URL:https://spacecenter.org/events-calendar-event/human-destiny-film-5/2026-12-31/
LOCATION:Theater – Destiny
CATEGORIES:Film
ATTACH;FMTTYPE=image/jpeg:https://spacecenter.org/wp-content/uploads/2022/10/Destiny-Theater.jpg
END:VEVENT
BEGIN:VEVENT
DTSTART;TZID=America/Chicago:20270101T111500
DTEND;TZID=America/Chicago:20270101T113000
DTSTAMP:20260421T023445
CREATED:20250602T214855Z
LAST-MODIFIED:20250603T185944Z
UID:10123781-1798802100-1798803000@spacecenter.org
SUMMARY:Human Destiny Film
DESCRIPTION:
URL:https://spacecenter.org/events-calendar-event/human-destiny-film-5/2027-01-01/
LOCATION:Theater – Destiny
CATEGORIES:Film
ATTACH;FMTTYPE=image/jpeg:https://spacecenter.org/wp-content/uploads/2022/10/Destiny-Theater.jpg
END:VEVENT
BEGIN:VEVENT
DTSTART;TZID=America/Chicago:20270102T111500
DTEND;TZID=America/Chicago:20270102T113000
DTSTAMP:20260421T023445
CREATED:20250602T214855Z
LAST-MODIFIED:20250603T185944Z
UID:10123782-1798888500-1798889400@spacecenter.org
SUMMARY:Human Destiny Film
DESCRIPTION:
URL:https://spacecenter.org/events-calendar-event/human-destiny-film-5/2027-01-02/
LOCATION:Theater – Destiny
CATEGORIES:Film
ATTACH;FMTTYPE=image/jpeg:https://spacecenter.org/wp-content/uploads/2022/10/Destiny-Theater.jpg
END:VEVENT
BEGIN:VEVENT
DTSTART;TZID=America/Chicago:20270103T111500
DTEND;TZID=America/Chicago:20270103T113000
DTSTAMP:20260421T023445
CREATED:20250602T214855Z
LAST-MODIFIED:20250603T185944Z
UID:10123783-1798974900-1798975800@spacecenter.org
SUMMARY:Human Destiny Film
DESCRIPTION:
URL:https://spacecenter.org/events-calendar-event/human-destiny-film-5/2027-01-03/
LOCATION:Theater – Destiny
CATEGORIES:Film
ATTACH;FMTTYPE=image/jpeg:https://spacecenter.org/wp-content/uploads/2022/10/Destiny-Theater.jpg
END:VEVENT
BEGIN:VEVENT
DTSTART;TZID=America/Chicago:20270104T111500
DTEND;TZID=America/Chicago:20270104T113000
DTSTAMP:20260421T023445
CREATED:20250602T214855Z
LAST-MODIFIED:20250603T185944Z
UID:10123784-1799061300-1799062200@spacecenter.org
SUMMARY:Human Destiny Film
DESCRIPTION:
URL:https://spacecenter.org/events-calendar-event/human-destiny-film-5/2027-01-04/
LOCATION:Theater – Destiny
CATEGORIES:Film
ATTACH;FMTTYPE=image/jpeg:https://spacecenter.org/wp-content/uploads/2022/10/Destiny-Theater.jpg
END:VEVENT
BEGIN:VEVENT
DTSTART;TZID=America/Chicago:20270105T111500
DTEND;TZID=America/Chicago:20270105T113000
DTSTAMP:20260421T023445
CREATED:20250602T214855Z
LAST-MODIFIED:20250603T185944Z
UID:10123785-1799147700-1799148600@spacecenter.org
SUMMARY:Human Destiny Film
DESCRIPTION:
URL:https://spacecenter.org/events-calendar-event/human-destiny-film-5/2027-01-05/
LOCATION:Theater – Destiny
CATEGORIES:Film
ATTACH;FMTTYPE=image/jpeg:https://spacecenter.org/wp-content/uploads/2022/10/Destiny-Theater.jpg
END:VEVENT
BEGIN:VEVENT
DTSTART;TZID=America/Chicago:20270106T111500
DTEND;TZID=America/Chicago:20270106T113000
DTSTAMP:20260421T023445
CREATED:20250602T214855Z
LAST-MODIFIED:20250603T185944Z
UID:10123786-1799234100-1799235000@spacecenter.org
SUMMARY:Human Destiny Film
DESCRIPTION:
URL:https://spacecenter.org/events-calendar-event/human-destiny-film-5/2027-01-06/
LOCATION:Theater – Destiny
CATEGORIES:Film
ATTACH;FMTTYPE=image/jpeg:https://spacecenter.org/wp-content/uploads/2022/10/Destiny-Theater.jpg
END:VEVENT
BEGIN:VEVENT
DTSTART;TZID=America/Chicago:20270107T111500
DTEND;TZID=America/Chicago:20270107T113000
DTSTAMP:20260421T023445
CREATED:20250602T214855Z
LAST-MODIFIED:20250603T185944Z
UID:10123787-1799320500-1799321400@spacecenter.org
SUMMARY:Human Destiny Film
DESCRIPTION:
URL:https://spacecenter.org/events-calendar-event/human-destiny-film-5/2027-01-07/
LOCATION:Theater – Destiny
CATEGORIES:Film
ATTACH;FMTTYPE=image/jpeg:https://spacecenter.org/wp-content/uploads/2022/10/Destiny-Theater.jpg
END:VEVENT
BEGIN:VEVENT
DTSTART;TZID=America/Chicago:20270108T111500
DTEND;TZID=America/Chicago:20270108T113000
DTSTAMP:20260421T023445
CREATED:20250602T214855Z
LAST-MODIFIED:20250603T185944Z
UID:10123788-1799406900-1799407800@spacecenter.org
SUMMARY:Human Destiny Film
DESCRIPTION:
URL:https://spacecenter.org/events-calendar-event/human-destiny-film-5/2027-01-08/
LOCATION:Theater – Destiny
CATEGORIES:Film
ATTACH;FMTTYPE=image/jpeg:https://spacecenter.org/wp-content/uploads/2022/10/Destiny-Theater.jpg
END:VEVENT
BEGIN:VEVENT
DTSTART;TZID=America/Chicago:20270109T111500
DTEND;TZID=America/Chicago:20270109T113000
DTSTAMP:20260421T023445
CREATED:20250602T214855Z
LAST-MODIFIED:20250603T185944Z
UID:10123789-1799493300-1799494200@spacecenter.org
SUMMARY:Human Destiny Film
DESCRIPTION:
URL:https://spacecenter.org/events-calendar-event/human-destiny-film-5/2027-01-09/
LOCATION:Theater – Destiny
CATEGORIES:Film
ATTACH;FMTTYPE=image/jpeg:https://spacecenter.org/wp-content/uploads/2022/10/Destiny-Theater.jpg
END:VEVENT
BEGIN:VEVENT
DTSTART;TZID=America/Chicago:20270110T111500
DTEND;TZID=America/Chicago:20270110T113000
DTSTAMP:20260421T023445
CREATED:20250602T214855Z
LAST-MODIFIED:20250603T185944Z
UID:10123790-1799579700-1799580600@spacecenter.org
SUMMARY:Human Destiny Film
DESCRIPTION:
URL:https://spacecenter.org/events-calendar-event/human-destiny-film-5/2027-01-10/
LOCATION:Theater – Destiny
CATEGORIES:Film
ATTACH;FMTTYPE=image/jpeg:https://spacecenter.org/wp-content/uploads/2022/10/Destiny-Theater.jpg
END:VEVENT
BEGIN:VEVENT
DTSTART;TZID=America/Chicago:20270111T111500
DTEND;TZID=America/Chicago:20270111T113000
DTSTAMP:20260421T023445
CREATED:20250602T214855Z
LAST-MODIFIED:20250603T185944Z
UID:10123791-1799666100-1799667000@spacecenter.org
SUMMARY:Human Destiny Film
DESCRIPTION:
URL:https://spacecenter.org/events-calendar-event/human-destiny-film-5/2027-01-11/
LOCATION:Theater – Destiny
CATEGORIES:Film
ATTACH;FMTTYPE=image/jpeg:https://spacecenter.org/wp-content/uploads/2022/10/Destiny-Theater.jpg
END:VEVENT
BEGIN:VEVENT
DTSTART;TZID=America/Chicago:20270112T111500
DTEND;TZID=America/Chicago:20270112T113000
DTSTAMP:20260421T023445
CREATED:20250602T214855Z
LAST-MODIFIED:20250603T185944Z
UID:10123792-1799752500-1799753400@spacecenter.org
SUMMARY:Human Destiny Film
DESCRIPTION:
URL:https://spacecenter.org/events-calendar-event/human-destiny-film-5/2027-01-12/
LOCATION:Theater – Destiny
CATEGORIES:Film
ATTACH;FMTTYPE=image/jpeg:https://spacecenter.org/wp-content/uploads/2022/10/Destiny-Theater.jpg
END:VEVENT
BEGIN:VEVENT
DTSTART;TZID=America/Chicago:20270113T111500
DTEND;TZID=America/Chicago:20270113T113000
DTSTAMP:20260421T023445
CREATED:20250602T214855Z
LAST-MODIFIED:20250603T185944Z
UID:10123793-1799838900-1799839800@spacecenter.org
SUMMARY:Human Destiny Film
DESCRIPTION:
URL:https://spacecenter.org/events-calendar-event/human-destiny-film-5/2027-01-13/
LOCATION:Theater – Destiny
CATEGORIES:Film
ATTACH;FMTTYPE=image/jpeg:https://spacecenter.org/wp-content/uploads/2022/10/Destiny-Theater.jpg
END:VEVENT
BEGIN:VEVENT
DTSTART;TZID=America/Chicago:20270114T111500
DTEND;TZID=America/Chicago:20270114T113000
DTSTAMP:20260421T023445
CREATED:20250602T214855Z
LAST-MODIFIED:20250603T185944Z
UID:10123794-1799925300-1799926200@spacecenter.org
SUMMARY:Human Destiny Film
DESCRIPTION:
URL:https://spacecenter.org/events-calendar-event/human-destiny-film-5/2027-01-14/
LOCATION:Theater – Destiny
CATEGORIES:Film
ATTACH;FMTTYPE=image/jpeg:https://spacecenter.org/wp-content/uploads/2022/10/Destiny-Theater.jpg
END:VEVENT
BEGIN:VEVENT
DTSTART;TZID=America/Chicago:20270115T111500
DTEND;TZID=America/Chicago:20270115T113000
DTSTAMP:20260421T023445
CREATED:20250602T214855Z
LAST-MODIFIED:20250603T185944Z
UID:10123795-1800011700-1800012600@spacecenter.org
SUMMARY:Human Destiny Film
DESCRIPTION:
URL:https://spacecenter.org/events-calendar-event/human-destiny-film-5/2027-01-15/
LOCATION:Theater – Destiny
CATEGORIES:Film
ATTACH;FMTTYPE=image/jpeg:https://spacecenter.org/wp-content/uploads/2022/10/Destiny-Theater.jpg
END:VEVENT
BEGIN:VEVENT
DTSTART;TZID=America/Chicago:20270116T111500
DTEND;TZID=America/Chicago:20270116T113000
DTSTAMP:20260421T023445
CREATED:20250602T214855Z
LAST-MODIFIED:20250603T185944Z
UID:10123796-1800098100-1800099000@spacecenter.org
SUMMARY:Human Destiny Film
DESCRIPTION:
URL:https://spacecenter.org/events-calendar-event/human-destiny-film-5/2027-01-16/
LOCATION:Theater – Destiny
CATEGORIES:Film
ATTACH;FMTTYPE=image/jpeg:https://spacecenter.org/wp-content/uploads/2022/10/Destiny-Theater.jpg
END:VEVENT
BEGIN:VEVENT
DTSTART;TZID=America/Chicago:20270117T111500
DTEND;TZID=America/Chicago:20270117T113000
DTSTAMP:20260421T023445
CREATED:20250602T214855Z
LAST-MODIFIED:20250603T185944Z
UID:10123797-1800184500-1800185400@spacecenter.org
SUMMARY:Human Destiny Film
DESCRIPTION:
URL:https://spacecenter.org/events-calendar-event/human-destiny-film-5/2027-01-17/
LOCATION:Theater – Destiny
CATEGORIES:Film
ATTACH;FMTTYPE=image/jpeg:https://spacecenter.org/wp-content/uploads/2022/10/Destiny-Theater.jpg
END:VEVENT
BEGIN:VEVENT
DTSTART;TZID=America/Chicago:20270118T111500
DTEND;TZID=America/Chicago:20270118T113000
DTSTAMP:20260421T023445
CREATED:20250602T214855Z
LAST-MODIFIED:20250603T185944Z
UID:10123798-1800270900-1800271800@spacecenter.org
SUMMARY:Human Destiny Film
DESCRIPTION:
URL:https://spacecenter.org/events-calendar-event/human-destiny-film-5/2027-01-18/
LOCATION:Theater – Destiny
CATEGORIES:Film
ATTACH;FMTTYPE=image/jpeg:https://spacecenter.org/wp-content/uploads/2022/10/Destiny-Theater.jpg
END:VEVENT
BEGIN:VEVENT
DTSTART;TZID=America/Chicago:20270119T111500
DTEND;TZID=America/Chicago:20270119T113000
DTSTAMP:20260421T023445
CREATED:20250602T214855Z
LAST-MODIFIED:20250603T185944Z
UID:10123799-1800357300-1800358200@spacecenter.org
SUMMARY:Human Destiny Film
DESCRIPTION:
URL:https://spacecenter.org/events-calendar-event/human-destiny-film-5/2027-01-19/
LOCATION:Theater – Destiny
CATEGORIES:Film
ATTACH;FMTTYPE=image/jpeg:https://spacecenter.org/wp-content/uploads/2022/10/Destiny-Theater.jpg
END:VEVENT
BEGIN:VEVENT
DTSTART;TZID=America/Chicago:20270120T111500
DTEND;TZID=America/Chicago:20270120T113000
DTSTAMP:20260421T023445
CREATED:20250602T214855Z
LAST-MODIFIED:20250603T185944Z
UID:10123800-1800443700-1800444600@spacecenter.org
SUMMARY:Human Destiny Film
DESCRIPTION:
URL:https://spacecenter.org/events-calendar-event/human-destiny-film-5/2027-01-20/
LOCATION:Theater – Destiny
CATEGORIES:Film
ATTACH;FMTTYPE=image/jpeg:https://spacecenter.org/wp-content/uploads/2022/10/Destiny-Theater.jpg
END:VEVENT
BEGIN:VEVENT
DTSTART;TZID=America/Chicago:20270121T111500
DTEND;TZID=America/Chicago:20270121T113000
DTSTAMP:20260421T023445
CREATED:20250602T214855Z
LAST-MODIFIED:20250603T185944Z
UID:10123801-1800530100-1800531000@spacecenter.org
SUMMARY:Human Destiny Film
DESCRIPTION:
URL:https://spacecenter.org/events-calendar-event/human-destiny-film-5/2027-01-21/
LOCATION:Theater – Destiny
CATEGORIES:Film
ATTACH;FMTTYPE=image/jpeg:https://spacecenter.org/wp-content/uploads/2022/10/Destiny-Theater.jpg
END:VEVENT
BEGIN:VEVENT
DTSTART;TZID=America/Chicago:20270122T111500
DTEND;TZID=America/Chicago:20270122T113000
DTSTAMP:20260421T023445
CREATED:20250602T214855Z
LAST-MODIFIED:20250603T185944Z
UID:10123802-1800616500-1800617400@spacecenter.org
SUMMARY:Human Destiny Film
DESCRIPTION:
URL:https://spacecenter.org/events-calendar-event/human-destiny-film-5/2027-01-22/
LOCATION:Theater – Destiny
CATEGORIES:Film
ATTACH;FMTTYPE=image/jpeg:https://spacecenter.org/wp-content/uploads/2022/10/Destiny-Theater.jpg
END:VEVENT
BEGIN:VEVENT
DTSTART;TZID=America/Chicago:20270123T111500
DTEND;TZID=America/Chicago:20270123T113000
DTSTAMP:20260421T023445
CREATED:20250602T214855Z
LAST-MODIFIED:20250603T185944Z
UID:10123803-1800702900-1800703800@spacecenter.org
SUMMARY:Human Destiny Film
DESCRIPTION:
URL:https://spacecenter.org/events-calendar-event/human-destiny-film-5/2027-01-23/
LOCATION:Theater – Destiny
CATEGORIES:Film
ATTACH;FMTTYPE=image/jpeg:https://spacecenter.org/wp-content/uploads/2022/10/Destiny-Theater.jpg
END:VEVENT
BEGIN:VEVENT
DTSTART;TZID=America/Chicago:20270124T111500
DTEND;TZID=America/Chicago:20270124T113000
DTSTAMP:20260421T023445
CREATED:20250602T214855Z
LAST-MODIFIED:20250603T185944Z
UID:10123804-1800789300-1800790200@spacecenter.org
SUMMARY:Human Destiny Film
DESCRIPTION:
URL:https://spacecenter.org/events-calendar-event/human-destiny-film-5/2027-01-24/
LOCATION:Theater – Destiny
CATEGORIES:Film
ATTACH;FMTTYPE=image/jpeg:https://spacecenter.org/wp-content/uploads/2022/10/Destiny-Theater.jpg
END:VEVENT
BEGIN:VEVENT
DTSTART;TZID=America/Chicago:20270125T111500
DTEND;TZID=America/Chicago:20270125T113000
DTSTAMP:20260421T023445
CREATED:20250602T214855Z
LAST-MODIFIED:20250603T185944Z
UID:10123805-1800875700-1800876600@spacecenter.org
SUMMARY:Human Destiny Film
DESCRIPTION:
URL:https://spacecenter.org/events-calendar-event/human-destiny-film-5/2027-01-25/
LOCATION:Theater – Destiny
CATEGORIES:Film
ATTACH;FMTTYPE=image/jpeg:https://spacecenter.org/wp-content/uploads/2022/10/Destiny-Theater.jpg
END:VEVENT
END:VCALENDAR