BEGIN:VCALENDAR
VERSION:2.0
PRODID:-//Space Center Houston - ECPv6.15.15//NONSGML v1.0//EN
CALSCALE:GREGORIAN
METHOD:PUBLISH
X-ORIGINAL-URL:https://spacecenter.org
X-WR-CALDESC:Events for Space Center Houston
REFRESH-INTERVAL;VALUE=DURATION:PT1H
X-Robots-Tag:noindex
X-PUBLISHED-TTL:PT1H
BEGIN:VTIMEZONE
TZID:America/Chicago
BEGIN:DAYLIGHT
TZOFFSETFROM:-0600
TZOFFSETTO:-0500
TZNAME:CDT
DTSTART:20250309T080000
END:DAYLIGHT
BEGIN:STANDARD
TZOFFSETFROM:-0500
TZOFFSETTO:-0600
TZNAME:CST
DTSTART:20251102T070000
END:STANDARD
BEGIN:DAYLIGHT
TZOFFSETFROM:-0600
TZOFFSETTO:-0500
TZNAME:CDT
DTSTART:20260308T080000
END:DAYLIGHT
BEGIN:STANDARD
TZOFFSETFROM:-0500
TZOFFSETTO:-0600
TZNAME:CST
DTSTART:20261101T070000
END:STANDARD
BEGIN:DAYLIGHT
TZOFFSETFROM:-0600
TZOFFSETTO:-0500
TZNAME:CDT
DTSTART:20270314T080000
END:DAYLIGHT
BEGIN:STANDARD
TZOFFSETFROM:-0500
TZOFFSETTO:-0600
TZNAME:CST
DTSTART:20271107T070000
END:STANDARD
BEGIN:DAYLIGHT
TZOFFSETFROM:-0600
TZOFFSETTO:-0500
TZNAME:CDT
DTSTART:20280312T080000
END:DAYLIGHT
BEGIN:STANDARD
TZOFFSETFROM:-0500
TZOFFSETTO:-0600
TZNAME:CST
DTSTART:20281105T070000
END:STANDARD
END:VTIMEZONE
BEGIN:VEVENT
DTSTART;TZID=America/Chicago:20261231T121500
DTEND;TZID=America/Chicago:20261231T123000
DTSTAMP:20260424T164038
CREATED:20250602T213059Z
LAST-MODIFIED:20250603T190345Z
UID:10142060-1798719300-1798720200@spacecenter.org
SUMMARY:Story Corner Live Presentation
DESCRIPTION:
URL:https://spacecenter.org/events-calendar-event/story-corner-live-presentation-2/2026-12-31/
LOCATION:Theater – Artemis
CATEGORIES:Live Presentation
END:VEVENT
BEGIN:VEVENT
DTSTART;TZID=America/Chicago:20270101T121500
DTEND;TZID=America/Chicago:20270101T123000
DTSTAMP:20260424T164038
CREATED:20250602T213059Z
LAST-MODIFIED:20250603T190345Z
UID:10142061-1798805700-1798806600@spacecenter.org
SUMMARY:Story Corner Live Presentation
DESCRIPTION:
URL:https://spacecenter.org/events-calendar-event/story-corner-live-presentation-2/2027-01-01/
LOCATION:Theater – Artemis
CATEGORIES:Live Presentation
END:VEVENT
BEGIN:VEVENT
DTSTART;TZID=America/Chicago:20270102T121500
DTEND;TZID=America/Chicago:20270102T123000
DTSTAMP:20260424T164038
CREATED:20250602T213059Z
LAST-MODIFIED:20250603T190345Z
UID:10142062-1798892100-1798893000@spacecenter.org
SUMMARY:Story Corner Live Presentation
DESCRIPTION:
URL:https://spacecenter.org/events-calendar-event/story-corner-live-presentation-2/2027-01-02/
LOCATION:Theater – Artemis
CATEGORIES:Live Presentation
END:VEVENT
BEGIN:VEVENT
DTSTART;TZID=America/Chicago:20270103T121500
DTEND;TZID=America/Chicago:20270103T123000
DTSTAMP:20260424T164038
CREATED:20250602T213059Z
LAST-MODIFIED:20250603T190345Z
UID:10142063-1798978500-1798979400@spacecenter.org
SUMMARY:Story Corner Live Presentation
DESCRIPTION:
URL:https://spacecenter.org/events-calendar-event/story-corner-live-presentation-2/2027-01-03/
LOCATION:Theater – Artemis
CATEGORIES:Live Presentation
END:VEVENT
BEGIN:VEVENT
DTSTART;TZID=America/Chicago:20270104T121500
DTEND;TZID=America/Chicago:20270104T123000
DTSTAMP:20260424T164038
CREATED:20250602T213059Z
LAST-MODIFIED:20250603T190345Z
UID:10142064-1799064900-1799065800@spacecenter.org
SUMMARY:Story Corner Live Presentation
DESCRIPTION:
URL:https://spacecenter.org/events-calendar-event/story-corner-live-presentation-2/2027-01-04/
LOCATION:Theater – Artemis
CATEGORIES:Live Presentation
END:VEVENT
BEGIN:VEVENT
DTSTART;TZID=America/Chicago:20270105T121500
DTEND;TZID=America/Chicago:20270105T123000
DTSTAMP:20260424T164038
CREATED:20250602T213059Z
LAST-MODIFIED:20250603T190345Z
UID:10142065-1799151300-1799152200@spacecenter.org
SUMMARY:Story Corner Live Presentation
DESCRIPTION:
URL:https://spacecenter.org/events-calendar-event/story-corner-live-presentation-2/2027-01-05/
LOCATION:Theater – Artemis
CATEGORIES:Live Presentation
END:VEVENT
BEGIN:VEVENT
DTSTART;TZID=America/Chicago:20270106T121500
DTEND;TZID=America/Chicago:20270106T123000
DTSTAMP:20260424T164038
CREATED:20250602T213059Z
LAST-MODIFIED:20250603T190345Z
UID:10142066-1799237700-1799238600@spacecenter.org
SUMMARY:Story Corner Live Presentation
DESCRIPTION:
URL:https://spacecenter.org/events-calendar-event/story-corner-live-presentation-2/2027-01-06/
LOCATION:Theater – Artemis
CATEGORIES:Live Presentation
END:VEVENT
BEGIN:VEVENT
DTSTART;TZID=America/Chicago:20270107T121500
DTEND;TZID=America/Chicago:20270107T123000
DTSTAMP:20260424T164038
CREATED:20250602T213059Z
LAST-MODIFIED:20250603T190345Z
UID:10142067-1799324100-1799325000@spacecenter.org
SUMMARY:Story Corner Live Presentation
DESCRIPTION:
URL:https://spacecenter.org/events-calendar-event/story-corner-live-presentation-2/2027-01-07/
LOCATION:Theater – Artemis
CATEGORIES:Live Presentation
END:VEVENT
BEGIN:VEVENT
DTSTART;TZID=America/Chicago:20270108T121500
DTEND;TZID=America/Chicago:20270108T123000
DTSTAMP:20260424T164038
CREATED:20250602T213059Z
LAST-MODIFIED:20250603T190345Z
UID:10142068-1799410500-1799411400@spacecenter.org
SUMMARY:Story Corner Live Presentation
DESCRIPTION:
URL:https://spacecenter.org/events-calendar-event/story-corner-live-presentation-2/2027-01-08/
LOCATION:Theater – Artemis
CATEGORIES:Live Presentation
END:VEVENT
BEGIN:VEVENT
DTSTART;TZID=America/Chicago:20270109T121500
DTEND;TZID=America/Chicago:20270109T123000
DTSTAMP:20260424T164038
CREATED:20250602T213059Z
LAST-MODIFIED:20250603T190345Z
UID:10142069-1799496900-1799497800@spacecenter.org
SUMMARY:Story Corner Live Presentation
DESCRIPTION:
URL:https://spacecenter.org/events-calendar-event/story-corner-live-presentation-2/2027-01-09/
LOCATION:Theater – Artemis
CATEGORIES:Live Presentation
END:VEVENT
BEGIN:VEVENT
DTSTART;TZID=America/Chicago:20270110T121500
DTEND;TZID=America/Chicago:20270110T123000
DTSTAMP:20260424T164038
CREATED:20250602T213059Z
LAST-MODIFIED:20250603T190345Z
UID:10142070-1799583300-1799584200@spacecenter.org
SUMMARY:Story Corner Live Presentation
DESCRIPTION:
URL:https://spacecenter.org/events-calendar-event/story-corner-live-presentation-2/2027-01-10/
LOCATION:Theater – Artemis
CATEGORIES:Live Presentation
END:VEVENT
BEGIN:VEVENT
DTSTART;TZID=America/Chicago:20270111T121500
DTEND;TZID=America/Chicago:20270111T123000
DTSTAMP:20260424T164038
CREATED:20250602T213059Z
LAST-MODIFIED:20250603T190345Z
UID:10142071-1799669700-1799670600@spacecenter.org
SUMMARY:Story Corner Live Presentation
DESCRIPTION:
URL:https://spacecenter.org/events-calendar-event/story-corner-live-presentation-2/2027-01-11/
LOCATION:Theater – Artemis
CATEGORIES:Live Presentation
END:VEVENT
BEGIN:VEVENT
DTSTART;TZID=America/Chicago:20270112T121500
DTEND;TZID=America/Chicago:20270112T123000
DTSTAMP:20260424T164038
CREATED:20250602T213059Z
LAST-MODIFIED:20250603T190345Z
UID:10142072-1799756100-1799757000@spacecenter.org
SUMMARY:Story Corner Live Presentation
DESCRIPTION:
URL:https://spacecenter.org/events-calendar-event/story-corner-live-presentation-2/2027-01-12/
LOCATION:Theater – Artemis
CATEGORIES:Live Presentation
END:VEVENT
BEGIN:VEVENT
DTSTART;TZID=America/Chicago:20270113T121500
DTEND;TZID=America/Chicago:20270113T123000
DTSTAMP:20260424T164038
CREATED:20250602T213059Z
LAST-MODIFIED:20250603T190345Z
UID:10142073-1799842500-1799843400@spacecenter.org
SUMMARY:Story Corner Live Presentation
DESCRIPTION:
URL:https://spacecenter.org/events-calendar-event/story-corner-live-presentation-2/2027-01-13/
LOCATION:Theater – Artemis
CATEGORIES:Live Presentation
END:VEVENT
BEGIN:VEVENT
DTSTART;TZID=America/Chicago:20270114T121500
DTEND;TZID=America/Chicago:20270114T123000
DTSTAMP:20260424T164038
CREATED:20250602T213059Z
LAST-MODIFIED:20250603T190345Z
UID:10142074-1799928900-1799929800@spacecenter.org
SUMMARY:Story Corner Live Presentation
DESCRIPTION:
URL:https://spacecenter.org/events-calendar-event/story-corner-live-presentation-2/2027-01-14/
LOCATION:Theater – Artemis
CATEGORIES:Live Presentation
END:VEVENT
BEGIN:VEVENT
DTSTART;TZID=America/Chicago:20270115T121500
DTEND;TZID=America/Chicago:20270115T123000
DTSTAMP:20260424T164038
CREATED:20250602T213059Z
LAST-MODIFIED:20250603T190345Z
UID:10142075-1800015300-1800016200@spacecenter.org
SUMMARY:Story Corner Live Presentation
DESCRIPTION:
URL:https://spacecenter.org/events-calendar-event/story-corner-live-presentation-2/2027-01-15/
LOCATION:Theater – Artemis
CATEGORIES:Live Presentation
END:VEVENT
BEGIN:VEVENT
DTSTART;TZID=America/Chicago:20270116T121500
DTEND;TZID=America/Chicago:20270116T123000
DTSTAMP:20260424T164038
CREATED:20250602T213059Z
LAST-MODIFIED:20250603T190345Z
UID:10142076-1800101700-1800102600@spacecenter.org
SUMMARY:Story Corner Live Presentation
DESCRIPTION:
URL:https://spacecenter.org/events-calendar-event/story-corner-live-presentation-2/2027-01-16/
LOCATION:Theater – Artemis
CATEGORIES:Live Presentation
END:VEVENT
BEGIN:VEVENT
DTSTART;TZID=America/Chicago:20270117T121500
DTEND;TZID=America/Chicago:20270117T123000
DTSTAMP:20260424T164038
CREATED:20250602T213059Z
LAST-MODIFIED:20250603T190345Z
UID:10142077-1800188100-1800189000@spacecenter.org
SUMMARY:Story Corner Live Presentation
DESCRIPTION:
URL:https://spacecenter.org/events-calendar-event/story-corner-live-presentation-2/2027-01-17/
LOCATION:Theater – Artemis
CATEGORIES:Live Presentation
END:VEVENT
BEGIN:VEVENT
DTSTART;TZID=America/Chicago:20270118T121500
DTEND;TZID=America/Chicago:20270118T123000
DTSTAMP:20260424T164038
CREATED:20250602T213059Z
LAST-MODIFIED:20250603T190345Z
UID:10142078-1800274500-1800275400@spacecenter.org
SUMMARY:Story Corner Live Presentation
DESCRIPTION:
URL:https://spacecenter.org/events-calendar-event/story-corner-live-presentation-2/2027-01-18/
LOCATION:Theater – Artemis
CATEGORIES:Live Presentation
END:VEVENT
BEGIN:VEVENT
DTSTART;TZID=America/Chicago:20270119T121500
DTEND;TZID=America/Chicago:20270119T123000
DTSTAMP:20260424T164038
CREATED:20250602T213059Z
LAST-MODIFIED:20250603T190345Z
UID:10142079-1800360900-1800361800@spacecenter.org
SUMMARY:Story Corner Live Presentation
DESCRIPTION:
URL:https://spacecenter.org/events-calendar-event/story-corner-live-presentation-2/2027-01-19/
LOCATION:Theater – Artemis
CATEGORIES:Live Presentation
END:VEVENT
BEGIN:VEVENT
DTSTART;TZID=America/Chicago:20270120T121500
DTEND;TZID=America/Chicago:20270120T123000
DTSTAMP:20260424T164038
CREATED:20250602T213059Z
LAST-MODIFIED:20250603T190345Z
UID:10142080-1800447300-1800448200@spacecenter.org
SUMMARY:Story Corner Live Presentation
DESCRIPTION:
URL:https://spacecenter.org/events-calendar-event/story-corner-live-presentation-2/2027-01-20/
LOCATION:Theater – Artemis
CATEGORIES:Live Presentation
END:VEVENT
BEGIN:VEVENT
DTSTART;TZID=America/Chicago:20270121T121500
DTEND;TZID=America/Chicago:20270121T123000
DTSTAMP:20260424T164038
CREATED:20250602T213059Z
LAST-MODIFIED:20250603T190345Z
UID:10142081-1800533700-1800534600@spacecenter.org
SUMMARY:Story Corner Live Presentation
DESCRIPTION:
URL:https://spacecenter.org/events-calendar-event/story-corner-live-presentation-2/2027-01-21/
LOCATION:Theater – Artemis
CATEGORIES:Live Presentation
END:VEVENT
BEGIN:VEVENT
DTSTART;TZID=America/Chicago:20270122T121500
DTEND;TZID=America/Chicago:20270122T123000
DTSTAMP:20260424T164038
CREATED:20250602T213059Z
LAST-MODIFIED:20250603T190345Z
UID:10142082-1800620100-1800621000@spacecenter.org
SUMMARY:Story Corner Live Presentation
DESCRIPTION:
URL:https://spacecenter.org/events-calendar-event/story-corner-live-presentation-2/2027-01-22/
LOCATION:Theater – Artemis
CATEGORIES:Live Presentation
END:VEVENT
BEGIN:VEVENT
DTSTART;TZID=America/Chicago:20270123T121500
DTEND;TZID=America/Chicago:20270123T123000
DTSTAMP:20260424T164038
CREATED:20250602T213059Z
LAST-MODIFIED:20250603T190345Z
UID:10142083-1800706500-1800707400@spacecenter.org
SUMMARY:Story Corner Live Presentation
DESCRIPTION:
URL:https://spacecenter.org/events-calendar-event/story-corner-live-presentation-2/2027-01-23/
LOCATION:Theater – Artemis
CATEGORIES:Live Presentation
END:VEVENT
BEGIN:VEVENT
DTSTART;TZID=America/Chicago:20270124T121500
DTEND;TZID=America/Chicago:20270124T123000
DTSTAMP:20260424T164038
CREATED:20250602T213059Z
LAST-MODIFIED:20250603T190345Z
UID:10142084-1800792900-1800793800@spacecenter.org
SUMMARY:Story Corner Live Presentation
DESCRIPTION:
URL:https://spacecenter.org/events-calendar-event/story-corner-live-presentation-2/2027-01-24/
LOCATION:Theater – Artemis
CATEGORIES:Live Presentation
END:VEVENT
BEGIN:VEVENT
DTSTART;TZID=America/Chicago:20270125T121500
DTEND;TZID=America/Chicago:20270125T123000
DTSTAMP:20260424T164038
CREATED:20250602T213059Z
LAST-MODIFIED:20250603T190345Z
UID:10142085-1800879300-1800880200@spacecenter.org
SUMMARY:Story Corner Live Presentation
DESCRIPTION:
URL:https://spacecenter.org/events-calendar-event/story-corner-live-presentation-2/2027-01-25/
LOCATION:Theater – Artemis
CATEGORIES:Live Presentation
END:VEVENT
BEGIN:VEVENT
DTSTART;TZID=America/Chicago:20270126T121500
DTEND;TZID=America/Chicago:20270126T123000
DTSTAMP:20260424T164038
CREATED:20250602T213059Z
LAST-MODIFIED:20250603T190345Z
UID:10142086-1800965700-1800966600@spacecenter.org
SUMMARY:Story Corner Live Presentation
DESCRIPTION:
URL:https://spacecenter.org/events-calendar-event/story-corner-live-presentation-2/2027-01-26/
LOCATION:Theater – Artemis
CATEGORIES:Live Presentation
END:VEVENT
BEGIN:VEVENT
DTSTART;TZID=America/Chicago:20270127T121500
DTEND;TZID=America/Chicago:20270127T123000
DTSTAMP:20260424T164038
CREATED:20250602T213059Z
LAST-MODIFIED:20250603T190345Z
UID:10142087-1801052100-1801053000@spacecenter.org
SUMMARY:Story Corner Live Presentation
DESCRIPTION:
URL:https://spacecenter.org/events-calendar-event/story-corner-live-presentation-2/2027-01-27/
LOCATION:Theater – Artemis
CATEGORIES:Live Presentation
END:VEVENT
BEGIN:VEVENT
DTSTART;TZID=America/Chicago:20270128T121500
DTEND;TZID=America/Chicago:20270128T123000
DTSTAMP:20260424T164038
CREATED:20250602T213059Z
LAST-MODIFIED:20250603T190345Z
UID:10142088-1801138500-1801139400@spacecenter.org
SUMMARY:Story Corner Live Presentation
DESCRIPTION:
URL:https://spacecenter.org/events-calendar-event/story-corner-live-presentation-2/2027-01-28/
LOCATION:Theater – Artemis
CATEGORIES:Live Presentation
END:VEVENT
BEGIN:VEVENT
DTSTART;TZID=America/Chicago:20270129T121500
DTEND;TZID=America/Chicago:20270129T123000
DTSTAMP:20260424T164038
CREATED:20250602T213059Z
LAST-MODIFIED:20250603T190345Z
UID:10142089-1801224900-1801225800@spacecenter.org
SUMMARY:Story Corner Live Presentation
DESCRIPTION:
URL:https://spacecenter.org/events-calendar-event/story-corner-live-presentation-2/2027-01-29/
LOCATION:Theater – Artemis
CATEGORIES:Live Presentation
END:VEVENT
END:VCALENDAR