BEGIN:VCALENDAR
VERSION:2.0
PRODID:-//Space Center Houston - ECPv6.15.15//NONSGML v1.0//EN
CALSCALE:GREGORIAN
METHOD:PUBLISH
X-WR-CALNAME:Space Center Houston
X-ORIGINAL-URL:https://spacecenter.org
X-WR-CALDESC:Events for Space Center Houston
REFRESH-INTERVAL;VALUE=DURATION:PT1H
X-Robots-Tag:noindex
X-PUBLISHED-TTL:PT1H
BEGIN:VTIMEZONE
TZID:America/Chicago
BEGIN:DAYLIGHT
TZOFFSETFROM:-0600
TZOFFSETTO:-0500
TZNAME:CDT
DTSTART:20250309T080000
END:DAYLIGHT
BEGIN:STANDARD
TZOFFSETFROM:-0500
TZOFFSETTO:-0600
TZNAME:CST
DTSTART:20251102T070000
END:STANDARD
BEGIN:DAYLIGHT
TZOFFSETFROM:-0600
TZOFFSETTO:-0500
TZNAME:CDT
DTSTART:20260308T080000
END:DAYLIGHT
BEGIN:STANDARD
TZOFFSETFROM:-0500
TZOFFSETTO:-0600
TZNAME:CST
DTSTART:20261101T070000
END:STANDARD
BEGIN:DAYLIGHT
TZOFFSETFROM:-0600
TZOFFSETTO:-0500
TZNAME:CDT
DTSTART:20270314T080000
END:DAYLIGHT
BEGIN:STANDARD
TZOFFSETFROM:-0500
TZOFFSETTO:-0600
TZNAME:CST
DTSTART:20271107T070000
END:STANDARD
BEGIN:DAYLIGHT
TZOFFSETFROM:-0600
TZOFFSETTO:-0500
TZNAME:CDT
DTSTART:20280312T080000
END:DAYLIGHT
BEGIN:STANDARD
TZOFFSETFROM:-0500
TZOFFSETTO:-0600
TZNAME:CST
DTSTART:20281105T070000
END:STANDARD
END:VTIMEZONE
BEGIN:VEVENT
DTSTART;TZID=America/Chicago:20261228T134500
DTEND;TZID=America/Chicago:20261228T140000
DTSTAMP:20260422T034140
CREATED:20250602T213557Z
LAST-MODIFIED:20250603T191327Z
UID:10174961-1798465500-1798466400@spacecenter.org
SUMMARY:James Webb Live Presentation
DESCRIPTION:
URL:https://spacecenter.org/events-calendar-event/james-webb-live-presentation-2/2026-12-28/
LOCATION:Theater – Destiny
CATEGORIES:Live Presentation
END:VEVENT
BEGIN:VEVENT
DTSTART;TZID=America/Chicago:20261229T134500
DTEND;TZID=America/Chicago:20261229T140000
DTSTAMP:20260422T034140
CREATED:20250602T213557Z
LAST-MODIFIED:20250603T191327Z
UID:10174962-1798551900-1798552800@spacecenter.org
SUMMARY:James Webb Live Presentation
DESCRIPTION:
URL:https://spacecenter.org/events-calendar-event/james-webb-live-presentation-2/2026-12-29/
LOCATION:Theater – Destiny
CATEGORIES:Live Presentation
END:VEVENT
BEGIN:VEVENT
DTSTART;TZID=America/Chicago:20261230T134500
DTEND;TZID=America/Chicago:20261230T140000
DTSTAMP:20260422T034140
CREATED:20250602T213557Z
LAST-MODIFIED:20250603T191327Z
UID:10174963-1798638300-1798639200@spacecenter.org
SUMMARY:James Webb Live Presentation
DESCRIPTION:
URL:https://spacecenter.org/events-calendar-event/james-webb-live-presentation-2/2026-12-30/
LOCATION:Theater – Destiny
CATEGORIES:Live Presentation
END:VEVENT
BEGIN:VEVENT
DTSTART;TZID=America/Chicago:20261231T134500
DTEND;TZID=America/Chicago:20261231T140000
DTSTAMP:20260422T034140
CREATED:20250602T213557Z
LAST-MODIFIED:20250603T191327Z
UID:10174964-1798724700-1798725600@spacecenter.org
SUMMARY:James Webb Live Presentation
DESCRIPTION:
URL:https://spacecenter.org/events-calendar-event/james-webb-live-presentation-2/2026-12-31/
LOCATION:Theater – Destiny
CATEGORIES:Live Presentation
END:VEVENT
BEGIN:VEVENT
DTSTART;TZID=America/Chicago:20270101T134500
DTEND;TZID=America/Chicago:20270101T140000
DTSTAMP:20260422T034140
CREATED:20250602T213557Z
LAST-MODIFIED:20250603T191327Z
UID:10174965-1798811100-1798812000@spacecenter.org
SUMMARY:James Webb Live Presentation
DESCRIPTION:
URL:https://spacecenter.org/events-calendar-event/james-webb-live-presentation-2/2027-01-01/
LOCATION:Theater – Destiny
CATEGORIES:Live Presentation
END:VEVENT
BEGIN:VEVENT
DTSTART;TZID=America/Chicago:20270102T134500
DTEND;TZID=America/Chicago:20270102T140000
DTSTAMP:20260422T034140
CREATED:20250602T213557Z
LAST-MODIFIED:20250603T191327Z
UID:10174966-1798897500-1798898400@spacecenter.org
SUMMARY:James Webb Live Presentation
DESCRIPTION:
URL:https://spacecenter.org/events-calendar-event/james-webb-live-presentation-2/2027-01-02/
LOCATION:Theater – Destiny
CATEGORIES:Live Presentation
END:VEVENT
BEGIN:VEVENT
DTSTART;TZID=America/Chicago:20270103T134500
DTEND;TZID=America/Chicago:20270103T140000
DTSTAMP:20260422T034140
CREATED:20250602T213557Z
LAST-MODIFIED:20250603T191327Z
UID:10174967-1798983900-1798984800@spacecenter.org
SUMMARY:James Webb Live Presentation
DESCRIPTION:
URL:https://spacecenter.org/events-calendar-event/james-webb-live-presentation-2/2027-01-03/
LOCATION:Theater – Destiny
CATEGORIES:Live Presentation
END:VEVENT
BEGIN:VEVENT
DTSTART;TZID=America/Chicago:20270104T134500
DTEND;TZID=America/Chicago:20270104T140000
DTSTAMP:20260422T034140
CREATED:20250602T213557Z
LAST-MODIFIED:20250603T191327Z
UID:10174968-1799070300-1799071200@spacecenter.org
SUMMARY:James Webb Live Presentation
DESCRIPTION:
URL:https://spacecenter.org/events-calendar-event/james-webb-live-presentation-2/2027-01-04/
LOCATION:Theater – Destiny
CATEGORIES:Live Presentation
END:VEVENT
BEGIN:VEVENT
DTSTART;TZID=America/Chicago:20270105T134500
DTEND;TZID=America/Chicago:20270105T140000
DTSTAMP:20260422T034140
CREATED:20250602T213557Z
LAST-MODIFIED:20250603T191327Z
UID:10174969-1799156700-1799157600@spacecenter.org
SUMMARY:James Webb Live Presentation
DESCRIPTION:
URL:https://spacecenter.org/events-calendar-event/james-webb-live-presentation-2/2027-01-05/
LOCATION:Theater – Destiny
CATEGORIES:Live Presentation
END:VEVENT
BEGIN:VEVENT
DTSTART;TZID=America/Chicago:20270106T134500
DTEND;TZID=America/Chicago:20270106T140000
DTSTAMP:20260422T034140
CREATED:20250602T213557Z
LAST-MODIFIED:20250603T191327Z
UID:10174970-1799243100-1799244000@spacecenter.org
SUMMARY:James Webb Live Presentation
DESCRIPTION:
URL:https://spacecenter.org/events-calendar-event/james-webb-live-presentation-2/2027-01-06/
LOCATION:Theater – Destiny
CATEGORIES:Live Presentation
END:VEVENT
BEGIN:VEVENT
DTSTART;TZID=America/Chicago:20270107T134500
DTEND;TZID=America/Chicago:20270107T140000
DTSTAMP:20260422T034140
CREATED:20250602T213557Z
LAST-MODIFIED:20250603T191327Z
UID:10174971-1799329500-1799330400@spacecenter.org
SUMMARY:James Webb Live Presentation
DESCRIPTION:
URL:https://spacecenter.org/events-calendar-event/james-webb-live-presentation-2/2027-01-07/
LOCATION:Theater – Destiny
CATEGORIES:Live Presentation
END:VEVENT
BEGIN:VEVENT
DTSTART;TZID=America/Chicago:20270108T134500
DTEND;TZID=America/Chicago:20270108T140000
DTSTAMP:20260422T034140
CREATED:20250602T213557Z
LAST-MODIFIED:20250603T191327Z
UID:10174972-1799415900-1799416800@spacecenter.org
SUMMARY:James Webb Live Presentation
DESCRIPTION:
URL:https://spacecenter.org/events-calendar-event/james-webb-live-presentation-2/2027-01-08/
LOCATION:Theater – Destiny
CATEGORIES:Live Presentation
END:VEVENT
BEGIN:VEVENT
DTSTART;TZID=America/Chicago:20270109T134500
DTEND;TZID=America/Chicago:20270109T140000
DTSTAMP:20260422T034140
CREATED:20250602T213557Z
LAST-MODIFIED:20250603T191327Z
UID:10174973-1799502300-1799503200@spacecenter.org
SUMMARY:James Webb Live Presentation
DESCRIPTION:
URL:https://spacecenter.org/events-calendar-event/james-webb-live-presentation-2/2027-01-09/
LOCATION:Theater – Destiny
CATEGORIES:Live Presentation
END:VEVENT
BEGIN:VEVENT
DTSTART;TZID=America/Chicago:20270110T134500
DTEND;TZID=America/Chicago:20270110T140000
DTSTAMP:20260422T034140
CREATED:20250602T213557Z
LAST-MODIFIED:20250603T191327Z
UID:10174974-1799588700-1799589600@spacecenter.org
SUMMARY:James Webb Live Presentation
DESCRIPTION:
URL:https://spacecenter.org/events-calendar-event/james-webb-live-presentation-2/2027-01-10/
LOCATION:Theater – Destiny
CATEGORIES:Live Presentation
END:VEVENT
BEGIN:VEVENT
DTSTART;TZID=America/Chicago:20270111T134500
DTEND;TZID=America/Chicago:20270111T140000
DTSTAMP:20260422T034140
CREATED:20250602T213557Z
LAST-MODIFIED:20250603T191327Z
UID:10174975-1799675100-1799676000@spacecenter.org
SUMMARY:James Webb Live Presentation
DESCRIPTION:
URL:https://spacecenter.org/events-calendar-event/james-webb-live-presentation-2/2027-01-11/
LOCATION:Theater – Destiny
CATEGORIES:Live Presentation
END:VEVENT
BEGIN:VEVENT
DTSTART;TZID=America/Chicago:20270112T134500
DTEND;TZID=America/Chicago:20270112T140000
DTSTAMP:20260422T034140
CREATED:20250602T213557Z
LAST-MODIFIED:20250603T191327Z
UID:10174976-1799761500-1799762400@spacecenter.org
SUMMARY:James Webb Live Presentation
DESCRIPTION:
URL:https://spacecenter.org/events-calendar-event/james-webb-live-presentation-2/2027-01-12/
LOCATION:Theater – Destiny
CATEGORIES:Live Presentation
END:VEVENT
BEGIN:VEVENT
DTSTART;TZID=America/Chicago:20270113T134500
DTEND;TZID=America/Chicago:20270113T140000
DTSTAMP:20260422T034140
CREATED:20250602T213557Z
LAST-MODIFIED:20250603T191327Z
UID:10174977-1799847900-1799848800@spacecenter.org
SUMMARY:James Webb Live Presentation
DESCRIPTION:
URL:https://spacecenter.org/events-calendar-event/james-webb-live-presentation-2/2027-01-13/
LOCATION:Theater – Destiny
CATEGORIES:Live Presentation
END:VEVENT
BEGIN:VEVENT
DTSTART;TZID=America/Chicago:20270114T134500
DTEND;TZID=America/Chicago:20270114T140000
DTSTAMP:20260422T034140
CREATED:20250602T213557Z
LAST-MODIFIED:20250603T191327Z
UID:10174978-1799934300-1799935200@spacecenter.org
SUMMARY:James Webb Live Presentation
DESCRIPTION:
URL:https://spacecenter.org/events-calendar-event/james-webb-live-presentation-2/2027-01-14/
LOCATION:Theater – Destiny
CATEGORIES:Live Presentation
END:VEVENT
BEGIN:VEVENT
DTSTART;TZID=America/Chicago:20270115T134500
DTEND;TZID=America/Chicago:20270115T140000
DTSTAMP:20260422T034140
CREATED:20250602T213557Z
LAST-MODIFIED:20250603T191327Z
UID:10174979-1800020700-1800021600@spacecenter.org
SUMMARY:James Webb Live Presentation
DESCRIPTION:
URL:https://spacecenter.org/events-calendar-event/james-webb-live-presentation-2/2027-01-15/
LOCATION:Theater – Destiny
CATEGORIES:Live Presentation
END:VEVENT
BEGIN:VEVENT
DTSTART;TZID=America/Chicago:20270116T134500
DTEND;TZID=America/Chicago:20270116T140000
DTSTAMP:20260422T034140
CREATED:20250602T213557Z
LAST-MODIFIED:20250603T191327Z
UID:10174980-1800107100-1800108000@spacecenter.org
SUMMARY:James Webb Live Presentation
DESCRIPTION:
URL:https://spacecenter.org/events-calendar-event/james-webb-live-presentation-2/2027-01-16/
LOCATION:Theater – Destiny
CATEGORIES:Live Presentation
END:VEVENT
BEGIN:VEVENT
DTSTART;TZID=America/Chicago:20270117T134500
DTEND;TZID=America/Chicago:20270117T140000
DTSTAMP:20260422T034140
CREATED:20250602T213557Z
LAST-MODIFIED:20250603T191327Z
UID:10174981-1800193500-1800194400@spacecenter.org
SUMMARY:James Webb Live Presentation
DESCRIPTION:
URL:https://spacecenter.org/events-calendar-event/james-webb-live-presentation-2/2027-01-17/
LOCATION:Theater – Destiny
CATEGORIES:Live Presentation
END:VEVENT
BEGIN:VEVENT
DTSTART;TZID=America/Chicago:20270118T134500
DTEND;TZID=America/Chicago:20270118T140000
DTSTAMP:20260422T034141
CREATED:20250602T213557Z
LAST-MODIFIED:20250603T191327Z
UID:10174982-1800279900-1800280800@spacecenter.org
SUMMARY:James Webb Live Presentation
DESCRIPTION:
URL:https://spacecenter.org/events-calendar-event/james-webb-live-presentation-2/2027-01-18/
LOCATION:Theater – Destiny
CATEGORIES:Live Presentation
END:VEVENT
BEGIN:VEVENT
DTSTART;TZID=America/Chicago:20270119T134500
DTEND;TZID=America/Chicago:20270119T140000
DTSTAMP:20260422T034141
CREATED:20250602T213557Z
LAST-MODIFIED:20250603T191327Z
UID:10174983-1800366300-1800367200@spacecenter.org
SUMMARY:James Webb Live Presentation
DESCRIPTION:
URL:https://spacecenter.org/events-calendar-event/james-webb-live-presentation-2/2027-01-19/
LOCATION:Theater – Destiny
CATEGORIES:Live Presentation
END:VEVENT
BEGIN:VEVENT
DTSTART;TZID=America/Chicago:20270120T134500
DTEND;TZID=America/Chicago:20270120T140000
DTSTAMP:20260422T034141
CREATED:20250602T213557Z
LAST-MODIFIED:20250603T191327Z
UID:10174984-1800452700-1800453600@spacecenter.org
SUMMARY:James Webb Live Presentation
DESCRIPTION:
URL:https://spacecenter.org/events-calendar-event/james-webb-live-presentation-2/2027-01-20/
LOCATION:Theater – Destiny
CATEGORIES:Live Presentation
END:VEVENT
BEGIN:VEVENT
DTSTART;TZID=America/Chicago:20270121T134500
DTEND;TZID=America/Chicago:20270121T140000
DTSTAMP:20260422T034141
CREATED:20250602T213557Z
LAST-MODIFIED:20250603T191327Z
UID:10174985-1800539100-1800540000@spacecenter.org
SUMMARY:James Webb Live Presentation
DESCRIPTION:
URL:https://spacecenter.org/events-calendar-event/james-webb-live-presentation-2/2027-01-21/
LOCATION:Theater – Destiny
CATEGORIES:Live Presentation
END:VEVENT
BEGIN:VEVENT
DTSTART;TZID=America/Chicago:20270122T134500
DTEND;TZID=America/Chicago:20270122T140000
DTSTAMP:20260422T034141
CREATED:20250602T213557Z
LAST-MODIFIED:20250603T191327Z
UID:10174986-1800625500-1800626400@spacecenter.org
SUMMARY:James Webb Live Presentation
DESCRIPTION:
URL:https://spacecenter.org/events-calendar-event/james-webb-live-presentation-2/2027-01-22/
LOCATION:Theater – Destiny
CATEGORIES:Live Presentation
END:VEVENT
BEGIN:VEVENT
DTSTART;TZID=America/Chicago:20270123T134500
DTEND;TZID=America/Chicago:20270123T140000
DTSTAMP:20260422T034141
CREATED:20250602T213557Z
LAST-MODIFIED:20250603T191327Z
UID:10174987-1800711900-1800712800@spacecenter.org
SUMMARY:James Webb Live Presentation
DESCRIPTION:
URL:https://spacecenter.org/events-calendar-event/james-webb-live-presentation-2/2027-01-23/
LOCATION:Theater – Destiny
CATEGORIES:Live Presentation
END:VEVENT
BEGIN:VEVENT
DTSTART;TZID=America/Chicago:20270124T134500
DTEND;TZID=America/Chicago:20270124T140000
DTSTAMP:20260422T034141
CREATED:20250602T213557Z
LAST-MODIFIED:20250603T191327Z
UID:10174988-1800798300-1800799200@spacecenter.org
SUMMARY:James Webb Live Presentation
DESCRIPTION:
URL:https://spacecenter.org/events-calendar-event/james-webb-live-presentation-2/2027-01-24/
LOCATION:Theater – Destiny
CATEGORIES:Live Presentation
END:VEVENT
BEGIN:VEVENT
DTSTART;TZID=America/Chicago:20270125T134500
DTEND;TZID=America/Chicago:20270125T140000
DTSTAMP:20260422T034141
CREATED:20250602T213557Z
LAST-MODIFIED:20250603T191327Z
UID:10174989-1800884700-1800885600@spacecenter.org
SUMMARY:James Webb Live Presentation
DESCRIPTION:
URL:https://spacecenter.org/events-calendar-event/james-webb-live-presentation-2/2027-01-25/
LOCATION:Theater – Destiny
CATEGORIES:Live Presentation
END:VEVENT
BEGIN:VEVENT
DTSTART;TZID=America/Chicago:20270126T134500
DTEND;TZID=America/Chicago:20270126T140000
DTSTAMP:20260422T034141
CREATED:20250602T213557Z
LAST-MODIFIED:20250603T191327Z
UID:10174990-1800971100-1800972000@spacecenter.org
SUMMARY:James Webb Live Presentation
DESCRIPTION:
URL:https://spacecenter.org/events-calendar-event/james-webb-live-presentation-2/2027-01-26/
LOCATION:Theater – Destiny
CATEGORIES:Live Presentation
END:VEVENT
END:VCALENDAR