BEGIN:VCALENDAR
VERSION:2.0
PRODID:-//Space Center Houston - ECPv6.15.15//NONSGML v1.0//EN
CALSCALE:GREGORIAN
METHOD:PUBLISH
X-WR-CALNAME:Space Center Houston
X-ORIGINAL-URL:https://spacecenter.org
X-WR-CALDESC:Events for Space Center Houston
REFRESH-INTERVAL;VALUE=DURATION:PT1H
X-Robots-Tag:noindex
X-PUBLISHED-TTL:PT1H
BEGIN:VTIMEZONE
TZID:America/Chicago
BEGIN:DAYLIGHT
TZOFFSETFROM:-0600
TZOFFSETTO:-0500
TZNAME:CDT
DTSTART:20250309T080000
END:DAYLIGHT
BEGIN:STANDARD
TZOFFSETFROM:-0500
TZOFFSETTO:-0600
TZNAME:CST
DTSTART:20251102T070000
END:STANDARD
BEGIN:DAYLIGHT
TZOFFSETFROM:-0600
TZOFFSETTO:-0500
TZNAME:CDT
DTSTART:20260308T080000
END:DAYLIGHT
BEGIN:STANDARD
TZOFFSETFROM:-0500
TZOFFSETTO:-0600
TZNAME:CST
DTSTART:20261101T070000
END:STANDARD
BEGIN:DAYLIGHT
TZOFFSETFROM:-0600
TZOFFSETTO:-0500
TZNAME:CDT
DTSTART:20270314T080000
END:DAYLIGHT
BEGIN:STANDARD
TZOFFSETFROM:-0500
TZOFFSETTO:-0600
TZNAME:CST
DTSTART:20271107T070000
END:STANDARD
BEGIN:DAYLIGHT
TZOFFSETFROM:-0600
TZOFFSETTO:-0500
TZNAME:CDT
DTSTART:20280312T080000
END:DAYLIGHT
BEGIN:STANDARD
TZOFFSETFROM:-0500
TZOFFSETTO:-0600
TZNAME:CST
DTSTART:20281105T070000
END:STANDARD
END:VTIMEZONE
BEGIN:VEVENT
DTSTART;TZID=America/Chicago:20261228T151500
DTEND;TZID=America/Chicago:20261228T153000
DTSTAMP:20260422T094035
CREATED:20250602T213249Z
LAST-MODIFIED:20250603T191942Z
UID:10196897-1798470900-1798471800@spacecenter.org
SUMMARY:Story Corner Live Presentation
DESCRIPTION:
URL:https://spacecenter.org/events-calendar-event/story-corner-live-presentation-4/2026-12-28/
LOCATION:Theater – Artemis
CATEGORIES:Live Presentation
END:VEVENT
BEGIN:VEVENT
DTSTART;TZID=America/Chicago:20261229T151500
DTEND;TZID=America/Chicago:20261229T153000
DTSTAMP:20260422T094035
CREATED:20250602T213249Z
LAST-MODIFIED:20250603T191942Z
UID:10196898-1798557300-1798558200@spacecenter.org
SUMMARY:Story Corner Live Presentation
DESCRIPTION:
URL:https://spacecenter.org/events-calendar-event/story-corner-live-presentation-4/2026-12-29/
LOCATION:Theater – Artemis
CATEGORIES:Live Presentation
END:VEVENT
BEGIN:VEVENT
DTSTART;TZID=America/Chicago:20261230T151500
DTEND;TZID=America/Chicago:20261230T153000
DTSTAMP:20260422T094035
CREATED:20250602T213249Z
LAST-MODIFIED:20250603T191942Z
UID:10196899-1798643700-1798644600@spacecenter.org
SUMMARY:Story Corner Live Presentation
DESCRIPTION:
URL:https://spacecenter.org/events-calendar-event/story-corner-live-presentation-4/2026-12-30/
LOCATION:Theater – Artemis
CATEGORIES:Live Presentation
END:VEVENT
BEGIN:VEVENT
DTSTART;TZID=America/Chicago:20261231T151500
DTEND;TZID=America/Chicago:20261231T153000
DTSTAMP:20260422T094035
CREATED:20250602T213249Z
LAST-MODIFIED:20250603T191942Z
UID:10196900-1798730100-1798731000@spacecenter.org
SUMMARY:Story Corner Live Presentation
DESCRIPTION:
URL:https://spacecenter.org/events-calendar-event/story-corner-live-presentation-4/2026-12-31/
LOCATION:Theater – Artemis
CATEGORIES:Live Presentation
END:VEVENT
BEGIN:VEVENT
DTSTART;TZID=America/Chicago:20270101T151500
DTEND;TZID=America/Chicago:20270101T153000
DTSTAMP:20260422T094035
CREATED:20250602T213249Z
LAST-MODIFIED:20250603T191942Z
UID:10196901-1798816500-1798817400@spacecenter.org
SUMMARY:Story Corner Live Presentation
DESCRIPTION:
URL:https://spacecenter.org/events-calendar-event/story-corner-live-presentation-4/2027-01-01/
LOCATION:Theater – Artemis
CATEGORIES:Live Presentation
END:VEVENT
BEGIN:VEVENT
DTSTART;TZID=America/Chicago:20270102T151500
DTEND;TZID=America/Chicago:20270102T153000
DTSTAMP:20260422T094035
CREATED:20250602T213249Z
LAST-MODIFIED:20250603T191942Z
UID:10196902-1798902900-1798903800@spacecenter.org
SUMMARY:Story Corner Live Presentation
DESCRIPTION:
URL:https://spacecenter.org/events-calendar-event/story-corner-live-presentation-4/2027-01-02/
LOCATION:Theater – Artemis
CATEGORIES:Live Presentation
END:VEVENT
BEGIN:VEVENT
DTSTART;TZID=America/Chicago:20270103T151500
DTEND;TZID=America/Chicago:20270103T153000
DTSTAMP:20260422T094035
CREATED:20250602T213249Z
LAST-MODIFIED:20250603T191942Z
UID:10196903-1798989300-1798990200@spacecenter.org
SUMMARY:Story Corner Live Presentation
DESCRIPTION:
URL:https://spacecenter.org/events-calendar-event/story-corner-live-presentation-4/2027-01-03/
LOCATION:Theater – Artemis
CATEGORIES:Live Presentation
END:VEVENT
BEGIN:VEVENT
DTSTART;TZID=America/Chicago:20270104T151500
DTEND;TZID=America/Chicago:20270104T153000
DTSTAMP:20260422T094035
CREATED:20250602T213249Z
LAST-MODIFIED:20250603T191942Z
UID:10196904-1799075700-1799076600@spacecenter.org
SUMMARY:Story Corner Live Presentation
DESCRIPTION:
URL:https://spacecenter.org/events-calendar-event/story-corner-live-presentation-4/2027-01-04/
LOCATION:Theater – Artemis
CATEGORIES:Live Presentation
END:VEVENT
BEGIN:VEVENT
DTSTART;TZID=America/Chicago:20270105T151500
DTEND;TZID=America/Chicago:20270105T153000
DTSTAMP:20260422T094035
CREATED:20250602T213249Z
LAST-MODIFIED:20250603T191942Z
UID:10196905-1799162100-1799163000@spacecenter.org
SUMMARY:Story Corner Live Presentation
DESCRIPTION:
URL:https://spacecenter.org/events-calendar-event/story-corner-live-presentation-4/2027-01-05/
LOCATION:Theater – Artemis
CATEGORIES:Live Presentation
END:VEVENT
BEGIN:VEVENT
DTSTART;TZID=America/Chicago:20270106T151500
DTEND;TZID=America/Chicago:20270106T153000
DTSTAMP:20260422T094035
CREATED:20250602T213249Z
LAST-MODIFIED:20250603T191942Z
UID:10196906-1799248500-1799249400@spacecenter.org
SUMMARY:Story Corner Live Presentation
DESCRIPTION:
URL:https://spacecenter.org/events-calendar-event/story-corner-live-presentation-4/2027-01-06/
LOCATION:Theater – Artemis
CATEGORIES:Live Presentation
END:VEVENT
BEGIN:VEVENT
DTSTART;TZID=America/Chicago:20270107T151500
DTEND;TZID=America/Chicago:20270107T153000
DTSTAMP:20260422T094035
CREATED:20250602T213249Z
LAST-MODIFIED:20250603T191942Z
UID:10196907-1799334900-1799335800@spacecenter.org
SUMMARY:Story Corner Live Presentation
DESCRIPTION:
URL:https://spacecenter.org/events-calendar-event/story-corner-live-presentation-4/2027-01-07/
LOCATION:Theater – Artemis
CATEGORIES:Live Presentation
END:VEVENT
BEGIN:VEVENT
DTSTART;TZID=America/Chicago:20270108T151500
DTEND;TZID=America/Chicago:20270108T153000
DTSTAMP:20260422T094035
CREATED:20250602T213249Z
LAST-MODIFIED:20250603T191942Z
UID:10196908-1799421300-1799422200@spacecenter.org
SUMMARY:Story Corner Live Presentation
DESCRIPTION:
URL:https://spacecenter.org/events-calendar-event/story-corner-live-presentation-4/2027-01-08/
LOCATION:Theater – Artemis
CATEGORIES:Live Presentation
END:VEVENT
BEGIN:VEVENT
DTSTART;TZID=America/Chicago:20270109T151500
DTEND;TZID=America/Chicago:20270109T153000
DTSTAMP:20260422T094035
CREATED:20250602T213249Z
LAST-MODIFIED:20250603T191942Z
UID:10196909-1799507700-1799508600@spacecenter.org
SUMMARY:Story Corner Live Presentation
DESCRIPTION:
URL:https://spacecenter.org/events-calendar-event/story-corner-live-presentation-4/2027-01-09/
LOCATION:Theater – Artemis
CATEGORIES:Live Presentation
END:VEVENT
BEGIN:VEVENT
DTSTART;TZID=America/Chicago:20270110T151500
DTEND;TZID=America/Chicago:20270110T153000
DTSTAMP:20260422T094035
CREATED:20250602T213249Z
LAST-MODIFIED:20250603T191942Z
UID:10196910-1799594100-1799595000@spacecenter.org
SUMMARY:Story Corner Live Presentation
DESCRIPTION:
URL:https://spacecenter.org/events-calendar-event/story-corner-live-presentation-4/2027-01-10/
LOCATION:Theater – Artemis
CATEGORIES:Live Presentation
END:VEVENT
BEGIN:VEVENT
DTSTART;TZID=America/Chicago:20270111T151500
DTEND;TZID=America/Chicago:20270111T153000
DTSTAMP:20260422T094035
CREATED:20250602T213249Z
LAST-MODIFIED:20250603T191942Z
UID:10196911-1799680500-1799681400@spacecenter.org
SUMMARY:Story Corner Live Presentation
DESCRIPTION:
URL:https://spacecenter.org/events-calendar-event/story-corner-live-presentation-4/2027-01-11/
LOCATION:Theater – Artemis
CATEGORIES:Live Presentation
END:VEVENT
BEGIN:VEVENT
DTSTART;TZID=America/Chicago:20270112T151500
DTEND;TZID=America/Chicago:20270112T153000
DTSTAMP:20260422T094035
CREATED:20250602T213249Z
LAST-MODIFIED:20250603T191942Z
UID:10196912-1799766900-1799767800@spacecenter.org
SUMMARY:Story Corner Live Presentation
DESCRIPTION:
URL:https://spacecenter.org/events-calendar-event/story-corner-live-presentation-4/2027-01-12/
LOCATION:Theater – Artemis
CATEGORIES:Live Presentation
END:VEVENT
BEGIN:VEVENT
DTSTART;TZID=America/Chicago:20270113T151500
DTEND;TZID=America/Chicago:20270113T153000
DTSTAMP:20260422T094035
CREATED:20250602T213249Z
LAST-MODIFIED:20250603T191942Z
UID:10196913-1799853300-1799854200@spacecenter.org
SUMMARY:Story Corner Live Presentation
DESCRIPTION:
URL:https://spacecenter.org/events-calendar-event/story-corner-live-presentation-4/2027-01-13/
LOCATION:Theater – Artemis
CATEGORIES:Live Presentation
END:VEVENT
BEGIN:VEVENT
DTSTART;TZID=America/Chicago:20270114T151500
DTEND;TZID=America/Chicago:20270114T153000
DTSTAMP:20260422T094035
CREATED:20250602T213249Z
LAST-MODIFIED:20250603T191942Z
UID:10196914-1799939700-1799940600@spacecenter.org
SUMMARY:Story Corner Live Presentation
DESCRIPTION:
URL:https://spacecenter.org/events-calendar-event/story-corner-live-presentation-4/2027-01-14/
LOCATION:Theater – Artemis
CATEGORIES:Live Presentation
END:VEVENT
BEGIN:VEVENT
DTSTART;TZID=America/Chicago:20270115T151500
DTEND;TZID=America/Chicago:20270115T153000
DTSTAMP:20260422T094035
CREATED:20250602T213249Z
LAST-MODIFIED:20250603T191942Z
UID:10196915-1800026100-1800027000@spacecenter.org
SUMMARY:Story Corner Live Presentation
DESCRIPTION:
URL:https://spacecenter.org/events-calendar-event/story-corner-live-presentation-4/2027-01-15/
LOCATION:Theater – Artemis
CATEGORIES:Live Presentation
END:VEVENT
BEGIN:VEVENT
DTSTART;TZID=America/Chicago:20270116T151500
DTEND;TZID=America/Chicago:20270116T153000
DTSTAMP:20260422T094035
CREATED:20250602T213249Z
LAST-MODIFIED:20250603T191942Z
UID:10196916-1800112500-1800113400@spacecenter.org
SUMMARY:Story Corner Live Presentation
DESCRIPTION:
URL:https://spacecenter.org/events-calendar-event/story-corner-live-presentation-4/2027-01-16/
LOCATION:Theater – Artemis
CATEGORIES:Live Presentation
END:VEVENT
BEGIN:VEVENT
DTSTART;TZID=America/Chicago:20270117T151500
DTEND;TZID=America/Chicago:20270117T153000
DTSTAMP:20260422T094035
CREATED:20250602T213249Z
LAST-MODIFIED:20250603T191942Z
UID:10196917-1800198900-1800199800@spacecenter.org
SUMMARY:Story Corner Live Presentation
DESCRIPTION:
URL:https://spacecenter.org/events-calendar-event/story-corner-live-presentation-4/2027-01-17/
LOCATION:Theater – Artemis
CATEGORIES:Live Presentation
END:VEVENT
BEGIN:VEVENT
DTSTART;TZID=America/Chicago:20270118T151500
DTEND;TZID=America/Chicago:20270118T153000
DTSTAMP:20260422T094035
CREATED:20250602T213249Z
LAST-MODIFIED:20250603T191942Z
UID:10196918-1800285300-1800286200@spacecenter.org
SUMMARY:Story Corner Live Presentation
DESCRIPTION:
URL:https://spacecenter.org/events-calendar-event/story-corner-live-presentation-4/2027-01-18/
LOCATION:Theater – Artemis
CATEGORIES:Live Presentation
END:VEVENT
BEGIN:VEVENT
DTSTART;TZID=America/Chicago:20270119T151500
DTEND;TZID=America/Chicago:20270119T153000
DTSTAMP:20260422T094035
CREATED:20250602T213249Z
LAST-MODIFIED:20250603T191942Z
UID:10196919-1800371700-1800372600@spacecenter.org
SUMMARY:Story Corner Live Presentation
DESCRIPTION:
URL:https://spacecenter.org/events-calendar-event/story-corner-live-presentation-4/2027-01-19/
LOCATION:Theater – Artemis
CATEGORIES:Live Presentation
END:VEVENT
BEGIN:VEVENT
DTSTART;TZID=America/Chicago:20270120T151500
DTEND;TZID=America/Chicago:20270120T153000
DTSTAMP:20260422T094035
CREATED:20250602T213249Z
LAST-MODIFIED:20250603T191942Z
UID:10196920-1800458100-1800459000@spacecenter.org
SUMMARY:Story Corner Live Presentation
DESCRIPTION:
URL:https://spacecenter.org/events-calendar-event/story-corner-live-presentation-4/2027-01-20/
LOCATION:Theater – Artemis
CATEGORIES:Live Presentation
END:VEVENT
BEGIN:VEVENT
DTSTART;TZID=America/Chicago:20270121T151500
DTEND;TZID=America/Chicago:20270121T153000
DTSTAMP:20260422T094035
CREATED:20250602T213249Z
LAST-MODIFIED:20250603T191942Z
UID:10196921-1800544500-1800545400@spacecenter.org
SUMMARY:Story Corner Live Presentation
DESCRIPTION:
URL:https://spacecenter.org/events-calendar-event/story-corner-live-presentation-4/2027-01-21/
LOCATION:Theater – Artemis
CATEGORIES:Live Presentation
END:VEVENT
BEGIN:VEVENT
DTSTART;TZID=America/Chicago:20270122T151500
DTEND;TZID=America/Chicago:20270122T153000
DTSTAMP:20260422T094035
CREATED:20250602T213249Z
LAST-MODIFIED:20250603T191942Z
UID:10196922-1800630900-1800631800@spacecenter.org
SUMMARY:Story Corner Live Presentation
DESCRIPTION:
URL:https://spacecenter.org/events-calendar-event/story-corner-live-presentation-4/2027-01-22/
LOCATION:Theater – Artemis
CATEGORIES:Live Presentation
END:VEVENT
BEGIN:VEVENT
DTSTART;TZID=America/Chicago:20270123T151500
DTEND;TZID=America/Chicago:20270123T153000
DTSTAMP:20260422T094035
CREATED:20250602T213249Z
LAST-MODIFIED:20250603T191942Z
UID:10196923-1800717300-1800718200@spacecenter.org
SUMMARY:Story Corner Live Presentation
DESCRIPTION:
URL:https://spacecenter.org/events-calendar-event/story-corner-live-presentation-4/2027-01-23/
LOCATION:Theater – Artemis
CATEGORIES:Live Presentation
END:VEVENT
BEGIN:VEVENT
DTSTART;TZID=America/Chicago:20270124T151500
DTEND;TZID=America/Chicago:20270124T153000
DTSTAMP:20260422T094035
CREATED:20250602T213249Z
LAST-MODIFIED:20250603T191942Z
UID:10196924-1800803700-1800804600@spacecenter.org
SUMMARY:Story Corner Live Presentation
DESCRIPTION:
URL:https://spacecenter.org/events-calendar-event/story-corner-live-presentation-4/2027-01-24/
LOCATION:Theater – Artemis
CATEGORIES:Live Presentation
END:VEVENT
BEGIN:VEVENT
DTSTART;TZID=America/Chicago:20270125T151500
DTEND;TZID=America/Chicago:20270125T153000
DTSTAMP:20260422T094035
CREATED:20250602T213249Z
LAST-MODIFIED:20250603T191942Z
UID:10196925-1800890100-1800891000@spacecenter.org
SUMMARY:Story Corner Live Presentation
DESCRIPTION:
URL:https://spacecenter.org/events-calendar-event/story-corner-live-presentation-4/2027-01-25/
LOCATION:Theater – Artemis
CATEGORIES:Live Presentation
END:VEVENT
BEGIN:VEVENT
DTSTART;TZID=America/Chicago:20270126T151500
DTEND;TZID=America/Chicago:20270126T153000
DTSTAMP:20260422T094035
CREATED:20250602T213249Z
LAST-MODIFIED:20250603T191942Z
UID:10196926-1800976500-1800977400@spacecenter.org
SUMMARY:Story Corner Live Presentation
DESCRIPTION:
URL:https://spacecenter.org/events-calendar-event/story-corner-live-presentation-4/2027-01-26/
LOCATION:Theater – Artemis
CATEGORIES:Live Presentation
END:VEVENT
END:VCALENDAR