BEGIN:VCALENDAR
VERSION:2.0
PRODID:-//Space Center Houston - ECPv6.15.15//NONSGML v1.0//EN
CALSCALE:GREGORIAN
METHOD:PUBLISH
X-ORIGINAL-URL:https://spacecenter.org
X-WR-CALDESC:Events for Space Center Houston
REFRESH-INTERVAL;VALUE=DURATION:PT1H
X-Robots-Tag:noindex
X-PUBLISHED-TTL:PT1H
BEGIN:VTIMEZONE
TZID:America/Chicago
BEGIN:DAYLIGHT
TZOFFSETFROM:-0600
TZOFFSETTO:-0500
TZNAME:CDT
DTSTART:20250309T080000
END:DAYLIGHT
BEGIN:STANDARD
TZOFFSETFROM:-0500
TZOFFSETTO:-0600
TZNAME:CST
DTSTART:20251102T070000
END:STANDARD
BEGIN:DAYLIGHT
TZOFFSETFROM:-0600
TZOFFSETTO:-0500
TZNAME:CDT
DTSTART:20260308T080000
END:DAYLIGHT
BEGIN:STANDARD
TZOFFSETFROM:-0500
TZOFFSETTO:-0600
TZNAME:CST
DTSTART:20261101T070000
END:STANDARD
BEGIN:DAYLIGHT
TZOFFSETFROM:-0600
TZOFFSETTO:-0500
TZNAME:CDT
DTSTART:20270314T080000
END:DAYLIGHT
BEGIN:STANDARD
TZOFFSETFROM:-0500
TZOFFSETTO:-0600
TZNAME:CST
DTSTART:20271107T070000
END:STANDARD
END:VTIMEZONE
BEGIN:VEVENT
DTSTART;TZID=America/Chicago:20261107T101500
DTEND;TZID=America/Chicago:20261107T110000
DTSTAMP:20260420T112544
CREATED:20250602T204328Z
LAST-MODIFIED:20250603T184302Z
UID:10085338-1794046500-1794049200@spacecenter.org
SUMMARY:Rocket Park Tram Tour
DESCRIPTION:
URL:https://spacecenter.org/events-calendar-event/rocket-park-tram-tour/2026-11-07/
LOCATION:Tram Boarding Area
CATEGORIES:Tram Tour
ATTACH;FMTTYPE=image/jpeg:https://spacecenter.org/wp-content/uploads/2024/10/rocket-park.jpg
END:VEVENT
BEGIN:VEVENT
DTSTART;TZID=America/Chicago:20261108T101500
DTEND;TZID=America/Chicago:20261108T110000
DTSTAMP:20260420T112544
CREATED:20250602T204328Z
LAST-MODIFIED:20250603T184302Z
UID:10085339-1794132900-1794135600@spacecenter.org
SUMMARY:Rocket Park Tram Tour
DESCRIPTION:
URL:https://spacecenter.org/events-calendar-event/rocket-park-tram-tour/2026-11-08/
LOCATION:Tram Boarding Area
CATEGORIES:Tram Tour
ATTACH;FMTTYPE=image/jpeg:https://spacecenter.org/wp-content/uploads/2024/10/rocket-park.jpg
END:VEVENT
BEGIN:VEVENT
DTSTART;TZID=America/Chicago:20261109T101500
DTEND;TZID=America/Chicago:20261109T110000
DTSTAMP:20260420T112544
CREATED:20250602T204328Z
LAST-MODIFIED:20250603T184302Z
UID:10085340-1794219300-1794222000@spacecenter.org
SUMMARY:Rocket Park Tram Tour
DESCRIPTION:
URL:https://spacecenter.org/events-calendar-event/rocket-park-tram-tour/2026-11-09/
LOCATION:Tram Boarding Area
CATEGORIES:Tram Tour
ATTACH;FMTTYPE=image/jpeg:https://spacecenter.org/wp-content/uploads/2024/10/rocket-park.jpg
END:VEVENT
BEGIN:VEVENT
DTSTART;TZID=America/Chicago:20261110T101500
DTEND;TZID=America/Chicago:20261110T110000
DTSTAMP:20260420T112544
CREATED:20250602T204328Z
LAST-MODIFIED:20250603T184302Z
UID:10085341-1794305700-1794308400@spacecenter.org
SUMMARY:Rocket Park Tram Tour
DESCRIPTION:
URL:https://spacecenter.org/events-calendar-event/rocket-park-tram-tour/2026-11-10/
LOCATION:Tram Boarding Area
CATEGORIES:Tram Tour
ATTACH;FMTTYPE=image/jpeg:https://spacecenter.org/wp-content/uploads/2024/10/rocket-park.jpg
END:VEVENT
BEGIN:VEVENT
DTSTART;TZID=America/Chicago:20261111T101500
DTEND;TZID=America/Chicago:20261111T110000
DTSTAMP:20260420T112544
CREATED:20250602T204328Z
LAST-MODIFIED:20250603T184302Z
UID:10085342-1794392100-1794394800@spacecenter.org
SUMMARY:Rocket Park Tram Tour
DESCRIPTION:
URL:https://spacecenter.org/events-calendar-event/rocket-park-tram-tour/2026-11-11/
LOCATION:Tram Boarding Area
CATEGORIES:Tram Tour
ATTACH;FMTTYPE=image/jpeg:https://spacecenter.org/wp-content/uploads/2024/10/rocket-park.jpg
END:VEVENT
BEGIN:VEVENT
DTSTART;TZID=America/Chicago:20261112T101500
DTEND;TZID=America/Chicago:20261112T110000
DTSTAMP:20260420T112544
CREATED:20250602T204328Z
LAST-MODIFIED:20250603T184302Z
UID:10085343-1794478500-1794481200@spacecenter.org
SUMMARY:Rocket Park Tram Tour
DESCRIPTION:
URL:https://spacecenter.org/events-calendar-event/rocket-park-tram-tour/2026-11-12/
LOCATION:Tram Boarding Area
CATEGORIES:Tram Tour
ATTACH;FMTTYPE=image/jpeg:https://spacecenter.org/wp-content/uploads/2024/10/rocket-park.jpg
END:VEVENT
BEGIN:VEVENT
DTSTART;TZID=America/Chicago:20261113T101500
DTEND;TZID=America/Chicago:20261113T110000
DTSTAMP:20260420T112544
CREATED:20250602T204328Z
LAST-MODIFIED:20250603T184302Z
UID:10085344-1794564900-1794567600@spacecenter.org
SUMMARY:Rocket Park Tram Tour
DESCRIPTION:
URL:https://spacecenter.org/events-calendar-event/rocket-park-tram-tour/2026-11-13/
LOCATION:Tram Boarding Area
CATEGORIES:Tram Tour
ATTACH;FMTTYPE=image/jpeg:https://spacecenter.org/wp-content/uploads/2024/10/rocket-park.jpg
END:VEVENT
BEGIN:VEVENT
DTSTART;TZID=America/Chicago:20261114T101500
DTEND;TZID=America/Chicago:20261114T110000
DTSTAMP:20260420T112544
CREATED:20250602T204328Z
LAST-MODIFIED:20250603T184302Z
UID:10085345-1794651300-1794654000@spacecenter.org
SUMMARY:Rocket Park Tram Tour
DESCRIPTION:
URL:https://spacecenter.org/events-calendar-event/rocket-park-tram-tour/2026-11-14/
LOCATION:Tram Boarding Area
CATEGORIES:Tram Tour
ATTACH;FMTTYPE=image/jpeg:https://spacecenter.org/wp-content/uploads/2024/10/rocket-park.jpg
END:VEVENT
BEGIN:VEVENT
DTSTART;TZID=America/Chicago:20261115T101500
DTEND;TZID=America/Chicago:20261115T110000
DTSTAMP:20260420T112544
CREATED:20250602T204328Z
LAST-MODIFIED:20250603T184302Z
UID:10085346-1794737700-1794740400@spacecenter.org
SUMMARY:Rocket Park Tram Tour
DESCRIPTION:
URL:https://spacecenter.org/events-calendar-event/rocket-park-tram-tour/2026-11-15/
LOCATION:Tram Boarding Area
CATEGORIES:Tram Tour
ATTACH;FMTTYPE=image/jpeg:https://spacecenter.org/wp-content/uploads/2024/10/rocket-park.jpg
END:VEVENT
BEGIN:VEVENT
DTSTART;TZID=America/Chicago:20261116T101500
DTEND;TZID=America/Chicago:20261116T110000
DTSTAMP:20260420T112544
CREATED:20250602T204328Z
LAST-MODIFIED:20250603T184302Z
UID:10085347-1794824100-1794826800@spacecenter.org
SUMMARY:Rocket Park Tram Tour
DESCRIPTION:
URL:https://spacecenter.org/events-calendar-event/rocket-park-tram-tour/2026-11-16/
LOCATION:Tram Boarding Area
CATEGORIES:Tram Tour
ATTACH;FMTTYPE=image/jpeg:https://spacecenter.org/wp-content/uploads/2024/10/rocket-park.jpg
END:VEVENT
BEGIN:VEVENT
DTSTART;TZID=America/Chicago:20261117T101500
DTEND;TZID=America/Chicago:20261117T110000
DTSTAMP:20260420T112544
CREATED:20250602T204328Z
LAST-MODIFIED:20250603T184302Z
UID:10085348-1794910500-1794913200@spacecenter.org
SUMMARY:Rocket Park Tram Tour
DESCRIPTION:
URL:https://spacecenter.org/events-calendar-event/rocket-park-tram-tour/2026-11-17/
LOCATION:Tram Boarding Area
CATEGORIES:Tram Tour
ATTACH;FMTTYPE=image/jpeg:https://spacecenter.org/wp-content/uploads/2024/10/rocket-park.jpg
END:VEVENT
BEGIN:VEVENT
DTSTART;TZID=America/Chicago:20261118T101500
DTEND;TZID=America/Chicago:20261118T110000
DTSTAMP:20260420T112544
CREATED:20250602T204328Z
LAST-MODIFIED:20250603T184302Z
UID:10085349-1794996900-1794999600@spacecenter.org
SUMMARY:Rocket Park Tram Tour
DESCRIPTION:
URL:https://spacecenter.org/events-calendar-event/rocket-park-tram-tour/2026-11-18/
LOCATION:Tram Boarding Area
CATEGORIES:Tram Tour
ATTACH;FMTTYPE=image/jpeg:https://spacecenter.org/wp-content/uploads/2024/10/rocket-park.jpg
END:VEVENT
BEGIN:VEVENT
DTSTART;TZID=America/Chicago:20261119T101500
DTEND;TZID=America/Chicago:20261119T110000
DTSTAMP:20260420T112544
CREATED:20250602T204328Z
LAST-MODIFIED:20250603T184302Z
UID:10085350-1795083300-1795086000@spacecenter.org
SUMMARY:Rocket Park Tram Tour
DESCRIPTION:
URL:https://spacecenter.org/events-calendar-event/rocket-park-tram-tour/2026-11-19/
LOCATION:Tram Boarding Area
CATEGORIES:Tram Tour
ATTACH;FMTTYPE=image/jpeg:https://spacecenter.org/wp-content/uploads/2024/10/rocket-park.jpg
END:VEVENT
BEGIN:VEVENT
DTSTART;TZID=America/Chicago:20261120T101500
DTEND;TZID=America/Chicago:20261120T110000
DTSTAMP:20260420T112544
CREATED:20250602T204328Z
LAST-MODIFIED:20250603T184302Z
UID:10085351-1795169700-1795172400@spacecenter.org
SUMMARY:Rocket Park Tram Tour
DESCRIPTION:
URL:https://spacecenter.org/events-calendar-event/rocket-park-tram-tour/2026-11-20/
LOCATION:Tram Boarding Area
CATEGORIES:Tram Tour
ATTACH;FMTTYPE=image/jpeg:https://spacecenter.org/wp-content/uploads/2024/10/rocket-park.jpg
END:VEVENT
BEGIN:VEVENT
DTSTART;TZID=America/Chicago:20261121T101500
DTEND;TZID=America/Chicago:20261121T110000
DTSTAMP:20260420T112544
CREATED:20250602T204328Z
LAST-MODIFIED:20250603T184302Z
UID:10085352-1795256100-1795258800@spacecenter.org
SUMMARY:Rocket Park Tram Tour
DESCRIPTION:
URL:https://spacecenter.org/events-calendar-event/rocket-park-tram-tour/2026-11-21/
LOCATION:Tram Boarding Area
CATEGORIES:Tram Tour
ATTACH;FMTTYPE=image/jpeg:https://spacecenter.org/wp-content/uploads/2024/10/rocket-park.jpg
END:VEVENT
BEGIN:VEVENT
DTSTART;TZID=America/Chicago:20261122T101500
DTEND;TZID=America/Chicago:20261122T110000
DTSTAMP:20260420T112544
CREATED:20250602T204328Z
LAST-MODIFIED:20250603T184302Z
UID:10085353-1795342500-1795345200@spacecenter.org
SUMMARY:Rocket Park Tram Tour
DESCRIPTION:
URL:https://spacecenter.org/events-calendar-event/rocket-park-tram-tour/2026-11-22/
LOCATION:Tram Boarding Area
CATEGORIES:Tram Tour
ATTACH;FMTTYPE=image/jpeg:https://spacecenter.org/wp-content/uploads/2024/10/rocket-park.jpg
END:VEVENT
BEGIN:VEVENT
DTSTART;TZID=America/Chicago:20261123T101500
DTEND;TZID=America/Chicago:20261123T110000
DTSTAMP:20260420T112544
CREATED:20250602T204328Z
LAST-MODIFIED:20250603T184302Z
UID:10085354-1795428900-1795431600@spacecenter.org
SUMMARY:Rocket Park Tram Tour
DESCRIPTION:
URL:https://spacecenter.org/events-calendar-event/rocket-park-tram-tour/2026-11-23/
LOCATION:Tram Boarding Area
CATEGORIES:Tram Tour
ATTACH;FMTTYPE=image/jpeg:https://spacecenter.org/wp-content/uploads/2024/10/rocket-park.jpg
END:VEVENT
BEGIN:VEVENT
DTSTART;TZID=America/Chicago:20261124T101500
DTEND;TZID=America/Chicago:20261124T110000
DTSTAMP:20260420T112544
CREATED:20250602T204328Z
LAST-MODIFIED:20250603T184302Z
UID:10085355-1795515300-1795518000@spacecenter.org
SUMMARY:Rocket Park Tram Tour
DESCRIPTION:
URL:https://spacecenter.org/events-calendar-event/rocket-park-tram-tour/2026-11-24/
LOCATION:Tram Boarding Area
CATEGORIES:Tram Tour
ATTACH;FMTTYPE=image/jpeg:https://spacecenter.org/wp-content/uploads/2024/10/rocket-park.jpg
END:VEVENT
BEGIN:VEVENT
DTSTART;TZID=America/Chicago:20261125T101500
DTEND;TZID=America/Chicago:20261125T110000
DTSTAMP:20260420T112544
CREATED:20250602T204328Z
LAST-MODIFIED:20250603T184302Z
UID:10085356-1795601700-1795604400@spacecenter.org
SUMMARY:Rocket Park Tram Tour
DESCRIPTION:
URL:https://spacecenter.org/events-calendar-event/rocket-park-tram-tour/2026-11-25/
LOCATION:Tram Boarding Area
CATEGORIES:Tram Tour
ATTACH;FMTTYPE=image/jpeg:https://spacecenter.org/wp-content/uploads/2024/10/rocket-park.jpg
END:VEVENT
BEGIN:VEVENT
DTSTART;TZID=America/Chicago:20261126T101500
DTEND;TZID=America/Chicago:20261126T110000
DTSTAMP:20260420T112544
CREATED:20250602T204328Z
LAST-MODIFIED:20250603T184302Z
UID:10085357-1795688100-1795690800@spacecenter.org
SUMMARY:Rocket Park Tram Tour
DESCRIPTION:
URL:https://spacecenter.org/events-calendar-event/rocket-park-tram-tour/2026-11-26/
LOCATION:Tram Boarding Area
CATEGORIES:Tram Tour
ATTACH;FMTTYPE=image/jpeg:https://spacecenter.org/wp-content/uploads/2024/10/rocket-park.jpg
END:VEVENT
BEGIN:VEVENT
DTSTART;TZID=America/Chicago:20261127T101500
DTEND;TZID=America/Chicago:20261127T110000
DTSTAMP:20260420T112544
CREATED:20250602T204328Z
LAST-MODIFIED:20250603T184302Z
UID:10085358-1795774500-1795777200@spacecenter.org
SUMMARY:Rocket Park Tram Tour
DESCRIPTION:
URL:https://spacecenter.org/events-calendar-event/rocket-park-tram-tour/2026-11-27/
LOCATION:Tram Boarding Area
CATEGORIES:Tram Tour
ATTACH;FMTTYPE=image/jpeg:https://spacecenter.org/wp-content/uploads/2024/10/rocket-park.jpg
END:VEVENT
BEGIN:VEVENT
DTSTART;TZID=America/Chicago:20261128T101500
DTEND;TZID=America/Chicago:20261128T110000
DTSTAMP:20260420T112544
CREATED:20250602T204328Z
LAST-MODIFIED:20250603T184302Z
UID:10085359-1795860900-1795863600@spacecenter.org
SUMMARY:Rocket Park Tram Tour
DESCRIPTION:
URL:https://spacecenter.org/events-calendar-event/rocket-park-tram-tour/2026-11-28/
LOCATION:Tram Boarding Area
CATEGORIES:Tram Tour
ATTACH;FMTTYPE=image/jpeg:https://spacecenter.org/wp-content/uploads/2024/10/rocket-park.jpg
END:VEVENT
BEGIN:VEVENT
DTSTART;TZID=America/Chicago:20261129T101500
DTEND;TZID=America/Chicago:20261129T110000
DTSTAMP:20260420T112544
CREATED:20250602T204328Z
LAST-MODIFIED:20250603T184302Z
UID:10085360-1795947300-1795950000@spacecenter.org
SUMMARY:Rocket Park Tram Tour
DESCRIPTION:
URL:https://spacecenter.org/events-calendar-event/rocket-park-tram-tour/2026-11-29/
LOCATION:Tram Boarding Area
CATEGORIES:Tram Tour
ATTACH;FMTTYPE=image/jpeg:https://spacecenter.org/wp-content/uploads/2024/10/rocket-park.jpg
END:VEVENT
BEGIN:VEVENT
DTSTART;TZID=America/Chicago:20261130T101500
DTEND;TZID=America/Chicago:20261130T110000
DTSTAMP:20260420T112544
CREATED:20250602T204328Z
LAST-MODIFIED:20250603T184302Z
UID:10085361-1796033700-1796036400@spacecenter.org
SUMMARY:Rocket Park Tram Tour
DESCRIPTION:
URL:https://spacecenter.org/events-calendar-event/rocket-park-tram-tour/2026-11-30/
LOCATION:Tram Boarding Area
CATEGORIES:Tram Tour
ATTACH;FMTTYPE=image/jpeg:https://spacecenter.org/wp-content/uploads/2024/10/rocket-park.jpg
END:VEVENT
BEGIN:VEVENT
DTSTART;TZID=America/Chicago:20261201T101500
DTEND;TZID=America/Chicago:20261201T110000
DTSTAMP:20260420T112544
CREATED:20250602T204328Z
LAST-MODIFIED:20250603T184302Z
UID:10085362-1796120100-1796122800@spacecenter.org
SUMMARY:Rocket Park Tram Tour
DESCRIPTION:
URL:https://spacecenter.org/events-calendar-event/rocket-park-tram-tour/2026-12-01/
LOCATION:Tram Boarding Area
CATEGORIES:Tram Tour
ATTACH;FMTTYPE=image/jpeg:https://spacecenter.org/wp-content/uploads/2024/10/rocket-park.jpg
END:VEVENT
BEGIN:VEVENT
DTSTART;TZID=America/Chicago:20261202T101500
DTEND;TZID=America/Chicago:20261202T110000
DTSTAMP:20260420T112544
CREATED:20250602T204328Z
LAST-MODIFIED:20250603T184302Z
UID:10085363-1796206500-1796209200@spacecenter.org
SUMMARY:Rocket Park Tram Tour
DESCRIPTION:
URL:https://spacecenter.org/events-calendar-event/rocket-park-tram-tour/2026-12-02/
LOCATION:Tram Boarding Area
CATEGORIES:Tram Tour
ATTACH;FMTTYPE=image/jpeg:https://spacecenter.org/wp-content/uploads/2024/10/rocket-park.jpg
END:VEVENT
BEGIN:VEVENT
DTSTART;TZID=America/Chicago:20261203T101500
DTEND;TZID=America/Chicago:20261203T110000
DTSTAMP:20260420T112544
CREATED:20250602T204328Z
LAST-MODIFIED:20250603T184302Z
UID:10085364-1796292900-1796295600@spacecenter.org
SUMMARY:Rocket Park Tram Tour
DESCRIPTION:
URL:https://spacecenter.org/events-calendar-event/rocket-park-tram-tour/2026-12-03/
LOCATION:Tram Boarding Area
CATEGORIES:Tram Tour
ATTACH;FMTTYPE=image/jpeg:https://spacecenter.org/wp-content/uploads/2024/10/rocket-park.jpg
END:VEVENT
BEGIN:VEVENT
DTSTART;TZID=America/Chicago:20261204T101500
DTEND;TZID=America/Chicago:20261204T110000
DTSTAMP:20260420T112544
CREATED:20250602T204328Z
LAST-MODIFIED:20250603T184302Z
UID:10085365-1796379300-1796382000@spacecenter.org
SUMMARY:Rocket Park Tram Tour
DESCRIPTION:
URL:https://spacecenter.org/events-calendar-event/rocket-park-tram-tour/2026-12-04/
LOCATION:Tram Boarding Area
CATEGORIES:Tram Tour
ATTACH;FMTTYPE=image/jpeg:https://spacecenter.org/wp-content/uploads/2024/10/rocket-park.jpg
END:VEVENT
BEGIN:VEVENT
DTSTART;TZID=America/Chicago:20261205T101500
DTEND;TZID=America/Chicago:20261205T110000
DTSTAMP:20260420T112544
CREATED:20250602T204328Z
LAST-MODIFIED:20250603T184302Z
UID:10085366-1796465700-1796468400@spacecenter.org
SUMMARY:Rocket Park Tram Tour
DESCRIPTION:
URL:https://spacecenter.org/events-calendar-event/rocket-park-tram-tour/2026-12-05/
LOCATION:Tram Boarding Area
CATEGORIES:Tram Tour
ATTACH;FMTTYPE=image/jpeg:https://spacecenter.org/wp-content/uploads/2024/10/rocket-park.jpg
END:VEVENT
BEGIN:VEVENT
DTSTART;TZID=America/Chicago:20261206T101500
DTEND;TZID=America/Chicago:20261206T110000
DTSTAMP:20260420T112544
CREATED:20250602T204328Z
LAST-MODIFIED:20250603T184302Z
UID:10085367-1796552100-1796554800@spacecenter.org
SUMMARY:Rocket Park Tram Tour
DESCRIPTION:
URL:https://spacecenter.org/events-calendar-event/rocket-park-tram-tour/2026-12-06/
LOCATION:Tram Boarding Area
CATEGORIES:Tram Tour
ATTACH;FMTTYPE=image/jpeg:https://spacecenter.org/wp-content/uploads/2024/10/rocket-park.jpg
END:VEVENT
END:VCALENDAR