BEGIN:VCALENDAR
VERSION:2.0
PRODID:-//Space Center Houston - ECPv6.15.15//NONSGML v1.0//EN
CALSCALE:GREGORIAN
METHOD:PUBLISH
X-WR-CALNAME:Space Center Houston
X-ORIGINAL-URL:https://spacecenter.org
X-WR-CALDESC:Events for Space Center Houston
REFRESH-INTERVAL;VALUE=DURATION:PT1H
X-Robots-Tag:noindex
X-PUBLISHED-TTL:PT1H
BEGIN:VTIMEZONE
TZID:America/Chicago
BEGIN:DAYLIGHT
TZOFFSETFROM:-0600
TZOFFSETTO:-0500
TZNAME:CDT
DTSTART:20250309T080000
END:DAYLIGHT
BEGIN:STANDARD
TZOFFSETFROM:-0500
TZOFFSETTO:-0600
TZNAME:CST
DTSTART:20251102T070000
END:STANDARD
BEGIN:DAYLIGHT
TZOFFSETFROM:-0600
TZOFFSETTO:-0500
TZNAME:CDT
DTSTART:20260308T080000
END:DAYLIGHT
BEGIN:STANDARD
TZOFFSETFROM:-0500
TZOFFSETTO:-0600
TZNAME:CST
DTSTART:20261101T070000
END:STANDARD
BEGIN:DAYLIGHT
TZOFFSETFROM:-0600
TZOFFSETTO:-0500
TZNAME:CDT
DTSTART:20270314T080000
END:DAYLIGHT
BEGIN:STANDARD
TZOFFSETFROM:-0500
TZOFFSETTO:-0600
TZNAME:CST
DTSTART:20271107T070000
END:STANDARD
END:VTIMEZONE
BEGIN:VEVENT
DTSTART;TZID=America/Chicago:20261107T151500
DTEND;TZID=America/Chicago:20261107T153000
DTSTAMP:20260421T111650
CREATED:20250602T213249Z
LAST-MODIFIED:20250603T191942Z
UID:10196846-1794064500-1794065400@spacecenter.org
SUMMARY:Story Corner Live Presentation
DESCRIPTION:
URL:https://spacecenter.org/events-calendar-event/story-corner-live-presentation-4/2026-11-07/
LOCATION:Theater – Artemis
CATEGORIES:Live Presentation
END:VEVENT
BEGIN:VEVENT
DTSTART;TZID=America/Chicago:20261108T151500
DTEND;TZID=America/Chicago:20261108T153000
DTSTAMP:20260421T111650
CREATED:20250602T213249Z
LAST-MODIFIED:20250603T191942Z
UID:10196847-1794150900-1794151800@spacecenter.org
SUMMARY:Story Corner Live Presentation
DESCRIPTION:
URL:https://spacecenter.org/events-calendar-event/story-corner-live-presentation-4/2026-11-08/
LOCATION:Theater – Artemis
CATEGORIES:Live Presentation
END:VEVENT
BEGIN:VEVENT
DTSTART;TZID=America/Chicago:20261109T151500
DTEND;TZID=America/Chicago:20261109T153000
DTSTAMP:20260421T111650
CREATED:20250602T213249Z
LAST-MODIFIED:20250603T191942Z
UID:10196848-1794237300-1794238200@spacecenter.org
SUMMARY:Story Corner Live Presentation
DESCRIPTION:
URL:https://spacecenter.org/events-calendar-event/story-corner-live-presentation-4/2026-11-09/
LOCATION:Theater – Artemis
CATEGORIES:Live Presentation
END:VEVENT
BEGIN:VEVENT
DTSTART;TZID=America/Chicago:20261110T151500
DTEND;TZID=America/Chicago:20261110T153000
DTSTAMP:20260421T111650
CREATED:20250602T213249Z
LAST-MODIFIED:20250603T191942Z
UID:10196849-1794323700-1794324600@spacecenter.org
SUMMARY:Story Corner Live Presentation
DESCRIPTION:
URL:https://spacecenter.org/events-calendar-event/story-corner-live-presentation-4/2026-11-10/
LOCATION:Theater – Artemis
CATEGORIES:Live Presentation
END:VEVENT
BEGIN:VEVENT
DTSTART;TZID=America/Chicago:20261111T151500
DTEND;TZID=America/Chicago:20261111T153000
DTSTAMP:20260421T111650
CREATED:20250602T213249Z
LAST-MODIFIED:20250603T191942Z
UID:10196850-1794410100-1794411000@spacecenter.org
SUMMARY:Story Corner Live Presentation
DESCRIPTION:
URL:https://spacecenter.org/events-calendar-event/story-corner-live-presentation-4/2026-11-11/
LOCATION:Theater – Artemis
CATEGORIES:Live Presentation
END:VEVENT
BEGIN:VEVENT
DTSTART;TZID=America/Chicago:20261112T151500
DTEND;TZID=America/Chicago:20261112T153000
DTSTAMP:20260421T111650
CREATED:20250602T213249Z
LAST-MODIFIED:20250603T191942Z
UID:10196851-1794496500-1794497400@spacecenter.org
SUMMARY:Story Corner Live Presentation
DESCRIPTION:
URL:https://spacecenter.org/events-calendar-event/story-corner-live-presentation-4/2026-11-12/
LOCATION:Theater – Artemis
CATEGORIES:Live Presentation
END:VEVENT
BEGIN:VEVENT
DTSTART;TZID=America/Chicago:20261113T151500
DTEND;TZID=America/Chicago:20261113T153000
DTSTAMP:20260421T111650
CREATED:20250602T213249Z
LAST-MODIFIED:20250603T191942Z
UID:10196852-1794582900-1794583800@spacecenter.org
SUMMARY:Story Corner Live Presentation
DESCRIPTION:
URL:https://spacecenter.org/events-calendar-event/story-corner-live-presentation-4/2026-11-13/
LOCATION:Theater – Artemis
CATEGORIES:Live Presentation
END:VEVENT
BEGIN:VEVENT
DTSTART;TZID=America/Chicago:20261114T151500
DTEND;TZID=America/Chicago:20261114T153000
DTSTAMP:20260421T111650
CREATED:20250602T213249Z
LAST-MODIFIED:20250603T191942Z
UID:10196853-1794669300-1794670200@spacecenter.org
SUMMARY:Story Corner Live Presentation
DESCRIPTION:
URL:https://spacecenter.org/events-calendar-event/story-corner-live-presentation-4/2026-11-14/
LOCATION:Theater – Artemis
CATEGORIES:Live Presentation
END:VEVENT
BEGIN:VEVENT
DTSTART;TZID=America/Chicago:20261115T151500
DTEND;TZID=America/Chicago:20261115T153000
DTSTAMP:20260421T111650
CREATED:20250602T213249Z
LAST-MODIFIED:20250603T191942Z
UID:10196854-1794755700-1794756600@spacecenter.org
SUMMARY:Story Corner Live Presentation
DESCRIPTION:
URL:https://spacecenter.org/events-calendar-event/story-corner-live-presentation-4/2026-11-15/
LOCATION:Theater – Artemis
CATEGORIES:Live Presentation
END:VEVENT
BEGIN:VEVENT
DTSTART;TZID=America/Chicago:20261116T151500
DTEND;TZID=America/Chicago:20261116T153000
DTSTAMP:20260421T111650
CREATED:20250602T213249Z
LAST-MODIFIED:20250603T191942Z
UID:10196855-1794842100-1794843000@spacecenter.org
SUMMARY:Story Corner Live Presentation
DESCRIPTION:
URL:https://spacecenter.org/events-calendar-event/story-corner-live-presentation-4/2026-11-16/
LOCATION:Theater – Artemis
CATEGORIES:Live Presentation
END:VEVENT
BEGIN:VEVENT
DTSTART;TZID=America/Chicago:20261117T151500
DTEND;TZID=America/Chicago:20261117T153000
DTSTAMP:20260421T111650
CREATED:20250602T213249Z
LAST-MODIFIED:20250603T191942Z
UID:10196856-1794928500-1794929400@spacecenter.org
SUMMARY:Story Corner Live Presentation
DESCRIPTION:
URL:https://spacecenter.org/events-calendar-event/story-corner-live-presentation-4/2026-11-17/
LOCATION:Theater – Artemis
CATEGORIES:Live Presentation
END:VEVENT
BEGIN:VEVENT
DTSTART;TZID=America/Chicago:20261118T151500
DTEND;TZID=America/Chicago:20261118T153000
DTSTAMP:20260421T111650
CREATED:20250602T213249Z
LAST-MODIFIED:20250603T191942Z
UID:10196857-1795014900-1795015800@spacecenter.org
SUMMARY:Story Corner Live Presentation
DESCRIPTION:
URL:https://spacecenter.org/events-calendar-event/story-corner-live-presentation-4/2026-11-18/
LOCATION:Theater – Artemis
CATEGORIES:Live Presentation
END:VEVENT
BEGIN:VEVENT
DTSTART;TZID=America/Chicago:20261119T151500
DTEND;TZID=America/Chicago:20261119T153000
DTSTAMP:20260421T111650
CREATED:20250602T213249Z
LAST-MODIFIED:20250603T191942Z
UID:10196858-1795101300-1795102200@spacecenter.org
SUMMARY:Story Corner Live Presentation
DESCRIPTION:
URL:https://spacecenter.org/events-calendar-event/story-corner-live-presentation-4/2026-11-19/
LOCATION:Theater – Artemis
CATEGORIES:Live Presentation
END:VEVENT
BEGIN:VEVENT
DTSTART;TZID=America/Chicago:20261120T151500
DTEND;TZID=America/Chicago:20261120T153000
DTSTAMP:20260421T111650
CREATED:20250602T213249Z
LAST-MODIFIED:20250603T191942Z
UID:10196859-1795187700-1795188600@spacecenter.org
SUMMARY:Story Corner Live Presentation
DESCRIPTION:
URL:https://spacecenter.org/events-calendar-event/story-corner-live-presentation-4/2026-11-20/
LOCATION:Theater – Artemis
CATEGORIES:Live Presentation
END:VEVENT
BEGIN:VEVENT
DTSTART;TZID=America/Chicago:20261121T151500
DTEND;TZID=America/Chicago:20261121T153000
DTSTAMP:20260421T111650
CREATED:20250602T213249Z
LAST-MODIFIED:20250603T191942Z
UID:10196860-1795274100-1795275000@spacecenter.org
SUMMARY:Story Corner Live Presentation
DESCRIPTION:
URL:https://spacecenter.org/events-calendar-event/story-corner-live-presentation-4/2026-11-21/
LOCATION:Theater – Artemis
CATEGORIES:Live Presentation
END:VEVENT
BEGIN:VEVENT
DTSTART;TZID=America/Chicago:20261122T151500
DTEND;TZID=America/Chicago:20261122T153000
DTSTAMP:20260421T111650
CREATED:20250602T213249Z
LAST-MODIFIED:20250603T191942Z
UID:10196861-1795360500-1795361400@spacecenter.org
SUMMARY:Story Corner Live Presentation
DESCRIPTION:
URL:https://spacecenter.org/events-calendar-event/story-corner-live-presentation-4/2026-11-22/
LOCATION:Theater – Artemis
CATEGORIES:Live Presentation
END:VEVENT
BEGIN:VEVENT
DTSTART;TZID=America/Chicago:20261123T151500
DTEND;TZID=America/Chicago:20261123T153000
DTSTAMP:20260421T111650
CREATED:20250602T213249Z
LAST-MODIFIED:20250603T191942Z
UID:10196862-1795446900-1795447800@spacecenter.org
SUMMARY:Story Corner Live Presentation
DESCRIPTION:
URL:https://spacecenter.org/events-calendar-event/story-corner-live-presentation-4/2026-11-23/
LOCATION:Theater – Artemis
CATEGORIES:Live Presentation
END:VEVENT
BEGIN:VEVENT
DTSTART;TZID=America/Chicago:20261124T151500
DTEND;TZID=America/Chicago:20261124T153000
DTSTAMP:20260421T111650
CREATED:20250602T213249Z
LAST-MODIFIED:20250603T191942Z
UID:10196863-1795533300-1795534200@spacecenter.org
SUMMARY:Story Corner Live Presentation
DESCRIPTION:
URL:https://spacecenter.org/events-calendar-event/story-corner-live-presentation-4/2026-11-24/
LOCATION:Theater – Artemis
CATEGORIES:Live Presentation
END:VEVENT
BEGIN:VEVENT
DTSTART;TZID=America/Chicago:20261125T151500
DTEND;TZID=America/Chicago:20261125T153000
DTSTAMP:20260421T111650
CREATED:20250602T213249Z
LAST-MODIFIED:20250603T191942Z
UID:10196864-1795619700-1795620600@spacecenter.org
SUMMARY:Story Corner Live Presentation
DESCRIPTION:
URL:https://spacecenter.org/events-calendar-event/story-corner-live-presentation-4/2026-11-25/
LOCATION:Theater – Artemis
CATEGORIES:Live Presentation
END:VEVENT
BEGIN:VEVENT
DTSTART;TZID=America/Chicago:20261126T151500
DTEND;TZID=America/Chicago:20261126T153000
DTSTAMP:20260421T111650
CREATED:20250602T213249Z
LAST-MODIFIED:20250603T191942Z
UID:10196865-1795706100-1795707000@spacecenter.org
SUMMARY:Story Corner Live Presentation
DESCRIPTION:
URL:https://spacecenter.org/events-calendar-event/story-corner-live-presentation-4/2026-11-26/
LOCATION:Theater – Artemis
CATEGORIES:Live Presentation
END:VEVENT
BEGIN:VEVENT
DTSTART;TZID=America/Chicago:20261127T151500
DTEND;TZID=America/Chicago:20261127T153000
DTSTAMP:20260421T111650
CREATED:20250602T213249Z
LAST-MODIFIED:20250603T191942Z
UID:10196866-1795792500-1795793400@spacecenter.org
SUMMARY:Story Corner Live Presentation
DESCRIPTION:
URL:https://spacecenter.org/events-calendar-event/story-corner-live-presentation-4/2026-11-27/
LOCATION:Theater – Artemis
CATEGORIES:Live Presentation
END:VEVENT
BEGIN:VEVENT
DTSTART;TZID=America/Chicago:20261128T151500
DTEND;TZID=America/Chicago:20261128T153000
DTSTAMP:20260421T111650
CREATED:20250602T213249Z
LAST-MODIFIED:20250603T191942Z
UID:10196867-1795878900-1795879800@spacecenter.org
SUMMARY:Story Corner Live Presentation
DESCRIPTION:
URL:https://spacecenter.org/events-calendar-event/story-corner-live-presentation-4/2026-11-28/
LOCATION:Theater – Artemis
CATEGORIES:Live Presentation
END:VEVENT
BEGIN:VEVENT
DTSTART;TZID=America/Chicago:20261129T151500
DTEND;TZID=America/Chicago:20261129T153000
DTSTAMP:20260421T111650
CREATED:20250602T213249Z
LAST-MODIFIED:20250603T191942Z
UID:10196868-1795965300-1795966200@spacecenter.org
SUMMARY:Story Corner Live Presentation
DESCRIPTION:
URL:https://spacecenter.org/events-calendar-event/story-corner-live-presentation-4/2026-11-29/
LOCATION:Theater – Artemis
CATEGORIES:Live Presentation
END:VEVENT
BEGIN:VEVENT
DTSTART;TZID=America/Chicago:20261130T151500
DTEND;TZID=America/Chicago:20261130T153000
DTSTAMP:20260421T111650
CREATED:20250602T213249Z
LAST-MODIFIED:20250603T191942Z
UID:10196869-1796051700-1796052600@spacecenter.org
SUMMARY:Story Corner Live Presentation
DESCRIPTION:
URL:https://spacecenter.org/events-calendar-event/story-corner-live-presentation-4/2026-11-30/
LOCATION:Theater – Artemis
CATEGORIES:Live Presentation
END:VEVENT
BEGIN:VEVENT
DTSTART;TZID=America/Chicago:20261201T151500
DTEND;TZID=America/Chicago:20261201T153000
DTSTAMP:20260421T111650
CREATED:20250602T213249Z
LAST-MODIFIED:20250603T191942Z
UID:10196870-1796138100-1796139000@spacecenter.org
SUMMARY:Story Corner Live Presentation
DESCRIPTION:
URL:https://spacecenter.org/events-calendar-event/story-corner-live-presentation-4/2026-12-01/
LOCATION:Theater – Artemis
CATEGORIES:Live Presentation
END:VEVENT
BEGIN:VEVENT
DTSTART;TZID=America/Chicago:20261202T151500
DTEND;TZID=America/Chicago:20261202T153000
DTSTAMP:20260421T111650
CREATED:20250602T213249Z
LAST-MODIFIED:20250603T191942Z
UID:10196871-1796224500-1796225400@spacecenter.org
SUMMARY:Story Corner Live Presentation
DESCRIPTION:
URL:https://spacecenter.org/events-calendar-event/story-corner-live-presentation-4/2026-12-02/
LOCATION:Theater – Artemis
CATEGORIES:Live Presentation
END:VEVENT
BEGIN:VEVENT
DTSTART;TZID=America/Chicago:20261203T151500
DTEND;TZID=America/Chicago:20261203T153000
DTSTAMP:20260421T111650
CREATED:20250602T213249Z
LAST-MODIFIED:20250603T191942Z
UID:10196872-1796310900-1796311800@spacecenter.org
SUMMARY:Story Corner Live Presentation
DESCRIPTION:
URL:https://spacecenter.org/events-calendar-event/story-corner-live-presentation-4/2026-12-03/
LOCATION:Theater – Artemis
CATEGORIES:Live Presentation
END:VEVENT
BEGIN:VEVENT
DTSTART;TZID=America/Chicago:20261204T151500
DTEND;TZID=America/Chicago:20261204T153000
DTSTAMP:20260421T111650
CREATED:20250602T213249Z
LAST-MODIFIED:20250603T191942Z
UID:10196873-1796397300-1796398200@spacecenter.org
SUMMARY:Story Corner Live Presentation
DESCRIPTION:
URL:https://spacecenter.org/events-calendar-event/story-corner-live-presentation-4/2026-12-04/
LOCATION:Theater – Artemis
CATEGORIES:Live Presentation
END:VEVENT
BEGIN:VEVENT
DTSTART;TZID=America/Chicago:20261205T151500
DTEND;TZID=America/Chicago:20261205T153000
DTSTAMP:20260421T111650
CREATED:20250602T213249Z
LAST-MODIFIED:20250603T191942Z
UID:10196874-1796483700-1796484600@spacecenter.org
SUMMARY:Story Corner Live Presentation
DESCRIPTION:
URL:https://spacecenter.org/events-calendar-event/story-corner-live-presentation-4/2026-12-05/
LOCATION:Theater – Artemis
CATEGORIES:Live Presentation
END:VEVENT
BEGIN:VEVENT
DTSTART;TZID=America/Chicago:20261206T151500
DTEND;TZID=America/Chicago:20261206T153000
DTSTAMP:20260421T111650
CREATED:20250602T213249Z
LAST-MODIFIED:20250603T191942Z
UID:10196875-1796570100-1796571000@spacecenter.org
SUMMARY:Story Corner Live Presentation
DESCRIPTION:
URL:https://spacecenter.org/events-calendar-event/story-corner-live-presentation-4/2026-12-06/
LOCATION:Theater – Artemis
CATEGORIES:Live Presentation
END:VEVENT
END:VCALENDAR