BEGIN:VCALENDAR
VERSION:2.0
PRODID:-//Space Center Houston - ECPv6.15.15//NONSGML v1.0//EN
CALSCALE:GREGORIAN
METHOD:PUBLISH
X-ORIGINAL-URL:https://spacecenter.org
X-WR-CALDESC:Events for Space Center Houston
REFRESH-INTERVAL;VALUE=DURATION:PT1H
X-Robots-Tag:noindex
X-PUBLISHED-TTL:PT1H
BEGIN:VTIMEZONE
TZID:America/Chicago
BEGIN:DAYLIGHT
TZOFFSETFROM:-0600
TZOFFSETTO:-0500
TZNAME:CDT
DTSTART:20260308T080000
END:DAYLIGHT
BEGIN:STANDARD
TZOFFSETFROM:-0500
TZOFFSETTO:-0600
TZNAME:CST
DTSTART:20261101T070000
END:STANDARD
BEGIN:DAYLIGHT
TZOFFSETFROM:-0600
TZOFFSETTO:-0500
TZNAME:CDT
DTSTART:20270314T080000
END:DAYLIGHT
BEGIN:STANDARD
TZOFFSETFROM:-0500
TZOFFSETTO:-0600
TZNAME:CST
DTSTART:20271107T070000
END:STANDARD
BEGIN:DAYLIGHT
TZOFFSETFROM:-0600
TZOFFSETTO:-0500
TZNAME:CDT
DTSTART:20280312T080000
END:DAYLIGHT
BEGIN:STANDARD
TZOFFSETFROM:-0500
TZOFFSETTO:-0600
TZNAME:CST
DTSTART:20281105T070000
END:STANDARD
END:VTIMEZONE
BEGIN:VEVENT
DTSTART;TZID=America/Chicago:20271011T160000
DTEND;TZID=America/Chicago:20271011T164500
DTSTAMP:20260419T203856
CREATED:20250602T211841Z
LAST-MODIFIED:20250603T192151Z
UID:10211808-1823270400-1823273100@spacecenter.org
SUMMARY:Down to Earth: The Astronaut's Perspective Film
DESCRIPTION:
URL:https://spacecenter.org/events-calendar-event/down-to-earth-the-astronauts-perspective-film-5/2027-10-11/
LOCATION:Mission Briefing Center
CATEGORIES:Film
ATTACH;FMTTYPE=image/jpeg:https://spacecenter.org/wp-content/uploads/2025/02/profdeveducators1.jpg
END:VEVENT
BEGIN:VEVENT
DTSTART;TZID=America/Chicago:20271011T163000
DTEND;TZID=America/Chicago:20271011T164500
DTSTAMP:20260419T203856
CREATED:20250602T212726Z
LAST-MODIFIED:20250603T192225Z
UID:10215464-1823272200-1823273100@spacecenter.org
SUMMARY:OSIRIS Rex Live Presentation
DESCRIPTION:
URL:https://spacecenter.org/events-calendar-event/osiris-rex-live-presentation-3/2027-10-11/
LOCATION:Mission Sketch Staircase
CATEGORIES:Live Presentation
ATTACH;FMTTYPE=image/jpeg:https://spacecenter.org/wp-content/uploads/2024/03/web-march2024_tls_osirisrex.jpg
END:VEVENT
BEGIN:VEVENT
DTSTART;TZID=America/Chicago:20271012T101500
DTEND;TZID=America/Chicago:20271012T103000
DTSTAMP:20260419T203856
CREATED:20250602T214310Z
LAST-MODIFIED:20250603T184018Z
UID:10083849-1823336100-1823337000@spacecenter.org
SUMMARY:Human Destiny Film
DESCRIPTION:
URL:https://spacecenter.org/events-calendar-event/human-destiny-film/2027-10-12/
LOCATION:Theater – Destiny
CATEGORIES:Film
ATTACH;FMTTYPE=image/jpeg:https://spacecenter.org/wp-content/uploads/2022/10/Destiny-Theater.jpg
END:VEVENT
BEGIN:VEVENT
DTSTART;TZID=America/Chicago:20271012T101500
DTEND;TZID=America/Chicago:20271012T110000
DTSTAMP:20260419T203856
CREATED:20250602T204328Z
LAST-MODIFIED:20250603T184302Z
UID:10085677-1823336100-1823338800@spacecenter.org
SUMMARY:Rocket Park Tram Tour
DESCRIPTION:
URL:https://spacecenter.org/events-calendar-event/rocket-park-tram-tour/2027-10-12/
LOCATION:Tram Boarding Area
CATEGORIES:Tram Tour
ATTACH;FMTTYPE=image/jpeg:https://spacecenter.org/wp-content/uploads/2024/10/rocket-park.jpg
END:VEVENT
BEGIN:VEVENT
DTSTART;TZID=America/Chicago:20271012T103000
DTEND;TZID=America/Chicago:20271012T104500
DTSTAMP:20260419T203856
CREATED:20250602T214417Z
LAST-MODIFIED:20250603T184348Z
UID:10087505-1823337000-1823337900@spacecenter.org
SUMMARY:Human Destiny Film
DESCRIPTION:
URL:https://spacecenter.org/events-calendar-event/human-destiny-film-2/2027-10-12/
LOCATION:Theater – Destiny
CATEGORIES:Film
ATTACH;FMTTYPE=image/jpeg:https://spacecenter.org/wp-content/uploads/2022/10/Destiny-Theater.jpg
END:VEVENT
BEGIN:VEVENT
DTSTART;TZID=America/Chicago:20271012T103000
DTEND;TZID=America/Chicago:20271012T112000
DTSTAMP:20260419T203856
CREATED:20250602T215207Z
LAST-MODIFIED:20250603T184552Z
UID:10091161-1823337000-1823340000@spacecenter.org
SUMMARY:The Moonwalkers: A Journey with Tom Hanks
DESCRIPTION:
URL:https://spacecenter.org/events-calendar-event/the-moonwalkers-a-journey-with-tom-hanks/2027-10-12/
LOCATION:Theater – Space Center
CATEGORIES:Film
ATTACH;FMTTYPE=image/png:https://spacecenter.org/wp-content/uploads/2025/03/moonwalkers.png
END:VEVENT
BEGIN:VEVENT
DTSTART;TZID=America/Chicago:20271012T103000
DTEND;TZID=America/Chicago:20271012T113000
DTSTAMP:20260419T203856
CREATED:20250602T205851Z
LAST-MODIFIED:20250603T184720Z
UID:10094817-1823337000-1823340600@spacecenter.org
SUMMARY:Astronaut Training Facility Tram Tour
DESCRIPTION:
URL:https://spacecenter.org/events-calendar-event/astronaut-training-facility-tram-tour/2027-10-12/
LOCATION:Tram Boarding Area
CATEGORIES:Tram Tour
ATTACH;FMTTYPE=image/jpeg:https://spacecenter.org/wp-content/uploads/2022/07/IMG_2943.jpg
END:VEVENT
BEGIN:VEVENT
DTSTART;TZID=America/Chicago:20271012T104000
DTEND;TZID=America/Chicago:20271012T112000
DTSTAMP:20260419T203856
CREATED:20250602T205945Z
LAST-MODIFIED:20250603T185259Z
UID:10098473-1823337600-1823340000@spacecenter.org
SUMMARY:Apollo Mission Control Tram Tour
DESCRIPTION:
URL:https://spacecenter.org/events-calendar-event/apollo-mission-control-tram-tour/2027-10-12/
LOCATION:Tram Boarding Area
CATEGORIES:Tram Tour
ATTACH;FMTTYPE=image/jpeg:https://spacecenter.org/wp-content/uploads/2022/09/Apollo-10-web.jpeg
END:VEVENT
BEGIN:VEVENT
DTSTART;TZID=America/Chicago:20271012T104500
DTEND;TZID=America/Chicago:20271012T110000
DTSTAMP:20260419T203856
CREATED:20250602T212526Z
LAST-MODIFIED:20250603T185502Z
UID:10102129-1823337900-1823338800@spacecenter.org
SUMMARY:OSIRIS Rex Live Presentation
DESCRIPTION:
URL:https://spacecenter.org/events-calendar-event/osiris-rex-live-presentation/2027-10-12/
LOCATION:Mission Sketch Staircase
CATEGORIES:Live Presentation
ATTACH;FMTTYPE=image/jpeg:https://spacecenter.org/wp-content/uploads/2024/03/web-march2024_tls_osirisrex.jpg
END:VEVENT
BEGIN:VEVENT
DTSTART;TZID=America/Chicago:20271012T104500
DTEND;TZID=America/Chicago:20271012T110000
DTSTAMP:20260419T203856
CREATED:20250602T214618Z
LAST-MODIFIED:20250603T185541Z
UID:10105785-1823337900-1823338800@spacecenter.org
SUMMARY:Human Destiny Film
DESCRIPTION:
URL:https://spacecenter.org/events-calendar-event/human-destiny-film-3/2027-10-12/
LOCATION:Theater – Destiny
CATEGORIES:Film
ATTACH;FMTTYPE=image/jpeg:https://spacecenter.org/wp-content/uploads/2022/10/Destiny-Theater.jpg
END:VEVENT
BEGIN:VEVENT
DTSTART;TZID=America/Chicago:20271012T104500
DTEND;TZID=America/Chicago:20271012T111500
DTSTAMP:20260419T203856
CREATED:20250602T213905Z
LAST-MODIFIED:20250603T185637Z
UID:10109441-1823337900-1823339700@spacecenter.org
SUMMARY:Artemis Live Presentation
DESCRIPTION:
URL:https://spacecenter.org/events-calendar-event/artemis-live-presentation/2027-10-12/
LOCATION:Theater – Destiny
CATEGORIES:Live Presentation
ATTACH;FMTTYPE=image/jpeg:https://spacecenter.org/wp-content/uploads/2022/10/Artemis-Capsule.jpeg
END:VEVENT
BEGIN:VEVENT
DTSTART;TZID=America/Chicago:20271012T110000
DTEND;TZID=America/Chicago:20271012T111500
DTSTAMP:20260419T203856
CREATED:20250602T214802Z
LAST-MODIFIED:20250603T185720Z
UID:10113097-1823338800-1823339700@spacecenter.org
SUMMARY:Human Destiny Film
DESCRIPTION:
URL:https://spacecenter.org/events-calendar-event/human-destiny-film-4/2027-10-12/
LOCATION:Theater – Destiny
CATEGORIES:Film
ATTACH;FMTTYPE=image/jpeg:https://spacecenter.org/wp-content/uploads/2022/10/Destiny-Theater.jpg
END:VEVENT
BEGIN:VEVENT
DTSTART;TZID=America/Chicago:20271012T110000
DTEND;TZID=America/Chicago:20271012T114500
DTSTAMP:20260419T203856
CREATED:20250602T210952Z
LAST-MODIFIED:20250603T185820Z
UID:10116753-1823338800-1823341500@spacecenter.org
SUMMARY:Down to Earth: The Astronaut's Perspective Film
DESCRIPTION:
URL:https://spacecenter.org/events-calendar-event/down-to-earth-the-astronauts-perspective-film/2027-10-12/
LOCATION:Mission Briefing Center
CATEGORIES:Film
ATTACH;FMTTYPE=image/jpeg:https://spacecenter.org/wp-content/uploads/2025/02/profdeveducators1.jpg
END:VEVENT
BEGIN:VEVENT
DTSTART;TZID=America/Chicago:20271012T111500
DTEND;TZID=America/Chicago:20271012T113000
DTSTAMP:20260419T203856
CREATED:20250602T213010Z
LAST-MODIFIED:20250603T185901Z
UID:10120409-1823339700-1823340600@spacecenter.org
SUMMARY:Story Corner Live Presentation
DESCRIPTION:
URL:https://spacecenter.org/events-calendar-event/story-corner-live-presentation/2027-10-12/
LOCATION:Theater – Artemis
CATEGORIES:Live Presentation
END:VEVENT
BEGIN:VEVENT
DTSTART;TZID=America/Chicago:20271012T111500
DTEND;TZID=America/Chicago:20271012T113000
DTSTAMP:20260419T203856
CREATED:20250602T214855Z
LAST-MODIFIED:20250603T185944Z
UID:10124065-1823339700-1823340600@spacecenter.org
SUMMARY:Human Destiny Film
DESCRIPTION:
URL:https://spacecenter.org/events-calendar-event/human-destiny-film-5/2027-10-12/
LOCATION:Theater – Destiny
CATEGORIES:Film
ATTACH;FMTTYPE=image/jpeg:https://spacecenter.org/wp-content/uploads/2022/10/Destiny-Theater.jpg
END:VEVENT
BEGIN:VEVENT
DTSTART;TZID=America/Chicago:20271012T113000
DTEND;TZID=America/Chicago:20271012T114500
DTSTAMP:20260419T203856
CREATED:20250602T214945Z
LAST-MODIFIED:20250603T190019Z
UID:10127721-1823340600-1823341500@spacecenter.org
SUMMARY:Human Destiny Film
DESCRIPTION:
URL:https://spacecenter.org/events-calendar-event/human-destiny-film-6/2027-10-12/
LOCATION:Theater – Destiny
CATEGORIES:Film
ATTACH;FMTTYPE=image/jpeg:https://spacecenter.org/wp-content/uploads/2022/10/Destiny-Theater.jpg
END:VEVENT
BEGIN:VEVENT
DTSTART;TZID=America/Chicago:20271012T113000
DTEND;TZID=America/Chicago:20271012T122000
DTSTAMP:20260419T203856
CREATED:20250602T215324Z
LAST-MODIFIED:20250603T190108Z
UID:10131377-1823340600-1823343600@spacecenter.org
SUMMARY:The Moonwalkers: A Journey with Tom Hanks
DESCRIPTION:
URL:https://spacecenter.org/events-calendar-event/the-moonwalkers-a-journey-with-tom-hanks-2/2027-10-12/
LOCATION:Theater – Space Center
CATEGORIES:Film
ATTACH;FMTTYPE=image/png:https://spacecenter.org/wp-content/uploads/2025/03/moonwalkers.png
END:VEVENT
BEGIN:VEVENT
DTSTART;TZID=America/Chicago:20271012T113000
DTEND;TZID=America/Chicago:20271012T123000
DTSTAMP:20260419T203856
CREATED:20250602T210031Z
LAST-MODIFIED:20250603T190211Z
UID:10135033-1823340600-1823344200@spacecenter.org
SUMMARY:Astronaut Training Facility Tram Tour
DESCRIPTION:
URL:https://spacecenter.org/events-calendar-event/astronaut-training-facility-tram-tour-2/2027-10-12/
LOCATION:Tram Boarding Area
CATEGORIES:Tram Tour
ATTACH;FMTTYPE=image/jpeg:https://spacecenter.org/wp-content/uploads/2022/07/IMG_2943.jpg
END:VEVENT
BEGIN:VEVENT
DTSTART;TZID=America/Chicago:20271012T114500
DTEND;TZID=America/Chicago:20271012T120000
DTSTAMP:20260419T203856
CREATED:20250602T213503Z
LAST-MODIFIED:20250603T190256Z
UID:10138689-1823341500-1823342400@spacecenter.org
SUMMARY:James Webb Live Presentation
DESCRIPTION:
URL:https://spacecenter.org/events-calendar-event/james-webb-live-presentation/2027-10-12/
LOCATION:Theater – Destiny
CATEGORIES:Live Presentation
END:VEVENT
BEGIN:VEVENT
DTSTART;TZID=America/Chicago:20271012T121500
DTEND;TZID=America/Chicago:20271012T123000
DTSTAMP:20260419T203856
CREATED:20250602T213059Z
LAST-MODIFIED:20250603T190345Z
UID:10142345-1823343300-1823344200@spacecenter.org
SUMMARY:Story Corner Live Presentation
DESCRIPTION:
URL:https://spacecenter.org/events-calendar-event/story-corner-live-presentation-2/2027-10-12/
LOCATION:Theater – Artemis
CATEGORIES:Live Presentation
END:VEVENT
BEGIN:VEVENT
DTSTART;TZID=America/Chicago:20271012T123000
DTEND;TZID=America/Chicago:20271012T132000
DTSTAMP:20260419T203856
CREATED:20250602T215422Z
LAST-MODIFIED:20250603T190647Z
UID:10146001-1823344200-1823347200@spacecenter.org
SUMMARY:The Moonwalkers: A Journey with Tom Hanks
DESCRIPTION:
URL:https://spacecenter.org/events-calendar-event/the-moonwalkers-a-journey-with-tom-hanks-3/2027-10-12/
LOCATION:Theater – Space Center
CATEGORIES:Film
ATTACH;FMTTYPE=image/png:https://spacecenter.org/wp-content/uploads/2025/03/moonwalkers.png
END:VEVENT
BEGIN:VEVENT
DTSTART;TZID=America/Chicago:20271012T123000
DTEND;TZID=America/Chicago:20271012T133000
DTSTAMP:20260419T203856
CREATED:20250602T210135Z
LAST-MODIFIED:20250603T190719Z
UID:10149657-1823344200-1823347800@spacecenter.org
SUMMARY:Astronaut Training Facility Tram Tour
DESCRIPTION:
URL:https://spacecenter.org/events-calendar-event/astronaut-training-facility-tram-tour-3/2027-10-12/
LOCATION:Tram Boarding Area
CATEGORIES:Tram Tour
ATTACH;FMTTYPE=image/jpeg:https://spacecenter.org/wp-content/uploads/2022/07/IMG_2943.jpg
END:VEVENT
BEGIN:VEVENT
DTSTART;TZID=America/Chicago:20271012T124500
DTEND;TZID=America/Chicago:20271012T131500
DTSTAMP:20260419T203856
CREATED:20250602T214012Z
LAST-MODIFIED:20250603T190811Z
UID:10153313-1823345100-1823346900@spacecenter.org
SUMMARY:Artemis Live Presentation
DESCRIPTION:
URL:https://spacecenter.org/events-calendar-event/artemis-live-presentation-2/2027-10-12/
LOCATION:Theater – Destiny
CATEGORIES:Live Presentation
ATTACH;FMTTYPE=image/jpeg:https://spacecenter.org/wp-content/uploads/2022/10/Artemis-Capsule.jpeg
END:VEVENT
BEGIN:VEVENT
DTSTART;TZID=America/Chicago:20271012T130000
DTEND;TZID=America/Chicago:20271012T134500
DTSTAMP:20260419T203856
CREATED:20250602T211211Z
LAST-MODIFIED:20250603T190850Z
UID:10156969-1823346000-1823348700@spacecenter.org
SUMMARY:Down to Earth: The Astronaut's Perspective Film
DESCRIPTION:
URL:https://spacecenter.org/events-calendar-event/down-to-earth-the-astronauts-perspective-film-2/2027-10-12/
LOCATION:Mission Briefing Center
CATEGORIES:Film
ATTACH;FMTTYPE=image/jpeg:https://spacecenter.org/wp-content/uploads/2025/02/profdeveducators1.jpg
END:VEVENT
BEGIN:VEVENT
DTSTART;TZID=America/Chicago:20271012T131500
DTEND;TZID=America/Chicago:20271012T133000
DTSTAMP:20260419T203856
CREATED:20250602T213201Z
LAST-MODIFIED:20250603T190922Z
UID:10160625-1823346900-1823347800@spacecenter.org
SUMMARY:Story Corner Live Presentation
DESCRIPTION:
URL:https://spacecenter.org/events-calendar-event/story-corner-live-presentation-3/2027-10-12/
LOCATION:Theater – Artemis
CATEGORIES:Live Presentation
END:VEVENT
BEGIN:VEVENT
DTSTART;TZID=America/Chicago:20271012T133000
DTEND;TZID=America/Chicago:20271012T142000
DTSTAMP:20260419T203856
CREATED:20250602T215510Z
LAST-MODIFIED:20250603T190957Z
UID:10164281-1823347800-1823350800@spacecenter.org
SUMMARY:The Moonwalkers: A Journey with Tom Hanks
DESCRIPTION:
URL:https://spacecenter.org/events-calendar-event/the-moonwalkers-a-journey-with-tom-hanks-4/2027-10-12/
LOCATION:Theater – Space Center
CATEGORIES:Film
ATTACH;FMTTYPE=image/png:https://spacecenter.org/wp-content/uploads/2025/03/moonwalkers.png
END:VEVENT
BEGIN:VEVENT
DTSTART;TZID=America/Chicago:20271012T133000
DTEND;TZID=America/Chicago:20271012T143000
DTSTAMP:20260419T203856
CREATED:20250602T210232Z
LAST-MODIFIED:20250603T191037Z
UID:10167937-1823347800-1823351400@spacecenter.org
SUMMARY:Astronaut Training Facility Tram Tour
DESCRIPTION:
URL:https://spacecenter.org/events-calendar-event/astronaut-training-facility-tram-tour-4/2027-10-12/
LOCATION:Tram Boarding Area
CATEGORIES:Tram Tour
ATTACH;FMTTYPE=image/jpeg:https://spacecenter.org/wp-content/uploads/2022/07/IMG_2943.jpg
END:VEVENT
BEGIN:VEVENT
DTSTART;TZID=America/Chicago:20271012T134500
DTEND;TZID=America/Chicago:20271012T140000
DTSTAMP:20260419T203856
CREATED:20250602T212635Z
LAST-MODIFIED:20250603T191121Z
UID:10171593-1823348700-1823349600@spacecenter.org
SUMMARY:OSIRIS Rex Live Presentation
DESCRIPTION:
URL:https://spacecenter.org/events-calendar-event/osiris-rex-live-presentation-2/2027-10-12/
LOCATION:Mission Sketch Staircase
CATEGORIES:Live Presentation
ATTACH;FMTTYPE=image/jpeg:https://spacecenter.org/wp-content/uploads/2024/03/web-march2024_tls_osirisrex.jpg
END:VEVENT
BEGIN:VEVENT
DTSTART;TZID=America/Chicago:20271012T134500
DTEND;TZID=America/Chicago:20271012T140000
DTSTAMP:20260419T203856
CREATED:20250602T213557Z
LAST-MODIFIED:20250603T191327Z
UID:10175249-1823348700-1823349600@spacecenter.org
SUMMARY:James Webb Live Presentation
DESCRIPTION:
URL:https://spacecenter.org/events-calendar-event/james-webb-live-presentation-2/2027-10-12/
LOCATION:Theater – Destiny
CATEGORIES:Live Presentation
END:VEVENT
BEGIN:VEVENT
DTSTART;TZID=America/Chicago:20271012T140000
DTEND;TZID=America/Chicago:20271012T144500
DTSTAMP:20260419T203856
CREATED:20250602T211401Z
LAST-MODIFIED:20250603T191451Z
UID:10178905-1823349600-1823352300@spacecenter.org
SUMMARY:Down to Earth: The Astronaut's Perspective Film
DESCRIPTION:
URL:https://spacecenter.org/events-calendar-event/down-to-earth-the-astronauts-perspective-film-3/2027-10-12/
LOCATION:Mission Briefing Center
CATEGORIES:Film
ATTACH;FMTTYPE=image/jpeg:https://spacecenter.org/wp-content/uploads/2025/02/profdeveducators1.jpg
END:VEVENT
END:VCALENDAR