BEGIN:VCALENDAR
VERSION:2.0
PRODID:-//Space Center Houston - ECPv6.15.15//NONSGML v1.0//EN
CALSCALE:GREGORIAN
METHOD:PUBLISH
X-WR-CALNAME:Space Center Houston
X-ORIGINAL-URL:https://spacecenter.org
X-WR-CALDESC:Events for Space Center Houston
REFRESH-INTERVAL;VALUE=DURATION:PT1H
X-Robots-Tag:noindex
X-PUBLISHED-TTL:PT1H
BEGIN:VTIMEZONE
TZID:America/Chicago
BEGIN:DAYLIGHT
TZOFFSETFROM:-0600
TZOFFSETTO:-0500
TZNAME:CDT
DTSTART:20250309T080000
END:DAYLIGHT
BEGIN:STANDARD
TZOFFSETFROM:-0500
TZOFFSETTO:-0600
TZNAME:CST
DTSTART:20251102T070000
END:STANDARD
BEGIN:DAYLIGHT
TZOFFSETFROM:-0600
TZOFFSETTO:-0500
TZNAME:CDT
DTSTART:20260308T080000
END:DAYLIGHT
BEGIN:STANDARD
TZOFFSETFROM:-0500
TZOFFSETTO:-0600
TZNAME:CST
DTSTART:20261101T070000
END:STANDARD
BEGIN:DAYLIGHT
TZOFFSETFROM:-0600
TZOFFSETTO:-0500
TZNAME:CDT
DTSTART:20270314T080000
END:DAYLIGHT
BEGIN:STANDARD
TZOFFSETFROM:-0500
TZOFFSETTO:-0600
TZNAME:CST
DTSTART:20271107T070000
END:STANDARD
END:VTIMEZONE
BEGIN:VEVENT
DTSTART;TZID=America/Chicago:20260916T151500
DTEND;TZID=America/Chicago:20260916T153000
DTSTAMP:20260419T142037
CREATED:20250602T213249Z
LAST-MODIFIED:20250603T191942Z
UID:10196794-1789571700-1789572600@spacecenter.org
SUMMARY:Story Corner Live Presentation
DESCRIPTION:
URL:https://spacecenter.org/events-calendar-event/story-corner-live-presentation-4/2026-09-16/
LOCATION:Theater – Artemis
CATEGORIES:Live Presentation
END:VEVENT
BEGIN:VEVENT
DTSTART;TZID=America/Chicago:20260917T151500
DTEND;TZID=America/Chicago:20260917T153000
DTSTAMP:20260419T142037
CREATED:20250602T213249Z
LAST-MODIFIED:20250603T191942Z
UID:10196795-1789658100-1789659000@spacecenter.org
SUMMARY:Story Corner Live Presentation
DESCRIPTION:
URL:https://spacecenter.org/events-calendar-event/story-corner-live-presentation-4/2026-09-17/
LOCATION:Theater – Artemis
CATEGORIES:Live Presentation
END:VEVENT
BEGIN:VEVENT
DTSTART;TZID=America/Chicago:20260918T151500
DTEND;TZID=America/Chicago:20260918T153000
DTSTAMP:20260419T142037
CREATED:20250602T213249Z
LAST-MODIFIED:20250603T191942Z
UID:10196796-1789744500-1789745400@spacecenter.org
SUMMARY:Story Corner Live Presentation
DESCRIPTION:
URL:https://spacecenter.org/events-calendar-event/story-corner-live-presentation-4/2026-09-18/
LOCATION:Theater – Artemis
CATEGORIES:Live Presentation
END:VEVENT
BEGIN:VEVENT
DTSTART;TZID=America/Chicago:20260919T151500
DTEND;TZID=America/Chicago:20260919T153000
DTSTAMP:20260419T142037
CREATED:20250602T213249Z
LAST-MODIFIED:20250603T191942Z
UID:10196797-1789830900-1789831800@spacecenter.org
SUMMARY:Story Corner Live Presentation
DESCRIPTION:
URL:https://spacecenter.org/events-calendar-event/story-corner-live-presentation-4/2026-09-19/
LOCATION:Theater – Artemis
CATEGORIES:Live Presentation
END:VEVENT
BEGIN:VEVENT
DTSTART;TZID=America/Chicago:20260920T151500
DTEND;TZID=America/Chicago:20260920T153000
DTSTAMP:20260419T142037
CREATED:20250602T213249Z
LAST-MODIFIED:20250603T191942Z
UID:10196798-1789917300-1789918200@spacecenter.org
SUMMARY:Story Corner Live Presentation
DESCRIPTION:
URL:https://spacecenter.org/events-calendar-event/story-corner-live-presentation-4/2026-09-20/
LOCATION:Theater – Artemis
CATEGORIES:Live Presentation
END:VEVENT
BEGIN:VEVENT
DTSTART;TZID=America/Chicago:20260921T151500
DTEND;TZID=America/Chicago:20260921T153000
DTSTAMP:20260419T142037
CREATED:20250602T213249Z
LAST-MODIFIED:20250603T191942Z
UID:10196799-1790003700-1790004600@spacecenter.org
SUMMARY:Story Corner Live Presentation
DESCRIPTION:
URL:https://spacecenter.org/events-calendar-event/story-corner-live-presentation-4/2026-09-21/
LOCATION:Theater – Artemis
CATEGORIES:Live Presentation
END:VEVENT
BEGIN:VEVENT
DTSTART;TZID=America/Chicago:20260922T151500
DTEND;TZID=America/Chicago:20260922T153000
DTSTAMP:20260419T142037
CREATED:20250602T213249Z
LAST-MODIFIED:20250603T191942Z
UID:10196800-1790090100-1790091000@spacecenter.org
SUMMARY:Story Corner Live Presentation
DESCRIPTION:
URL:https://spacecenter.org/events-calendar-event/story-corner-live-presentation-4/2026-09-22/
LOCATION:Theater – Artemis
CATEGORIES:Live Presentation
END:VEVENT
BEGIN:VEVENT
DTSTART;TZID=America/Chicago:20260923T151500
DTEND;TZID=America/Chicago:20260923T153000
DTSTAMP:20260419T142037
CREATED:20250602T213249Z
LAST-MODIFIED:20250603T191942Z
UID:10196801-1790176500-1790177400@spacecenter.org
SUMMARY:Story Corner Live Presentation
DESCRIPTION:
URL:https://spacecenter.org/events-calendar-event/story-corner-live-presentation-4/2026-09-23/
LOCATION:Theater – Artemis
CATEGORIES:Live Presentation
END:VEVENT
BEGIN:VEVENT
DTSTART;TZID=America/Chicago:20260924T151500
DTEND;TZID=America/Chicago:20260924T153000
DTSTAMP:20260419T142037
CREATED:20250602T213249Z
LAST-MODIFIED:20250603T191942Z
UID:10196802-1790262900-1790263800@spacecenter.org
SUMMARY:Story Corner Live Presentation
DESCRIPTION:
URL:https://spacecenter.org/events-calendar-event/story-corner-live-presentation-4/2026-09-24/
LOCATION:Theater – Artemis
CATEGORIES:Live Presentation
END:VEVENT
BEGIN:VEVENT
DTSTART;TZID=America/Chicago:20260925T151500
DTEND;TZID=America/Chicago:20260925T153000
DTSTAMP:20260419T142037
CREATED:20250602T213249Z
LAST-MODIFIED:20250603T191942Z
UID:10196803-1790349300-1790350200@spacecenter.org
SUMMARY:Story Corner Live Presentation
DESCRIPTION:
URL:https://spacecenter.org/events-calendar-event/story-corner-live-presentation-4/2026-09-25/
LOCATION:Theater – Artemis
CATEGORIES:Live Presentation
END:VEVENT
BEGIN:VEVENT
DTSTART;TZID=America/Chicago:20260926T151500
DTEND;TZID=America/Chicago:20260926T153000
DTSTAMP:20260419T142037
CREATED:20250602T213249Z
LAST-MODIFIED:20250603T191942Z
UID:10196804-1790435700-1790436600@spacecenter.org
SUMMARY:Story Corner Live Presentation
DESCRIPTION:
URL:https://spacecenter.org/events-calendar-event/story-corner-live-presentation-4/2026-09-26/
LOCATION:Theater – Artemis
CATEGORIES:Live Presentation
END:VEVENT
BEGIN:VEVENT
DTSTART;TZID=America/Chicago:20260927T151500
DTEND;TZID=America/Chicago:20260927T153000
DTSTAMP:20260419T142037
CREATED:20250602T213249Z
LAST-MODIFIED:20250603T191942Z
UID:10196805-1790522100-1790523000@spacecenter.org
SUMMARY:Story Corner Live Presentation
DESCRIPTION:
URL:https://spacecenter.org/events-calendar-event/story-corner-live-presentation-4/2026-09-27/
LOCATION:Theater – Artemis
CATEGORIES:Live Presentation
END:VEVENT
BEGIN:VEVENT
DTSTART;TZID=America/Chicago:20260928T151500
DTEND;TZID=America/Chicago:20260928T153000
DTSTAMP:20260419T142037
CREATED:20250602T213249Z
LAST-MODIFIED:20250603T191942Z
UID:10196806-1790608500-1790609400@spacecenter.org
SUMMARY:Story Corner Live Presentation
DESCRIPTION:
URL:https://spacecenter.org/events-calendar-event/story-corner-live-presentation-4/2026-09-28/
LOCATION:Theater – Artemis
CATEGORIES:Live Presentation
END:VEVENT
BEGIN:VEVENT
DTSTART;TZID=America/Chicago:20260929T151500
DTEND;TZID=America/Chicago:20260929T153000
DTSTAMP:20260419T142037
CREATED:20250602T213249Z
LAST-MODIFIED:20250603T191942Z
UID:10196807-1790694900-1790695800@spacecenter.org
SUMMARY:Story Corner Live Presentation
DESCRIPTION:
URL:https://spacecenter.org/events-calendar-event/story-corner-live-presentation-4/2026-09-29/
LOCATION:Theater – Artemis
CATEGORIES:Live Presentation
END:VEVENT
BEGIN:VEVENT
DTSTART;TZID=America/Chicago:20260930T151500
DTEND;TZID=America/Chicago:20260930T153000
DTSTAMP:20260419T142037
CREATED:20250602T213249Z
LAST-MODIFIED:20250603T191942Z
UID:10196808-1790781300-1790782200@spacecenter.org
SUMMARY:Story Corner Live Presentation
DESCRIPTION:
URL:https://spacecenter.org/events-calendar-event/story-corner-live-presentation-4/2026-09-30/
LOCATION:Theater – Artemis
CATEGORIES:Live Presentation
END:VEVENT
BEGIN:VEVENT
DTSTART;TZID=America/Chicago:20261001T151500
DTEND;TZID=America/Chicago:20261001T153000
DTSTAMP:20260419T142037
CREATED:20250602T213249Z
LAST-MODIFIED:20250603T191942Z
UID:10196809-1790867700-1790868600@spacecenter.org
SUMMARY:Story Corner Live Presentation
DESCRIPTION:
URL:https://spacecenter.org/events-calendar-event/story-corner-live-presentation-4/2026-10-01/
LOCATION:Theater – Artemis
CATEGORIES:Live Presentation
END:VEVENT
BEGIN:VEVENT
DTSTART;TZID=America/Chicago:20261002T151500
DTEND;TZID=America/Chicago:20261002T153000
DTSTAMP:20260419T142037
CREATED:20250602T213249Z
LAST-MODIFIED:20250603T191942Z
UID:10196810-1790954100-1790955000@spacecenter.org
SUMMARY:Story Corner Live Presentation
DESCRIPTION:
URL:https://spacecenter.org/events-calendar-event/story-corner-live-presentation-4/2026-10-02/
LOCATION:Theater – Artemis
CATEGORIES:Live Presentation
END:VEVENT
BEGIN:VEVENT
DTSTART;TZID=America/Chicago:20261003T151500
DTEND;TZID=America/Chicago:20261003T153000
DTSTAMP:20260419T142037
CREATED:20250602T213249Z
LAST-MODIFIED:20250603T191942Z
UID:10196811-1791040500-1791041400@spacecenter.org
SUMMARY:Story Corner Live Presentation
DESCRIPTION:
URL:https://spacecenter.org/events-calendar-event/story-corner-live-presentation-4/2026-10-03/
LOCATION:Theater – Artemis
CATEGORIES:Live Presentation
END:VEVENT
BEGIN:VEVENT
DTSTART;TZID=America/Chicago:20261004T151500
DTEND;TZID=America/Chicago:20261004T153000
DTSTAMP:20260419T142037
CREATED:20250602T213249Z
LAST-MODIFIED:20250603T191942Z
UID:10196812-1791126900-1791127800@spacecenter.org
SUMMARY:Story Corner Live Presentation
DESCRIPTION:
URL:https://spacecenter.org/events-calendar-event/story-corner-live-presentation-4/2026-10-04/
LOCATION:Theater – Artemis
CATEGORIES:Live Presentation
END:VEVENT
BEGIN:VEVENT
DTSTART;TZID=America/Chicago:20261005T151500
DTEND;TZID=America/Chicago:20261005T153000
DTSTAMP:20260419T142037
CREATED:20250602T213249Z
LAST-MODIFIED:20250603T191942Z
UID:10196813-1791213300-1791214200@spacecenter.org
SUMMARY:Story Corner Live Presentation
DESCRIPTION:
URL:https://spacecenter.org/events-calendar-event/story-corner-live-presentation-4/2026-10-05/
LOCATION:Theater – Artemis
CATEGORIES:Live Presentation
END:VEVENT
BEGIN:VEVENT
DTSTART;TZID=America/Chicago:20261006T151500
DTEND;TZID=America/Chicago:20261006T153000
DTSTAMP:20260419T142037
CREATED:20250602T213249Z
LAST-MODIFIED:20250603T191942Z
UID:10196814-1791299700-1791300600@spacecenter.org
SUMMARY:Story Corner Live Presentation
DESCRIPTION:
URL:https://spacecenter.org/events-calendar-event/story-corner-live-presentation-4/2026-10-06/
LOCATION:Theater – Artemis
CATEGORIES:Live Presentation
END:VEVENT
BEGIN:VEVENT
DTSTART;TZID=America/Chicago:20261007T151500
DTEND;TZID=America/Chicago:20261007T153000
DTSTAMP:20260419T142037
CREATED:20250602T213249Z
LAST-MODIFIED:20250603T191942Z
UID:10196815-1791386100-1791387000@spacecenter.org
SUMMARY:Story Corner Live Presentation
DESCRIPTION:
URL:https://spacecenter.org/events-calendar-event/story-corner-live-presentation-4/2026-10-07/
LOCATION:Theater – Artemis
CATEGORIES:Live Presentation
END:VEVENT
BEGIN:VEVENT
DTSTART;TZID=America/Chicago:20261008T151500
DTEND;TZID=America/Chicago:20261008T153000
DTSTAMP:20260419T142037
CREATED:20250602T213249Z
LAST-MODIFIED:20250603T191942Z
UID:10196816-1791472500-1791473400@spacecenter.org
SUMMARY:Story Corner Live Presentation
DESCRIPTION:
URL:https://spacecenter.org/events-calendar-event/story-corner-live-presentation-4/2026-10-08/
LOCATION:Theater – Artemis
CATEGORIES:Live Presentation
END:VEVENT
BEGIN:VEVENT
DTSTART;TZID=America/Chicago:20261009T151500
DTEND;TZID=America/Chicago:20261009T153000
DTSTAMP:20260419T142037
CREATED:20250602T213249Z
LAST-MODIFIED:20250603T191942Z
UID:10196817-1791558900-1791559800@spacecenter.org
SUMMARY:Story Corner Live Presentation
DESCRIPTION:
URL:https://spacecenter.org/events-calendar-event/story-corner-live-presentation-4/2026-10-09/
LOCATION:Theater – Artemis
CATEGORIES:Live Presentation
END:VEVENT
BEGIN:VEVENT
DTSTART;TZID=America/Chicago:20261010T151500
DTEND;TZID=America/Chicago:20261010T153000
DTSTAMP:20260419T142037
CREATED:20250602T213249Z
LAST-MODIFIED:20250603T191942Z
UID:10196818-1791645300-1791646200@spacecenter.org
SUMMARY:Story Corner Live Presentation
DESCRIPTION:
URL:https://spacecenter.org/events-calendar-event/story-corner-live-presentation-4/2026-10-10/
LOCATION:Theater – Artemis
CATEGORIES:Live Presentation
END:VEVENT
BEGIN:VEVENT
DTSTART;TZID=America/Chicago:20261011T151500
DTEND;TZID=America/Chicago:20261011T153000
DTSTAMP:20260419T142037
CREATED:20250602T213249Z
LAST-MODIFIED:20250603T191942Z
UID:10196819-1791731700-1791732600@spacecenter.org
SUMMARY:Story Corner Live Presentation
DESCRIPTION:
URL:https://spacecenter.org/events-calendar-event/story-corner-live-presentation-4/2026-10-11/
LOCATION:Theater – Artemis
CATEGORIES:Live Presentation
END:VEVENT
BEGIN:VEVENT
DTSTART;TZID=America/Chicago:20261012T151500
DTEND;TZID=America/Chicago:20261012T153000
DTSTAMP:20260419T142037
CREATED:20250602T213249Z
LAST-MODIFIED:20250603T191942Z
UID:10196820-1791818100-1791819000@spacecenter.org
SUMMARY:Story Corner Live Presentation
DESCRIPTION:
URL:https://spacecenter.org/events-calendar-event/story-corner-live-presentation-4/2026-10-12/
LOCATION:Theater – Artemis
CATEGORIES:Live Presentation
END:VEVENT
BEGIN:VEVENT
DTSTART;TZID=America/Chicago:20261013T151500
DTEND;TZID=America/Chicago:20261013T153000
DTSTAMP:20260419T142037
CREATED:20250602T213249Z
LAST-MODIFIED:20250603T191942Z
UID:10196821-1791904500-1791905400@spacecenter.org
SUMMARY:Story Corner Live Presentation
DESCRIPTION:
URL:https://spacecenter.org/events-calendar-event/story-corner-live-presentation-4/2026-10-13/
LOCATION:Theater – Artemis
CATEGORIES:Live Presentation
END:VEVENT
BEGIN:VEVENT
DTSTART;TZID=America/Chicago:20261014T151500
DTEND;TZID=America/Chicago:20261014T153000
DTSTAMP:20260419T142037
CREATED:20250602T213249Z
LAST-MODIFIED:20250603T191942Z
UID:10196822-1791990900-1791991800@spacecenter.org
SUMMARY:Story Corner Live Presentation
DESCRIPTION:
URL:https://spacecenter.org/events-calendar-event/story-corner-live-presentation-4/2026-10-14/
LOCATION:Theater – Artemis
CATEGORIES:Live Presentation
END:VEVENT
BEGIN:VEVENT
DTSTART;TZID=America/Chicago:20261015T151500
DTEND;TZID=America/Chicago:20261015T153000
DTSTAMP:20260419T142037
CREATED:20250602T213249Z
LAST-MODIFIED:20250603T191942Z
UID:10196823-1792077300-1792078200@spacecenter.org
SUMMARY:Story Corner Live Presentation
DESCRIPTION:
URL:https://spacecenter.org/events-calendar-event/story-corner-live-presentation-4/2026-10-15/
LOCATION:Theater – Artemis
CATEGORIES:Live Presentation
END:VEVENT
END:VCALENDAR