BEGIN:VCALENDAR
VERSION:2.0
PRODID:-//Space Center Houston - ECPv6.15.15//NONSGML v1.0//EN
CALSCALE:GREGORIAN
METHOD:PUBLISH
X-WR-CALNAME:Space Center Houston
X-ORIGINAL-URL:https://spacecenter.org
X-WR-CALDESC:Events for Space Center Houston
REFRESH-INTERVAL;VALUE=DURATION:PT1H
X-Robots-Tag:noindex
X-PUBLISHED-TTL:PT1H
BEGIN:VTIMEZONE
TZID:America/Chicago
BEGIN:DAYLIGHT
TZOFFSETFROM:-0600
TZOFFSETTO:-0500
TZNAME:CDT
DTSTART:20250309T080000
END:DAYLIGHT
BEGIN:STANDARD
TZOFFSETFROM:-0500
TZOFFSETTO:-0600
TZNAME:CST
DTSTART:20251102T070000
END:STANDARD
BEGIN:DAYLIGHT
TZOFFSETFROM:-0600
TZOFFSETTO:-0500
TZNAME:CDT
DTSTART:20260308T080000
END:DAYLIGHT
BEGIN:STANDARD
TZOFFSETFROM:-0500
TZOFFSETTO:-0600
TZNAME:CST
DTSTART:20261101T070000
END:STANDARD
BEGIN:DAYLIGHT
TZOFFSETFROM:-0600
TZOFFSETTO:-0500
TZNAME:CDT
DTSTART:20270314T080000
END:DAYLIGHT
BEGIN:STANDARD
TZOFFSETFROM:-0500
TZOFFSETTO:-0600
TZNAME:CST
DTSTART:20271107T070000
END:STANDARD
END:VTIMEZONE
BEGIN:VEVENT
DTSTART;TZID=America/Chicago:20260916T121500
DTEND;TZID=America/Chicago:20260916T123000
DTSTAMP:20260419T080709
CREATED:20250602T213059Z
LAST-MODIFIED:20250603T190345Z
UID:10141954-1789560900-1789561800@spacecenter.org
SUMMARY:Story Corner Live Presentation
DESCRIPTION:
URL:https://spacecenter.org/events-calendar-event/story-corner-live-presentation-2/2026-09-16/
LOCATION:Theater – Artemis
CATEGORIES:Live Presentation
END:VEVENT
BEGIN:VEVENT
DTSTART;TZID=America/Chicago:20260917T121500
DTEND;TZID=America/Chicago:20260917T123000
DTSTAMP:20260419T080709
CREATED:20250602T213059Z
LAST-MODIFIED:20250603T190345Z
UID:10141955-1789647300-1789648200@spacecenter.org
SUMMARY:Story Corner Live Presentation
DESCRIPTION:
URL:https://spacecenter.org/events-calendar-event/story-corner-live-presentation-2/2026-09-17/
LOCATION:Theater – Artemis
CATEGORIES:Live Presentation
END:VEVENT
BEGIN:VEVENT
DTSTART;TZID=America/Chicago:20260918T121500
DTEND;TZID=America/Chicago:20260918T123000
DTSTAMP:20260419T080709
CREATED:20250602T213059Z
LAST-MODIFIED:20250603T190345Z
UID:10141956-1789733700-1789734600@spacecenter.org
SUMMARY:Story Corner Live Presentation
DESCRIPTION:
URL:https://spacecenter.org/events-calendar-event/story-corner-live-presentation-2/2026-09-18/
LOCATION:Theater – Artemis
CATEGORIES:Live Presentation
END:VEVENT
BEGIN:VEVENT
DTSTART;TZID=America/Chicago:20260919T121500
DTEND;TZID=America/Chicago:20260919T123000
DTSTAMP:20260419T080709
CREATED:20250602T213059Z
LAST-MODIFIED:20250603T190345Z
UID:10141957-1789820100-1789821000@spacecenter.org
SUMMARY:Story Corner Live Presentation
DESCRIPTION:
URL:https://spacecenter.org/events-calendar-event/story-corner-live-presentation-2/2026-09-19/
LOCATION:Theater – Artemis
CATEGORIES:Live Presentation
END:VEVENT
BEGIN:VEVENT
DTSTART;TZID=America/Chicago:20260920T121500
DTEND;TZID=America/Chicago:20260920T123000
DTSTAMP:20260419T080709
CREATED:20250602T213059Z
LAST-MODIFIED:20250603T190345Z
UID:10141958-1789906500-1789907400@spacecenter.org
SUMMARY:Story Corner Live Presentation
DESCRIPTION:
URL:https://spacecenter.org/events-calendar-event/story-corner-live-presentation-2/2026-09-20/
LOCATION:Theater – Artemis
CATEGORIES:Live Presentation
END:VEVENT
BEGIN:VEVENT
DTSTART;TZID=America/Chicago:20260921T121500
DTEND;TZID=America/Chicago:20260921T123000
DTSTAMP:20260419T080709
CREATED:20250602T213059Z
LAST-MODIFIED:20250603T190345Z
UID:10141959-1789992900-1789993800@spacecenter.org
SUMMARY:Story Corner Live Presentation
DESCRIPTION:
URL:https://spacecenter.org/events-calendar-event/story-corner-live-presentation-2/2026-09-21/
LOCATION:Theater – Artemis
CATEGORIES:Live Presentation
END:VEVENT
BEGIN:VEVENT
DTSTART;TZID=America/Chicago:20260922T121500
DTEND;TZID=America/Chicago:20260922T123000
DTSTAMP:20260419T080709
CREATED:20250602T213059Z
LAST-MODIFIED:20250603T190345Z
UID:10141960-1790079300-1790080200@spacecenter.org
SUMMARY:Story Corner Live Presentation
DESCRIPTION:
URL:https://spacecenter.org/events-calendar-event/story-corner-live-presentation-2/2026-09-22/
LOCATION:Theater – Artemis
CATEGORIES:Live Presentation
END:VEVENT
BEGIN:VEVENT
DTSTART;TZID=America/Chicago:20260923T121500
DTEND;TZID=America/Chicago:20260923T123000
DTSTAMP:20260419T080709
CREATED:20250602T213059Z
LAST-MODIFIED:20250603T190345Z
UID:10141961-1790165700-1790166600@spacecenter.org
SUMMARY:Story Corner Live Presentation
DESCRIPTION:
URL:https://spacecenter.org/events-calendar-event/story-corner-live-presentation-2/2026-09-23/
LOCATION:Theater – Artemis
CATEGORIES:Live Presentation
END:VEVENT
BEGIN:VEVENT
DTSTART;TZID=America/Chicago:20260924T121500
DTEND;TZID=America/Chicago:20260924T123000
DTSTAMP:20260419T080709
CREATED:20250602T213059Z
LAST-MODIFIED:20250603T190345Z
UID:10141962-1790252100-1790253000@spacecenter.org
SUMMARY:Story Corner Live Presentation
DESCRIPTION:
URL:https://spacecenter.org/events-calendar-event/story-corner-live-presentation-2/2026-09-24/
LOCATION:Theater – Artemis
CATEGORIES:Live Presentation
END:VEVENT
BEGIN:VEVENT
DTSTART;TZID=America/Chicago:20260925T121500
DTEND;TZID=America/Chicago:20260925T123000
DTSTAMP:20260419T080709
CREATED:20250602T213059Z
LAST-MODIFIED:20250603T190345Z
UID:10141963-1790338500-1790339400@spacecenter.org
SUMMARY:Story Corner Live Presentation
DESCRIPTION:
URL:https://spacecenter.org/events-calendar-event/story-corner-live-presentation-2/2026-09-25/
LOCATION:Theater – Artemis
CATEGORIES:Live Presentation
END:VEVENT
BEGIN:VEVENT
DTSTART;TZID=America/Chicago:20260926T121500
DTEND;TZID=America/Chicago:20260926T123000
DTSTAMP:20260419T080709
CREATED:20250602T213059Z
LAST-MODIFIED:20250603T190345Z
UID:10141964-1790424900-1790425800@spacecenter.org
SUMMARY:Story Corner Live Presentation
DESCRIPTION:
URL:https://spacecenter.org/events-calendar-event/story-corner-live-presentation-2/2026-09-26/
LOCATION:Theater – Artemis
CATEGORIES:Live Presentation
END:VEVENT
BEGIN:VEVENT
DTSTART;TZID=America/Chicago:20260927T121500
DTEND;TZID=America/Chicago:20260927T123000
DTSTAMP:20260419T080709
CREATED:20250602T213059Z
LAST-MODIFIED:20250603T190345Z
UID:10141965-1790511300-1790512200@spacecenter.org
SUMMARY:Story Corner Live Presentation
DESCRIPTION:
URL:https://spacecenter.org/events-calendar-event/story-corner-live-presentation-2/2026-09-27/
LOCATION:Theater – Artemis
CATEGORIES:Live Presentation
END:VEVENT
BEGIN:VEVENT
DTSTART;TZID=America/Chicago:20260928T121500
DTEND;TZID=America/Chicago:20260928T123000
DTSTAMP:20260419T080709
CREATED:20250602T213059Z
LAST-MODIFIED:20250603T190345Z
UID:10141966-1790597700-1790598600@spacecenter.org
SUMMARY:Story Corner Live Presentation
DESCRIPTION:
URL:https://spacecenter.org/events-calendar-event/story-corner-live-presentation-2/2026-09-28/
LOCATION:Theater – Artemis
CATEGORIES:Live Presentation
END:VEVENT
BEGIN:VEVENT
DTSTART;TZID=America/Chicago:20260929T121500
DTEND;TZID=America/Chicago:20260929T123000
DTSTAMP:20260419T080709
CREATED:20250602T213059Z
LAST-MODIFIED:20250603T190345Z
UID:10141967-1790684100-1790685000@spacecenter.org
SUMMARY:Story Corner Live Presentation
DESCRIPTION:
URL:https://spacecenter.org/events-calendar-event/story-corner-live-presentation-2/2026-09-29/
LOCATION:Theater – Artemis
CATEGORIES:Live Presentation
END:VEVENT
BEGIN:VEVENT
DTSTART;TZID=America/Chicago:20260930T121500
DTEND;TZID=America/Chicago:20260930T123000
DTSTAMP:20260419T080709
CREATED:20250602T213059Z
LAST-MODIFIED:20250603T190345Z
UID:10141968-1790770500-1790771400@spacecenter.org
SUMMARY:Story Corner Live Presentation
DESCRIPTION:
URL:https://spacecenter.org/events-calendar-event/story-corner-live-presentation-2/2026-09-30/
LOCATION:Theater – Artemis
CATEGORIES:Live Presentation
END:VEVENT
BEGIN:VEVENT
DTSTART;TZID=America/Chicago:20261001T121500
DTEND;TZID=America/Chicago:20261001T123000
DTSTAMP:20260419T080709
CREATED:20250602T213059Z
LAST-MODIFIED:20250603T190345Z
UID:10141969-1790856900-1790857800@spacecenter.org
SUMMARY:Story Corner Live Presentation
DESCRIPTION:
URL:https://spacecenter.org/events-calendar-event/story-corner-live-presentation-2/2026-10-01/
LOCATION:Theater – Artemis
CATEGORIES:Live Presentation
END:VEVENT
BEGIN:VEVENT
DTSTART;TZID=America/Chicago:20261002T121500
DTEND;TZID=America/Chicago:20261002T123000
DTSTAMP:20260419T080709
CREATED:20250602T213059Z
LAST-MODIFIED:20250603T190345Z
UID:10141970-1790943300-1790944200@spacecenter.org
SUMMARY:Story Corner Live Presentation
DESCRIPTION:
URL:https://spacecenter.org/events-calendar-event/story-corner-live-presentation-2/2026-10-02/
LOCATION:Theater – Artemis
CATEGORIES:Live Presentation
END:VEVENT
BEGIN:VEVENT
DTSTART;TZID=America/Chicago:20261003T121500
DTEND;TZID=America/Chicago:20261003T123000
DTSTAMP:20260419T080709
CREATED:20250602T213059Z
LAST-MODIFIED:20250603T190345Z
UID:10141971-1791029700-1791030600@spacecenter.org
SUMMARY:Story Corner Live Presentation
DESCRIPTION:
URL:https://spacecenter.org/events-calendar-event/story-corner-live-presentation-2/2026-10-03/
LOCATION:Theater – Artemis
CATEGORIES:Live Presentation
END:VEVENT
BEGIN:VEVENT
DTSTART;TZID=America/Chicago:20261004T121500
DTEND;TZID=America/Chicago:20261004T123000
DTSTAMP:20260419T080709
CREATED:20250602T213059Z
LAST-MODIFIED:20250603T190345Z
UID:10141972-1791116100-1791117000@spacecenter.org
SUMMARY:Story Corner Live Presentation
DESCRIPTION:
URL:https://spacecenter.org/events-calendar-event/story-corner-live-presentation-2/2026-10-04/
LOCATION:Theater – Artemis
CATEGORIES:Live Presentation
END:VEVENT
BEGIN:VEVENT
DTSTART;TZID=America/Chicago:20261005T121500
DTEND;TZID=America/Chicago:20261005T123000
DTSTAMP:20260419T080709
CREATED:20250602T213059Z
LAST-MODIFIED:20250603T190345Z
UID:10141973-1791202500-1791203400@spacecenter.org
SUMMARY:Story Corner Live Presentation
DESCRIPTION:
URL:https://spacecenter.org/events-calendar-event/story-corner-live-presentation-2/2026-10-05/
LOCATION:Theater – Artemis
CATEGORIES:Live Presentation
END:VEVENT
BEGIN:VEVENT
DTSTART;TZID=America/Chicago:20261006T121500
DTEND;TZID=America/Chicago:20261006T123000
DTSTAMP:20260419T080709
CREATED:20250602T213059Z
LAST-MODIFIED:20250603T190345Z
UID:10141974-1791288900-1791289800@spacecenter.org
SUMMARY:Story Corner Live Presentation
DESCRIPTION:
URL:https://spacecenter.org/events-calendar-event/story-corner-live-presentation-2/2026-10-06/
LOCATION:Theater – Artemis
CATEGORIES:Live Presentation
END:VEVENT
BEGIN:VEVENT
DTSTART;TZID=America/Chicago:20261007T121500
DTEND;TZID=America/Chicago:20261007T123000
DTSTAMP:20260419T080709
CREATED:20250602T213059Z
LAST-MODIFIED:20250603T190345Z
UID:10141975-1791375300-1791376200@spacecenter.org
SUMMARY:Story Corner Live Presentation
DESCRIPTION:
URL:https://spacecenter.org/events-calendar-event/story-corner-live-presentation-2/2026-10-07/
LOCATION:Theater – Artemis
CATEGORIES:Live Presentation
END:VEVENT
BEGIN:VEVENT
DTSTART;TZID=America/Chicago:20261008T121500
DTEND;TZID=America/Chicago:20261008T123000
DTSTAMP:20260419T080709
CREATED:20250602T213059Z
LAST-MODIFIED:20250603T190345Z
UID:10141976-1791461700-1791462600@spacecenter.org
SUMMARY:Story Corner Live Presentation
DESCRIPTION:
URL:https://spacecenter.org/events-calendar-event/story-corner-live-presentation-2/2026-10-08/
LOCATION:Theater – Artemis
CATEGORIES:Live Presentation
END:VEVENT
BEGIN:VEVENT
DTSTART;TZID=America/Chicago:20261009T121500
DTEND;TZID=America/Chicago:20261009T123000
DTSTAMP:20260419T080709
CREATED:20250602T213059Z
LAST-MODIFIED:20250603T190345Z
UID:10141977-1791548100-1791549000@spacecenter.org
SUMMARY:Story Corner Live Presentation
DESCRIPTION:
URL:https://spacecenter.org/events-calendar-event/story-corner-live-presentation-2/2026-10-09/
LOCATION:Theater – Artemis
CATEGORIES:Live Presentation
END:VEVENT
BEGIN:VEVENT
DTSTART;TZID=America/Chicago:20261010T121500
DTEND;TZID=America/Chicago:20261010T123000
DTSTAMP:20260419T080709
CREATED:20250602T213059Z
LAST-MODIFIED:20250603T190345Z
UID:10141978-1791634500-1791635400@spacecenter.org
SUMMARY:Story Corner Live Presentation
DESCRIPTION:
URL:https://spacecenter.org/events-calendar-event/story-corner-live-presentation-2/2026-10-10/
LOCATION:Theater – Artemis
CATEGORIES:Live Presentation
END:VEVENT
BEGIN:VEVENT
DTSTART;TZID=America/Chicago:20261011T121500
DTEND;TZID=America/Chicago:20261011T123000
DTSTAMP:20260419T080709
CREATED:20250602T213059Z
LAST-MODIFIED:20250603T190345Z
UID:10141979-1791720900-1791721800@spacecenter.org
SUMMARY:Story Corner Live Presentation
DESCRIPTION:
URL:https://spacecenter.org/events-calendar-event/story-corner-live-presentation-2/2026-10-11/
LOCATION:Theater – Artemis
CATEGORIES:Live Presentation
END:VEVENT
BEGIN:VEVENT
DTSTART;TZID=America/Chicago:20261012T121500
DTEND;TZID=America/Chicago:20261012T123000
DTSTAMP:20260419T080709
CREATED:20250602T213059Z
LAST-MODIFIED:20250603T190345Z
UID:10141980-1791807300-1791808200@spacecenter.org
SUMMARY:Story Corner Live Presentation
DESCRIPTION:
URL:https://spacecenter.org/events-calendar-event/story-corner-live-presentation-2/2026-10-12/
LOCATION:Theater – Artemis
CATEGORIES:Live Presentation
END:VEVENT
BEGIN:VEVENT
DTSTART;TZID=America/Chicago:20261013T121500
DTEND;TZID=America/Chicago:20261013T123000
DTSTAMP:20260419T080709
CREATED:20250602T213059Z
LAST-MODIFIED:20250603T190345Z
UID:10141981-1791893700-1791894600@spacecenter.org
SUMMARY:Story Corner Live Presentation
DESCRIPTION:
URL:https://spacecenter.org/events-calendar-event/story-corner-live-presentation-2/2026-10-13/
LOCATION:Theater – Artemis
CATEGORIES:Live Presentation
END:VEVENT
BEGIN:VEVENT
DTSTART;TZID=America/Chicago:20261014T121500
DTEND;TZID=America/Chicago:20261014T123000
DTSTAMP:20260419T080709
CREATED:20250602T213059Z
LAST-MODIFIED:20250603T190345Z
UID:10141982-1791980100-1791981000@spacecenter.org
SUMMARY:Story Corner Live Presentation
DESCRIPTION:
URL:https://spacecenter.org/events-calendar-event/story-corner-live-presentation-2/2026-10-14/
LOCATION:Theater – Artemis
CATEGORIES:Live Presentation
END:VEVENT
BEGIN:VEVENT
DTSTART;TZID=America/Chicago:20261015T121500
DTEND;TZID=America/Chicago:20261015T123000
DTSTAMP:20260419T080709
CREATED:20250602T213059Z
LAST-MODIFIED:20250603T190345Z
UID:10141983-1792066500-1792067400@spacecenter.org
SUMMARY:Story Corner Live Presentation
DESCRIPTION:
URL:https://spacecenter.org/events-calendar-event/story-corner-live-presentation-2/2026-10-15/
LOCATION:Theater – Artemis
CATEGORIES:Live Presentation
END:VEVENT
END:VCALENDAR