BEGIN:VCALENDAR
VERSION:2.0
PRODID:-//Space Center Houston - ECPv6.15.15//NONSGML v1.0//EN
CALSCALE:GREGORIAN
METHOD:PUBLISH
X-WR-CALNAME:Space Center Houston
X-ORIGINAL-URL:https://spacecenter.org
X-WR-CALDESC:Events for Space Center Houston
REFRESH-INTERVAL;VALUE=DURATION:PT1H
X-Robots-Tag:noindex
X-PUBLISHED-TTL:PT1H
BEGIN:VTIMEZONE
TZID:America/Chicago
BEGIN:DAYLIGHT
TZOFFSETFROM:-0600
TZOFFSETTO:-0500
TZNAME:CDT
DTSTART:20250309T080000
END:DAYLIGHT
BEGIN:STANDARD
TZOFFSETFROM:-0500
TZOFFSETTO:-0600
TZNAME:CST
DTSTART:20251102T070000
END:STANDARD
BEGIN:DAYLIGHT
TZOFFSETFROM:-0600
TZOFFSETTO:-0500
TZNAME:CDT
DTSTART:20260308T080000
END:DAYLIGHT
BEGIN:STANDARD
TZOFFSETFROM:-0500
TZOFFSETTO:-0600
TZNAME:CST
DTSTART:20261101T070000
END:STANDARD
BEGIN:DAYLIGHT
TZOFFSETFROM:-0600
TZOFFSETTO:-0500
TZNAME:CDT
DTSTART:20270314T080000
END:DAYLIGHT
BEGIN:STANDARD
TZOFFSETFROM:-0500
TZOFFSETTO:-0600
TZNAME:CST
DTSTART:20271107T070000
END:STANDARD
END:VTIMEZONE
BEGIN:VEVENT
DTSTART;TZID=America/Chicago:20260729T114500
DTEND;TZID=America/Chicago:20260729T120000
DTSTAMP:20260419T160108
CREATED:20250602T213503Z
LAST-MODIFIED:20250603T190256Z
UID:10138249-1785325500-1785326400@spacecenter.org
SUMMARY:James Webb Live Presentation
DESCRIPTION:
URL:https://spacecenter.org/events-calendar-event/james-webb-live-presentation/2026-07-29/
LOCATION:Theater – Destiny
CATEGORIES:Live Presentation
END:VEVENT
BEGIN:VEVENT
DTSTART;TZID=America/Chicago:20260730T114500
DTEND;TZID=America/Chicago:20260730T120000
DTSTAMP:20260419T160108
CREATED:20250602T213503Z
LAST-MODIFIED:20250603T190256Z
UID:10138250-1785411900-1785412800@spacecenter.org
SUMMARY:James Webb Live Presentation
DESCRIPTION:
URL:https://spacecenter.org/events-calendar-event/james-webb-live-presentation/2026-07-30/
LOCATION:Theater – Destiny
CATEGORIES:Live Presentation
END:VEVENT
BEGIN:VEVENT
DTSTART;TZID=America/Chicago:20260731T114500
DTEND;TZID=America/Chicago:20260731T120000
DTSTAMP:20260419T160108
CREATED:20250602T213503Z
LAST-MODIFIED:20250603T190256Z
UID:10138251-1785498300-1785499200@spacecenter.org
SUMMARY:James Webb Live Presentation
DESCRIPTION:
URL:https://spacecenter.org/events-calendar-event/james-webb-live-presentation/2026-07-31/
LOCATION:Theater – Destiny
CATEGORIES:Live Presentation
END:VEVENT
BEGIN:VEVENT
DTSTART;TZID=America/Chicago:20260801T114500
DTEND;TZID=America/Chicago:20260801T120000
DTSTAMP:20260419T160108
CREATED:20250602T213503Z
LAST-MODIFIED:20250603T190256Z
UID:10138252-1785584700-1785585600@spacecenter.org
SUMMARY:James Webb Live Presentation
DESCRIPTION:
URL:https://spacecenter.org/events-calendar-event/james-webb-live-presentation/2026-08-01/
LOCATION:Theater – Destiny
CATEGORIES:Live Presentation
END:VEVENT
BEGIN:VEVENT
DTSTART;TZID=America/Chicago:20260802T114500
DTEND;TZID=America/Chicago:20260802T120000
DTSTAMP:20260419T160108
CREATED:20250602T213503Z
LAST-MODIFIED:20250603T190256Z
UID:10138253-1785671100-1785672000@spacecenter.org
SUMMARY:James Webb Live Presentation
DESCRIPTION:
URL:https://spacecenter.org/events-calendar-event/james-webb-live-presentation/2026-08-02/
LOCATION:Theater – Destiny
CATEGORIES:Live Presentation
END:VEVENT
BEGIN:VEVENT
DTSTART;TZID=America/Chicago:20260803T114500
DTEND;TZID=America/Chicago:20260803T120000
DTSTAMP:20260419T160108
CREATED:20250602T213503Z
LAST-MODIFIED:20250603T190256Z
UID:10138254-1785757500-1785758400@spacecenter.org
SUMMARY:James Webb Live Presentation
DESCRIPTION:
URL:https://spacecenter.org/events-calendar-event/james-webb-live-presentation/2026-08-03/
LOCATION:Theater – Destiny
CATEGORIES:Live Presentation
END:VEVENT
BEGIN:VEVENT
DTSTART;TZID=America/Chicago:20260804T114500
DTEND;TZID=America/Chicago:20260804T120000
DTSTAMP:20260419T160108
CREATED:20250602T213503Z
LAST-MODIFIED:20250603T190256Z
UID:10138255-1785843900-1785844800@spacecenter.org
SUMMARY:James Webb Live Presentation
DESCRIPTION:
URL:https://spacecenter.org/events-calendar-event/james-webb-live-presentation/2026-08-04/
LOCATION:Theater – Destiny
CATEGORIES:Live Presentation
END:VEVENT
BEGIN:VEVENT
DTSTART;TZID=America/Chicago:20260805T114500
DTEND;TZID=America/Chicago:20260805T120000
DTSTAMP:20260419T160108
CREATED:20250602T213503Z
LAST-MODIFIED:20250603T190256Z
UID:10138256-1785930300-1785931200@spacecenter.org
SUMMARY:James Webb Live Presentation
DESCRIPTION:
URL:https://spacecenter.org/events-calendar-event/james-webb-live-presentation/2026-08-05/
LOCATION:Theater – Destiny
CATEGORIES:Live Presentation
END:VEVENT
BEGIN:VEVENT
DTSTART;TZID=America/Chicago:20260806T114500
DTEND;TZID=America/Chicago:20260806T120000
DTSTAMP:20260419T160108
CREATED:20250602T213503Z
LAST-MODIFIED:20250603T190256Z
UID:10138257-1786016700-1786017600@spacecenter.org
SUMMARY:James Webb Live Presentation
DESCRIPTION:
URL:https://spacecenter.org/events-calendar-event/james-webb-live-presentation/2026-08-06/
LOCATION:Theater – Destiny
CATEGORIES:Live Presentation
END:VEVENT
BEGIN:VEVENT
DTSTART;TZID=America/Chicago:20260807T114500
DTEND;TZID=America/Chicago:20260807T120000
DTSTAMP:20260419T160108
CREATED:20250602T213503Z
LAST-MODIFIED:20250603T190256Z
UID:10138258-1786103100-1786104000@spacecenter.org
SUMMARY:James Webb Live Presentation
DESCRIPTION:
URL:https://spacecenter.org/events-calendar-event/james-webb-live-presentation/2026-08-07/
LOCATION:Theater – Destiny
CATEGORIES:Live Presentation
END:VEVENT
BEGIN:VEVENT
DTSTART;TZID=America/Chicago:20260808T114500
DTEND;TZID=America/Chicago:20260808T120000
DTSTAMP:20260419T160108
CREATED:20250602T213503Z
LAST-MODIFIED:20250603T190256Z
UID:10138259-1786189500-1786190400@spacecenter.org
SUMMARY:James Webb Live Presentation
DESCRIPTION:
URL:https://spacecenter.org/events-calendar-event/james-webb-live-presentation/2026-08-08/
LOCATION:Theater – Destiny
CATEGORIES:Live Presentation
END:VEVENT
BEGIN:VEVENT
DTSTART;TZID=America/Chicago:20260809T114500
DTEND;TZID=America/Chicago:20260809T120000
DTSTAMP:20260419T160108
CREATED:20250602T213503Z
LAST-MODIFIED:20250603T190256Z
UID:10138260-1786275900-1786276800@spacecenter.org
SUMMARY:James Webb Live Presentation
DESCRIPTION:
URL:https://spacecenter.org/events-calendar-event/james-webb-live-presentation/2026-08-09/
LOCATION:Theater – Destiny
CATEGORIES:Live Presentation
END:VEVENT
BEGIN:VEVENT
DTSTART;TZID=America/Chicago:20260810T114500
DTEND;TZID=America/Chicago:20260810T120000
DTSTAMP:20260419T160108
CREATED:20250602T213503Z
LAST-MODIFIED:20250603T190256Z
UID:10138261-1786362300-1786363200@spacecenter.org
SUMMARY:James Webb Live Presentation
DESCRIPTION:
URL:https://spacecenter.org/events-calendar-event/james-webb-live-presentation/2026-08-10/
LOCATION:Theater – Destiny
CATEGORIES:Live Presentation
END:VEVENT
BEGIN:VEVENT
DTSTART;TZID=America/Chicago:20260811T114500
DTEND;TZID=America/Chicago:20260811T120000
DTSTAMP:20260419T160108
CREATED:20250602T213503Z
LAST-MODIFIED:20250603T190256Z
UID:10138262-1786448700-1786449600@spacecenter.org
SUMMARY:James Webb Live Presentation
DESCRIPTION:
URL:https://spacecenter.org/events-calendar-event/james-webb-live-presentation/2026-08-11/
LOCATION:Theater – Destiny
CATEGORIES:Live Presentation
END:VEVENT
BEGIN:VEVENT
DTSTART;TZID=America/Chicago:20260812T114500
DTEND;TZID=America/Chicago:20260812T120000
DTSTAMP:20260419T160108
CREATED:20250602T213503Z
LAST-MODIFIED:20250603T190256Z
UID:10138263-1786535100-1786536000@spacecenter.org
SUMMARY:James Webb Live Presentation
DESCRIPTION:
URL:https://spacecenter.org/events-calendar-event/james-webb-live-presentation/2026-08-12/
LOCATION:Theater – Destiny
CATEGORIES:Live Presentation
END:VEVENT
BEGIN:VEVENT
DTSTART;TZID=America/Chicago:20260813T114500
DTEND;TZID=America/Chicago:20260813T120000
DTSTAMP:20260419T160108
CREATED:20250602T213503Z
LAST-MODIFIED:20250603T190256Z
UID:10138264-1786621500-1786622400@spacecenter.org
SUMMARY:James Webb Live Presentation
DESCRIPTION:
URL:https://spacecenter.org/events-calendar-event/james-webb-live-presentation/2026-08-13/
LOCATION:Theater – Destiny
CATEGORIES:Live Presentation
END:VEVENT
BEGIN:VEVENT
DTSTART;TZID=America/Chicago:20260814T114500
DTEND;TZID=America/Chicago:20260814T120000
DTSTAMP:20260419T160108
CREATED:20250602T213503Z
LAST-MODIFIED:20250603T190256Z
UID:10138265-1786707900-1786708800@spacecenter.org
SUMMARY:James Webb Live Presentation
DESCRIPTION:
URL:https://spacecenter.org/events-calendar-event/james-webb-live-presentation/2026-08-14/
LOCATION:Theater – Destiny
CATEGORIES:Live Presentation
END:VEVENT
BEGIN:VEVENT
DTSTART;TZID=America/Chicago:20260815T114500
DTEND;TZID=America/Chicago:20260815T120000
DTSTAMP:20260419T160108
CREATED:20250602T213503Z
LAST-MODIFIED:20250603T190256Z
UID:10138266-1786794300-1786795200@spacecenter.org
SUMMARY:James Webb Live Presentation
DESCRIPTION:
URL:https://spacecenter.org/events-calendar-event/james-webb-live-presentation/2026-08-15/
LOCATION:Theater – Destiny
CATEGORIES:Live Presentation
END:VEVENT
BEGIN:VEVENT
DTSTART;TZID=America/Chicago:20260816T114500
DTEND;TZID=America/Chicago:20260816T120000
DTSTAMP:20260419T160108
CREATED:20250602T213503Z
LAST-MODIFIED:20250603T190256Z
UID:10138267-1786880700-1786881600@spacecenter.org
SUMMARY:James Webb Live Presentation
DESCRIPTION:
URL:https://spacecenter.org/events-calendar-event/james-webb-live-presentation/2026-08-16/
LOCATION:Theater – Destiny
CATEGORIES:Live Presentation
END:VEVENT
BEGIN:VEVENT
DTSTART;TZID=America/Chicago:20260817T114500
DTEND;TZID=America/Chicago:20260817T120000
DTSTAMP:20260419T160108
CREATED:20250602T213503Z
LAST-MODIFIED:20250603T190256Z
UID:10138268-1786967100-1786968000@spacecenter.org
SUMMARY:James Webb Live Presentation
DESCRIPTION:
URL:https://spacecenter.org/events-calendar-event/james-webb-live-presentation/2026-08-17/
LOCATION:Theater – Destiny
CATEGORIES:Live Presentation
END:VEVENT
BEGIN:VEVENT
DTSTART;TZID=America/Chicago:20260818T114500
DTEND;TZID=America/Chicago:20260818T120000
DTSTAMP:20260419T160108
CREATED:20250602T213503Z
LAST-MODIFIED:20250603T190256Z
UID:10138269-1787053500-1787054400@spacecenter.org
SUMMARY:James Webb Live Presentation
DESCRIPTION:
URL:https://spacecenter.org/events-calendar-event/james-webb-live-presentation/2026-08-18/
LOCATION:Theater – Destiny
CATEGORIES:Live Presentation
END:VEVENT
BEGIN:VEVENT
DTSTART;TZID=America/Chicago:20260819T114500
DTEND;TZID=America/Chicago:20260819T120000
DTSTAMP:20260419T160108
CREATED:20250602T213503Z
LAST-MODIFIED:20250603T190256Z
UID:10138270-1787139900-1787140800@spacecenter.org
SUMMARY:James Webb Live Presentation
DESCRIPTION:
URL:https://spacecenter.org/events-calendar-event/james-webb-live-presentation/2026-08-19/
LOCATION:Theater – Destiny
CATEGORIES:Live Presentation
END:VEVENT
BEGIN:VEVENT
DTSTART;TZID=America/Chicago:20260820T114500
DTEND;TZID=America/Chicago:20260820T120000
DTSTAMP:20260419T160108
CREATED:20250602T213503Z
LAST-MODIFIED:20250603T190256Z
UID:10138271-1787226300-1787227200@spacecenter.org
SUMMARY:James Webb Live Presentation
DESCRIPTION:
URL:https://spacecenter.org/events-calendar-event/james-webb-live-presentation/2026-08-20/
LOCATION:Theater – Destiny
CATEGORIES:Live Presentation
END:VEVENT
BEGIN:VEVENT
DTSTART;TZID=America/Chicago:20260821T114500
DTEND;TZID=America/Chicago:20260821T120000
DTSTAMP:20260419T160108
CREATED:20250602T213503Z
LAST-MODIFIED:20250603T190256Z
UID:10138272-1787312700-1787313600@spacecenter.org
SUMMARY:James Webb Live Presentation
DESCRIPTION:
URL:https://spacecenter.org/events-calendar-event/james-webb-live-presentation/2026-08-21/
LOCATION:Theater – Destiny
CATEGORIES:Live Presentation
END:VEVENT
BEGIN:VEVENT
DTSTART;TZID=America/Chicago:20260822T114500
DTEND;TZID=America/Chicago:20260822T120000
DTSTAMP:20260419T160108
CREATED:20250602T213503Z
LAST-MODIFIED:20250603T190256Z
UID:10138273-1787399100-1787400000@spacecenter.org
SUMMARY:James Webb Live Presentation
DESCRIPTION:
URL:https://spacecenter.org/events-calendar-event/james-webb-live-presentation/2026-08-22/
LOCATION:Theater – Destiny
CATEGORIES:Live Presentation
END:VEVENT
BEGIN:VEVENT
DTSTART;TZID=America/Chicago:20260823T114500
DTEND;TZID=America/Chicago:20260823T120000
DTSTAMP:20260419T160108
CREATED:20250602T213503Z
LAST-MODIFIED:20250603T190256Z
UID:10138274-1787485500-1787486400@spacecenter.org
SUMMARY:James Webb Live Presentation
DESCRIPTION:
URL:https://spacecenter.org/events-calendar-event/james-webb-live-presentation/2026-08-23/
LOCATION:Theater – Destiny
CATEGORIES:Live Presentation
END:VEVENT
BEGIN:VEVENT
DTSTART;TZID=America/Chicago:20260824T114500
DTEND;TZID=America/Chicago:20260824T120000
DTSTAMP:20260419T160108
CREATED:20250602T213503Z
LAST-MODIFIED:20250603T190256Z
UID:10138275-1787571900-1787572800@spacecenter.org
SUMMARY:James Webb Live Presentation
DESCRIPTION:
URL:https://spacecenter.org/events-calendar-event/james-webb-live-presentation/2026-08-24/
LOCATION:Theater – Destiny
CATEGORIES:Live Presentation
END:VEVENT
BEGIN:VEVENT
DTSTART;TZID=America/Chicago:20260825T114500
DTEND;TZID=America/Chicago:20260825T120000
DTSTAMP:20260419T160108
CREATED:20250602T213503Z
LAST-MODIFIED:20250603T190256Z
UID:10138276-1787658300-1787659200@spacecenter.org
SUMMARY:James Webb Live Presentation
DESCRIPTION:
URL:https://spacecenter.org/events-calendar-event/james-webb-live-presentation/2026-08-25/
LOCATION:Theater – Destiny
CATEGORIES:Live Presentation
END:VEVENT
BEGIN:VEVENT
DTSTART;TZID=America/Chicago:20260826T114500
DTEND;TZID=America/Chicago:20260826T120000
DTSTAMP:20260419T160108
CREATED:20250602T213503Z
LAST-MODIFIED:20250603T190256Z
UID:10138277-1787744700-1787745600@spacecenter.org
SUMMARY:James Webb Live Presentation
DESCRIPTION:
URL:https://spacecenter.org/events-calendar-event/james-webb-live-presentation/2026-08-26/
LOCATION:Theater – Destiny
CATEGORIES:Live Presentation
END:VEVENT
BEGIN:VEVENT
DTSTART;TZID=America/Chicago:20260827T114500
DTEND;TZID=America/Chicago:20260827T120000
DTSTAMP:20260419T160108
CREATED:20250602T213503Z
LAST-MODIFIED:20250603T190256Z
UID:10138278-1787831100-1787832000@spacecenter.org
SUMMARY:James Webb Live Presentation
DESCRIPTION:
URL:https://spacecenter.org/events-calendar-event/james-webb-live-presentation/2026-08-27/
LOCATION:Theater – Destiny
CATEGORIES:Live Presentation
END:VEVENT
END:VCALENDAR