BEGIN:VCALENDAR
VERSION:2.0
PRODID:-//Space Center Houston - ECPv6.15.15//NONSGML v1.0//EN
CALSCALE:GREGORIAN
METHOD:PUBLISH
X-WR-CALNAME:Space Center Houston
X-ORIGINAL-URL:https://spacecenter.org
X-WR-CALDESC:Events for Space Center Houston
REFRESH-INTERVAL;VALUE=DURATION:PT1H
X-Robots-Tag:noindex
X-PUBLISHED-TTL:PT1H
BEGIN:VTIMEZONE
TZID:America/Chicago
BEGIN:DAYLIGHT
TZOFFSETFROM:-0600
TZOFFSETTO:-0500
TZNAME:CDT
DTSTART:20250309T080000
END:DAYLIGHT
BEGIN:STANDARD
TZOFFSETFROM:-0500
TZOFFSETTO:-0600
TZNAME:CST
DTSTART:20251102T070000
END:STANDARD
BEGIN:DAYLIGHT
TZOFFSETFROM:-0600
TZOFFSETTO:-0500
TZNAME:CDT
DTSTART:20260308T080000
END:DAYLIGHT
BEGIN:STANDARD
TZOFFSETFROM:-0500
TZOFFSETTO:-0600
TZNAME:CST
DTSTART:20261101T070000
END:STANDARD
BEGIN:DAYLIGHT
TZOFFSETFROM:-0600
TZOFFSETTO:-0500
TZNAME:CDT
DTSTART:20270314T080000
END:DAYLIGHT
BEGIN:STANDARD
TZOFFSETFROM:-0500
TZOFFSETTO:-0600
TZNAME:CST
DTSTART:20271107T070000
END:STANDARD
END:VTIMEZONE
BEGIN:VEVENT
DTSTART;TZID=America/Chicago:20260729T121500
DTEND;TZID=America/Chicago:20260729T123000
DTSTAMP:20260419T141927
CREATED:20250602T213059Z
LAST-MODIFIED:20250603T190345Z
UID:10141905-1785327300-1785328200@spacecenter.org
SUMMARY:Story Corner Live Presentation
DESCRIPTION:
URL:https://spacecenter.org/events-calendar-event/story-corner-live-presentation-2/2026-07-29/
LOCATION:Theater – Artemis
CATEGORIES:Live Presentation
END:VEVENT
BEGIN:VEVENT
DTSTART;TZID=America/Chicago:20260730T121500
DTEND;TZID=America/Chicago:20260730T123000
DTSTAMP:20260419T141927
CREATED:20250602T213059Z
LAST-MODIFIED:20250603T190345Z
UID:10141906-1785413700-1785414600@spacecenter.org
SUMMARY:Story Corner Live Presentation
DESCRIPTION:
URL:https://spacecenter.org/events-calendar-event/story-corner-live-presentation-2/2026-07-30/
LOCATION:Theater – Artemis
CATEGORIES:Live Presentation
END:VEVENT
BEGIN:VEVENT
DTSTART;TZID=America/Chicago:20260731T121500
DTEND;TZID=America/Chicago:20260731T123000
DTSTAMP:20260419T141927
CREATED:20250602T213059Z
LAST-MODIFIED:20250603T190345Z
UID:10141907-1785500100-1785501000@spacecenter.org
SUMMARY:Story Corner Live Presentation
DESCRIPTION:
URL:https://spacecenter.org/events-calendar-event/story-corner-live-presentation-2/2026-07-31/
LOCATION:Theater – Artemis
CATEGORIES:Live Presentation
END:VEVENT
BEGIN:VEVENT
DTSTART;TZID=America/Chicago:20260801T121500
DTEND;TZID=America/Chicago:20260801T123000
DTSTAMP:20260419T141927
CREATED:20250602T213059Z
LAST-MODIFIED:20250603T190345Z
UID:10141908-1785586500-1785587400@spacecenter.org
SUMMARY:Story Corner Live Presentation
DESCRIPTION:
URL:https://spacecenter.org/events-calendar-event/story-corner-live-presentation-2/2026-08-01/
LOCATION:Theater – Artemis
CATEGORIES:Live Presentation
END:VEVENT
BEGIN:VEVENT
DTSTART;TZID=America/Chicago:20260802T121500
DTEND;TZID=America/Chicago:20260802T123000
DTSTAMP:20260419T141927
CREATED:20250602T213059Z
LAST-MODIFIED:20250603T190345Z
UID:10141909-1785672900-1785673800@spacecenter.org
SUMMARY:Story Corner Live Presentation
DESCRIPTION:
URL:https://spacecenter.org/events-calendar-event/story-corner-live-presentation-2/2026-08-02/
LOCATION:Theater – Artemis
CATEGORIES:Live Presentation
END:VEVENT
BEGIN:VEVENT
DTSTART;TZID=America/Chicago:20260803T121500
DTEND;TZID=America/Chicago:20260803T123000
DTSTAMP:20260419T141927
CREATED:20250602T213059Z
LAST-MODIFIED:20250603T190345Z
UID:10141910-1785759300-1785760200@spacecenter.org
SUMMARY:Story Corner Live Presentation
DESCRIPTION:
URL:https://spacecenter.org/events-calendar-event/story-corner-live-presentation-2/2026-08-03/
LOCATION:Theater – Artemis
CATEGORIES:Live Presentation
END:VEVENT
BEGIN:VEVENT
DTSTART;TZID=America/Chicago:20260804T121500
DTEND;TZID=America/Chicago:20260804T123000
DTSTAMP:20260419T141927
CREATED:20250602T213059Z
LAST-MODIFIED:20250603T190345Z
UID:10141911-1785845700-1785846600@spacecenter.org
SUMMARY:Story Corner Live Presentation
DESCRIPTION:
URL:https://spacecenter.org/events-calendar-event/story-corner-live-presentation-2/2026-08-04/
LOCATION:Theater – Artemis
CATEGORIES:Live Presentation
END:VEVENT
BEGIN:VEVENT
DTSTART;TZID=America/Chicago:20260805T121500
DTEND;TZID=America/Chicago:20260805T123000
DTSTAMP:20260419T141927
CREATED:20250602T213059Z
LAST-MODIFIED:20250603T190345Z
UID:10141912-1785932100-1785933000@spacecenter.org
SUMMARY:Story Corner Live Presentation
DESCRIPTION:
URL:https://spacecenter.org/events-calendar-event/story-corner-live-presentation-2/2026-08-05/
LOCATION:Theater – Artemis
CATEGORIES:Live Presentation
END:VEVENT
BEGIN:VEVENT
DTSTART;TZID=America/Chicago:20260806T121500
DTEND;TZID=America/Chicago:20260806T123000
DTSTAMP:20260419T141927
CREATED:20250602T213059Z
LAST-MODIFIED:20250603T190345Z
UID:10141913-1786018500-1786019400@spacecenter.org
SUMMARY:Story Corner Live Presentation
DESCRIPTION:
URL:https://spacecenter.org/events-calendar-event/story-corner-live-presentation-2/2026-08-06/
LOCATION:Theater – Artemis
CATEGORIES:Live Presentation
END:VEVENT
BEGIN:VEVENT
DTSTART;TZID=America/Chicago:20260807T121500
DTEND;TZID=America/Chicago:20260807T123000
DTSTAMP:20260419T141927
CREATED:20250602T213059Z
LAST-MODIFIED:20250603T190345Z
UID:10141914-1786104900-1786105800@spacecenter.org
SUMMARY:Story Corner Live Presentation
DESCRIPTION:
URL:https://spacecenter.org/events-calendar-event/story-corner-live-presentation-2/2026-08-07/
LOCATION:Theater – Artemis
CATEGORIES:Live Presentation
END:VEVENT
BEGIN:VEVENT
DTSTART;TZID=America/Chicago:20260808T121500
DTEND;TZID=America/Chicago:20260808T123000
DTSTAMP:20260419T141927
CREATED:20250602T213059Z
LAST-MODIFIED:20250603T190345Z
UID:10141915-1786191300-1786192200@spacecenter.org
SUMMARY:Story Corner Live Presentation
DESCRIPTION:
URL:https://spacecenter.org/events-calendar-event/story-corner-live-presentation-2/2026-08-08/
LOCATION:Theater – Artemis
CATEGORIES:Live Presentation
END:VEVENT
BEGIN:VEVENT
DTSTART;TZID=America/Chicago:20260809T121500
DTEND;TZID=America/Chicago:20260809T123000
DTSTAMP:20260419T141927
CREATED:20250602T213059Z
LAST-MODIFIED:20250603T190345Z
UID:10141916-1786277700-1786278600@spacecenter.org
SUMMARY:Story Corner Live Presentation
DESCRIPTION:
URL:https://spacecenter.org/events-calendar-event/story-corner-live-presentation-2/2026-08-09/
LOCATION:Theater – Artemis
CATEGORIES:Live Presentation
END:VEVENT
BEGIN:VEVENT
DTSTART;TZID=America/Chicago:20260810T121500
DTEND;TZID=America/Chicago:20260810T123000
DTSTAMP:20260419T141927
CREATED:20250602T213059Z
LAST-MODIFIED:20250603T190345Z
UID:10141917-1786364100-1786365000@spacecenter.org
SUMMARY:Story Corner Live Presentation
DESCRIPTION:
URL:https://spacecenter.org/events-calendar-event/story-corner-live-presentation-2/2026-08-10/
LOCATION:Theater – Artemis
CATEGORIES:Live Presentation
END:VEVENT
BEGIN:VEVENT
DTSTART;TZID=America/Chicago:20260811T121500
DTEND;TZID=America/Chicago:20260811T123000
DTSTAMP:20260419T141927
CREATED:20250602T213059Z
LAST-MODIFIED:20250603T190345Z
UID:10141918-1786450500-1786451400@spacecenter.org
SUMMARY:Story Corner Live Presentation
DESCRIPTION:
URL:https://spacecenter.org/events-calendar-event/story-corner-live-presentation-2/2026-08-11/
LOCATION:Theater – Artemis
CATEGORIES:Live Presentation
END:VEVENT
BEGIN:VEVENT
DTSTART;TZID=America/Chicago:20260812T121500
DTEND;TZID=America/Chicago:20260812T123000
DTSTAMP:20260419T141927
CREATED:20250602T213059Z
LAST-MODIFIED:20250603T190345Z
UID:10141919-1786536900-1786537800@spacecenter.org
SUMMARY:Story Corner Live Presentation
DESCRIPTION:
URL:https://spacecenter.org/events-calendar-event/story-corner-live-presentation-2/2026-08-12/
LOCATION:Theater – Artemis
CATEGORIES:Live Presentation
END:VEVENT
BEGIN:VEVENT
DTSTART;TZID=America/Chicago:20260813T121500
DTEND;TZID=America/Chicago:20260813T123000
DTSTAMP:20260419T141927
CREATED:20250602T213059Z
LAST-MODIFIED:20250603T190345Z
UID:10141920-1786623300-1786624200@spacecenter.org
SUMMARY:Story Corner Live Presentation
DESCRIPTION:
URL:https://spacecenter.org/events-calendar-event/story-corner-live-presentation-2/2026-08-13/
LOCATION:Theater – Artemis
CATEGORIES:Live Presentation
END:VEVENT
BEGIN:VEVENT
DTSTART;TZID=America/Chicago:20260814T121500
DTEND;TZID=America/Chicago:20260814T123000
DTSTAMP:20260419T141927
CREATED:20250602T213059Z
LAST-MODIFIED:20250603T190345Z
UID:10141921-1786709700-1786710600@spacecenter.org
SUMMARY:Story Corner Live Presentation
DESCRIPTION:
URL:https://spacecenter.org/events-calendar-event/story-corner-live-presentation-2/2026-08-14/
LOCATION:Theater – Artemis
CATEGORIES:Live Presentation
END:VEVENT
BEGIN:VEVENT
DTSTART;TZID=America/Chicago:20260815T121500
DTEND;TZID=America/Chicago:20260815T123000
DTSTAMP:20260419T141927
CREATED:20250602T213059Z
LAST-MODIFIED:20250603T190345Z
UID:10141922-1786796100-1786797000@spacecenter.org
SUMMARY:Story Corner Live Presentation
DESCRIPTION:
URL:https://spacecenter.org/events-calendar-event/story-corner-live-presentation-2/2026-08-15/
LOCATION:Theater – Artemis
CATEGORIES:Live Presentation
END:VEVENT
BEGIN:VEVENT
DTSTART;TZID=America/Chicago:20260816T121500
DTEND;TZID=America/Chicago:20260816T123000
DTSTAMP:20260419T141927
CREATED:20250602T213059Z
LAST-MODIFIED:20250603T190345Z
UID:10141923-1786882500-1786883400@spacecenter.org
SUMMARY:Story Corner Live Presentation
DESCRIPTION:
URL:https://spacecenter.org/events-calendar-event/story-corner-live-presentation-2/2026-08-16/
LOCATION:Theater – Artemis
CATEGORIES:Live Presentation
END:VEVENT
BEGIN:VEVENT
DTSTART;TZID=America/Chicago:20260817T121500
DTEND;TZID=America/Chicago:20260817T123000
DTSTAMP:20260419T141927
CREATED:20250602T213059Z
LAST-MODIFIED:20250603T190345Z
UID:10141924-1786968900-1786969800@spacecenter.org
SUMMARY:Story Corner Live Presentation
DESCRIPTION:
URL:https://spacecenter.org/events-calendar-event/story-corner-live-presentation-2/2026-08-17/
LOCATION:Theater – Artemis
CATEGORIES:Live Presentation
END:VEVENT
BEGIN:VEVENT
DTSTART;TZID=America/Chicago:20260818T121500
DTEND;TZID=America/Chicago:20260818T123000
DTSTAMP:20260419T141927
CREATED:20250602T213059Z
LAST-MODIFIED:20250603T190345Z
UID:10141925-1787055300-1787056200@spacecenter.org
SUMMARY:Story Corner Live Presentation
DESCRIPTION:
URL:https://spacecenter.org/events-calendar-event/story-corner-live-presentation-2/2026-08-18/
LOCATION:Theater – Artemis
CATEGORIES:Live Presentation
END:VEVENT
BEGIN:VEVENT
DTSTART;TZID=America/Chicago:20260819T121500
DTEND;TZID=America/Chicago:20260819T123000
DTSTAMP:20260419T141927
CREATED:20250602T213059Z
LAST-MODIFIED:20250603T190345Z
UID:10141926-1787141700-1787142600@spacecenter.org
SUMMARY:Story Corner Live Presentation
DESCRIPTION:
URL:https://spacecenter.org/events-calendar-event/story-corner-live-presentation-2/2026-08-19/
LOCATION:Theater – Artemis
CATEGORIES:Live Presentation
END:VEVENT
BEGIN:VEVENT
DTSTART;TZID=America/Chicago:20260820T121500
DTEND;TZID=America/Chicago:20260820T123000
DTSTAMP:20260419T141927
CREATED:20250602T213059Z
LAST-MODIFIED:20250603T190345Z
UID:10141927-1787228100-1787229000@spacecenter.org
SUMMARY:Story Corner Live Presentation
DESCRIPTION:
URL:https://spacecenter.org/events-calendar-event/story-corner-live-presentation-2/2026-08-20/
LOCATION:Theater – Artemis
CATEGORIES:Live Presentation
END:VEVENT
BEGIN:VEVENT
DTSTART;TZID=America/Chicago:20260821T121500
DTEND;TZID=America/Chicago:20260821T123000
DTSTAMP:20260419T141927
CREATED:20250602T213059Z
LAST-MODIFIED:20250603T190345Z
UID:10141928-1787314500-1787315400@spacecenter.org
SUMMARY:Story Corner Live Presentation
DESCRIPTION:
URL:https://spacecenter.org/events-calendar-event/story-corner-live-presentation-2/2026-08-21/
LOCATION:Theater – Artemis
CATEGORIES:Live Presentation
END:VEVENT
BEGIN:VEVENT
DTSTART;TZID=America/Chicago:20260822T121500
DTEND;TZID=America/Chicago:20260822T123000
DTSTAMP:20260419T141927
CREATED:20250602T213059Z
LAST-MODIFIED:20250603T190345Z
UID:10141929-1787400900-1787401800@spacecenter.org
SUMMARY:Story Corner Live Presentation
DESCRIPTION:
URL:https://spacecenter.org/events-calendar-event/story-corner-live-presentation-2/2026-08-22/
LOCATION:Theater – Artemis
CATEGORIES:Live Presentation
END:VEVENT
BEGIN:VEVENT
DTSTART;TZID=America/Chicago:20260823T121500
DTEND;TZID=America/Chicago:20260823T123000
DTSTAMP:20260419T141927
CREATED:20250602T213059Z
LAST-MODIFIED:20250603T190345Z
UID:10141930-1787487300-1787488200@spacecenter.org
SUMMARY:Story Corner Live Presentation
DESCRIPTION:
URL:https://spacecenter.org/events-calendar-event/story-corner-live-presentation-2/2026-08-23/
LOCATION:Theater – Artemis
CATEGORIES:Live Presentation
END:VEVENT
BEGIN:VEVENT
DTSTART;TZID=America/Chicago:20260824T121500
DTEND;TZID=America/Chicago:20260824T123000
DTSTAMP:20260419T141927
CREATED:20250602T213059Z
LAST-MODIFIED:20250603T190345Z
UID:10141931-1787573700-1787574600@spacecenter.org
SUMMARY:Story Corner Live Presentation
DESCRIPTION:
URL:https://spacecenter.org/events-calendar-event/story-corner-live-presentation-2/2026-08-24/
LOCATION:Theater – Artemis
CATEGORIES:Live Presentation
END:VEVENT
BEGIN:VEVENT
DTSTART;TZID=America/Chicago:20260825T121500
DTEND;TZID=America/Chicago:20260825T123000
DTSTAMP:20260419T141927
CREATED:20250602T213059Z
LAST-MODIFIED:20250603T190345Z
UID:10141932-1787660100-1787661000@spacecenter.org
SUMMARY:Story Corner Live Presentation
DESCRIPTION:
URL:https://spacecenter.org/events-calendar-event/story-corner-live-presentation-2/2026-08-25/
LOCATION:Theater – Artemis
CATEGORIES:Live Presentation
END:VEVENT
BEGIN:VEVENT
DTSTART;TZID=America/Chicago:20260826T121500
DTEND;TZID=America/Chicago:20260826T123000
DTSTAMP:20260419T141927
CREATED:20250602T213059Z
LAST-MODIFIED:20250603T190345Z
UID:10141933-1787746500-1787747400@spacecenter.org
SUMMARY:Story Corner Live Presentation
DESCRIPTION:
URL:https://spacecenter.org/events-calendar-event/story-corner-live-presentation-2/2026-08-26/
LOCATION:Theater – Artemis
CATEGORIES:Live Presentation
END:VEVENT
BEGIN:VEVENT
DTSTART;TZID=America/Chicago:20260827T121500
DTEND;TZID=America/Chicago:20260827T123000
DTSTAMP:20260419T141927
CREATED:20250602T213059Z
LAST-MODIFIED:20250603T190345Z
UID:10141934-1787832900-1787833800@spacecenter.org
SUMMARY:Story Corner Live Presentation
DESCRIPTION:
URL:https://spacecenter.org/events-calendar-event/story-corner-live-presentation-2/2026-08-27/
LOCATION:Theater – Artemis
CATEGORIES:Live Presentation
END:VEVENT
END:VCALENDAR