BEGIN:VCALENDAR
VERSION:2.0
PRODID:-//Space Center Houston - ECPv6.15.15//NONSGML v1.0//EN
CALSCALE:GREGORIAN
METHOD:PUBLISH
X-WR-CALNAME:Space Center Houston
X-ORIGINAL-URL:https://spacecenter.org
X-WR-CALDESC:Events for Space Center Houston
REFRESH-INTERVAL;VALUE=DURATION:PT1H
X-Robots-Tag:noindex
X-PUBLISHED-TTL:PT1H
BEGIN:VTIMEZONE
TZID:America/Chicago
BEGIN:DAYLIGHT
TZOFFSETFROM:-0600
TZOFFSETTO:-0500
TZNAME:CDT
DTSTART:20250309T080000
END:DAYLIGHT
BEGIN:STANDARD
TZOFFSETFROM:-0500
TZOFFSETTO:-0600
TZNAME:CST
DTSTART:20251102T070000
END:STANDARD
BEGIN:DAYLIGHT
TZOFFSETFROM:-0600
TZOFFSETTO:-0500
TZNAME:CDT
DTSTART:20260308T080000
END:DAYLIGHT
BEGIN:STANDARD
TZOFFSETFROM:-0500
TZOFFSETTO:-0600
TZNAME:CST
DTSTART:20261101T070000
END:STANDARD
BEGIN:DAYLIGHT
TZOFFSETFROM:-0600
TZOFFSETTO:-0500
TZNAME:CDT
DTSTART:20270314T080000
END:DAYLIGHT
BEGIN:STANDARD
TZOFFSETFROM:-0500
TZOFFSETTO:-0600
TZNAME:CST
DTSTART:20271107T070000
END:STANDARD
END:VTIMEZONE
BEGIN:VEVENT
DTSTART;TZID=America/Chicago:20260610T113000
DTEND;TZID=America/Chicago:20260610T114500
DTSTAMP:20260420T195559
CREATED:20250602T214945Z
LAST-MODIFIED:20250603T190019Z
UID:10127232-1781091000-1781091900@spacecenter.org
SUMMARY:Human Destiny Film
DESCRIPTION:
URL:https://spacecenter.org/events-calendar-event/human-destiny-film-6/2026-06-10/
LOCATION:Theater – Destiny
CATEGORIES:Film
ATTACH;FMTTYPE=image/jpeg:https://spacecenter.org/wp-content/uploads/2022/10/Destiny-Theater.jpg
END:VEVENT
BEGIN:VEVENT
DTSTART;TZID=America/Chicago:20260611T113000
DTEND;TZID=America/Chicago:20260611T114500
DTSTAMP:20260420T195559
CREATED:20250602T214945Z
LAST-MODIFIED:20250603T190019Z
UID:10127233-1781177400-1781178300@spacecenter.org
SUMMARY:Human Destiny Film
DESCRIPTION:
URL:https://spacecenter.org/events-calendar-event/human-destiny-film-6/2026-06-11/
LOCATION:Theater – Destiny
CATEGORIES:Film
ATTACH;FMTTYPE=image/jpeg:https://spacecenter.org/wp-content/uploads/2022/10/Destiny-Theater.jpg
END:VEVENT
BEGIN:VEVENT
DTSTART;TZID=America/Chicago:20260612T113000
DTEND;TZID=America/Chicago:20260612T114500
DTSTAMP:20260420T195559
CREATED:20250602T214945Z
LAST-MODIFIED:20250603T190019Z
UID:10127234-1781263800-1781264700@spacecenter.org
SUMMARY:Human Destiny Film
DESCRIPTION:
URL:https://spacecenter.org/events-calendar-event/human-destiny-film-6/2026-06-12/
LOCATION:Theater – Destiny
CATEGORIES:Film
ATTACH;FMTTYPE=image/jpeg:https://spacecenter.org/wp-content/uploads/2022/10/Destiny-Theater.jpg
END:VEVENT
BEGIN:VEVENT
DTSTART;TZID=America/Chicago:20260613T113000
DTEND;TZID=America/Chicago:20260613T114500
DTSTAMP:20260420T195559
CREATED:20250602T214945Z
LAST-MODIFIED:20250603T190019Z
UID:10127235-1781350200-1781351100@spacecenter.org
SUMMARY:Human Destiny Film
DESCRIPTION:
URL:https://spacecenter.org/events-calendar-event/human-destiny-film-6/2026-06-13/
LOCATION:Theater – Destiny
CATEGORIES:Film
ATTACH;FMTTYPE=image/jpeg:https://spacecenter.org/wp-content/uploads/2022/10/Destiny-Theater.jpg
END:VEVENT
BEGIN:VEVENT
DTSTART;TZID=America/Chicago:20260614T113000
DTEND;TZID=America/Chicago:20260614T114500
DTSTAMP:20260420T195559
CREATED:20250602T214945Z
LAST-MODIFIED:20250603T190019Z
UID:10127236-1781436600-1781437500@spacecenter.org
SUMMARY:Human Destiny Film
DESCRIPTION:
URL:https://spacecenter.org/events-calendar-event/human-destiny-film-6/2026-06-14/
LOCATION:Theater – Destiny
CATEGORIES:Film
ATTACH;FMTTYPE=image/jpeg:https://spacecenter.org/wp-content/uploads/2022/10/Destiny-Theater.jpg
END:VEVENT
BEGIN:VEVENT
DTSTART;TZID=America/Chicago:20260615T113000
DTEND;TZID=America/Chicago:20260615T114500
DTSTAMP:20260420T195559
CREATED:20250602T214945Z
LAST-MODIFIED:20250603T190019Z
UID:10127237-1781523000-1781523900@spacecenter.org
SUMMARY:Human Destiny Film
DESCRIPTION:
URL:https://spacecenter.org/events-calendar-event/human-destiny-film-6/2026-06-15/
LOCATION:Theater – Destiny
CATEGORIES:Film
ATTACH;FMTTYPE=image/jpeg:https://spacecenter.org/wp-content/uploads/2022/10/Destiny-Theater.jpg
END:VEVENT
BEGIN:VEVENT
DTSTART;TZID=America/Chicago:20260616T113000
DTEND;TZID=America/Chicago:20260616T114500
DTSTAMP:20260420T195559
CREATED:20250602T214945Z
LAST-MODIFIED:20250603T190019Z
UID:10127238-1781609400-1781610300@spacecenter.org
SUMMARY:Human Destiny Film
DESCRIPTION:
URL:https://spacecenter.org/events-calendar-event/human-destiny-film-6/2026-06-16/
LOCATION:Theater – Destiny
CATEGORIES:Film
ATTACH;FMTTYPE=image/jpeg:https://spacecenter.org/wp-content/uploads/2022/10/Destiny-Theater.jpg
END:VEVENT
BEGIN:VEVENT
DTSTART;TZID=America/Chicago:20260617T113000
DTEND;TZID=America/Chicago:20260617T114500
DTSTAMP:20260420T195559
CREATED:20250602T214945Z
LAST-MODIFIED:20250603T190019Z
UID:10127239-1781695800-1781696700@spacecenter.org
SUMMARY:Human Destiny Film
DESCRIPTION:
URL:https://spacecenter.org/events-calendar-event/human-destiny-film-6/2026-06-17/
LOCATION:Theater – Destiny
CATEGORIES:Film
ATTACH;FMTTYPE=image/jpeg:https://spacecenter.org/wp-content/uploads/2022/10/Destiny-Theater.jpg
END:VEVENT
BEGIN:VEVENT
DTSTART;TZID=America/Chicago:20260618T113000
DTEND;TZID=America/Chicago:20260618T114500
DTSTAMP:20260420T195559
CREATED:20250602T214945Z
LAST-MODIFIED:20250603T190019Z
UID:10127240-1781782200-1781783100@spacecenter.org
SUMMARY:Human Destiny Film
DESCRIPTION:
URL:https://spacecenter.org/events-calendar-event/human-destiny-film-6/2026-06-18/
LOCATION:Theater – Destiny
CATEGORIES:Film
ATTACH;FMTTYPE=image/jpeg:https://spacecenter.org/wp-content/uploads/2022/10/Destiny-Theater.jpg
END:VEVENT
BEGIN:VEVENT
DTSTART;TZID=America/Chicago:20260619T113000
DTEND;TZID=America/Chicago:20260619T114500
DTSTAMP:20260420T195559
CREATED:20250602T214945Z
LAST-MODIFIED:20250603T190019Z
UID:10127241-1781868600-1781869500@spacecenter.org
SUMMARY:Human Destiny Film
DESCRIPTION:
URL:https://spacecenter.org/events-calendar-event/human-destiny-film-6/2026-06-19/
LOCATION:Theater – Destiny
CATEGORIES:Film
ATTACH;FMTTYPE=image/jpeg:https://spacecenter.org/wp-content/uploads/2022/10/Destiny-Theater.jpg
END:VEVENT
BEGIN:VEVENT
DTSTART;TZID=America/Chicago:20260620T113000
DTEND;TZID=America/Chicago:20260620T114500
DTSTAMP:20260420T195559
CREATED:20250602T214945Z
LAST-MODIFIED:20250603T190019Z
UID:10127242-1781955000-1781955900@spacecenter.org
SUMMARY:Human Destiny Film
DESCRIPTION:
URL:https://spacecenter.org/events-calendar-event/human-destiny-film-6/2026-06-20/
LOCATION:Theater – Destiny
CATEGORIES:Film
ATTACH;FMTTYPE=image/jpeg:https://spacecenter.org/wp-content/uploads/2022/10/Destiny-Theater.jpg
END:VEVENT
BEGIN:VEVENT
DTSTART;TZID=America/Chicago:20260621T113000
DTEND;TZID=America/Chicago:20260621T114500
DTSTAMP:20260420T195559
CREATED:20250602T214945Z
LAST-MODIFIED:20250603T190019Z
UID:10127243-1782041400-1782042300@spacecenter.org
SUMMARY:Human Destiny Film
DESCRIPTION:
URL:https://spacecenter.org/events-calendar-event/human-destiny-film-6/2026-06-21/
LOCATION:Theater – Destiny
CATEGORIES:Film
ATTACH;FMTTYPE=image/jpeg:https://spacecenter.org/wp-content/uploads/2022/10/Destiny-Theater.jpg
END:VEVENT
BEGIN:VEVENT
DTSTART;TZID=America/Chicago:20260622T113000
DTEND;TZID=America/Chicago:20260622T114500
DTSTAMP:20260420T195559
CREATED:20250602T214945Z
LAST-MODIFIED:20250603T190019Z
UID:10127244-1782127800-1782128700@spacecenter.org
SUMMARY:Human Destiny Film
DESCRIPTION:
URL:https://spacecenter.org/events-calendar-event/human-destiny-film-6/2026-06-22/
LOCATION:Theater – Destiny
CATEGORIES:Film
ATTACH;FMTTYPE=image/jpeg:https://spacecenter.org/wp-content/uploads/2022/10/Destiny-Theater.jpg
END:VEVENT
BEGIN:VEVENT
DTSTART;TZID=America/Chicago:20260623T113000
DTEND;TZID=America/Chicago:20260623T114500
DTSTAMP:20260420T195559
CREATED:20250602T214945Z
LAST-MODIFIED:20250603T190019Z
UID:10127245-1782214200-1782215100@spacecenter.org
SUMMARY:Human Destiny Film
DESCRIPTION:
URL:https://spacecenter.org/events-calendar-event/human-destiny-film-6/2026-06-23/
LOCATION:Theater – Destiny
CATEGORIES:Film
ATTACH;FMTTYPE=image/jpeg:https://spacecenter.org/wp-content/uploads/2022/10/Destiny-Theater.jpg
END:VEVENT
BEGIN:VEVENT
DTSTART;TZID=America/Chicago:20260624T113000
DTEND;TZID=America/Chicago:20260624T114500
DTSTAMP:20260420T195559
CREATED:20250602T214945Z
LAST-MODIFIED:20250603T190019Z
UID:10127246-1782300600-1782301500@spacecenter.org
SUMMARY:Human Destiny Film
DESCRIPTION:
URL:https://spacecenter.org/events-calendar-event/human-destiny-film-6/2026-06-24/
LOCATION:Theater – Destiny
CATEGORIES:Film
ATTACH;FMTTYPE=image/jpeg:https://spacecenter.org/wp-content/uploads/2022/10/Destiny-Theater.jpg
END:VEVENT
BEGIN:VEVENT
DTSTART;TZID=America/Chicago:20260625T113000
DTEND;TZID=America/Chicago:20260625T114500
DTSTAMP:20260420T195559
CREATED:20250602T214945Z
LAST-MODIFIED:20250603T190019Z
UID:10127247-1782387000-1782387900@spacecenter.org
SUMMARY:Human Destiny Film
DESCRIPTION:
URL:https://spacecenter.org/events-calendar-event/human-destiny-film-6/2026-06-25/
LOCATION:Theater – Destiny
CATEGORIES:Film
ATTACH;FMTTYPE=image/jpeg:https://spacecenter.org/wp-content/uploads/2022/10/Destiny-Theater.jpg
END:VEVENT
BEGIN:VEVENT
DTSTART;TZID=America/Chicago:20260626T113000
DTEND;TZID=America/Chicago:20260626T114500
DTSTAMP:20260420T195559
CREATED:20250602T214945Z
LAST-MODIFIED:20250603T190019Z
UID:10127248-1782473400-1782474300@spacecenter.org
SUMMARY:Human Destiny Film
DESCRIPTION:
URL:https://spacecenter.org/events-calendar-event/human-destiny-film-6/2026-06-26/
LOCATION:Theater – Destiny
CATEGORIES:Film
ATTACH;FMTTYPE=image/jpeg:https://spacecenter.org/wp-content/uploads/2022/10/Destiny-Theater.jpg
END:VEVENT
BEGIN:VEVENT
DTSTART;TZID=America/Chicago:20260627T113000
DTEND;TZID=America/Chicago:20260627T114500
DTSTAMP:20260420T195559
CREATED:20250602T214945Z
LAST-MODIFIED:20250603T190019Z
UID:10127249-1782559800-1782560700@spacecenter.org
SUMMARY:Human Destiny Film
DESCRIPTION:
URL:https://spacecenter.org/events-calendar-event/human-destiny-film-6/2026-06-27/
LOCATION:Theater – Destiny
CATEGORIES:Film
ATTACH;FMTTYPE=image/jpeg:https://spacecenter.org/wp-content/uploads/2022/10/Destiny-Theater.jpg
END:VEVENT
BEGIN:VEVENT
DTSTART;TZID=America/Chicago:20260628T113000
DTEND;TZID=America/Chicago:20260628T114500
DTSTAMP:20260420T195559
CREATED:20250602T214945Z
LAST-MODIFIED:20250603T190019Z
UID:10127250-1782646200-1782647100@spacecenter.org
SUMMARY:Human Destiny Film
DESCRIPTION:
URL:https://spacecenter.org/events-calendar-event/human-destiny-film-6/2026-06-28/
LOCATION:Theater – Destiny
CATEGORIES:Film
ATTACH;FMTTYPE=image/jpeg:https://spacecenter.org/wp-content/uploads/2022/10/Destiny-Theater.jpg
END:VEVENT
BEGIN:VEVENT
DTSTART;TZID=America/Chicago:20260629T113000
DTEND;TZID=America/Chicago:20260629T114500
DTSTAMP:20260420T195559
CREATED:20250602T214945Z
LAST-MODIFIED:20250603T190019Z
UID:10127251-1782732600-1782733500@spacecenter.org
SUMMARY:Human Destiny Film
DESCRIPTION:
URL:https://spacecenter.org/events-calendar-event/human-destiny-film-6/2026-06-29/
LOCATION:Theater – Destiny
CATEGORIES:Film
ATTACH;FMTTYPE=image/jpeg:https://spacecenter.org/wp-content/uploads/2022/10/Destiny-Theater.jpg
END:VEVENT
BEGIN:VEVENT
DTSTART;TZID=America/Chicago:20260630T113000
DTEND;TZID=America/Chicago:20260630T114500
DTSTAMP:20260420T195559
CREATED:20250602T214945Z
LAST-MODIFIED:20250603T190019Z
UID:10127252-1782819000-1782819900@spacecenter.org
SUMMARY:Human Destiny Film
DESCRIPTION:
URL:https://spacecenter.org/events-calendar-event/human-destiny-film-6/2026-06-30/
LOCATION:Theater – Destiny
CATEGORIES:Film
ATTACH;FMTTYPE=image/jpeg:https://spacecenter.org/wp-content/uploads/2022/10/Destiny-Theater.jpg
END:VEVENT
BEGIN:VEVENT
DTSTART;TZID=America/Chicago:20260701T113000
DTEND;TZID=America/Chicago:20260701T114500
DTSTAMP:20260420T195559
CREATED:20250602T214945Z
LAST-MODIFIED:20250603T190019Z
UID:10127253-1782905400-1782906300@spacecenter.org
SUMMARY:Human Destiny Film
DESCRIPTION:
URL:https://spacecenter.org/events-calendar-event/human-destiny-film-6/2026-07-01/
LOCATION:Theater – Destiny
CATEGORIES:Film
ATTACH;FMTTYPE=image/jpeg:https://spacecenter.org/wp-content/uploads/2022/10/Destiny-Theater.jpg
END:VEVENT
BEGIN:VEVENT
DTSTART;TZID=America/Chicago:20260702T113000
DTEND;TZID=America/Chicago:20260702T114500
DTSTAMP:20260420T195559
CREATED:20250602T214945Z
LAST-MODIFIED:20250603T190019Z
UID:10127254-1782991800-1782992700@spacecenter.org
SUMMARY:Human Destiny Film
DESCRIPTION:
URL:https://spacecenter.org/events-calendar-event/human-destiny-film-6/2026-07-02/
LOCATION:Theater – Destiny
CATEGORIES:Film
ATTACH;FMTTYPE=image/jpeg:https://spacecenter.org/wp-content/uploads/2022/10/Destiny-Theater.jpg
END:VEVENT
BEGIN:VEVENT
DTSTART;TZID=America/Chicago:20260703T113000
DTEND;TZID=America/Chicago:20260703T114500
DTSTAMP:20260420T195559
CREATED:20250602T214945Z
LAST-MODIFIED:20250603T190019Z
UID:10127255-1783078200-1783079100@spacecenter.org
SUMMARY:Human Destiny Film
DESCRIPTION:
URL:https://spacecenter.org/events-calendar-event/human-destiny-film-6/2026-07-03/
LOCATION:Theater – Destiny
CATEGORIES:Film
ATTACH;FMTTYPE=image/jpeg:https://spacecenter.org/wp-content/uploads/2022/10/Destiny-Theater.jpg
END:VEVENT
BEGIN:VEVENT
DTSTART;TZID=America/Chicago:20260704T113000
DTEND;TZID=America/Chicago:20260704T114500
DTSTAMP:20260420T195559
CREATED:20250602T214945Z
LAST-MODIFIED:20250603T190019Z
UID:10127256-1783164600-1783165500@spacecenter.org
SUMMARY:Human Destiny Film
DESCRIPTION:
URL:https://spacecenter.org/events-calendar-event/human-destiny-film-6/2026-07-04/
LOCATION:Theater – Destiny
CATEGORIES:Film
ATTACH;FMTTYPE=image/jpeg:https://spacecenter.org/wp-content/uploads/2022/10/Destiny-Theater.jpg
END:VEVENT
BEGIN:VEVENT
DTSTART;TZID=America/Chicago:20260705T113000
DTEND;TZID=America/Chicago:20260705T114500
DTSTAMP:20260420T195559
CREATED:20250602T214945Z
LAST-MODIFIED:20250603T190019Z
UID:10127257-1783251000-1783251900@spacecenter.org
SUMMARY:Human Destiny Film
DESCRIPTION:
URL:https://spacecenter.org/events-calendar-event/human-destiny-film-6/2026-07-05/
LOCATION:Theater – Destiny
CATEGORIES:Film
ATTACH;FMTTYPE=image/jpeg:https://spacecenter.org/wp-content/uploads/2022/10/Destiny-Theater.jpg
END:VEVENT
BEGIN:VEVENT
DTSTART;TZID=America/Chicago:20260706T113000
DTEND;TZID=America/Chicago:20260706T114500
DTSTAMP:20260420T195559
CREATED:20250602T214945Z
LAST-MODIFIED:20250603T190019Z
UID:10127258-1783337400-1783338300@spacecenter.org
SUMMARY:Human Destiny Film
DESCRIPTION:
URL:https://spacecenter.org/events-calendar-event/human-destiny-film-6/2026-07-06/
LOCATION:Theater – Destiny
CATEGORIES:Film
ATTACH;FMTTYPE=image/jpeg:https://spacecenter.org/wp-content/uploads/2022/10/Destiny-Theater.jpg
END:VEVENT
BEGIN:VEVENT
DTSTART;TZID=America/Chicago:20260707T113000
DTEND;TZID=America/Chicago:20260707T114500
DTSTAMP:20260420T195559
CREATED:20250602T214945Z
LAST-MODIFIED:20250603T190019Z
UID:10127259-1783423800-1783424700@spacecenter.org
SUMMARY:Human Destiny Film
DESCRIPTION:
URL:https://spacecenter.org/events-calendar-event/human-destiny-film-6/2026-07-07/
LOCATION:Theater – Destiny
CATEGORIES:Film
ATTACH;FMTTYPE=image/jpeg:https://spacecenter.org/wp-content/uploads/2022/10/Destiny-Theater.jpg
END:VEVENT
BEGIN:VEVENT
DTSTART;TZID=America/Chicago:20260708T113000
DTEND;TZID=America/Chicago:20260708T114500
DTSTAMP:20260420T195559
CREATED:20250602T214945Z
LAST-MODIFIED:20250603T190019Z
UID:10127260-1783510200-1783511100@spacecenter.org
SUMMARY:Human Destiny Film
DESCRIPTION:
URL:https://spacecenter.org/events-calendar-event/human-destiny-film-6/2026-07-08/
LOCATION:Theater – Destiny
CATEGORIES:Film
ATTACH;FMTTYPE=image/jpeg:https://spacecenter.org/wp-content/uploads/2022/10/Destiny-Theater.jpg
END:VEVENT
BEGIN:VEVENT
DTSTART;TZID=America/Chicago:20260709T113000
DTEND;TZID=America/Chicago:20260709T114500
DTSTAMP:20260420T195559
CREATED:20250602T214945Z
LAST-MODIFIED:20250603T190019Z
UID:10127261-1783596600-1783597500@spacecenter.org
SUMMARY:Human Destiny Film
DESCRIPTION:
URL:https://spacecenter.org/events-calendar-event/human-destiny-film-6/2026-07-09/
LOCATION:Theater – Destiny
CATEGORIES:Film
ATTACH;FMTTYPE=image/jpeg:https://spacecenter.org/wp-content/uploads/2022/10/Destiny-Theater.jpg
END:VEVENT
END:VCALENDAR