BEGIN:VCALENDAR
VERSION:2.0
PRODID:-//Space Center Houston - ECPv6.15.15//NONSGML v1.0//EN
CALSCALE:GREGORIAN
METHOD:PUBLISH
X-WR-CALNAME:Space Center Houston
X-ORIGINAL-URL:https://spacecenter.org
X-WR-CALDESC:Events for Space Center Houston
REFRESH-INTERVAL;VALUE=DURATION:PT1H
X-Robots-Tag:noindex
X-PUBLISHED-TTL:PT1H
BEGIN:VTIMEZONE
TZID:America/Chicago
BEGIN:DAYLIGHT
TZOFFSETFROM:-0600
TZOFFSETTO:-0500
TZNAME:CDT
DTSTART:20250309T080000
END:DAYLIGHT
BEGIN:STANDARD
TZOFFSETFROM:-0500
TZOFFSETTO:-0600
TZNAME:CST
DTSTART:20251102T070000
END:STANDARD
BEGIN:DAYLIGHT
TZOFFSETFROM:-0600
TZOFFSETTO:-0500
TZNAME:CDT
DTSTART:20260308T080000
END:DAYLIGHT
BEGIN:STANDARD
TZOFFSETFROM:-0500
TZOFFSETTO:-0600
TZNAME:CST
DTSTART:20261101T070000
END:STANDARD
BEGIN:DAYLIGHT
TZOFFSETFROM:-0600
TZOFFSETTO:-0500
TZNAME:CDT
DTSTART:20270314T080000
END:DAYLIGHT
BEGIN:STANDARD
TZOFFSETFROM:-0500
TZOFFSETTO:-0600
TZNAME:CST
DTSTART:20271107T070000
END:STANDARD
END:VTIMEZONE
BEGIN:VEVENT
DTSTART;TZID=America/Chicago:20260613T121500
DTEND;TZID=America/Chicago:20260613T123000
DTSTAMP:20260423T172714
CREATED:20250602T213059Z
LAST-MODIFIED:20250603T190345Z
UID:10141859-1781352900-1781353800@spacecenter.org
SUMMARY:Story Corner Live Presentation
DESCRIPTION:
URL:https://spacecenter.org/events-calendar-event/story-corner-live-presentation-2/2026-06-13/
LOCATION:Theater – Artemis
CATEGORIES:Live Presentation
END:VEVENT
BEGIN:VEVENT
DTSTART;TZID=America/Chicago:20260614T121500
DTEND;TZID=America/Chicago:20260614T123000
DTSTAMP:20260423T172714
CREATED:20250602T213059Z
LAST-MODIFIED:20250603T190345Z
UID:10141860-1781439300-1781440200@spacecenter.org
SUMMARY:Story Corner Live Presentation
DESCRIPTION:
URL:https://spacecenter.org/events-calendar-event/story-corner-live-presentation-2/2026-06-14/
LOCATION:Theater – Artemis
CATEGORIES:Live Presentation
END:VEVENT
BEGIN:VEVENT
DTSTART;TZID=America/Chicago:20260615T121500
DTEND;TZID=America/Chicago:20260615T123000
DTSTAMP:20260423T172714
CREATED:20250602T213059Z
LAST-MODIFIED:20250603T190345Z
UID:10141861-1781525700-1781526600@spacecenter.org
SUMMARY:Story Corner Live Presentation
DESCRIPTION:
URL:https://spacecenter.org/events-calendar-event/story-corner-live-presentation-2/2026-06-15/
LOCATION:Theater – Artemis
CATEGORIES:Live Presentation
END:VEVENT
BEGIN:VEVENT
DTSTART;TZID=America/Chicago:20260616T121500
DTEND;TZID=America/Chicago:20260616T123000
DTSTAMP:20260423T172714
CREATED:20250602T213059Z
LAST-MODIFIED:20250603T190345Z
UID:10141862-1781612100-1781613000@spacecenter.org
SUMMARY:Story Corner Live Presentation
DESCRIPTION:
URL:https://spacecenter.org/events-calendar-event/story-corner-live-presentation-2/2026-06-16/
LOCATION:Theater – Artemis
CATEGORIES:Live Presentation
END:VEVENT
BEGIN:VEVENT
DTSTART;TZID=America/Chicago:20260617T121500
DTEND;TZID=America/Chicago:20260617T123000
DTSTAMP:20260423T172714
CREATED:20250602T213059Z
LAST-MODIFIED:20250603T190345Z
UID:10141863-1781698500-1781699400@spacecenter.org
SUMMARY:Story Corner Live Presentation
DESCRIPTION:
URL:https://spacecenter.org/events-calendar-event/story-corner-live-presentation-2/2026-06-17/
LOCATION:Theater – Artemis
CATEGORIES:Live Presentation
END:VEVENT
BEGIN:VEVENT
DTSTART;TZID=America/Chicago:20260618T121500
DTEND;TZID=America/Chicago:20260618T123000
DTSTAMP:20260423T172714
CREATED:20250602T213059Z
LAST-MODIFIED:20250603T190345Z
UID:10141864-1781784900-1781785800@spacecenter.org
SUMMARY:Story Corner Live Presentation
DESCRIPTION:
URL:https://spacecenter.org/events-calendar-event/story-corner-live-presentation-2/2026-06-18/
LOCATION:Theater – Artemis
CATEGORIES:Live Presentation
END:VEVENT
BEGIN:VEVENT
DTSTART;TZID=America/Chicago:20260619T121500
DTEND;TZID=America/Chicago:20260619T123000
DTSTAMP:20260423T172714
CREATED:20250602T213059Z
LAST-MODIFIED:20250603T190345Z
UID:10141865-1781871300-1781872200@spacecenter.org
SUMMARY:Story Corner Live Presentation
DESCRIPTION:
URL:https://spacecenter.org/events-calendar-event/story-corner-live-presentation-2/2026-06-19/
LOCATION:Theater – Artemis
CATEGORIES:Live Presentation
END:VEVENT
BEGIN:VEVENT
DTSTART;TZID=America/Chicago:20260620T121500
DTEND;TZID=America/Chicago:20260620T123000
DTSTAMP:20260423T172714
CREATED:20250602T213059Z
LAST-MODIFIED:20250603T190345Z
UID:10141866-1781957700-1781958600@spacecenter.org
SUMMARY:Story Corner Live Presentation
DESCRIPTION:
URL:https://spacecenter.org/events-calendar-event/story-corner-live-presentation-2/2026-06-20/
LOCATION:Theater – Artemis
CATEGORIES:Live Presentation
END:VEVENT
BEGIN:VEVENT
DTSTART;TZID=America/Chicago:20260621T121500
DTEND;TZID=America/Chicago:20260621T123000
DTSTAMP:20260423T172714
CREATED:20250602T213059Z
LAST-MODIFIED:20250603T190345Z
UID:10141867-1782044100-1782045000@spacecenter.org
SUMMARY:Story Corner Live Presentation
DESCRIPTION:
URL:https://spacecenter.org/events-calendar-event/story-corner-live-presentation-2/2026-06-21/
LOCATION:Theater – Artemis
CATEGORIES:Live Presentation
END:VEVENT
BEGIN:VEVENT
DTSTART;TZID=America/Chicago:20260622T121500
DTEND;TZID=America/Chicago:20260622T123000
DTSTAMP:20260423T172714
CREATED:20250602T213059Z
LAST-MODIFIED:20250603T190345Z
UID:10141868-1782130500-1782131400@spacecenter.org
SUMMARY:Story Corner Live Presentation
DESCRIPTION:
URL:https://spacecenter.org/events-calendar-event/story-corner-live-presentation-2/2026-06-22/
LOCATION:Theater – Artemis
CATEGORIES:Live Presentation
END:VEVENT
BEGIN:VEVENT
DTSTART;TZID=America/Chicago:20260623T121500
DTEND;TZID=America/Chicago:20260623T123000
DTSTAMP:20260423T172714
CREATED:20250602T213059Z
LAST-MODIFIED:20250603T190345Z
UID:10141869-1782216900-1782217800@spacecenter.org
SUMMARY:Story Corner Live Presentation
DESCRIPTION:
URL:https://spacecenter.org/events-calendar-event/story-corner-live-presentation-2/2026-06-23/
LOCATION:Theater – Artemis
CATEGORIES:Live Presentation
END:VEVENT
BEGIN:VEVENT
DTSTART;TZID=America/Chicago:20260624T121500
DTEND;TZID=America/Chicago:20260624T123000
DTSTAMP:20260423T172714
CREATED:20250602T213059Z
LAST-MODIFIED:20250603T190345Z
UID:10141870-1782303300-1782304200@spacecenter.org
SUMMARY:Story Corner Live Presentation
DESCRIPTION:
URL:https://spacecenter.org/events-calendar-event/story-corner-live-presentation-2/2026-06-24/
LOCATION:Theater – Artemis
CATEGORIES:Live Presentation
END:VEVENT
BEGIN:VEVENT
DTSTART;TZID=America/Chicago:20260625T121500
DTEND;TZID=America/Chicago:20260625T123000
DTSTAMP:20260423T172714
CREATED:20250602T213059Z
LAST-MODIFIED:20250603T190345Z
UID:10141871-1782389700-1782390600@spacecenter.org
SUMMARY:Story Corner Live Presentation
DESCRIPTION:
URL:https://spacecenter.org/events-calendar-event/story-corner-live-presentation-2/2026-06-25/
LOCATION:Theater – Artemis
CATEGORIES:Live Presentation
END:VEVENT
BEGIN:VEVENT
DTSTART;TZID=America/Chicago:20260626T121500
DTEND;TZID=America/Chicago:20260626T123000
DTSTAMP:20260423T172714
CREATED:20250602T213059Z
LAST-MODIFIED:20250603T190345Z
UID:10141872-1782476100-1782477000@spacecenter.org
SUMMARY:Story Corner Live Presentation
DESCRIPTION:
URL:https://spacecenter.org/events-calendar-event/story-corner-live-presentation-2/2026-06-26/
LOCATION:Theater – Artemis
CATEGORIES:Live Presentation
END:VEVENT
BEGIN:VEVENT
DTSTART;TZID=America/Chicago:20260627T121500
DTEND;TZID=America/Chicago:20260627T123000
DTSTAMP:20260423T172714
CREATED:20250602T213059Z
LAST-MODIFIED:20250603T190345Z
UID:10141873-1782562500-1782563400@spacecenter.org
SUMMARY:Story Corner Live Presentation
DESCRIPTION:
URL:https://spacecenter.org/events-calendar-event/story-corner-live-presentation-2/2026-06-27/
LOCATION:Theater – Artemis
CATEGORIES:Live Presentation
END:VEVENT
BEGIN:VEVENT
DTSTART;TZID=America/Chicago:20260628T121500
DTEND;TZID=America/Chicago:20260628T123000
DTSTAMP:20260423T172714
CREATED:20250602T213059Z
LAST-MODIFIED:20250603T190345Z
UID:10141874-1782648900-1782649800@spacecenter.org
SUMMARY:Story Corner Live Presentation
DESCRIPTION:
URL:https://spacecenter.org/events-calendar-event/story-corner-live-presentation-2/2026-06-28/
LOCATION:Theater – Artemis
CATEGORIES:Live Presentation
END:VEVENT
BEGIN:VEVENT
DTSTART;TZID=America/Chicago:20260629T121500
DTEND;TZID=America/Chicago:20260629T123000
DTSTAMP:20260423T172714
CREATED:20250602T213059Z
LAST-MODIFIED:20250603T190345Z
UID:10141875-1782735300-1782736200@spacecenter.org
SUMMARY:Story Corner Live Presentation
DESCRIPTION:
URL:https://spacecenter.org/events-calendar-event/story-corner-live-presentation-2/2026-06-29/
LOCATION:Theater – Artemis
CATEGORIES:Live Presentation
END:VEVENT
BEGIN:VEVENT
DTSTART;TZID=America/Chicago:20260630T121500
DTEND;TZID=America/Chicago:20260630T123000
DTSTAMP:20260423T172714
CREATED:20250602T213059Z
LAST-MODIFIED:20250603T190345Z
UID:10141876-1782821700-1782822600@spacecenter.org
SUMMARY:Story Corner Live Presentation
DESCRIPTION:
URL:https://spacecenter.org/events-calendar-event/story-corner-live-presentation-2/2026-06-30/
LOCATION:Theater – Artemis
CATEGORIES:Live Presentation
END:VEVENT
BEGIN:VEVENT
DTSTART;TZID=America/Chicago:20260701T121500
DTEND;TZID=America/Chicago:20260701T123000
DTSTAMP:20260423T172714
CREATED:20250602T213059Z
LAST-MODIFIED:20250603T190345Z
UID:10141877-1782908100-1782909000@spacecenter.org
SUMMARY:Story Corner Live Presentation
DESCRIPTION:
URL:https://spacecenter.org/events-calendar-event/story-corner-live-presentation-2/2026-07-01/
LOCATION:Theater – Artemis
CATEGORIES:Live Presentation
END:VEVENT
BEGIN:VEVENT
DTSTART;TZID=America/Chicago:20260702T121500
DTEND;TZID=America/Chicago:20260702T123000
DTSTAMP:20260423T172714
CREATED:20250602T213059Z
LAST-MODIFIED:20250603T190345Z
UID:10141878-1782994500-1782995400@spacecenter.org
SUMMARY:Story Corner Live Presentation
DESCRIPTION:
URL:https://spacecenter.org/events-calendar-event/story-corner-live-presentation-2/2026-07-02/
LOCATION:Theater – Artemis
CATEGORIES:Live Presentation
END:VEVENT
BEGIN:VEVENT
DTSTART;TZID=America/Chicago:20260703T121500
DTEND;TZID=America/Chicago:20260703T123000
DTSTAMP:20260423T172714
CREATED:20250602T213059Z
LAST-MODIFIED:20250603T190345Z
UID:10141879-1783080900-1783081800@spacecenter.org
SUMMARY:Story Corner Live Presentation
DESCRIPTION:
URL:https://spacecenter.org/events-calendar-event/story-corner-live-presentation-2/2026-07-03/
LOCATION:Theater – Artemis
CATEGORIES:Live Presentation
END:VEVENT
BEGIN:VEVENT
DTSTART;TZID=America/Chicago:20260704T121500
DTEND;TZID=America/Chicago:20260704T123000
DTSTAMP:20260423T172714
CREATED:20250602T213059Z
LAST-MODIFIED:20250603T190345Z
UID:10141880-1783167300-1783168200@spacecenter.org
SUMMARY:Story Corner Live Presentation
DESCRIPTION:
URL:https://spacecenter.org/events-calendar-event/story-corner-live-presentation-2/2026-07-04/
LOCATION:Theater – Artemis
CATEGORIES:Live Presentation
END:VEVENT
BEGIN:VEVENT
DTSTART;TZID=America/Chicago:20260705T121500
DTEND;TZID=America/Chicago:20260705T123000
DTSTAMP:20260423T172714
CREATED:20250602T213059Z
LAST-MODIFIED:20250603T190345Z
UID:10141881-1783253700-1783254600@spacecenter.org
SUMMARY:Story Corner Live Presentation
DESCRIPTION:
URL:https://spacecenter.org/events-calendar-event/story-corner-live-presentation-2/2026-07-05/
LOCATION:Theater – Artemis
CATEGORIES:Live Presentation
END:VEVENT
BEGIN:VEVENT
DTSTART;TZID=America/Chicago:20260706T121500
DTEND;TZID=America/Chicago:20260706T123000
DTSTAMP:20260423T172714
CREATED:20250602T213059Z
LAST-MODIFIED:20250603T190345Z
UID:10141882-1783340100-1783341000@spacecenter.org
SUMMARY:Story Corner Live Presentation
DESCRIPTION:
URL:https://spacecenter.org/events-calendar-event/story-corner-live-presentation-2/2026-07-06/
LOCATION:Theater – Artemis
CATEGORIES:Live Presentation
END:VEVENT
BEGIN:VEVENT
DTSTART;TZID=America/Chicago:20260707T121500
DTEND;TZID=America/Chicago:20260707T123000
DTSTAMP:20260423T172714
CREATED:20250602T213059Z
LAST-MODIFIED:20250603T190345Z
UID:10141883-1783426500-1783427400@spacecenter.org
SUMMARY:Story Corner Live Presentation
DESCRIPTION:
URL:https://spacecenter.org/events-calendar-event/story-corner-live-presentation-2/2026-07-07/
LOCATION:Theater – Artemis
CATEGORIES:Live Presentation
END:VEVENT
BEGIN:VEVENT
DTSTART;TZID=America/Chicago:20260708T121500
DTEND;TZID=America/Chicago:20260708T123000
DTSTAMP:20260423T172714
CREATED:20250602T213059Z
LAST-MODIFIED:20250603T190345Z
UID:10141884-1783512900-1783513800@spacecenter.org
SUMMARY:Story Corner Live Presentation
DESCRIPTION:
URL:https://spacecenter.org/events-calendar-event/story-corner-live-presentation-2/2026-07-08/
LOCATION:Theater – Artemis
CATEGORIES:Live Presentation
END:VEVENT
BEGIN:VEVENT
DTSTART;TZID=America/Chicago:20260709T121500
DTEND;TZID=America/Chicago:20260709T123000
DTSTAMP:20260423T172714
CREATED:20250602T213059Z
LAST-MODIFIED:20250603T190345Z
UID:10141885-1783599300-1783600200@spacecenter.org
SUMMARY:Story Corner Live Presentation
DESCRIPTION:
URL:https://spacecenter.org/events-calendar-event/story-corner-live-presentation-2/2026-07-09/
LOCATION:Theater – Artemis
CATEGORIES:Live Presentation
END:VEVENT
BEGIN:VEVENT
DTSTART;TZID=America/Chicago:20260710T121500
DTEND;TZID=America/Chicago:20260710T123000
DTSTAMP:20260423T172714
CREATED:20250602T213059Z
LAST-MODIFIED:20250603T190345Z
UID:10141886-1783685700-1783686600@spacecenter.org
SUMMARY:Story Corner Live Presentation
DESCRIPTION:
URL:https://spacecenter.org/events-calendar-event/story-corner-live-presentation-2/2026-07-10/
LOCATION:Theater – Artemis
CATEGORIES:Live Presentation
END:VEVENT
BEGIN:VEVENT
DTSTART;TZID=America/Chicago:20260711T121500
DTEND;TZID=America/Chicago:20260711T123000
DTSTAMP:20260423T172714
CREATED:20250602T213059Z
LAST-MODIFIED:20250603T190345Z
UID:10141887-1783772100-1783773000@spacecenter.org
SUMMARY:Story Corner Live Presentation
DESCRIPTION:
URL:https://spacecenter.org/events-calendar-event/story-corner-live-presentation-2/2026-07-11/
LOCATION:Theater – Artemis
CATEGORIES:Live Presentation
END:VEVENT
BEGIN:VEVENT
DTSTART;TZID=America/Chicago:20260712T121500
DTEND;TZID=America/Chicago:20260712T123000
DTSTAMP:20260423T172714
CREATED:20250602T213059Z
LAST-MODIFIED:20250603T190345Z
UID:10141888-1783858500-1783859400@spacecenter.org
SUMMARY:Story Corner Live Presentation
DESCRIPTION:
URL:https://spacecenter.org/events-calendar-event/story-corner-live-presentation-2/2026-07-12/
LOCATION:Theater – Artemis
CATEGORIES:Live Presentation
END:VEVENT
END:VCALENDAR