BEGIN:VCALENDAR
VERSION:2.0
PRODID:-//Space Center Houston - ECPv6.15.15//NONSGML v1.0//EN
CALSCALE:GREGORIAN
METHOD:PUBLISH
X-ORIGINAL-URL:https://spacecenter.org
X-WR-CALDESC:Events for Space Center Houston
REFRESH-INTERVAL;VALUE=DURATION:PT1H
X-Robots-Tag:noindex
X-PUBLISHED-TTL:PT1H
BEGIN:VTIMEZONE
TZID:America/Chicago
BEGIN:DAYLIGHT
TZOFFSETFROM:-0600
TZOFFSETTO:-0500
TZNAME:CDT
DTSTART:20270314T080000
END:DAYLIGHT
BEGIN:STANDARD
TZOFFSETFROM:-0500
TZOFFSETTO:-0600
TZNAME:CST
DTSTART:20271107T070000
END:STANDARD
BEGIN:DAYLIGHT
TZOFFSETFROM:-0600
TZOFFSETTO:-0500
TZNAME:CDT
DTSTART:20280312T080000
END:DAYLIGHT
BEGIN:STANDARD
TZOFFSETFROM:-0500
TZOFFSETTO:-0600
TZNAME:CST
DTSTART:20281105T070000
END:STANDARD
BEGIN:DAYLIGHT
TZOFFSETFROM:-0600
TZOFFSETTO:-0500
TZNAME:CDT
DTSTART:20290311T080000
END:DAYLIGHT
BEGIN:STANDARD
TZOFFSETFROM:-0500
TZOFFSETTO:-0600
TZNAME:CST
DTSTART:20291104T070000
END:STANDARD
END:VTIMEZONE
BEGIN:VEVENT
DTSTART;TZID=America/Chicago:20280205T144500
DTEND;TZID=America/Chicago:20280205T150000
DTSTAMP:20260425T231440
CREATED:20250602T213716Z
LAST-MODIFIED:20250603T191759Z
UID:10189989-1833374700-1833375600@spacecenter.org
SUMMARY:James Webb Live Presentation
DESCRIPTION:
URL:https://spacecenter.org/events-calendar-event/james-webb-live-presentation-3/2028-02-05/
LOCATION:Theater – Destiny
CATEGORIES:Live Presentation
END:VEVENT
BEGIN:VEVENT
DTSTART;TZID=America/Chicago:20280206T144500
DTEND;TZID=America/Chicago:20280206T150000
DTSTAMP:20260425T231440
CREATED:20250602T213716Z
LAST-MODIFIED:20250603T191759Z
UID:10189990-1833461100-1833462000@spacecenter.org
SUMMARY:James Webb Live Presentation
DESCRIPTION:
URL:https://spacecenter.org/events-calendar-event/james-webb-live-presentation-3/2028-02-06/
LOCATION:Theater – Destiny
CATEGORIES:Live Presentation
END:VEVENT
BEGIN:VEVENT
DTSTART;TZID=America/Chicago:20280207T144500
DTEND;TZID=America/Chicago:20280207T150000
DTSTAMP:20260425T231440
CREATED:20250602T213716Z
LAST-MODIFIED:20250603T191759Z
UID:10189991-1833547500-1833548400@spacecenter.org
SUMMARY:James Webb Live Presentation
DESCRIPTION:
URL:https://spacecenter.org/events-calendar-event/james-webb-live-presentation-3/2028-02-07/
LOCATION:Theater – Destiny
CATEGORIES:Live Presentation
END:VEVENT
BEGIN:VEVENT
DTSTART;TZID=America/Chicago:20280208T144500
DTEND;TZID=America/Chicago:20280208T150000
DTSTAMP:20260425T231440
CREATED:20250602T213716Z
LAST-MODIFIED:20250603T191759Z
UID:10189992-1833633900-1833634800@spacecenter.org
SUMMARY:James Webb Live Presentation
DESCRIPTION:
URL:https://spacecenter.org/events-calendar-event/james-webb-live-presentation-3/2028-02-08/
LOCATION:Theater – Destiny
CATEGORIES:Live Presentation
END:VEVENT
BEGIN:VEVENT
DTSTART;TZID=America/Chicago:20280209T144500
DTEND;TZID=America/Chicago:20280209T150000
DTSTAMP:20260425T231440
CREATED:20250602T213716Z
LAST-MODIFIED:20250603T191759Z
UID:10189993-1833720300-1833721200@spacecenter.org
SUMMARY:James Webb Live Presentation
DESCRIPTION:
URL:https://spacecenter.org/events-calendar-event/james-webb-live-presentation-3/2028-02-09/
LOCATION:Theater – Destiny
CATEGORIES:Live Presentation
END:VEVENT
BEGIN:VEVENT
DTSTART;TZID=America/Chicago:20280210T144500
DTEND;TZID=America/Chicago:20280210T150000
DTSTAMP:20260425T231440
CREATED:20250602T213716Z
LAST-MODIFIED:20250603T191759Z
UID:10189994-1833806700-1833807600@spacecenter.org
SUMMARY:James Webb Live Presentation
DESCRIPTION:
URL:https://spacecenter.org/events-calendar-event/james-webb-live-presentation-3/2028-02-10/
LOCATION:Theater – Destiny
CATEGORIES:Live Presentation
END:VEVENT
BEGIN:VEVENT
DTSTART;TZID=America/Chicago:20280211T144500
DTEND;TZID=America/Chicago:20280211T150000
DTSTAMP:20260425T231440
CREATED:20250602T213716Z
LAST-MODIFIED:20250603T191759Z
UID:10189995-1833893100-1833894000@spacecenter.org
SUMMARY:James Webb Live Presentation
DESCRIPTION:
URL:https://spacecenter.org/events-calendar-event/james-webb-live-presentation-3/2028-02-11/
LOCATION:Theater – Destiny
CATEGORIES:Live Presentation
END:VEVENT
BEGIN:VEVENT
DTSTART;TZID=America/Chicago:20280212T144500
DTEND;TZID=America/Chicago:20280212T150000
DTSTAMP:20260425T231440
CREATED:20250602T213716Z
LAST-MODIFIED:20250603T191759Z
UID:10189996-1833979500-1833980400@spacecenter.org
SUMMARY:James Webb Live Presentation
DESCRIPTION:
URL:https://spacecenter.org/events-calendar-event/james-webb-live-presentation-3/2028-02-12/
LOCATION:Theater – Destiny
CATEGORIES:Live Presentation
END:VEVENT
BEGIN:VEVENT
DTSTART;TZID=America/Chicago:20280213T144500
DTEND;TZID=America/Chicago:20280213T150000
DTSTAMP:20260425T231440
CREATED:20250602T213716Z
LAST-MODIFIED:20250603T191759Z
UID:10189997-1834065900-1834066800@spacecenter.org
SUMMARY:James Webb Live Presentation
DESCRIPTION:
URL:https://spacecenter.org/events-calendar-event/james-webb-live-presentation-3/2028-02-13/
LOCATION:Theater – Destiny
CATEGORIES:Live Presentation
END:VEVENT
BEGIN:VEVENT
DTSTART;TZID=America/Chicago:20280214T144500
DTEND;TZID=America/Chicago:20280214T150000
DTSTAMP:20260425T231440
CREATED:20250602T213716Z
LAST-MODIFIED:20250603T191759Z
UID:10189998-1834152300-1834153200@spacecenter.org
SUMMARY:James Webb Live Presentation
DESCRIPTION:
URL:https://spacecenter.org/events-calendar-event/james-webb-live-presentation-3/2028-02-14/
LOCATION:Theater – Destiny
CATEGORIES:Live Presentation
END:VEVENT
BEGIN:VEVENT
DTSTART;TZID=America/Chicago:20280215T144500
DTEND;TZID=America/Chicago:20280215T150000
DTSTAMP:20260425T231440
CREATED:20250602T213716Z
LAST-MODIFIED:20250603T191759Z
UID:10189999-1834238700-1834239600@spacecenter.org
SUMMARY:James Webb Live Presentation
DESCRIPTION:
URL:https://spacecenter.org/events-calendar-event/james-webb-live-presentation-3/2028-02-15/
LOCATION:Theater – Destiny
CATEGORIES:Live Presentation
END:VEVENT
BEGIN:VEVENT
DTSTART;TZID=America/Chicago:20280216T144500
DTEND;TZID=America/Chicago:20280216T150000
DTSTAMP:20260425T231440
CREATED:20250602T213716Z
LAST-MODIFIED:20250603T191759Z
UID:10190000-1834325100-1834326000@spacecenter.org
SUMMARY:James Webb Live Presentation
DESCRIPTION:
URL:https://spacecenter.org/events-calendar-event/james-webb-live-presentation-3/2028-02-16/
LOCATION:Theater – Destiny
CATEGORIES:Live Presentation
END:VEVENT
BEGIN:VEVENT
DTSTART;TZID=America/Chicago:20280217T144500
DTEND;TZID=America/Chicago:20280217T150000
DTSTAMP:20260425T231440
CREATED:20250602T213716Z
LAST-MODIFIED:20250603T191759Z
UID:10190001-1834411500-1834412400@spacecenter.org
SUMMARY:James Webb Live Presentation
DESCRIPTION:
URL:https://spacecenter.org/events-calendar-event/james-webb-live-presentation-3/2028-02-17/
LOCATION:Theater – Destiny
CATEGORIES:Live Presentation
END:VEVENT
BEGIN:VEVENT
DTSTART;TZID=America/Chicago:20280218T144500
DTEND;TZID=America/Chicago:20280218T150000
DTSTAMP:20260425T231440
CREATED:20250602T213716Z
LAST-MODIFIED:20250603T191759Z
UID:10190002-1834497900-1834498800@spacecenter.org
SUMMARY:James Webb Live Presentation
DESCRIPTION:
URL:https://spacecenter.org/events-calendar-event/james-webb-live-presentation-3/2028-02-18/
LOCATION:Theater – Destiny
CATEGORIES:Live Presentation
END:VEVENT
BEGIN:VEVENT
DTSTART;TZID=America/Chicago:20280219T144500
DTEND;TZID=America/Chicago:20280219T150000
DTSTAMP:20260425T231440
CREATED:20250602T213716Z
LAST-MODIFIED:20250603T191759Z
UID:10190003-1834584300-1834585200@spacecenter.org
SUMMARY:James Webb Live Presentation
DESCRIPTION:
URL:https://spacecenter.org/events-calendar-event/james-webb-live-presentation-3/2028-02-19/
LOCATION:Theater – Destiny
CATEGORIES:Live Presentation
END:VEVENT
BEGIN:VEVENT
DTSTART;TZID=America/Chicago:20280220T144500
DTEND;TZID=America/Chicago:20280220T150000
DTSTAMP:20260425T231440
CREATED:20250602T213716Z
LAST-MODIFIED:20250603T191759Z
UID:10190004-1834670700-1834671600@spacecenter.org
SUMMARY:James Webb Live Presentation
DESCRIPTION:
URL:https://spacecenter.org/events-calendar-event/james-webb-live-presentation-3/2028-02-20/
LOCATION:Theater – Destiny
CATEGORIES:Live Presentation
END:VEVENT
BEGIN:VEVENT
DTSTART;TZID=America/Chicago:20280221T144500
DTEND;TZID=America/Chicago:20280221T150000
DTSTAMP:20260425T231440
CREATED:20250602T213716Z
LAST-MODIFIED:20250603T191759Z
UID:10190005-1834757100-1834758000@spacecenter.org
SUMMARY:James Webb Live Presentation
DESCRIPTION:
URL:https://spacecenter.org/events-calendar-event/james-webb-live-presentation-3/2028-02-21/
LOCATION:Theater – Destiny
CATEGORIES:Live Presentation
END:VEVENT
BEGIN:VEVENT
DTSTART;TZID=America/Chicago:20280222T144500
DTEND;TZID=America/Chicago:20280222T150000
DTSTAMP:20260425T231440
CREATED:20250602T213716Z
LAST-MODIFIED:20250603T191759Z
UID:10190006-1834843500-1834844400@spacecenter.org
SUMMARY:James Webb Live Presentation
DESCRIPTION:
URL:https://spacecenter.org/events-calendar-event/james-webb-live-presentation-3/2028-02-22/
LOCATION:Theater – Destiny
CATEGORIES:Live Presentation
END:VEVENT
BEGIN:VEVENT
DTSTART;TZID=America/Chicago:20280223T144500
DTEND;TZID=America/Chicago:20280223T150000
DTSTAMP:20260425T231440
CREATED:20250602T213716Z
LAST-MODIFIED:20250603T191759Z
UID:10190007-1834929900-1834930800@spacecenter.org
SUMMARY:James Webb Live Presentation
DESCRIPTION:
URL:https://spacecenter.org/events-calendar-event/james-webb-live-presentation-3/2028-02-23/
LOCATION:Theater – Destiny
CATEGORIES:Live Presentation
END:VEVENT
BEGIN:VEVENT
DTSTART;TZID=America/Chicago:20280224T144500
DTEND;TZID=America/Chicago:20280224T150000
DTSTAMP:20260425T231440
CREATED:20250602T213716Z
LAST-MODIFIED:20250603T191759Z
UID:10190008-1835016300-1835017200@spacecenter.org
SUMMARY:James Webb Live Presentation
DESCRIPTION:
URL:https://spacecenter.org/events-calendar-event/james-webb-live-presentation-3/2028-02-24/
LOCATION:Theater – Destiny
CATEGORIES:Live Presentation
END:VEVENT
BEGIN:VEVENT
DTSTART;TZID=America/Chicago:20280225T144500
DTEND;TZID=America/Chicago:20280225T150000
DTSTAMP:20260425T231440
CREATED:20250602T213716Z
LAST-MODIFIED:20250603T191759Z
UID:10190009-1835102700-1835103600@spacecenter.org
SUMMARY:James Webb Live Presentation
DESCRIPTION:
URL:https://spacecenter.org/events-calendar-event/james-webb-live-presentation-3/2028-02-25/
LOCATION:Theater – Destiny
CATEGORIES:Live Presentation
END:VEVENT
BEGIN:VEVENT
DTSTART;TZID=America/Chicago:20280226T144500
DTEND;TZID=America/Chicago:20280226T150000
DTSTAMP:20260425T231440
CREATED:20250602T213716Z
LAST-MODIFIED:20250603T191759Z
UID:10190010-1835189100-1835190000@spacecenter.org
SUMMARY:James Webb Live Presentation
DESCRIPTION:
URL:https://spacecenter.org/events-calendar-event/james-webb-live-presentation-3/2028-02-26/
LOCATION:Theater – Destiny
CATEGORIES:Live Presentation
END:VEVENT
BEGIN:VEVENT
DTSTART;TZID=America/Chicago:20280227T144500
DTEND;TZID=America/Chicago:20280227T150000
DTSTAMP:20260425T231440
CREATED:20250602T213716Z
LAST-MODIFIED:20250603T191759Z
UID:10190011-1835275500-1835276400@spacecenter.org
SUMMARY:James Webb Live Presentation
DESCRIPTION:
URL:https://spacecenter.org/events-calendar-event/james-webb-live-presentation-3/2028-02-27/
LOCATION:Theater – Destiny
CATEGORIES:Live Presentation
END:VEVENT
BEGIN:VEVENT
DTSTART;TZID=America/Chicago:20280228T144500
DTEND;TZID=America/Chicago:20280228T150000
DTSTAMP:20260425T231440
CREATED:20250602T213716Z
LAST-MODIFIED:20250603T191759Z
UID:10190012-1835361900-1835362800@spacecenter.org
SUMMARY:James Webb Live Presentation
DESCRIPTION:
URL:https://spacecenter.org/events-calendar-event/james-webb-live-presentation-3/2028-02-28/
LOCATION:Theater – Destiny
CATEGORIES:Live Presentation
END:VEVENT
BEGIN:VEVENT
DTSTART;TZID=America/Chicago:20280229T144500
DTEND;TZID=America/Chicago:20280229T150000
DTSTAMP:20260425T231440
CREATED:20250602T213716Z
LAST-MODIFIED:20250603T191759Z
UID:10190013-1835448300-1835449200@spacecenter.org
SUMMARY:James Webb Live Presentation
DESCRIPTION:
URL:https://spacecenter.org/events-calendar-event/james-webb-live-presentation-3/2028-02-29/
LOCATION:Theater – Destiny
CATEGORIES:Live Presentation
END:VEVENT
BEGIN:VEVENT
DTSTART;TZID=America/Chicago:20280301T144500
DTEND;TZID=America/Chicago:20280301T150000
DTSTAMP:20260425T231440
CREATED:20250602T213716Z
LAST-MODIFIED:20250603T191759Z
UID:10190014-1835534700-1835535600@spacecenter.org
SUMMARY:James Webb Live Presentation
DESCRIPTION:
URL:https://spacecenter.org/events-calendar-event/james-webb-live-presentation-3/2028-03-01/
LOCATION:Theater – Destiny
CATEGORIES:Live Presentation
END:VEVENT
BEGIN:VEVENT
DTSTART;TZID=America/Chicago:20280302T144500
DTEND;TZID=America/Chicago:20280302T150000
DTSTAMP:20260425T231440
CREATED:20250602T213716Z
LAST-MODIFIED:20250603T191759Z
UID:10190015-1835621100-1835622000@spacecenter.org
SUMMARY:James Webb Live Presentation
DESCRIPTION:
URL:https://spacecenter.org/events-calendar-event/james-webb-live-presentation-3/2028-03-02/
LOCATION:Theater – Destiny
CATEGORIES:Live Presentation
END:VEVENT
BEGIN:VEVENT
DTSTART;TZID=America/Chicago:20280303T144500
DTEND;TZID=America/Chicago:20280303T150000
DTSTAMP:20260425T231440
CREATED:20250602T213716Z
LAST-MODIFIED:20250603T191759Z
UID:10190016-1835707500-1835708400@spacecenter.org
SUMMARY:James Webb Live Presentation
DESCRIPTION:
URL:https://spacecenter.org/events-calendar-event/james-webb-live-presentation-3/2028-03-03/
LOCATION:Theater – Destiny
CATEGORIES:Live Presentation
END:VEVENT
BEGIN:VEVENT
DTSTART;TZID=America/Chicago:20280304T144500
DTEND;TZID=America/Chicago:20280304T150000
DTSTAMP:20260425T231440
CREATED:20250602T213716Z
LAST-MODIFIED:20250603T191759Z
UID:10190017-1835793900-1835794800@spacecenter.org
SUMMARY:James Webb Live Presentation
DESCRIPTION:
URL:https://spacecenter.org/events-calendar-event/james-webb-live-presentation-3/2028-03-04/
LOCATION:Theater – Destiny
CATEGORIES:Live Presentation
END:VEVENT
BEGIN:VEVENT
DTSTART;TZID=America/Chicago:20280305T144500
DTEND;TZID=America/Chicago:20280305T150000
DTSTAMP:20260425T231440
CREATED:20250602T213716Z
LAST-MODIFIED:20250603T191759Z
UID:10190018-1835880300-1835881200@spacecenter.org
SUMMARY:James Webb Live Presentation
DESCRIPTION:
URL:https://spacecenter.org/events-calendar-event/james-webb-live-presentation-3/2028-03-05/
LOCATION:Theater – Destiny
CATEGORIES:Live Presentation
END:VEVENT
END:VCALENDAR