BEGIN:VCALENDAR
VERSION:2.0
PRODID:-//Space Center Houston - ECPv6.15.15//NONSGML v1.0//EN
CALSCALE:GREGORIAN
METHOD:PUBLISH
X-ORIGINAL-URL:https://spacecenter.org
X-WR-CALDESC:Events for Space Center Houston
REFRESH-INTERVAL;VALUE=DURATION:PT1H
X-Robots-Tag:noindex
X-PUBLISHED-TTL:PT1H
BEGIN:VTIMEZONE
TZID:America/Chicago
BEGIN:DAYLIGHT
TZOFFSETFROM:-0600
TZOFFSETTO:-0500
TZNAME:CDT
DTSTART:20260308T080000
END:DAYLIGHT
BEGIN:STANDARD
TZOFFSETFROM:-0500
TZOFFSETTO:-0600
TZNAME:CST
DTSTART:20261101T070000
END:STANDARD
BEGIN:DAYLIGHT
TZOFFSETFROM:-0600
TZOFFSETTO:-0500
TZNAME:CDT
DTSTART:20270314T080000
END:DAYLIGHT
BEGIN:STANDARD
TZOFFSETFROM:-0500
TZOFFSETTO:-0600
TZNAME:CST
DTSTART:20271107T070000
END:STANDARD
BEGIN:DAYLIGHT
TZOFFSETFROM:-0600
TZOFFSETTO:-0500
TZNAME:CDT
DTSTART:20280312T080000
END:DAYLIGHT
BEGIN:STANDARD
TZOFFSETFROM:-0500
TZOFFSETTO:-0600
TZNAME:CST
DTSTART:20281105T070000
END:STANDARD
BEGIN:DAYLIGHT
TZOFFSETFROM:-0600
TZOFFSETTO:-0500
TZNAME:CDT
DTSTART:20290311T080000
END:DAYLIGHT
BEGIN:STANDARD
TZOFFSETFROM:-0500
TZOFFSETTO:-0600
TZNAME:CST
DTSTART:20291104T070000
END:STANDARD
END:VTIMEZONE
BEGIN:VEVENT
DTSTART;TZID=America/Chicago:20271217T144500
DTEND;TZID=America/Chicago:20271217T150000
DTSTAMP:20260425T213909
CREATED:20250602T213716Z
LAST-MODIFIED:20250603T191759Z
UID:10189939-1829054700-1829055600@spacecenter.org
SUMMARY:James Webb Live Presentation
DESCRIPTION:
URL:https://spacecenter.org/events-calendar-event/james-webb-live-presentation-3/2027-12-17/
LOCATION:Theater – Destiny
CATEGORIES:Live Presentation
END:VEVENT
BEGIN:VEVENT
DTSTART;TZID=America/Chicago:20271218T144500
DTEND;TZID=America/Chicago:20271218T150000
DTSTAMP:20260425T213909
CREATED:20250602T213716Z
LAST-MODIFIED:20250603T191759Z
UID:10189940-1829141100-1829142000@spacecenter.org
SUMMARY:James Webb Live Presentation
DESCRIPTION:
URL:https://spacecenter.org/events-calendar-event/james-webb-live-presentation-3/2027-12-18/
LOCATION:Theater – Destiny
CATEGORIES:Live Presentation
END:VEVENT
BEGIN:VEVENT
DTSTART;TZID=America/Chicago:20271219T144500
DTEND;TZID=America/Chicago:20271219T150000
DTSTAMP:20260425T213909
CREATED:20250602T213716Z
LAST-MODIFIED:20250603T191759Z
UID:10189941-1829227500-1829228400@spacecenter.org
SUMMARY:James Webb Live Presentation
DESCRIPTION:
URL:https://spacecenter.org/events-calendar-event/james-webb-live-presentation-3/2027-12-19/
LOCATION:Theater – Destiny
CATEGORIES:Live Presentation
END:VEVENT
BEGIN:VEVENT
DTSTART;TZID=America/Chicago:20271220T144500
DTEND;TZID=America/Chicago:20271220T150000
DTSTAMP:20260425T213909
CREATED:20250602T213716Z
LAST-MODIFIED:20250603T191759Z
UID:10189942-1829313900-1829314800@spacecenter.org
SUMMARY:James Webb Live Presentation
DESCRIPTION:
URL:https://spacecenter.org/events-calendar-event/james-webb-live-presentation-3/2027-12-20/
LOCATION:Theater – Destiny
CATEGORIES:Live Presentation
END:VEVENT
BEGIN:VEVENT
DTSTART;TZID=America/Chicago:20271221T144500
DTEND;TZID=America/Chicago:20271221T150000
DTSTAMP:20260425T213909
CREATED:20250602T213716Z
LAST-MODIFIED:20250603T191759Z
UID:10189943-1829400300-1829401200@spacecenter.org
SUMMARY:James Webb Live Presentation
DESCRIPTION:
URL:https://spacecenter.org/events-calendar-event/james-webb-live-presentation-3/2027-12-21/
LOCATION:Theater – Destiny
CATEGORIES:Live Presentation
END:VEVENT
BEGIN:VEVENT
DTSTART;TZID=America/Chicago:20271222T144500
DTEND;TZID=America/Chicago:20271222T150000
DTSTAMP:20260425T213909
CREATED:20250602T213716Z
LAST-MODIFIED:20250603T191759Z
UID:10189944-1829486700-1829487600@spacecenter.org
SUMMARY:James Webb Live Presentation
DESCRIPTION:
URL:https://spacecenter.org/events-calendar-event/james-webb-live-presentation-3/2027-12-22/
LOCATION:Theater – Destiny
CATEGORIES:Live Presentation
END:VEVENT
BEGIN:VEVENT
DTSTART;TZID=America/Chicago:20271223T144500
DTEND;TZID=America/Chicago:20271223T150000
DTSTAMP:20260425T213909
CREATED:20250602T213716Z
LAST-MODIFIED:20250603T191759Z
UID:10189945-1829573100-1829574000@spacecenter.org
SUMMARY:James Webb Live Presentation
DESCRIPTION:
URL:https://spacecenter.org/events-calendar-event/james-webb-live-presentation-3/2027-12-23/
LOCATION:Theater – Destiny
CATEGORIES:Live Presentation
END:VEVENT
BEGIN:VEVENT
DTSTART;TZID=America/Chicago:20271224T144500
DTEND;TZID=America/Chicago:20271224T150000
DTSTAMP:20260425T213909
CREATED:20250602T213716Z
LAST-MODIFIED:20250603T191759Z
UID:10189946-1829659500-1829660400@spacecenter.org
SUMMARY:James Webb Live Presentation
DESCRIPTION:
URL:https://spacecenter.org/events-calendar-event/james-webb-live-presentation-3/2027-12-24/
LOCATION:Theater – Destiny
CATEGORIES:Live Presentation
END:VEVENT
BEGIN:VEVENT
DTSTART;TZID=America/Chicago:20271225T144500
DTEND;TZID=America/Chicago:20271225T150000
DTSTAMP:20260425T213909
CREATED:20250602T213716Z
LAST-MODIFIED:20250603T191759Z
UID:10189947-1829745900-1829746800@spacecenter.org
SUMMARY:James Webb Live Presentation
DESCRIPTION:
URL:https://spacecenter.org/events-calendar-event/james-webb-live-presentation-3/2027-12-25/
LOCATION:Theater – Destiny
CATEGORIES:Live Presentation
END:VEVENT
BEGIN:VEVENT
DTSTART;TZID=America/Chicago:20271226T144500
DTEND;TZID=America/Chicago:20271226T150000
DTSTAMP:20260425T213909
CREATED:20250602T213716Z
LAST-MODIFIED:20250603T191759Z
UID:10189948-1829832300-1829833200@spacecenter.org
SUMMARY:James Webb Live Presentation
DESCRIPTION:
URL:https://spacecenter.org/events-calendar-event/james-webb-live-presentation-3/2027-12-26/
LOCATION:Theater – Destiny
CATEGORIES:Live Presentation
END:VEVENT
BEGIN:VEVENT
DTSTART;TZID=America/Chicago:20271227T144500
DTEND;TZID=America/Chicago:20271227T150000
DTSTAMP:20260425T213909
CREATED:20250602T213716Z
LAST-MODIFIED:20250603T191759Z
UID:10189949-1829918700-1829919600@spacecenter.org
SUMMARY:James Webb Live Presentation
DESCRIPTION:
URL:https://spacecenter.org/events-calendar-event/james-webb-live-presentation-3/2027-12-27/
LOCATION:Theater – Destiny
CATEGORIES:Live Presentation
END:VEVENT
BEGIN:VEVENT
DTSTART;TZID=America/Chicago:20271228T144500
DTEND;TZID=America/Chicago:20271228T150000
DTSTAMP:20260425T213909
CREATED:20250602T213716Z
LAST-MODIFIED:20250603T191759Z
UID:10189950-1830005100-1830006000@spacecenter.org
SUMMARY:James Webb Live Presentation
DESCRIPTION:
URL:https://spacecenter.org/events-calendar-event/james-webb-live-presentation-3/2027-12-28/
LOCATION:Theater – Destiny
CATEGORIES:Live Presentation
END:VEVENT
BEGIN:VEVENT
DTSTART;TZID=America/Chicago:20271229T144500
DTEND;TZID=America/Chicago:20271229T150000
DTSTAMP:20260425T213909
CREATED:20250602T213716Z
LAST-MODIFIED:20250603T191759Z
UID:10189951-1830091500-1830092400@spacecenter.org
SUMMARY:James Webb Live Presentation
DESCRIPTION:
URL:https://spacecenter.org/events-calendar-event/james-webb-live-presentation-3/2027-12-29/
LOCATION:Theater – Destiny
CATEGORIES:Live Presentation
END:VEVENT
BEGIN:VEVENT
DTSTART;TZID=America/Chicago:20271230T144500
DTEND;TZID=America/Chicago:20271230T150000
DTSTAMP:20260425T213909
CREATED:20250602T213716Z
LAST-MODIFIED:20250603T191759Z
UID:10189952-1830177900-1830178800@spacecenter.org
SUMMARY:James Webb Live Presentation
DESCRIPTION:
URL:https://spacecenter.org/events-calendar-event/james-webb-live-presentation-3/2027-12-30/
LOCATION:Theater – Destiny
CATEGORIES:Live Presentation
END:VEVENT
BEGIN:VEVENT
DTSTART;TZID=America/Chicago:20271231T144500
DTEND;TZID=America/Chicago:20271231T150000
DTSTAMP:20260425T213909
CREATED:20250602T213716Z
LAST-MODIFIED:20250603T191759Z
UID:10189953-1830264300-1830265200@spacecenter.org
SUMMARY:James Webb Live Presentation
DESCRIPTION:
URL:https://spacecenter.org/events-calendar-event/james-webb-live-presentation-3/2027-12-31/
LOCATION:Theater – Destiny
CATEGORIES:Live Presentation
END:VEVENT
BEGIN:VEVENT
DTSTART;TZID=America/Chicago:20280101T144500
DTEND;TZID=America/Chicago:20280101T150000
DTSTAMP:20260425T213909
CREATED:20250602T213716Z
LAST-MODIFIED:20250603T191759Z
UID:10189954-1830350700-1830351600@spacecenter.org
SUMMARY:James Webb Live Presentation
DESCRIPTION:
URL:https://spacecenter.org/events-calendar-event/james-webb-live-presentation-3/2028-01-01/
LOCATION:Theater – Destiny
CATEGORIES:Live Presentation
END:VEVENT
BEGIN:VEVENT
DTSTART;TZID=America/Chicago:20280102T144500
DTEND;TZID=America/Chicago:20280102T150000
DTSTAMP:20260425T213909
CREATED:20250602T213716Z
LAST-MODIFIED:20250603T191759Z
UID:10189955-1830437100-1830438000@spacecenter.org
SUMMARY:James Webb Live Presentation
DESCRIPTION:
URL:https://spacecenter.org/events-calendar-event/james-webb-live-presentation-3/2028-01-02/
LOCATION:Theater – Destiny
CATEGORIES:Live Presentation
END:VEVENT
BEGIN:VEVENT
DTSTART;TZID=America/Chicago:20280103T144500
DTEND;TZID=America/Chicago:20280103T150000
DTSTAMP:20260425T213909
CREATED:20250602T213716Z
LAST-MODIFIED:20250603T191759Z
UID:10189956-1830523500-1830524400@spacecenter.org
SUMMARY:James Webb Live Presentation
DESCRIPTION:
URL:https://spacecenter.org/events-calendar-event/james-webb-live-presentation-3/2028-01-03/
LOCATION:Theater – Destiny
CATEGORIES:Live Presentation
END:VEVENT
BEGIN:VEVENT
DTSTART;TZID=America/Chicago:20280104T144500
DTEND;TZID=America/Chicago:20280104T150000
DTSTAMP:20260425T213909
CREATED:20250602T213716Z
LAST-MODIFIED:20250603T191759Z
UID:10189957-1830609900-1830610800@spacecenter.org
SUMMARY:James Webb Live Presentation
DESCRIPTION:
URL:https://spacecenter.org/events-calendar-event/james-webb-live-presentation-3/2028-01-04/
LOCATION:Theater – Destiny
CATEGORIES:Live Presentation
END:VEVENT
BEGIN:VEVENT
DTSTART;TZID=America/Chicago:20280105T144500
DTEND;TZID=America/Chicago:20280105T150000
DTSTAMP:20260425T213909
CREATED:20250602T213716Z
LAST-MODIFIED:20250603T191759Z
UID:10189958-1830696300-1830697200@spacecenter.org
SUMMARY:James Webb Live Presentation
DESCRIPTION:
URL:https://spacecenter.org/events-calendar-event/james-webb-live-presentation-3/2028-01-05/
LOCATION:Theater – Destiny
CATEGORIES:Live Presentation
END:VEVENT
BEGIN:VEVENT
DTSTART;TZID=America/Chicago:20280106T144500
DTEND;TZID=America/Chicago:20280106T150000
DTSTAMP:20260425T213909
CREATED:20250602T213716Z
LAST-MODIFIED:20250603T191759Z
UID:10189959-1830782700-1830783600@spacecenter.org
SUMMARY:James Webb Live Presentation
DESCRIPTION:
URL:https://spacecenter.org/events-calendar-event/james-webb-live-presentation-3/2028-01-06/
LOCATION:Theater – Destiny
CATEGORIES:Live Presentation
END:VEVENT
BEGIN:VEVENT
DTSTART;TZID=America/Chicago:20280107T144500
DTEND;TZID=America/Chicago:20280107T150000
DTSTAMP:20260425T213909
CREATED:20250602T213716Z
LAST-MODIFIED:20250603T191759Z
UID:10189960-1830869100-1830870000@spacecenter.org
SUMMARY:James Webb Live Presentation
DESCRIPTION:
URL:https://spacecenter.org/events-calendar-event/james-webb-live-presentation-3/2028-01-07/
LOCATION:Theater – Destiny
CATEGORIES:Live Presentation
END:VEVENT
BEGIN:VEVENT
DTSTART;TZID=America/Chicago:20280108T144500
DTEND;TZID=America/Chicago:20280108T150000
DTSTAMP:20260425T213909
CREATED:20250602T213716Z
LAST-MODIFIED:20250603T191759Z
UID:10189961-1830955500-1830956400@spacecenter.org
SUMMARY:James Webb Live Presentation
DESCRIPTION:
URL:https://spacecenter.org/events-calendar-event/james-webb-live-presentation-3/2028-01-08/
LOCATION:Theater – Destiny
CATEGORIES:Live Presentation
END:VEVENT
BEGIN:VEVENT
DTSTART;TZID=America/Chicago:20280109T144500
DTEND;TZID=America/Chicago:20280109T150000
DTSTAMP:20260425T213909
CREATED:20250602T213716Z
LAST-MODIFIED:20250603T191759Z
UID:10189962-1831041900-1831042800@spacecenter.org
SUMMARY:James Webb Live Presentation
DESCRIPTION:
URL:https://spacecenter.org/events-calendar-event/james-webb-live-presentation-3/2028-01-09/
LOCATION:Theater – Destiny
CATEGORIES:Live Presentation
END:VEVENT
BEGIN:VEVENT
DTSTART;TZID=America/Chicago:20280110T144500
DTEND;TZID=America/Chicago:20280110T150000
DTSTAMP:20260425T213909
CREATED:20250602T213716Z
LAST-MODIFIED:20250603T191759Z
UID:10189963-1831128300-1831129200@spacecenter.org
SUMMARY:James Webb Live Presentation
DESCRIPTION:
URL:https://spacecenter.org/events-calendar-event/james-webb-live-presentation-3/2028-01-10/
LOCATION:Theater – Destiny
CATEGORIES:Live Presentation
END:VEVENT
BEGIN:VEVENT
DTSTART;TZID=America/Chicago:20280111T144500
DTEND;TZID=America/Chicago:20280111T150000
DTSTAMP:20260425T213909
CREATED:20250602T213716Z
LAST-MODIFIED:20250603T191759Z
UID:10189964-1831214700-1831215600@spacecenter.org
SUMMARY:James Webb Live Presentation
DESCRIPTION:
URL:https://spacecenter.org/events-calendar-event/james-webb-live-presentation-3/2028-01-11/
LOCATION:Theater – Destiny
CATEGORIES:Live Presentation
END:VEVENT
BEGIN:VEVENT
DTSTART;TZID=America/Chicago:20280112T144500
DTEND;TZID=America/Chicago:20280112T150000
DTSTAMP:20260425T213909
CREATED:20250602T213716Z
LAST-MODIFIED:20250603T191759Z
UID:10189965-1831301100-1831302000@spacecenter.org
SUMMARY:James Webb Live Presentation
DESCRIPTION:
URL:https://spacecenter.org/events-calendar-event/james-webb-live-presentation-3/2028-01-12/
LOCATION:Theater – Destiny
CATEGORIES:Live Presentation
END:VEVENT
BEGIN:VEVENT
DTSTART;TZID=America/Chicago:20280113T144500
DTEND;TZID=America/Chicago:20280113T150000
DTSTAMP:20260425T213909
CREATED:20250602T213716Z
LAST-MODIFIED:20250603T191759Z
UID:10189966-1831387500-1831388400@spacecenter.org
SUMMARY:James Webb Live Presentation
DESCRIPTION:
URL:https://spacecenter.org/events-calendar-event/james-webb-live-presentation-3/2028-01-13/
LOCATION:Theater – Destiny
CATEGORIES:Live Presentation
END:VEVENT
BEGIN:VEVENT
DTSTART;TZID=America/Chicago:20280114T144500
DTEND;TZID=America/Chicago:20280114T150000
DTSTAMP:20260425T213909
CREATED:20250602T213716Z
LAST-MODIFIED:20250603T191759Z
UID:10189967-1831473900-1831474800@spacecenter.org
SUMMARY:James Webb Live Presentation
DESCRIPTION:
URL:https://spacecenter.org/events-calendar-event/james-webb-live-presentation-3/2028-01-14/
LOCATION:Theater – Destiny
CATEGORIES:Live Presentation
END:VEVENT
BEGIN:VEVENT
DTSTART;TZID=America/Chicago:20280115T144500
DTEND;TZID=America/Chicago:20280115T150000
DTSTAMP:20260425T213909
CREATED:20250602T213716Z
LAST-MODIFIED:20250603T191759Z
UID:10189968-1831560300-1831561200@spacecenter.org
SUMMARY:James Webb Live Presentation
DESCRIPTION:
URL:https://spacecenter.org/events-calendar-event/james-webb-live-presentation-3/2028-01-15/
LOCATION:Theater – Destiny
CATEGORIES:Live Presentation
END:VEVENT
END:VCALENDAR