BEGIN:VCALENDAR
VERSION:2.0
PRODID:-//Space Center Houston - ECPv6.15.15//NONSGML v1.0//EN
CALSCALE:GREGORIAN
METHOD:PUBLISH
X-ORIGINAL-URL:https://spacecenter.org
X-WR-CALDESC:Events for Space Center Houston
REFRESH-INTERVAL;VALUE=DURATION:PT1H
X-Robots-Tag:noindex
X-PUBLISHED-TTL:PT1H
BEGIN:VTIMEZONE
TZID:America/Chicago
BEGIN:DAYLIGHT
TZOFFSETFROM:-0600
TZOFFSETTO:-0500
TZNAME:CDT
DTSTART:20260308T080000
END:DAYLIGHT
BEGIN:STANDARD
TZOFFSETFROM:-0500
TZOFFSETTO:-0600
TZNAME:CST
DTSTART:20261101T070000
END:STANDARD
BEGIN:DAYLIGHT
TZOFFSETFROM:-0600
TZOFFSETTO:-0500
TZNAME:CDT
DTSTART:20270314T080000
END:DAYLIGHT
BEGIN:STANDARD
TZOFFSETFROM:-0500
TZOFFSETTO:-0600
TZNAME:CST
DTSTART:20271107T070000
END:STANDARD
BEGIN:DAYLIGHT
TZOFFSETFROM:-0600
TZOFFSETTO:-0500
TZNAME:CDT
DTSTART:20280312T080000
END:DAYLIGHT
BEGIN:STANDARD
TZOFFSETFROM:-0500
TZOFFSETTO:-0600
TZNAME:CST
DTSTART:20281105T070000
END:STANDARD
END:VTIMEZONE
BEGIN:VEVENT
DTSTART;TZID=America/Chicago:20270718T144500
DTEND;TZID=America/Chicago:20270718T150000
DTSTAMP:20260423T172807
CREATED:20250602T213716Z
LAST-MODIFIED:20250603T191759Z
UID:10189787-1815921900-1815922800@spacecenter.org
SUMMARY:James Webb Live Presentation
DESCRIPTION:
URL:https://spacecenter.org/events-calendar-event/james-webb-live-presentation-3/2027-07-18/
LOCATION:Theater – Destiny
CATEGORIES:Live Presentation
END:VEVENT
BEGIN:VEVENT
DTSTART;TZID=America/Chicago:20270719T144500
DTEND;TZID=America/Chicago:20270719T150000
DTSTAMP:20260423T172807
CREATED:20250602T213716Z
LAST-MODIFIED:20250603T191759Z
UID:10189788-1816008300-1816009200@spacecenter.org
SUMMARY:James Webb Live Presentation
DESCRIPTION:
URL:https://spacecenter.org/events-calendar-event/james-webb-live-presentation-3/2027-07-19/
LOCATION:Theater – Destiny
CATEGORIES:Live Presentation
END:VEVENT
BEGIN:VEVENT
DTSTART;TZID=America/Chicago:20270720T144500
DTEND;TZID=America/Chicago:20270720T150000
DTSTAMP:20260423T172807
CREATED:20250602T213716Z
LAST-MODIFIED:20250603T191759Z
UID:10189789-1816094700-1816095600@spacecenter.org
SUMMARY:James Webb Live Presentation
DESCRIPTION:
URL:https://spacecenter.org/events-calendar-event/james-webb-live-presentation-3/2027-07-20/
LOCATION:Theater – Destiny
CATEGORIES:Live Presentation
END:VEVENT
BEGIN:VEVENT
DTSTART;TZID=America/Chicago:20270721T144500
DTEND;TZID=America/Chicago:20270721T150000
DTSTAMP:20260423T172807
CREATED:20250602T213716Z
LAST-MODIFIED:20250603T191759Z
UID:10189790-1816181100-1816182000@spacecenter.org
SUMMARY:James Webb Live Presentation
DESCRIPTION:
URL:https://spacecenter.org/events-calendar-event/james-webb-live-presentation-3/2027-07-21/
LOCATION:Theater – Destiny
CATEGORIES:Live Presentation
END:VEVENT
BEGIN:VEVENT
DTSTART;TZID=America/Chicago:20270722T144500
DTEND;TZID=America/Chicago:20270722T150000
DTSTAMP:20260423T172807
CREATED:20250602T213716Z
LAST-MODIFIED:20250603T191759Z
UID:10189791-1816267500-1816268400@spacecenter.org
SUMMARY:James Webb Live Presentation
DESCRIPTION:
URL:https://spacecenter.org/events-calendar-event/james-webb-live-presentation-3/2027-07-22/
LOCATION:Theater – Destiny
CATEGORIES:Live Presentation
END:VEVENT
BEGIN:VEVENT
DTSTART;TZID=America/Chicago:20270723T144500
DTEND;TZID=America/Chicago:20270723T150000
DTSTAMP:20260423T172807
CREATED:20250602T213716Z
LAST-MODIFIED:20250603T191759Z
UID:10189792-1816353900-1816354800@spacecenter.org
SUMMARY:James Webb Live Presentation
DESCRIPTION:
URL:https://spacecenter.org/events-calendar-event/james-webb-live-presentation-3/2027-07-23/
LOCATION:Theater – Destiny
CATEGORIES:Live Presentation
END:VEVENT
BEGIN:VEVENT
DTSTART;TZID=America/Chicago:20270724T144500
DTEND;TZID=America/Chicago:20270724T150000
DTSTAMP:20260423T172807
CREATED:20250602T213716Z
LAST-MODIFIED:20250603T191759Z
UID:10189793-1816440300-1816441200@spacecenter.org
SUMMARY:James Webb Live Presentation
DESCRIPTION:
URL:https://spacecenter.org/events-calendar-event/james-webb-live-presentation-3/2027-07-24/
LOCATION:Theater – Destiny
CATEGORIES:Live Presentation
END:VEVENT
BEGIN:VEVENT
DTSTART;TZID=America/Chicago:20270725T144500
DTEND;TZID=America/Chicago:20270725T150000
DTSTAMP:20260423T172807
CREATED:20250602T213716Z
LAST-MODIFIED:20250603T191759Z
UID:10189794-1816526700-1816527600@spacecenter.org
SUMMARY:James Webb Live Presentation
DESCRIPTION:
URL:https://spacecenter.org/events-calendar-event/james-webb-live-presentation-3/2027-07-25/
LOCATION:Theater – Destiny
CATEGORIES:Live Presentation
END:VEVENT
BEGIN:VEVENT
DTSTART;TZID=America/Chicago:20270726T144500
DTEND;TZID=America/Chicago:20270726T150000
DTSTAMP:20260423T172808
CREATED:20250602T213716Z
LAST-MODIFIED:20250603T191759Z
UID:10189795-1816613100-1816614000@spacecenter.org
SUMMARY:James Webb Live Presentation
DESCRIPTION:
URL:https://spacecenter.org/events-calendar-event/james-webb-live-presentation-3/2027-07-26/
LOCATION:Theater – Destiny
CATEGORIES:Live Presentation
END:VEVENT
BEGIN:VEVENT
DTSTART;TZID=America/Chicago:20270727T144500
DTEND;TZID=America/Chicago:20270727T150000
DTSTAMP:20260423T172808
CREATED:20250602T213716Z
LAST-MODIFIED:20250603T191759Z
UID:10189796-1816699500-1816700400@spacecenter.org
SUMMARY:James Webb Live Presentation
DESCRIPTION:
URL:https://spacecenter.org/events-calendar-event/james-webb-live-presentation-3/2027-07-27/
LOCATION:Theater – Destiny
CATEGORIES:Live Presentation
END:VEVENT
BEGIN:VEVENT
DTSTART;TZID=America/Chicago:20270728T144500
DTEND;TZID=America/Chicago:20270728T150000
DTSTAMP:20260423T172808
CREATED:20250602T213716Z
LAST-MODIFIED:20250603T191759Z
UID:10189797-1816785900-1816786800@spacecenter.org
SUMMARY:James Webb Live Presentation
DESCRIPTION:
URL:https://spacecenter.org/events-calendar-event/james-webb-live-presentation-3/2027-07-28/
LOCATION:Theater – Destiny
CATEGORIES:Live Presentation
END:VEVENT
BEGIN:VEVENT
DTSTART;TZID=America/Chicago:20270729T144500
DTEND;TZID=America/Chicago:20270729T150000
DTSTAMP:20260423T172808
CREATED:20250602T213716Z
LAST-MODIFIED:20250603T191759Z
UID:10189798-1816872300-1816873200@spacecenter.org
SUMMARY:James Webb Live Presentation
DESCRIPTION:
URL:https://spacecenter.org/events-calendar-event/james-webb-live-presentation-3/2027-07-29/
LOCATION:Theater – Destiny
CATEGORIES:Live Presentation
END:VEVENT
BEGIN:VEVENT
DTSTART;TZID=America/Chicago:20270730T144500
DTEND;TZID=America/Chicago:20270730T150000
DTSTAMP:20260423T172808
CREATED:20250602T213716Z
LAST-MODIFIED:20250603T191759Z
UID:10189799-1816958700-1816959600@spacecenter.org
SUMMARY:James Webb Live Presentation
DESCRIPTION:
URL:https://spacecenter.org/events-calendar-event/james-webb-live-presentation-3/2027-07-30/
LOCATION:Theater – Destiny
CATEGORIES:Live Presentation
END:VEVENT
BEGIN:VEVENT
DTSTART;TZID=America/Chicago:20270731T144500
DTEND;TZID=America/Chicago:20270731T150000
DTSTAMP:20260423T172808
CREATED:20250602T213716Z
LAST-MODIFIED:20250603T191759Z
UID:10189800-1817045100-1817046000@spacecenter.org
SUMMARY:James Webb Live Presentation
DESCRIPTION:
URL:https://spacecenter.org/events-calendar-event/james-webb-live-presentation-3/2027-07-31/
LOCATION:Theater – Destiny
CATEGORIES:Live Presentation
END:VEVENT
BEGIN:VEVENT
DTSTART;TZID=America/Chicago:20270801T144500
DTEND;TZID=America/Chicago:20270801T150000
DTSTAMP:20260423T172808
CREATED:20250602T213716Z
LAST-MODIFIED:20250603T191759Z
UID:10189801-1817131500-1817132400@spacecenter.org
SUMMARY:James Webb Live Presentation
DESCRIPTION:
URL:https://spacecenter.org/events-calendar-event/james-webb-live-presentation-3/2027-08-01/
LOCATION:Theater – Destiny
CATEGORIES:Live Presentation
END:VEVENT
BEGIN:VEVENT
DTSTART;TZID=America/Chicago:20270802T144500
DTEND;TZID=America/Chicago:20270802T150000
DTSTAMP:20260423T172808
CREATED:20250602T213716Z
LAST-MODIFIED:20250603T191759Z
UID:10189802-1817217900-1817218800@spacecenter.org
SUMMARY:James Webb Live Presentation
DESCRIPTION:
URL:https://spacecenter.org/events-calendar-event/james-webb-live-presentation-3/2027-08-02/
LOCATION:Theater – Destiny
CATEGORIES:Live Presentation
END:VEVENT
BEGIN:VEVENT
DTSTART;TZID=America/Chicago:20270803T144500
DTEND;TZID=America/Chicago:20270803T150000
DTSTAMP:20260423T172808
CREATED:20250602T213716Z
LAST-MODIFIED:20250603T191759Z
UID:10189803-1817304300-1817305200@spacecenter.org
SUMMARY:James Webb Live Presentation
DESCRIPTION:
URL:https://spacecenter.org/events-calendar-event/james-webb-live-presentation-3/2027-08-03/
LOCATION:Theater – Destiny
CATEGORIES:Live Presentation
END:VEVENT
BEGIN:VEVENT
DTSTART;TZID=America/Chicago:20270804T144500
DTEND;TZID=America/Chicago:20270804T150000
DTSTAMP:20260423T172808
CREATED:20250602T213716Z
LAST-MODIFIED:20250603T191759Z
UID:10189804-1817390700-1817391600@spacecenter.org
SUMMARY:James Webb Live Presentation
DESCRIPTION:
URL:https://spacecenter.org/events-calendar-event/james-webb-live-presentation-3/2027-08-04/
LOCATION:Theater – Destiny
CATEGORIES:Live Presentation
END:VEVENT
BEGIN:VEVENT
DTSTART;TZID=America/Chicago:20270805T144500
DTEND;TZID=America/Chicago:20270805T150000
DTSTAMP:20260423T172808
CREATED:20250602T213716Z
LAST-MODIFIED:20250603T191759Z
UID:10189805-1817477100-1817478000@spacecenter.org
SUMMARY:James Webb Live Presentation
DESCRIPTION:
URL:https://spacecenter.org/events-calendar-event/james-webb-live-presentation-3/2027-08-05/
LOCATION:Theater – Destiny
CATEGORIES:Live Presentation
END:VEVENT
BEGIN:VEVENT
DTSTART;TZID=America/Chicago:20270806T144500
DTEND;TZID=America/Chicago:20270806T150000
DTSTAMP:20260423T172808
CREATED:20250602T213716Z
LAST-MODIFIED:20250603T191759Z
UID:10189806-1817563500-1817564400@spacecenter.org
SUMMARY:James Webb Live Presentation
DESCRIPTION:
URL:https://spacecenter.org/events-calendar-event/james-webb-live-presentation-3/2027-08-06/
LOCATION:Theater – Destiny
CATEGORIES:Live Presentation
END:VEVENT
BEGIN:VEVENT
DTSTART;TZID=America/Chicago:20270807T144500
DTEND;TZID=America/Chicago:20270807T150000
DTSTAMP:20260423T172808
CREATED:20250602T213716Z
LAST-MODIFIED:20250603T191759Z
UID:10189807-1817649900-1817650800@spacecenter.org
SUMMARY:James Webb Live Presentation
DESCRIPTION:
URL:https://spacecenter.org/events-calendar-event/james-webb-live-presentation-3/2027-08-07/
LOCATION:Theater – Destiny
CATEGORIES:Live Presentation
END:VEVENT
BEGIN:VEVENT
DTSTART;TZID=America/Chicago:20270808T144500
DTEND;TZID=America/Chicago:20270808T150000
DTSTAMP:20260423T172808
CREATED:20250602T213716Z
LAST-MODIFIED:20250603T191759Z
UID:10189808-1817736300-1817737200@spacecenter.org
SUMMARY:James Webb Live Presentation
DESCRIPTION:
URL:https://spacecenter.org/events-calendar-event/james-webb-live-presentation-3/2027-08-08/
LOCATION:Theater – Destiny
CATEGORIES:Live Presentation
END:VEVENT
BEGIN:VEVENT
DTSTART;TZID=America/Chicago:20270809T144500
DTEND;TZID=America/Chicago:20270809T150000
DTSTAMP:20260423T172808
CREATED:20250602T213716Z
LAST-MODIFIED:20250603T191759Z
UID:10189809-1817822700-1817823600@spacecenter.org
SUMMARY:James Webb Live Presentation
DESCRIPTION:
URL:https://spacecenter.org/events-calendar-event/james-webb-live-presentation-3/2027-08-09/
LOCATION:Theater – Destiny
CATEGORIES:Live Presentation
END:VEVENT
BEGIN:VEVENT
DTSTART;TZID=America/Chicago:20270810T144500
DTEND;TZID=America/Chicago:20270810T150000
DTSTAMP:20260423T172808
CREATED:20250602T213716Z
LAST-MODIFIED:20250603T191759Z
UID:10189810-1817909100-1817910000@spacecenter.org
SUMMARY:James Webb Live Presentation
DESCRIPTION:
URL:https://spacecenter.org/events-calendar-event/james-webb-live-presentation-3/2027-08-10/
LOCATION:Theater – Destiny
CATEGORIES:Live Presentation
END:VEVENT
BEGIN:VEVENT
DTSTART;TZID=America/Chicago:20270811T144500
DTEND;TZID=America/Chicago:20270811T150000
DTSTAMP:20260423T172808
CREATED:20250602T213716Z
LAST-MODIFIED:20250603T191759Z
UID:10189811-1817995500-1817996400@spacecenter.org
SUMMARY:James Webb Live Presentation
DESCRIPTION:
URL:https://spacecenter.org/events-calendar-event/james-webb-live-presentation-3/2027-08-11/
LOCATION:Theater – Destiny
CATEGORIES:Live Presentation
END:VEVENT
BEGIN:VEVENT
DTSTART;TZID=America/Chicago:20270812T144500
DTEND;TZID=America/Chicago:20270812T150000
DTSTAMP:20260423T172808
CREATED:20250602T213716Z
LAST-MODIFIED:20250603T191759Z
UID:10189812-1818081900-1818082800@spacecenter.org
SUMMARY:James Webb Live Presentation
DESCRIPTION:
URL:https://spacecenter.org/events-calendar-event/james-webb-live-presentation-3/2027-08-12/
LOCATION:Theater – Destiny
CATEGORIES:Live Presentation
END:VEVENT
BEGIN:VEVENT
DTSTART;TZID=America/Chicago:20270813T144500
DTEND;TZID=America/Chicago:20270813T150000
DTSTAMP:20260423T172808
CREATED:20250602T213716Z
LAST-MODIFIED:20250603T191759Z
UID:10189813-1818168300-1818169200@spacecenter.org
SUMMARY:James Webb Live Presentation
DESCRIPTION:
URL:https://spacecenter.org/events-calendar-event/james-webb-live-presentation-3/2027-08-13/
LOCATION:Theater – Destiny
CATEGORIES:Live Presentation
END:VEVENT
BEGIN:VEVENT
DTSTART;TZID=America/Chicago:20270814T144500
DTEND;TZID=America/Chicago:20270814T150000
DTSTAMP:20260423T172808
CREATED:20250602T213716Z
LAST-MODIFIED:20250603T191759Z
UID:10189814-1818254700-1818255600@spacecenter.org
SUMMARY:James Webb Live Presentation
DESCRIPTION:
URL:https://spacecenter.org/events-calendar-event/james-webb-live-presentation-3/2027-08-14/
LOCATION:Theater – Destiny
CATEGORIES:Live Presentation
END:VEVENT
BEGIN:VEVENT
DTSTART;TZID=America/Chicago:20270815T144500
DTEND;TZID=America/Chicago:20270815T150000
DTSTAMP:20260423T172808
CREATED:20250602T213716Z
LAST-MODIFIED:20250603T191759Z
UID:10189815-1818341100-1818342000@spacecenter.org
SUMMARY:James Webb Live Presentation
DESCRIPTION:
URL:https://spacecenter.org/events-calendar-event/james-webb-live-presentation-3/2027-08-15/
LOCATION:Theater – Destiny
CATEGORIES:Live Presentation
END:VEVENT
BEGIN:VEVENT
DTSTART;TZID=America/Chicago:20270816T144500
DTEND;TZID=America/Chicago:20270816T150000
DTSTAMP:20260423T172808
CREATED:20250602T213716Z
LAST-MODIFIED:20250603T191759Z
UID:10189816-1818427500-1818428400@spacecenter.org
SUMMARY:James Webb Live Presentation
DESCRIPTION:
URL:https://spacecenter.org/events-calendar-event/james-webb-live-presentation-3/2027-08-16/
LOCATION:Theater – Destiny
CATEGORIES:Live Presentation
END:VEVENT
END:VCALENDAR