BEGIN:VCALENDAR
VERSION:2.0
PRODID:-//Space Center Houston - ECPv6.15.15//NONSGML v1.0//EN
CALSCALE:GREGORIAN
METHOD:PUBLISH
X-ORIGINAL-URL:https://spacecenter.org
X-WR-CALDESC:Events for Space Center Houston
REFRESH-INTERVAL;VALUE=DURATION:PT1H
X-Robots-Tag:noindex
X-PUBLISHED-TTL:PT1H
BEGIN:VTIMEZONE
TZID:America/Chicago
BEGIN:DAYLIGHT
TZOFFSETFROM:-0600
TZOFFSETTO:-0500
TZNAME:CDT
DTSTART:20250309T080000
END:DAYLIGHT
BEGIN:STANDARD
TZOFFSETFROM:-0500
TZOFFSETTO:-0600
TZNAME:CST
DTSTART:20251102T070000
END:STANDARD
BEGIN:DAYLIGHT
TZOFFSETFROM:-0600
TZOFFSETTO:-0500
TZNAME:CDT
DTSTART:20260308T080000
END:DAYLIGHT
BEGIN:STANDARD
TZOFFSETFROM:-0500
TZOFFSETTO:-0600
TZNAME:CST
DTSTART:20261101T070000
END:STANDARD
BEGIN:DAYLIGHT
TZOFFSETFROM:-0600
TZOFFSETTO:-0500
TZNAME:CDT
DTSTART:20270314T080000
END:DAYLIGHT
BEGIN:STANDARD
TZOFFSETFROM:-0500
TZOFFSETTO:-0600
TZNAME:CST
DTSTART:20271107T070000
END:STANDARD
END:VTIMEZONE
BEGIN:VEVENT
DTSTART;TZID=America/Chicago:20260420T134500
DTEND;TZID=America/Chicago:20260420T140000
DTSTAMP:20260419T225523
CREATED:20250602T213557Z
LAST-MODIFIED:20250603T191327Z
UID:10174709-1776692700-1776693600@spacecenter.org
SUMMARY:James Webb Live Presentation
DESCRIPTION:
URL:https://spacecenter.org/events-calendar-event/james-webb-live-presentation-2/2026-04-20/
LOCATION:Theater – Destiny
CATEGORIES:Live Presentation
END:VEVENT
BEGIN:VEVENT
DTSTART;TZID=America/Chicago:20260421T134500
DTEND;TZID=America/Chicago:20260421T140000
DTSTAMP:20260419T225523
CREATED:20250602T213557Z
LAST-MODIFIED:20250603T191327Z
UID:10174710-1776779100-1776780000@spacecenter.org
SUMMARY:James Webb Live Presentation
DESCRIPTION:
URL:https://spacecenter.org/events-calendar-event/james-webb-live-presentation-2/2026-04-21/
LOCATION:Theater – Destiny
CATEGORIES:Live Presentation
END:VEVENT
BEGIN:VEVENT
DTSTART;TZID=America/Chicago:20260422T134500
DTEND;TZID=America/Chicago:20260422T140000
DTSTAMP:20260419T225523
CREATED:20250602T213557Z
LAST-MODIFIED:20250603T191327Z
UID:10174711-1776865500-1776866400@spacecenter.org
SUMMARY:James Webb Live Presentation
DESCRIPTION:
URL:https://spacecenter.org/events-calendar-event/james-webb-live-presentation-2/2026-04-22/
LOCATION:Theater – Destiny
CATEGORIES:Live Presentation
END:VEVENT
BEGIN:VEVENT
DTSTART;TZID=America/Chicago:20260423T134500
DTEND;TZID=America/Chicago:20260423T140000
DTSTAMP:20260419T225523
CREATED:20250602T213557Z
LAST-MODIFIED:20250603T191327Z
UID:10174712-1776951900-1776952800@spacecenter.org
SUMMARY:James Webb Live Presentation
DESCRIPTION:
URL:https://spacecenter.org/events-calendar-event/james-webb-live-presentation-2/2026-04-23/
LOCATION:Theater – Destiny
CATEGORIES:Live Presentation
END:VEVENT
BEGIN:VEVENT
DTSTART;TZID=America/Chicago:20260424T134500
DTEND;TZID=America/Chicago:20260424T140000
DTSTAMP:20260419T225523
CREATED:20250602T213557Z
LAST-MODIFIED:20250603T191327Z
UID:10174713-1777038300-1777039200@spacecenter.org
SUMMARY:James Webb Live Presentation
DESCRIPTION:
URL:https://spacecenter.org/events-calendar-event/james-webb-live-presentation-2/2026-04-24/
LOCATION:Theater – Destiny
CATEGORIES:Live Presentation
END:VEVENT
BEGIN:VEVENT
DTSTART;TZID=America/Chicago:20260425T134500
DTEND;TZID=America/Chicago:20260425T140000
DTSTAMP:20260419T225523
CREATED:20250602T213557Z
LAST-MODIFIED:20250603T191327Z
UID:10174714-1777124700-1777125600@spacecenter.org
SUMMARY:James Webb Live Presentation
DESCRIPTION:
URL:https://spacecenter.org/events-calendar-event/james-webb-live-presentation-2/2026-04-25/
LOCATION:Theater – Destiny
CATEGORIES:Live Presentation
END:VEVENT
BEGIN:VEVENT
DTSTART;TZID=America/Chicago:20260426T134500
DTEND;TZID=America/Chicago:20260426T140000
DTSTAMP:20260419T225523
CREATED:20250602T213557Z
LAST-MODIFIED:20250603T191327Z
UID:10174715-1777211100-1777212000@spacecenter.org
SUMMARY:James Webb Live Presentation
DESCRIPTION:
URL:https://spacecenter.org/events-calendar-event/james-webb-live-presentation-2/2026-04-26/
LOCATION:Theater – Destiny
CATEGORIES:Live Presentation
END:VEVENT
BEGIN:VEVENT
DTSTART;TZID=America/Chicago:20260427T134500
DTEND;TZID=America/Chicago:20260427T140000
DTSTAMP:20260419T225523
CREATED:20250602T213557Z
LAST-MODIFIED:20250603T191327Z
UID:10174716-1777297500-1777298400@spacecenter.org
SUMMARY:James Webb Live Presentation
DESCRIPTION:
URL:https://spacecenter.org/events-calendar-event/james-webb-live-presentation-2/2026-04-27/
LOCATION:Theater – Destiny
CATEGORIES:Live Presentation
END:VEVENT
BEGIN:VEVENT
DTSTART;TZID=America/Chicago:20260428T134500
DTEND;TZID=America/Chicago:20260428T140000
DTSTAMP:20260419T225523
CREATED:20250602T213557Z
LAST-MODIFIED:20250603T191327Z
UID:10174717-1777383900-1777384800@spacecenter.org
SUMMARY:James Webb Live Presentation
DESCRIPTION:
URL:https://spacecenter.org/events-calendar-event/james-webb-live-presentation-2/2026-04-28/
LOCATION:Theater – Destiny
CATEGORIES:Live Presentation
END:VEVENT
BEGIN:VEVENT
DTSTART;TZID=America/Chicago:20260429T134500
DTEND;TZID=America/Chicago:20260429T140000
DTSTAMP:20260419T225523
CREATED:20250602T213557Z
LAST-MODIFIED:20250603T191327Z
UID:10174718-1777470300-1777471200@spacecenter.org
SUMMARY:James Webb Live Presentation
DESCRIPTION:
URL:https://spacecenter.org/events-calendar-event/james-webb-live-presentation-2/2026-04-29/
LOCATION:Theater – Destiny
CATEGORIES:Live Presentation
END:VEVENT
BEGIN:VEVENT
DTSTART;TZID=America/Chicago:20260430T134500
DTEND;TZID=America/Chicago:20260430T140000
DTSTAMP:20260419T225523
CREATED:20250602T213557Z
LAST-MODIFIED:20250603T191327Z
UID:10174719-1777556700-1777557600@spacecenter.org
SUMMARY:James Webb Live Presentation
DESCRIPTION:
URL:https://spacecenter.org/events-calendar-event/james-webb-live-presentation-2/2026-04-30/
LOCATION:Theater – Destiny
CATEGORIES:Live Presentation
END:VEVENT
BEGIN:VEVENT
DTSTART;TZID=America/Chicago:20260501T134500
DTEND;TZID=America/Chicago:20260501T140000
DTSTAMP:20260419T225523
CREATED:20250602T213557Z
LAST-MODIFIED:20250603T191327Z
UID:10174720-1777643100-1777644000@spacecenter.org
SUMMARY:James Webb Live Presentation
DESCRIPTION:
URL:https://spacecenter.org/events-calendar-event/james-webb-live-presentation-2/2026-05-01/
LOCATION:Theater – Destiny
CATEGORIES:Live Presentation
END:VEVENT
BEGIN:VEVENT
DTSTART;TZID=America/Chicago:20260502T134500
DTEND;TZID=America/Chicago:20260502T140000
DTSTAMP:20260419T225523
CREATED:20250602T213557Z
LAST-MODIFIED:20250603T191327Z
UID:10174721-1777729500-1777730400@spacecenter.org
SUMMARY:James Webb Live Presentation
DESCRIPTION:
URL:https://spacecenter.org/events-calendar-event/james-webb-live-presentation-2/2026-05-02/
LOCATION:Theater – Destiny
CATEGORIES:Live Presentation
END:VEVENT
BEGIN:VEVENT
DTSTART;TZID=America/Chicago:20260503T134500
DTEND;TZID=America/Chicago:20260503T140000
DTSTAMP:20260419T225523
CREATED:20250602T213557Z
LAST-MODIFIED:20250603T191327Z
UID:10174722-1777815900-1777816800@spacecenter.org
SUMMARY:James Webb Live Presentation
DESCRIPTION:
URL:https://spacecenter.org/events-calendar-event/james-webb-live-presentation-2/2026-05-03/
LOCATION:Theater – Destiny
CATEGORIES:Live Presentation
END:VEVENT
BEGIN:VEVENT
DTSTART;TZID=America/Chicago:20260504T134500
DTEND;TZID=America/Chicago:20260504T140000
DTSTAMP:20260419T225523
CREATED:20250602T213557Z
LAST-MODIFIED:20250603T191327Z
UID:10174723-1777902300-1777903200@spacecenter.org
SUMMARY:James Webb Live Presentation
DESCRIPTION:
URL:https://spacecenter.org/events-calendar-event/james-webb-live-presentation-2/2026-05-04/
LOCATION:Theater – Destiny
CATEGORIES:Live Presentation
END:VEVENT
BEGIN:VEVENT
DTSTART;TZID=America/Chicago:20260505T134500
DTEND;TZID=America/Chicago:20260505T140000
DTSTAMP:20260419T225523
CREATED:20250602T213557Z
LAST-MODIFIED:20250603T191327Z
UID:10174724-1777988700-1777989600@spacecenter.org
SUMMARY:James Webb Live Presentation
DESCRIPTION:
URL:https://spacecenter.org/events-calendar-event/james-webb-live-presentation-2/2026-05-05/
LOCATION:Theater – Destiny
CATEGORIES:Live Presentation
END:VEVENT
BEGIN:VEVENT
DTSTART;TZID=America/Chicago:20260506T134500
DTEND;TZID=America/Chicago:20260506T140000
DTSTAMP:20260419T225523
CREATED:20250602T213557Z
LAST-MODIFIED:20250603T191327Z
UID:10174725-1778075100-1778076000@spacecenter.org
SUMMARY:James Webb Live Presentation
DESCRIPTION:
URL:https://spacecenter.org/events-calendar-event/james-webb-live-presentation-2/2026-05-06/
LOCATION:Theater – Destiny
CATEGORIES:Live Presentation
END:VEVENT
BEGIN:VEVENT
DTSTART;TZID=America/Chicago:20260507T134500
DTEND;TZID=America/Chicago:20260507T140000
DTSTAMP:20260419T225523
CREATED:20250602T213557Z
LAST-MODIFIED:20250603T191327Z
UID:10174726-1778161500-1778162400@spacecenter.org
SUMMARY:James Webb Live Presentation
DESCRIPTION:
URL:https://spacecenter.org/events-calendar-event/james-webb-live-presentation-2/2026-05-07/
LOCATION:Theater – Destiny
CATEGORIES:Live Presentation
END:VEVENT
BEGIN:VEVENT
DTSTART;TZID=America/Chicago:20260508T134500
DTEND;TZID=America/Chicago:20260508T140000
DTSTAMP:20260419T225523
CREATED:20250602T213557Z
LAST-MODIFIED:20250603T191327Z
UID:10174727-1778247900-1778248800@spacecenter.org
SUMMARY:James Webb Live Presentation
DESCRIPTION:
URL:https://spacecenter.org/events-calendar-event/james-webb-live-presentation-2/2026-05-08/
LOCATION:Theater – Destiny
CATEGORIES:Live Presentation
END:VEVENT
BEGIN:VEVENT
DTSTART;TZID=America/Chicago:20260509T134500
DTEND;TZID=America/Chicago:20260509T140000
DTSTAMP:20260419T225523
CREATED:20250602T213557Z
LAST-MODIFIED:20250603T191327Z
UID:10174728-1778334300-1778335200@spacecenter.org
SUMMARY:James Webb Live Presentation
DESCRIPTION:
URL:https://spacecenter.org/events-calendar-event/james-webb-live-presentation-2/2026-05-09/
LOCATION:Theater – Destiny
CATEGORIES:Live Presentation
END:VEVENT
BEGIN:VEVENT
DTSTART;TZID=America/Chicago:20260510T134500
DTEND;TZID=America/Chicago:20260510T140000
DTSTAMP:20260419T225523
CREATED:20250602T213557Z
LAST-MODIFIED:20250603T191327Z
UID:10174729-1778420700-1778421600@spacecenter.org
SUMMARY:James Webb Live Presentation
DESCRIPTION:
URL:https://spacecenter.org/events-calendar-event/james-webb-live-presentation-2/2026-05-10/
LOCATION:Theater – Destiny
CATEGORIES:Live Presentation
END:VEVENT
BEGIN:VEVENT
DTSTART;TZID=America/Chicago:20260511T134500
DTEND;TZID=America/Chicago:20260511T140000
DTSTAMP:20260419T225523
CREATED:20250602T213557Z
LAST-MODIFIED:20250603T191327Z
UID:10174730-1778507100-1778508000@spacecenter.org
SUMMARY:James Webb Live Presentation
DESCRIPTION:
URL:https://spacecenter.org/events-calendar-event/james-webb-live-presentation-2/2026-05-11/
LOCATION:Theater – Destiny
CATEGORIES:Live Presentation
END:VEVENT
BEGIN:VEVENT
DTSTART;TZID=America/Chicago:20260512T134500
DTEND;TZID=America/Chicago:20260512T140000
DTSTAMP:20260419T225523
CREATED:20250602T213557Z
LAST-MODIFIED:20250603T191327Z
UID:10174731-1778593500-1778594400@spacecenter.org
SUMMARY:James Webb Live Presentation
DESCRIPTION:
URL:https://spacecenter.org/events-calendar-event/james-webb-live-presentation-2/2026-05-12/
LOCATION:Theater – Destiny
CATEGORIES:Live Presentation
END:VEVENT
BEGIN:VEVENT
DTSTART;TZID=America/Chicago:20260513T134500
DTEND;TZID=America/Chicago:20260513T140000
DTSTAMP:20260419T225523
CREATED:20250602T213557Z
LAST-MODIFIED:20250603T191327Z
UID:10174732-1778679900-1778680800@spacecenter.org
SUMMARY:James Webb Live Presentation
DESCRIPTION:
URL:https://spacecenter.org/events-calendar-event/james-webb-live-presentation-2/2026-05-13/
LOCATION:Theater – Destiny
CATEGORIES:Live Presentation
END:VEVENT
BEGIN:VEVENT
DTSTART;TZID=America/Chicago:20260514T134500
DTEND;TZID=America/Chicago:20260514T140000
DTSTAMP:20260419T225523
CREATED:20250602T213557Z
LAST-MODIFIED:20250603T191327Z
UID:10174733-1778766300-1778767200@spacecenter.org
SUMMARY:James Webb Live Presentation
DESCRIPTION:
URL:https://spacecenter.org/events-calendar-event/james-webb-live-presentation-2/2026-05-14/
LOCATION:Theater – Destiny
CATEGORIES:Live Presentation
END:VEVENT
BEGIN:VEVENT
DTSTART;TZID=America/Chicago:20260515T134500
DTEND;TZID=America/Chicago:20260515T140000
DTSTAMP:20260419T225523
CREATED:20250602T213557Z
LAST-MODIFIED:20250603T191327Z
UID:10174734-1778852700-1778853600@spacecenter.org
SUMMARY:James Webb Live Presentation
DESCRIPTION:
URL:https://spacecenter.org/events-calendar-event/james-webb-live-presentation-2/2026-05-15/
LOCATION:Theater – Destiny
CATEGORIES:Live Presentation
END:VEVENT
BEGIN:VEVENT
DTSTART;TZID=America/Chicago:20260516T134500
DTEND;TZID=America/Chicago:20260516T140000
DTSTAMP:20260419T225523
CREATED:20250602T213557Z
LAST-MODIFIED:20250603T191327Z
UID:10174735-1778939100-1778940000@spacecenter.org
SUMMARY:James Webb Live Presentation
DESCRIPTION:
URL:https://spacecenter.org/events-calendar-event/james-webb-live-presentation-2/2026-05-16/
LOCATION:Theater – Destiny
CATEGORIES:Live Presentation
END:VEVENT
BEGIN:VEVENT
DTSTART;TZID=America/Chicago:20260517T134500
DTEND;TZID=America/Chicago:20260517T140000
DTSTAMP:20260419T225523
CREATED:20250602T213557Z
LAST-MODIFIED:20250603T191327Z
UID:10174736-1779025500-1779026400@spacecenter.org
SUMMARY:James Webb Live Presentation
DESCRIPTION:
URL:https://spacecenter.org/events-calendar-event/james-webb-live-presentation-2/2026-05-17/
LOCATION:Theater – Destiny
CATEGORIES:Live Presentation
END:VEVENT
BEGIN:VEVENT
DTSTART;TZID=America/Chicago:20260518T134500
DTEND;TZID=America/Chicago:20260518T140000
DTSTAMP:20260419T225523
CREATED:20250602T213557Z
LAST-MODIFIED:20250603T191327Z
UID:10174737-1779111900-1779112800@spacecenter.org
SUMMARY:James Webb Live Presentation
DESCRIPTION:
URL:https://spacecenter.org/events-calendar-event/james-webb-live-presentation-2/2026-05-18/
LOCATION:Theater – Destiny
CATEGORIES:Live Presentation
END:VEVENT
BEGIN:VEVENT
DTSTART;TZID=America/Chicago:20260519T134500
DTEND;TZID=America/Chicago:20260519T140000
DTSTAMP:20260419T225523
CREATED:20250602T213557Z
LAST-MODIFIED:20250603T191327Z
UID:10174738-1779198300-1779199200@spacecenter.org
SUMMARY:James Webb Live Presentation
DESCRIPTION:
URL:https://spacecenter.org/events-calendar-event/james-webb-live-presentation-2/2026-05-19/
LOCATION:Theater – Destiny
CATEGORIES:Live Presentation
END:VEVENT
END:VCALENDAR