BEGIN:VCALENDAR
VERSION:2.0
PRODID:-//Space Center Houston - ECPv6.15.15//NONSGML v1.0//EN
CALSCALE:GREGORIAN
METHOD:PUBLISH
X-ORIGINAL-URL:https://spacecenter.org
X-WR-CALDESC:Events for Space Center Houston
REFRESH-INTERVAL;VALUE=DURATION:PT1H
X-Robots-Tag:noindex
X-PUBLISHED-TTL:PT1H
BEGIN:VTIMEZONE
TZID:America/Chicago
BEGIN:DAYLIGHT
TZOFFSETFROM:-0600
TZOFFSETTO:-0500
TZNAME:CDT
DTSTART:20270314T080000
END:DAYLIGHT
BEGIN:STANDARD
TZOFFSETFROM:-0500
TZOFFSETTO:-0600
TZNAME:CST
DTSTART:20271107T070000
END:STANDARD
BEGIN:DAYLIGHT
TZOFFSETFROM:-0600
TZOFFSETTO:-0500
TZNAME:CDT
DTSTART:20280312T080000
END:DAYLIGHT
BEGIN:STANDARD
TZOFFSETFROM:-0500
TZOFFSETTO:-0600
TZNAME:CST
DTSTART:20281105T070000
END:STANDARD
BEGIN:DAYLIGHT
TZOFFSETFROM:-0600
TZOFFSETTO:-0500
TZNAME:CDT
DTSTART:20290311T080000
END:DAYLIGHT
BEGIN:STANDARD
TZOFFSETFROM:-0500
TZOFFSETTO:-0600
TZNAME:CST
DTSTART:20291104T070000
END:STANDARD
END:VTIMEZONE
BEGIN:VEVENT
DTSTART;TZID=America/Chicago:20280722T134500
DTEND;TZID=America/Chicago:20280722T140000
DTSTAMP:20260421T142752
CREATED:20250602T213557Z
LAST-MODIFIED:20250603T191327Z
UID:10175533-1847886300-1847887200@spacecenter.org
SUMMARY:James Webb Live Presentation
DESCRIPTION:
URL:https://spacecenter.org/events-calendar-event/james-webb-live-presentation-2/2028-07-22/
LOCATION:Theater – Destiny
CATEGORIES:Live Presentation
END:VEVENT
BEGIN:VEVENT
DTSTART;TZID=America/Chicago:20280722T140000
DTEND;TZID=America/Chicago:20280722T144500
DTSTAMP:20260421T142752
CREATED:20250602T211401Z
LAST-MODIFIED:20250603T191451Z
UID:10179189-1847887200-1847889900@spacecenter.org
SUMMARY:Down to Earth: The Astronaut's Perspective Film
DESCRIPTION:
URL:https://spacecenter.org/events-calendar-event/down-to-earth-the-astronauts-perspective-film-3/2028-07-22/
LOCATION:Mission Briefing Center
CATEGORIES:Film
ATTACH;FMTTYPE=image/jpeg:https://spacecenter.org/wp-content/uploads/2025/02/profdeveducators1.jpg
END:VEVENT
BEGIN:VEVENT
DTSTART;TZID=America/Chicago:20280722T143000
DTEND;TZID=America/Chicago:20280722T152000
DTSTAMP:20260421T142752
CREATED:20250602T215601Z
LAST-MODIFIED:20250603T191630Z
UID:10182845-1847889000-1847892000@spacecenter.org
SUMMARY:The Moonwalkers: A Journey with Tom Hanks
DESCRIPTION:
URL:https://spacecenter.org/events-calendar-event/the-moonwalkers-a-journey-with-tom-hanks-5/2028-07-22/
LOCATION:Theater – Space Center
CATEGORIES:Film
ATTACH;FMTTYPE=image/png:https://spacecenter.org/wp-content/uploads/2025/03/moonwalkers.png
END:VEVENT
BEGIN:VEVENT
DTSTART;TZID=America/Chicago:20280722T143000
DTEND;TZID=America/Chicago:20280722T153000
DTSTAMP:20260421T142752
CREATED:20250602T210317Z
LAST-MODIFIED:20250603T191717Z
UID:10186501-1847889000-1847892600@spacecenter.org
SUMMARY:Astronaut Training Facility Tram Tour
DESCRIPTION:
URL:https://spacecenter.org/events-calendar-event/astronaut-training-facility-tram-tour-5/2028-07-22/
LOCATION:Tram Boarding Area
CATEGORIES:Tram Tour
ATTACH;FMTTYPE=image/jpeg:https://spacecenter.org/wp-content/uploads/2022/07/IMG_2943.jpg
END:VEVENT
BEGIN:VEVENT
DTSTART;TZID=America/Chicago:20280722T144500
DTEND;TZID=America/Chicago:20280722T150000
DTSTAMP:20260421T142752
CREATED:20250602T213716Z
LAST-MODIFIED:20250603T191759Z
UID:10190157-1847889900-1847890800@spacecenter.org
SUMMARY:James Webb Live Presentation
DESCRIPTION:
URL:https://spacecenter.org/events-calendar-event/james-webb-live-presentation-3/2028-07-22/
LOCATION:Theater – Destiny
CATEGORIES:Live Presentation
END:VEVENT
BEGIN:VEVENT
DTSTART;TZID=America/Chicago:20280722T150000
DTEND;TZID=America/Chicago:20280722T154500
DTSTAMP:20260421T142752
CREATED:20250602T211753Z
LAST-MODIFIED:20250603T191844Z
UID:10193813-1847890800-1847893500@spacecenter.org
SUMMARY:Down to Earth: The Astronaut's Perspective Film
DESCRIPTION:
URL:https://spacecenter.org/events-calendar-event/down-to-earth-the-astronauts-perspective-film-4/2028-07-22/
LOCATION:Mission Briefing Center
CATEGORIES:Film
ATTACH;FMTTYPE=image/jpeg:https://spacecenter.org/wp-content/uploads/2025/02/profdeveducators1.jpg
END:VEVENT
BEGIN:VEVENT
DTSTART;TZID=America/Chicago:20280722T151500
DTEND;TZID=America/Chicago:20280722T153000
DTSTAMP:20260421T142752
CREATED:20250602T213249Z
LAST-MODIFIED:20250603T191942Z
UID:10197469-1847891700-1847892600@spacecenter.org
SUMMARY:Story Corner Live Presentation
DESCRIPTION:
URL:https://spacecenter.org/events-calendar-event/story-corner-live-presentation-4/2028-07-22/
LOCATION:Theater – Artemis
CATEGORIES:Live Presentation
END:VEVENT
BEGIN:VEVENT
DTSTART;TZID=America/Chicago:20280722T153000
DTEND;TZID=America/Chicago:20280722T162000
DTSTAMP:20260421T142752
CREATED:20250602T215646Z
LAST-MODIFIED:20260115T171957Z
UID:10201125-1847892600-1847895600@spacecenter.org
SUMMARY:The Moonwalkers: A Journey with Tom Hanks
DESCRIPTION:Test description
URL:https://spacecenter.org/events-calendar-event/the-moonwalkers-a-journey-with-tom-hanks-6/2028-07-22/
LOCATION:Theater – Space Center
CATEGORIES:Film
ATTACH;FMTTYPE=image/png:https://spacecenter.org/wp-content/uploads/2025/03/moonwalkers.png
END:VEVENT
BEGIN:VEVENT
DTSTART;TZID=America/Chicago:20280722T153000
DTEND;TZID=America/Chicago:20280722T163000
DTSTAMP:20260421T142752
CREATED:20250602T210404Z
LAST-MODIFIED:20250603T192048Z
UID:10204781-1847892600-1847896200@spacecenter.org
SUMMARY:Astronaut Training Facility Tram Tour
DESCRIPTION:
URL:https://spacecenter.org/events-calendar-event/astronaut-training-facility-tram-tour-6/2028-07-22/
LOCATION:Tram Boarding Area
CATEGORIES:Tram Tour
ATTACH;FMTTYPE=image/jpeg:https://spacecenter.org/wp-content/uploads/2022/07/IMG_2943.jpg
END:VEVENT
BEGIN:VEVENT
DTSTART;TZID=America/Chicago:20280722T154500
DTEND;TZID=America/Chicago:20280722T161500
DTSTAMP:20260421T142752
CREATED:20250602T214125Z
LAST-MODIFIED:20250603T192119Z
UID:10208437-1847893500-1847895300@spacecenter.org
SUMMARY:Artemis Live Presentation
DESCRIPTION:
URL:https://spacecenter.org/events-calendar-event/artemis-live-presentation-3/2028-07-22/
LOCATION:Theater – Destiny
CATEGORIES:Live Presentation
ATTACH;FMTTYPE=image/jpeg:https://spacecenter.org/wp-content/uploads/2022/10/Artemis-Capsule.jpeg
END:VEVENT
BEGIN:VEVENT
DTSTART;TZID=America/Chicago:20280722T160000
DTEND;TZID=America/Chicago:20280722T164500
DTSTAMP:20260421T142752
CREATED:20250602T211841Z
LAST-MODIFIED:20250603T192151Z
UID:10212093-1847894400-1847897100@spacecenter.org
SUMMARY:Down to Earth: The Astronaut's Perspective Film
DESCRIPTION:
URL:https://spacecenter.org/events-calendar-event/down-to-earth-the-astronauts-perspective-film-5/2028-07-22/
LOCATION:Mission Briefing Center
CATEGORIES:Film
ATTACH;FMTTYPE=image/jpeg:https://spacecenter.org/wp-content/uploads/2025/02/profdeveducators1.jpg
END:VEVENT
BEGIN:VEVENT
DTSTART;TZID=America/Chicago:20280722T163000
DTEND;TZID=America/Chicago:20280722T164500
DTSTAMP:20260421T142752
CREATED:20250602T212726Z
LAST-MODIFIED:20250603T192225Z
UID:10215749-1847896200-1847897100@spacecenter.org
SUMMARY:OSIRIS Rex Live Presentation
DESCRIPTION:
URL:https://spacecenter.org/events-calendar-event/osiris-rex-live-presentation-3/2028-07-22/
LOCATION:Mission Sketch Staircase
CATEGORIES:Live Presentation
ATTACH;FMTTYPE=image/jpeg:https://spacecenter.org/wp-content/uploads/2024/03/web-march2024_tls_osirisrex.jpg
END:VEVENT
BEGIN:VEVENT
DTSTART;TZID=America/Chicago:20280723T101500
DTEND;TZID=America/Chicago:20280723T103000
DTSTAMP:20260421T142752
CREATED:20250602T214310Z
LAST-MODIFIED:20250603T184018Z
UID:10084134-1847960100-1847961000@spacecenter.org
SUMMARY:Human Destiny Film
DESCRIPTION:
URL:https://spacecenter.org/events-calendar-event/human-destiny-film/2028-07-23/
LOCATION:Theater – Destiny
CATEGORIES:Film
ATTACH;FMTTYPE=image/jpeg:https://spacecenter.org/wp-content/uploads/2022/10/Destiny-Theater.jpg
END:VEVENT
BEGIN:VEVENT
DTSTART;TZID=America/Chicago:20280723T101500
DTEND;TZID=America/Chicago:20280723T110000
DTSTAMP:20260421T142752
CREATED:20250602T204328Z
LAST-MODIFIED:20250603T184302Z
UID:10085962-1847960100-1847962800@spacecenter.org
SUMMARY:Rocket Park Tram Tour
DESCRIPTION:
URL:https://spacecenter.org/events-calendar-event/rocket-park-tram-tour/2028-07-23/
LOCATION:Tram Boarding Area
CATEGORIES:Tram Tour
ATTACH;FMTTYPE=image/jpeg:https://spacecenter.org/wp-content/uploads/2024/10/rocket-park.jpg
END:VEVENT
BEGIN:VEVENT
DTSTART;TZID=America/Chicago:20280723T103000
DTEND;TZID=America/Chicago:20280723T104500
DTSTAMP:20260421T142752
CREATED:20250602T214417Z
LAST-MODIFIED:20250603T184348Z
UID:10087790-1847961000-1847961900@spacecenter.org
SUMMARY:Human Destiny Film
DESCRIPTION:
URL:https://spacecenter.org/events-calendar-event/human-destiny-film-2/2028-07-23/
LOCATION:Theater – Destiny
CATEGORIES:Film
ATTACH;FMTTYPE=image/jpeg:https://spacecenter.org/wp-content/uploads/2022/10/Destiny-Theater.jpg
END:VEVENT
BEGIN:VEVENT
DTSTART;TZID=America/Chicago:20280723T103000
DTEND;TZID=America/Chicago:20280723T112000
DTSTAMP:20260421T142752
CREATED:20250602T215207Z
LAST-MODIFIED:20250603T184552Z
UID:10091446-1847961000-1847964000@spacecenter.org
SUMMARY:The Moonwalkers: A Journey with Tom Hanks
DESCRIPTION:
URL:https://spacecenter.org/events-calendar-event/the-moonwalkers-a-journey-with-tom-hanks/2028-07-23/
LOCATION:Theater – Space Center
CATEGORIES:Film
ATTACH;FMTTYPE=image/png:https://spacecenter.org/wp-content/uploads/2025/03/moonwalkers.png
END:VEVENT
BEGIN:VEVENT
DTSTART;TZID=America/Chicago:20280723T103000
DTEND;TZID=America/Chicago:20280723T113000
DTSTAMP:20260421T142752
CREATED:20250602T205851Z
LAST-MODIFIED:20250603T184720Z
UID:10095102-1847961000-1847964600@spacecenter.org
SUMMARY:Astronaut Training Facility Tram Tour
DESCRIPTION:
URL:https://spacecenter.org/events-calendar-event/astronaut-training-facility-tram-tour/2028-07-23/
LOCATION:Tram Boarding Area
CATEGORIES:Tram Tour
ATTACH;FMTTYPE=image/jpeg:https://spacecenter.org/wp-content/uploads/2022/07/IMG_2943.jpg
END:VEVENT
BEGIN:VEVENT
DTSTART;TZID=America/Chicago:20280723T104000
DTEND;TZID=America/Chicago:20280723T112000
DTSTAMP:20260421T142752
CREATED:20250602T205945Z
LAST-MODIFIED:20250603T185259Z
UID:10098758-1847961600-1847964000@spacecenter.org
SUMMARY:Apollo Mission Control Tram Tour
DESCRIPTION:
URL:https://spacecenter.org/events-calendar-event/apollo-mission-control-tram-tour/2028-07-23/
LOCATION:Tram Boarding Area
CATEGORIES:Tram Tour
ATTACH;FMTTYPE=image/jpeg:https://spacecenter.org/wp-content/uploads/2022/09/Apollo-10-web.jpeg
END:VEVENT
BEGIN:VEVENT
DTSTART;TZID=America/Chicago:20280723T104500
DTEND;TZID=America/Chicago:20280723T110000
DTSTAMP:20260421T142752
CREATED:20250602T212526Z
LAST-MODIFIED:20250603T185502Z
UID:10102414-1847961900-1847962800@spacecenter.org
SUMMARY:OSIRIS Rex Live Presentation
DESCRIPTION:
URL:https://spacecenter.org/events-calendar-event/osiris-rex-live-presentation/2028-07-23/
LOCATION:Mission Sketch Staircase
CATEGORIES:Live Presentation
ATTACH;FMTTYPE=image/jpeg:https://spacecenter.org/wp-content/uploads/2024/03/web-march2024_tls_osirisrex.jpg
END:VEVENT
BEGIN:VEVENT
DTSTART;TZID=America/Chicago:20280723T104500
DTEND;TZID=America/Chicago:20280723T110000
DTSTAMP:20260421T142752
CREATED:20250602T214618Z
LAST-MODIFIED:20250603T185541Z
UID:10106070-1847961900-1847962800@spacecenter.org
SUMMARY:Human Destiny Film
DESCRIPTION:
URL:https://spacecenter.org/events-calendar-event/human-destiny-film-3/2028-07-23/
LOCATION:Theater – Destiny
CATEGORIES:Film
ATTACH;FMTTYPE=image/jpeg:https://spacecenter.org/wp-content/uploads/2022/10/Destiny-Theater.jpg
END:VEVENT
BEGIN:VEVENT
DTSTART;TZID=America/Chicago:20280723T104500
DTEND;TZID=America/Chicago:20280723T111500
DTSTAMP:20260421T142752
CREATED:20250602T213905Z
LAST-MODIFIED:20250603T185637Z
UID:10109726-1847961900-1847963700@spacecenter.org
SUMMARY:Artemis Live Presentation
DESCRIPTION:
URL:https://spacecenter.org/events-calendar-event/artemis-live-presentation/2028-07-23/
LOCATION:Theater – Destiny
CATEGORIES:Live Presentation
ATTACH;FMTTYPE=image/jpeg:https://spacecenter.org/wp-content/uploads/2022/10/Artemis-Capsule.jpeg
END:VEVENT
BEGIN:VEVENT
DTSTART;TZID=America/Chicago:20280723T110000
DTEND;TZID=America/Chicago:20280723T111500
DTSTAMP:20260421T142752
CREATED:20250602T214802Z
LAST-MODIFIED:20250603T185720Z
UID:10113382-1847962800-1847963700@spacecenter.org
SUMMARY:Human Destiny Film
DESCRIPTION:
URL:https://spacecenter.org/events-calendar-event/human-destiny-film-4/2028-07-23/
LOCATION:Theater – Destiny
CATEGORIES:Film
ATTACH;FMTTYPE=image/jpeg:https://spacecenter.org/wp-content/uploads/2022/10/Destiny-Theater.jpg
END:VEVENT
BEGIN:VEVENT
DTSTART;TZID=America/Chicago:20280723T110000
DTEND;TZID=America/Chicago:20280723T114500
DTSTAMP:20260421T142752
CREATED:20250602T210952Z
LAST-MODIFIED:20250603T185820Z
UID:10117038-1847962800-1847965500@spacecenter.org
SUMMARY:Down to Earth: The Astronaut's Perspective Film
DESCRIPTION:
URL:https://spacecenter.org/events-calendar-event/down-to-earth-the-astronauts-perspective-film/2028-07-23/
LOCATION:Mission Briefing Center
CATEGORIES:Film
ATTACH;FMTTYPE=image/jpeg:https://spacecenter.org/wp-content/uploads/2025/02/profdeveducators1.jpg
END:VEVENT
BEGIN:VEVENT
DTSTART;TZID=America/Chicago:20280723T111500
DTEND;TZID=America/Chicago:20280723T113000
DTSTAMP:20260421T142752
CREATED:20250602T213010Z
LAST-MODIFIED:20250603T185901Z
UID:10120694-1847963700-1847964600@spacecenter.org
SUMMARY:Story Corner Live Presentation
DESCRIPTION:
URL:https://spacecenter.org/events-calendar-event/story-corner-live-presentation/2028-07-23/
LOCATION:Theater – Artemis
CATEGORIES:Live Presentation
END:VEVENT
BEGIN:VEVENT
DTSTART;TZID=America/Chicago:20280723T111500
DTEND;TZID=America/Chicago:20280723T113000
DTSTAMP:20260421T142752
CREATED:20250602T214855Z
LAST-MODIFIED:20250603T185944Z
UID:10124350-1847963700-1847964600@spacecenter.org
SUMMARY:Human Destiny Film
DESCRIPTION:
URL:https://spacecenter.org/events-calendar-event/human-destiny-film-5/2028-07-23/
LOCATION:Theater – Destiny
CATEGORIES:Film
ATTACH;FMTTYPE=image/jpeg:https://spacecenter.org/wp-content/uploads/2022/10/Destiny-Theater.jpg
END:VEVENT
BEGIN:VEVENT
DTSTART;TZID=America/Chicago:20280723T113000
DTEND;TZID=America/Chicago:20280723T114500
DTSTAMP:20260421T142752
CREATED:20250602T214945Z
LAST-MODIFIED:20250603T190019Z
UID:10128006-1847964600-1847965500@spacecenter.org
SUMMARY:Human Destiny Film
DESCRIPTION:
URL:https://spacecenter.org/events-calendar-event/human-destiny-film-6/2028-07-23/
LOCATION:Theater – Destiny
CATEGORIES:Film
ATTACH;FMTTYPE=image/jpeg:https://spacecenter.org/wp-content/uploads/2022/10/Destiny-Theater.jpg
END:VEVENT
BEGIN:VEVENT
DTSTART;TZID=America/Chicago:20280723T113000
DTEND;TZID=America/Chicago:20280723T122000
DTSTAMP:20260421T142752
CREATED:20250602T215324Z
LAST-MODIFIED:20250603T190108Z
UID:10131662-1847964600-1847967600@spacecenter.org
SUMMARY:The Moonwalkers: A Journey with Tom Hanks
DESCRIPTION:
URL:https://spacecenter.org/events-calendar-event/the-moonwalkers-a-journey-with-tom-hanks-2/2028-07-23/
LOCATION:Theater – Space Center
CATEGORIES:Film
ATTACH;FMTTYPE=image/png:https://spacecenter.org/wp-content/uploads/2025/03/moonwalkers.png
END:VEVENT
BEGIN:VEVENT
DTSTART;TZID=America/Chicago:20280723T113000
DTEND;TZID=America/Chicago:20280723T123000
DTSTAMP:20260421T142752
CREATED:20250602T210031Z
LAST-MODIFIED:20250603T190211Z
UID:10135318-1847964600-1847968200@spacecenter.org
SUMMARY:Astronaut Training Facility Tram Tour
DESCRIPTION:
URL:https://spacecenter.org/events-calendar-event/astronaut-training-facility-tram-tour-2/2028-07-23/
LOCATION:Tram Boarding Area
CATEGORIES:Tram Tour
ATTACH;FMTTYPE=image/jpeg:https://spacecenter.org/wp-content/uploads/2022/07/IMG_2943.jpg
END:VEVENT
BEGIN:VEVENT
DTSTART;TZID=America/Chicago:20280723T114500
DTEND;TZID=America/Chicago:20280723T120000
DTSTAMP:20260421T142752
CREATED:20250602T213503Z
LAST-MODIFIED:20250603T190256Z
UID:10138974-1847965500-1847966400@spacecenter.org
SUMMARY:James Webb Live Presentation
DESCRIPTION:
URL:https://spacecenter.org/events-calendar-event/james-webb-live-presentation/2028-07-23/
LOCATION:Theater – Destiny
CATEGORIES:Live Presentation
END:VEVENT
BEGIN:VEVENT
DTSTART;TZID=America/Chicago:20280723T121500
DTEND;TZID=America/Chicago:20280723T123000
DTSTAMP:20260421T142752
CREATED:20250602T213059Z
LAST-MODIFIED:20250603T190345Z
UID:10142630-1847967300-1847968200@spacecenter.org
SUMMARY:Story Corner Live Presentation
DESCRIPTION:
URL:https://spacecenter.org/events-calendar-event/story-corner-live-presentation-2/2028-07-23/
LOCATION:Theater – Artemis
CATEGORIES:Live Presentation
END:VEVENT
END:VCALENDAR