BEGIN:VCALENDAR
VERSION:2.0
PRODID:-//Space Center Houston - ECPv6.15.15//NONSGML v1.0//EN
CALSCALE:GREGORIAN
METHOD:PUBLISH
X-ORIGINAL-URL:https://spacecenter.org
X-WR-CALDESC:Events for Space Center Houston
REFRESH-INTERVAL;VALUE=DURATION:PT1H
X-Robots-Tag:noindex
X-PUBLISHED-TTL:PT1H
BEGIN:VTIMEZONE
TZID:America/Chicago
BEGIN:DAYLIGHT
TZOFFSETFROM:-0600
TZOFFSETTO:-0500
TZNAME:CDT
DTSTART:20270314T080000
END:DAYLIGHT
BEGIN:STANDARD
TZOFFSETFROM:-0500
TZOFFSETTO:-0600
TZNAME:CST
DTSTART:20271107T070000
END:STANDARD
BEGIN:DAYLIGHT
TZOFFSETFROM:-0600
TZOFFSETTO:-0500
TZNAME:CDT
DTSTART:20280312T080000
END:DAYLIGHT
BEGIN:STANDARD
TZOFFSETFROM:-0500
TZOFFSETTO:-0600
TZNAME:CST
DTSTART:20281105T070000
END:STANDARD
BEGIN:DAYLIGHT
TZOFFSETFROM:-0600
TZOFFSETTO:-0500
TZNAME:CDT
DTSTART:20290311T080000
END:DAYLIGHT
BEGIN:STANDARD
TZOFFSETFROM:-0500
TZOFFSETTO:-0600
TZNAME:CST
DTSTART:20291104T070000
END:STANDARD
END:VTIMEZONE
BEGIN:VEVENT
DTSTART;TZID=America/Chicago:20280107T133000
DTEND;TZID=America/Chicago:20280107T143000
DTSTAMP:20260425T193249
CREATED:20250602T210232Z
LAST-MODIFIED:20250603T191037Z
UID:10168024-1830864600-1830868200@spacecenter.org
SUMMARY:Astronaut Training Facility Tram Tour
DESCRIPTION:
URL:https://spacecenter.org/events-calendar-event/astronaut-training-facility-tram-tour-4/2028-01-07/
LOCATION:Tram Boarding Area
CATEGORIES:Tram Tour
ATTACH;FMTTYPE=image/jpeg:https://spacecenter.org/wp-content/uploads/2022/07/IMG_2943.jpg
END:VEVENT
BEGIN:VEVENT
DTSTART;TZID=America/Chicago:20280107T134500
DTEND;TZID=America/Chicago:20280107T140000
DTSTAMP:20260425T193249
CREATED:20250602T212635Z
LAST-MODIFIED:20250603T191121Z
UID:10171680-1830865500-1830866400@spacecenter.org
SUMMARY:OSIRIS Rex Live Presentation
DESCRIPTION:
URL:https://spacecenter.org/events-calendar-event/osiris-rex-live-presentation-2/2028-01-07/
LOCATION:Mission Sketch Staircase
CATEGORIES:Live Presentation
ATTACH;FMTTYPE=image/jpeg:https://spacecenter.org/wp-content/uploads/2024/03/web-march2024_tls_osirisrex.jpg
END:VEVENT
BEGIN:VEVENT
DTSTART;TZID=America/Chicago:20280107T134500
DTEND;TZID=America/Chicago:20280107T140000
DTSTAMP:20260425T193249
CREATED:20250602T213557Z
LAST-MODIFIED:20250603T191327Z
UID:10175336-1830865500-1830866400@spacecenter.org
SUMMARY:James Webb Live Presentation
DESCRIPTION:
URL:https://spacecenter.org/events-calendar-event/james-webb-live-presentation-2/2028-01-07/
LOCATION:Theater – Destiny
CATEGORIES:Live Presentation
END:VEVENT
BEGIN:VEVENT
DTSTART;TZID=America/Chicago:20280107T140000
DTEND;TZID=America/Chicago:20280107T144500
DTSTAMP:20260425T193249
CREATED:20250602T211401Z
LAST-MODIFIED:20250603T191451Z
UID:10178992-1830866400-1830869100@spacecenter.org
SUMMARY:Down to Earth: The Astronaut's Perspective Film
DESCRIPTION:
URL:https://spacecenter.org/events-calendar-event/down-to-earth-the-astronauts-perspective-film-3/2028-01-07/
LOCATION:Mission Briefing Center
CATEGORIES:Film
ATTACH;FMTTYPE=image/jpeg:https://spacecenter.org/wp-content/uploads/2025/02/profdeveducators1.jpg
END:VEVENT
BEGIN:VEVENT
DTSTART;TZID=America/Chicago:20280107T143000
DTEND;TZID=America/Chicago:20280107T152000
DTSTAMP:20260425T193249
CREATED:20250602T215601Z
LAST-MODIFIED:20250603T191630Z
UID:10182648-1830868200-1830871200@spacecenter.org
SUMMARY:The Moonwalkers: A Journey with Tom Hanks
DESCRIPTION:
URL:https://spacecenter.org/events-calendar-event/the-moonwalkers-a-journey-with-tom-hanks-5/2028-01-07/
LOCATION:Theater – Space Center
CATEGORIES:Film
ATTACH;FMTTYPE=image/png:https://spacecenter.org/wp-content/uploads/2025/03/moonwalkers.png
END:VEVENT
BEGIN:VEVENT
DTSTART;TZID=America/Chicago:20280107T143000
DTEND;TZID=America/Chicago:20280107T153000
DTSTAMP:20260425T193249
CREATED:20250602T210317Z
LAST-MODIFIED:20250603T191717Z
UID:10186304-1830868200-1830871800@spacecenter.org
SUMMARY:Astronaut Training Facility Tram Tour
DESCRIPTION:
URL:https://spacecenter.org/events-calendar-event/astronaut-training-facility-tram-tour-5/2028-01-07/
LOCATION:Tram Boarding Area
CATEGORIES:Tram Tour
ATTACH;FMTTYPE=image/jpeg:https://spacecenter.org/wp-content/uploads/2022/07/IMG_2943.jpg
END:VEVENT
BEGIN:VEVENT
DTSTART;TZID=America/Chicago:20280107T144500
DTEND;TZID=America/Chicago:20280107T150000
DTSTAMP:20260425T193249
CREATED:20250602T213716Z
LAST-MODIFIED:20250603T191759Z
UID:10189960-1830869100-1830870000@spacecenter.org
SUMMARY:James Webb Live Presentation
DESCRIPTION:
URL:https://spacecenter.org/events-calendar-event/james-webb-live-presentation-3/2028-01-07/
LOCATION:Theater – Destiny
CATEGORIES:Live Presentation
END:VEVENT
BEGIN:VEVENT
DTSTART;TZID=America/Chicago:20280107T150000
DTEND;TZID=America/Chicago:20280107T154500
DTSTAMP:20260425T193249
CREATED:20250602T211753Z
LAST-MODIFIED:20250603T191844Z
UID:10193616-1830870000-1830872700@spacecenter.org
SUMMARY:Down to Earth: The Astronaut's Perspective Film
DESCRIPTION:
URL:https://spacecenter.org/events-calendar-event/down-to-earth-the-astronauts-perspective-film-4/2028-01-07/
LOCATION:Mission Briefing Center
CATEGORIES:Film
ATTACH;FMTTYPE=image/jpeg:https://spacecenter.org/wp-content/uploads/2025/02/profdeveducators1.jpg
END:VEVENT
BEGIN:VEVENT
DTSTART;TZID=America/Chicago:20280107T151500
DTEND;TZID=America/Chicago:20280107T153000
DTSTAMP:20260425T193249
CREATED:20250602T213249Z
LAST-MODIFIED:20250603T191942Z
UID:10197272-1830870900-1830871800@spacecenter.org
SUMMARY:Story Corner Live Presentation
DESCRIPTION:
URL:https://spacecenter.org/events-calendar-event/story-corner-live-presentation-4/2028-01-07/
LOCATION:Theater – Artemis
CATEGORIES:Live Presentation
END:VEVENT
BEGIN:VEVENT
DTSTART;TZID=America/Chicago:20280107T153000
DTEND;TZID=America/Chicago:20280107T162000
DTSTAMP:20260425T193249
CREATED:20250602T215646Z
LAST-MODIFIED:20260115T171957Z
UID:10200928-1830871800-1830874800@spacecenter.org
SUMMARY:The Moonwalkers: A Journey with Tom Hanks
DESCRIPTION:Test description
URL:https://spacecenter.org/events-calendar-event/the-moonwalkers-a-journey-with-tom-hanks-6/2028-01-07/
LOCATION:Theater – Space Center
CATEGORIES:Film
ATTACH;FMTTYPE=image/png:https://spacecenter.org/wp-content/uploads/2025/03/moonwalkers.png
END:VEVENT
BEGIN:VEVENT
DTSTART;TZID=America/Chicago:20280107T153000
DTEND;TZID=America/Chicago:20280107T163000
DTSTAMP:20260425T193249
CREATED:20250602T210404Z
LAST-MODIFIED:20250603T192048Z
UID:10204584-1830871800-1830875400@spacecenter.org
SUMMARY:Astronaut Training Facility Tram Tour
DESCRIPTION:
URL:https://spacecenter.org/events-calendar-event/astronaut-training-facility-tram-tour-6/2028-01-07/
LOCATION:Tram Boarding Area
CATEGORIES:Tram Tour
ATTACH;FMTTYPE=image/jpeg:https://spacecenter.org/wp-content/uploads/2022/07/IMG_2943.jpg
END:VEVENT
BEGIN:VEVENT
DTSTART;TZID=America/Chicago:20280107T154500
DTEND;TZID=America/Chicago:20280107T161500
DTSTAMP:20260425T193249
CREATED:20250602T214125Z
LAST-MODIFIED:20250603T192119Z
UID:10208240-1830872700-1830874500@spacecenter.org
SUMMARY:Artemis Live Presentation
DESCRIPTION:
URL:https://spacecenter.org/events-calendar-event/artemis-live-presentation-3/2028-01-07/
LOCATION:Theater – Destiny
CATEGORIES:Live Presentation
ATTACH;FMTTYPE=image/jpeg:https://spacecenter.org/wp-content/uploads/2022/10/Artemis-Capsule.jpeg
END:VEVENT
BEGIN:VEVENT
DTSTART;TZID=America/Chicago:20280107T160000
DTEND;TZID=America/Chicago:20280107T164500
DTSTAMP:20260425T193249
CREATED:20250602T211841Z
LAST-MODIFIED:20250603T192151Z
UID:10211896-1830873600-1830876300@spacecenter.org
SUMMARY:Down to Earth: The Astronaut's Perspective Film
DESCRIPTION:
URL:https://spacecenter.org/events-calendar-event/down-to-earth-the-astronauts-perspective-film-5/2028-01-07/
LOCATION:Mission Briefing Center
CATEGORIES:Film
ATTACH;FMTTYPE=image/jpeg:https://spacecenter.org/wp-content/uploads/2025/02/profdeveducators1.jpg
END:VEVENT
BEGIN:VEVENT
DTSTART;TZID=America/Chicago:20280107T163000
DTEND;TZID=America/Chicago:20280107T164500
DTSTAMP:20260425T193249
CREATED:20250602T212726Z
LAST-MODIFIED:20250603T192225Z
UID:10215552-1830875400-1830876300@spacecenter.org
SUMMARY:OSIRIS Rex Live Presentation
DESCRIPTION:
URL:https://spacecenter.org/events-calendar-event/osiris-rex-live-presentation-3/2028-01-07/
LOCATION:Mission Sketch Staircase
CATEGORIES:Live Presentation
ATTACH;FMTTYPE=image/jpeg:https://spacecenter.org/wp-content/uploads/2024/03/web-march2024_tls_osirisrex.jpg
END:VEVENT
BEGIN:VEVENT
DTSTART;TZID=America/Chicago:20280108T101500
DTEND;TZID=America/Chicago:20280108T103000
DTSTAMP:20260425T193249
CREATED:20250602T214310Z
LAST-MODIFIED:20250603T184018Z
UID:10083937-1830939300-1830940200@spacecenter.org
SUMMARY:Human Destiny Film
DESCRIPTION:
URL:https://spacecenter.org/events-calendar-event/human-destiny-film/2028-01-08/
LOCATION:Theater – Destiny
CATEGORIES:Film
ATTACH;FMTTYPE=image/jpeg:https://spacecenter.org/wp-content/uploads/2022/10/Destiny-Theater.jpg
END:VEVENT
BEGIN:VEVENT
DTSTART;TZID=America/Chicago:20280108T101500
DTEND;TZID=America/Chicago:20280108T110000
DTSTAMP:20260425T193249
CREATED:20250602T204328Z
LAST-MODIFIED:20250603T184302Z
UID:10085765-1830939300-1830942000@spacecenter.org
SUMMARY:Rocket Park Tram Tour
DESCRIPTION:
URL:https://spacecenter.org/events-calendar-event/rocket-park-tram-tour/2028-01-08/
LOCATION:Tram Boarding Area
CATEGORIES:Tram Tour
ATTACH;FMTTYPE=image/jpeg:https://spacecenter.org/wp-content/uploads/2024/10/rocket-park.jpg
END:VEVENT
BEGIN:VEVENT
DTSTART;TZID=America/Chicago:20280108T103000
DTEND;TZID=America/Chicago:20280108T104500
DTSTAMP:20260425T193249
CREATED:20250602T214417Z
LAST-MODIFIED:20250603T184348Z
UID:10087593-1830940200-1830941100@spacecenter.org
SUMMARY:Human Destiny Film
DESCRIPTION:
URL:https://spacecenter.org/events-calendar-event/human-destiny-film-2/2028-01-08/
LOCATION:Theater – Destiny
CATEGORIES:Film
ATTACH;FMTTYPE=image/jpeg:https://spacecenter.org/wp-content/uploads/2022/10/Destiny-Theater.jpg
END:VEVENT
BEGIN:VEVENT
DTSTART;TZID=America/Chicago:20280108T103000
DTEND;TZID=America/Chicago:20280108T112000
DTSTAMP:20260425T193249
CREATED:20250602T215207Z
LAST-MODIFIED:20250603T184552Z
UID:10091249-1830940200-1830943200@spacecenter.org
SUMMARY:The Moonwalkers: A Journey with Tom Hanks
DESCRIPTION:
URL:https://spacecenter.org/events-calendar-event/the-moonwalkers-a-journey-with-tom-hanks/2028-01-08/
LOCATION:Theater – Space Center
CATEGORIES:Film
ATTACH;FMTTYPE=image/png:https://spacecenter.org/wp-content/uploads/2025/03/moonwalkers.png
END:VEVENT
BEGIN:VEVENT
DTSTART;TZID=America/Chicago:20280108T103000
DTEND;TZID=America/Chicago:20280108T113000
DTSTAMP:20260425T193249
CREATED:20250602T205851Z
LAST-MODIFIED:20250603T184720Z
UID:10094905-1830940200-1830943800@spacecenter.org
SUMMARY:Astronaut Training Facility Tram Tour
DESCRIPTION:
URL:https://spacecenter.org/events-calendar-event/astronaut-training-facility-tram-tour/2028-01-08/
LOCATION:Tram Boarding Area
CATEGORIES:Tram Tour
ATTACH;FMTTYPE=image/jpeg:https://spacecenter.org/wp-content/uploads/2022/07/IMG_2943.jpg
END:VEVENT
BEGIN:VEVENT
DTSTART;TZID=America/Chicago:20280108T104000
DTEND;TZID=America/Chicago:20280108T112000
DTSTAMP:20260425T193249
CREATED:20250602T205945Z
LAST-MODIFIED:20250603T185259Z
UID:10098561-1830940800-1830943200@spacecenter.org
SUMMARY:Apollo Mission Control Tram Tour
DESCRIPTION:
URL:https://spacecenter.org/events-calendar-event/apollo-mission-control-tram-tour/2028-01-08/
LOCATION:Tram Boarding Area
CATEGORIES:Tram Tour
ATTACH;FMTTYPE=image/jpeg:https://spacecenter.org/wp-content/uploads/2022/09/Apollo-10-web.jpeg
END:VEVENT
BEGIN:VEVENT
DTSTART;TZID=America/Chicago:20280108T104500
DTEND;TZID=America/Chicago:20280108T110000
DTSTAMP:20260425T193249
CREATED:20250602T212526Z
LAST-MODIFIED:20250603T185502Z
UID:10102217-1830941100-1830942000@spacecenter.org
SUMMARY:OSIRIS Rex Live Presentation
DESCRIPTION:
URL:https://spacecenter.org/events-calendar-event/osiris-rex-live-presentation/2028-01-08/
LOCATION:Mission Sketch Staircase
CATEGORIES:Live Presentation
ATTACH;FMTTYPE=image/jpeg:https://spacecenter.org/wp-content/uploads/2024/03/web-march2024_tls_osirisrex.jpg
END:VEVENT
BEGIN:VEVENT
DTSTART;TZID=America/Chicago:20280108T104500
DTEND;TZID=America/Chicago:20280108T110000
DTSTAMP:20260425T193249
CREATED:20250602T214618Z
LAST-MODIFIED:20250603T185541Z
UID:10105873-1830941100-1830942000@spacecenter.org
SUMMARY:Human Destiny Film
DESCRIPTION:
URL:https://spacecenter.org/events-calendar-event/human-destiny-film-3/2028-01-08/
LOCATION:Theater – Destiny
CATEGORIES:Film
ATTACH;FMTTYPE=image/jpeg:https://spacecenter.org/wp-content/uploads/2022/10/Destiny-Theater.jpg
END:VEVENT
BEGIN:VEVENT
DTSTART;TZID=America/Chicago:20280108T104500
DTEND;TZID=America/Chicago:20280108T111500
DTSTAMP:20260425T193249
CREATED:20250602T213905Z
LAST-MODIFIED:20250603T185637Z
UID:10109529-1830941100-1830942900@spacecenter.org
SUMMARY:Artemis Live Presentation
DESCRIPTION:
URL:https://spacecenter.org/events-calendar-event/artemis-live-presentation/2028-01-08/
LOCATION:Theater – Destiny
CATEGORIES:Live Presentation
ATTACH;FMTTYPE=image/jpeg:https://spacecenter.org/wp-content/uploads/2022/10/Artemis-Capsule.jpeg
END:VEVENT
BEGIN:VEVENT
DTSTART;TZID=America/Chicago:20280108T110000
DTEND;TZID=America/Chicago:20280108T111500
DTSTAMP:20260425T193249
CREATED:20250602T214802Z
LAST-MODIFIED:20250603T185720Z
UID:10113185-1830942000-1830942900@spacecenter.org
SUMMARY:Human Destiny Film
DESCRIPTION:
URL:https://spacecenter.org/events-calendar-event/human-destiny-film-4/2028-01-08/
LOCATION:Theater – Destiny
CATEGORIES:Film
ATTACH;FMTTYPE=image/jpeg:https://spacecenter.org/wp-content/uploads/2022/10/Destiny-Theater.jpg
END:VEVENT
BEGIN:VEVENT
DTSTART;TZID=America/Chicago:20280108T110000
DTEND;TZID=America/Chicago:20280108T114500
DTSTAMP:20260425T193249
CREATED:20250602T210952Z
LAST-MODIFIED:20250603T185820Z
UID:10116841-1830942000-1830944700@spacecenter.org
SUMMARY:Down to Earth: The Astronaut's Perspective Film
DESCRIPTION:
URL:https://spacecenter.org/events-calendar-event/down-to-earth-the-astronauts-perspective-film/2028-01-08/
LOCATION:Mission Briefing Center
CATEGORIES:Film
ATTACH;FMTTYPE=image/jpeg:https://spacecenter.org/wp-content/uploads/2025/02/profdeveducators1.jpg
END:VEVENT
BEGIN:VEVENT
DTSTART;TZID=America/Chicago:20280108T111500
DTEND;TZID=America/Chicago:20280108T113000
DTSTAMP:20260425T193249
CREATED:20250602T213010Z
LAST-MODIFIED:20250603T185901Z
UID:10120497-1830942900-1830943800@spacecenter.org
SUMMARY:Story Corner Live Presentation
DESCRIPTION:
URL:https://spacecenter.org/events-calendar-event/story-corner-live-presentation/2028-01-08/
LOCATION:Theater – Artemis
CATEGORIES:Live Presentation
END:VEVENT
BEGIN:VEVENT
DTSTART;TZID=America/Chicago:20280108T111500
DTEND;TZID=America/Chicago:20280108T113000
DTSTAMP:20260425T193249
CREATED:20250602T214855Z
LAST-MODIFIED:20250603T185944Z
UID:10124153-1830942900-1830943800@spacecenter.org
SUMMARY:Human Destiny Film
DESCRIPTION:
URL:https://spacecenter.org/events-calendar-event/human-destiny-film-5/2028-01-08/
LOCATION:Theater – Destiny
CATEGORIES:Film
ATTACH;FMTTYPE=image/jpeg:https://spacecenter.org/wp-content/uploads/2022/10/Destiny-Theater.jpg
END:VEVENT
BEGIN:VEVENT
DTSTART;TZID=America/Chicago:20280108T113000
DTEND;TZID=America/Chicago:20280108T114500
DTSTAMP:20260425T193249
CREATED:20250602T214945Z
LAST-MODIFIED:20250603T190019Z
UID:10127809-1830943800-1830944700@spacecenter.org
SUMMARY:Human Destiny Film
DESCRIPTION:
URL:https://spacecenter.org/events-calendar-event/human-destiny-film-6/2028-01-08/
LOCATION:Theater – Destiny
CATEGORIES:Film
ATTACH;FMTTYPE=image/jpeg:https://spacecenter.org/wp-content/uploads/2022/10/Destiny-Theater.jpg
END:VEVENT
BEGIN:VEVENT
DTSTART;TZID=America/Chicago:20280108T113000
DTEND;TZID=America/Chicago:20280108T122000
DTSTAMP:20260425T193249
CREATED:20250602T215324Z
LAST-MODIFIED:20250603T190108Z
UID:10131465-1830943800-1830946800@spacecenter.org
SUMMARY:The Moonwalkers: A Journey with Tom Hanks
DESCRIPTION:
URL:https://spacecenter.org/events-calendar-event/the-moonwalkers-a-journey-with-tom-hanks-2/2028-01-08/
LOCATION:Theater – Space Center
CATEGORIES:Film
ATTACH;FMTTYPE=image/png:https://spacecenter.org/wp-content/uploads/2025/03/moonwalkers.png
END:VEVENT
BEGIN:VEVENT
DTSTART;TZID=America/Chicago:20280108T113000
DTEND;TZID=America/Chicago:20280108T123000
DTSTAMP:20260425T193249
CREATED:20250602T210031Z
LAST-MODIFIED:20250603T190211Z
UID:10135121-1830943800-1830947400@spacecenter.org
SUMMARY:Astronaut Training Facility Tram Tour
DESCRIPTION:
URL:https://spacecenter.org/events-calendar-event/astronaut-training-facility-tram-tour-2/2028-01-08/
LOCATION:Tram Boarding Area
CATEGORIES:Tram Tour
ATTACH;FMTTYPE=image/jpeg:https://spacecenter.org/wp-content/uploads/2022/07/IMG_2943.jpg
END:VEVENT
END:VCALENDAR