BEGIN:VCALENDAR
VERSION:2.0
PRODID:-//Space Center Houston - ECPv6.15.15//NONSGML v1.0//EN
CALSCALE:GREGORIAN
METHOD:PUBLISH
X-ORIGINAL-URL:https://spacecenter.org
X-WR-CALDESC:Events for Space Center Houston
REFRESH-INTERVAL;VALUE=DURATION:PT1H
X-Robots-Tag:noindex
X-PUBLISHED-TTL:PT1H
BEGIN:VTIMEZONE
TZID:America/Chicago
BEGIN:DAYLIGHT
TZOFFSETFROM:-0600
TZOFFSETTO:-0500
TZNAME:CDT
DTSTART:20240310T080000
END:DAYLIGHT
BEGIN:STANDARD
TZOFFSETFROM:-0500
TZOFFSETTO:-0600
TZNAME:CST
DTSTART:20241103T070000
END:STANDARD
BEGIN:DAYLIGHT
TZOFFSETFROM:-0600
TZOFFSETTO:-0500
TZNAME:CDT
DTSTART:20250309T080000
END:DAYLIGHT
BEGIN:STANDARD
TZOFFSETFROM:-0500
TZOFFSETTO:-0600
TZNAME:CST
DTSTART:20251102T070000
END:STANDARD
BEGIN:DAYLIGHT
TZOFFSETFROM:-0600
TZOFFSETTO:-0500
TZNAME:CDT
DTSTART:20260308T080000
END:DAYLIGHT
BEGIN:STANDARD
TZOFFSETFROM:-0500
TZOFFSETTO:-0600
TZNAME:CST
DTSTART:20261101T070000
END:STANDARD
END:VTIMEZONE
BEGIN:VEVENT
DTSTART;TZID=America/Chicago:20250725T143000
DTEND;TZID=America/Chicago:20250725T152000
DTSTAMP:20260423T112726
CREATED:20250602T215601Z
LAST-MODIFIED:20250603T191630Z
UID:10181752-1753453800-1753456800@spacecenter.org
SUMMARY:The Moonwalkers: A Journey with Tom Hanks
DESCRIPTION:
URL:https://spacecenter.org/events-calendar-event/the-moonwalkers-a-journey-with-tom-hanks-5/2025-07-25/
LOCATION:Theater – Space Center
CATEGORIES:Film
ATTACH;FMTTYPE=image/png:https://spacecenter.org/wp-content/uploads/2025/03/moonwalkers.png
END:VEVENT
BEGIN:VEVENT
DTSTART;TZID=America/Chicago:20250725T143000
DTEND;TZID=America/Chicago:20250725T153000
DTSTAMP:20260423T112726
CREATED:20250602T210317Z
LAST-MODIFIED:20250603T191717Z
UID:10185408-1753453800-1753457400@spacecenter.org
SUMMARY:Astronaut Training Facility Tram Tour
DESCRIPTION:
URL:https://spacecenter.org/events-calendar-event/astronaut-training-facility-tram-tour-5/2025-07-25/
LOCATION:Tram Boarding Area
CATEGORIES:Tram Tour
ATTACH;FMTTYPE=image/jpeg:https://spacecenter.org/wp-content/uploads/2022/07/IMG_2943.jpg
END:VEVENT
BEGIN:VEVENT
DTSTART;TZID=America/Chicago:20250725T144500
DTEND;TZID=America/Chicago:20250725T150000
DTSTAMP:20260423T112726
CREATED:20250602T213716Z
LAST-MODIFIED:20250603T191759Z
UID:10189064-1753454700-1753455600@spacecenter.org
SUMMARY:James Webb Live Presentation
DESCRIPTION:
URL:https://spacecenter.org/events-calendar-event/james-webb-live-presentation-3/2025-07-25/
LOCATION:Theater – Destiny
CATEGORIES:Live Presentation
END:VEVENT
BEGIN:VEVENT
DTSTART;TZID=America/Chicago:20250725T150000
DTEND;TZID=America/Chicago:20250725T154500
DTSTAMP:20260423T112726
CREATED:20250602T211753Z
LAST-MODIFIED:20250603T191844Z
UID:10192720-1753455600-1753458300@spacecenter.org
SUMMARY:Down to Earth: The Astronaut's Perspective Film
DESCRIPTION:
URL:https://spacecenter.org/events-calendar-event/down-to-earth-the-astronauts-perspective-film-4/2025-07-25/
LOCATION:Mission Briefing Center
CATEGORIES:Film
ATTACH;FMTTYPE=image/jpeg:https://spacecenter.org/wp-content/uploads/2025/02/profdeveducators1.jpg
END:VEVENT
BEGIN:VEVENT
DTSTART;TZID=America/Chicago:20250725T151500
DTEND;TZID=America/Chicago:20250725T153000
DTSTAMP:20260423T112726
CREATED:20250602T213249Z
LAST-MODIFIED:20250603T191942Z
UID:10196376-1753456500-1753457400@spacecenter.org
SUMMARY:Story Corner Live Presentation
DESCRIPTION:
URL:https://spacecenter.org/events-calendar-event/story-corner-live-presentation-4/2025-07-25/
LOCATION:Theater – Artemis
CATEGORIES:Live Presentation
END:VEVENT
BEGIN:VEVENT
DTSTART;TZID=America/Chicago:20250725T153000
DTEND;TZID=America/Chicago:20250725T162000
DTSTAMP:20260423T112726
CREATED:20250602T215646Z
LAST-MODIFIED:20260115T171957Z
UID:10200032-1753457400-1753460400@spacecenter.org
SUMMARY:The Moonwalkers: A Journey with Tom Hanks
DESCRIPTION:Test description
URL:https://spacecenter.org/events-calendar-event/the-moonwalkers-a-journey-with-tom-hanks-6/2025-07-25/
LOCATION:Theater – Space Center
CATEGORIES:Film
ATTACH;FMTTYPE=image/png:https://spacecenter.org/wp-content/uploads/2025/03/moonwalkers.png
END:VEVENT
BEGIN:VEVENT
DTSTART;TZID=America/Chicago:20250725T153000
DTEND;TZID=America/Chicago:20250725T163000
DTSTAMP:20260423T112726
CREATED:20250602T210404Z
LAST-MODIFIED:20250603T192048Z
UID:10203688-1753457400-1753461000@spacecenter.org
SUMMARY:Astronaut Training Facility Tram Tour
DESCRIPTION:
URL:https://spacecenter.org/events-calendar-event/astronaut-training-facility-tram-tour-6/2025-07-25/
LOCATION:Tram Boarding Area
CATEGORIES:Tram Tour
ATTACH;FMTTYPE=image/jpeg:https://spacecenter.org/wp-content/uploads/2022/07/IMG_2943.jpg
END:VEVENT
BEGIN:VEVENT
DTSTART;TZID=America/Chicago:20250725T154500
DTEND;TZID=America/Chicago:20250725T161500
DTSTAMP:20260423T112726
CREATED:20250602T214125Z
LAST-MODIFIED:20250603T192119Z
UID:10207344-1753458300-1753460100@spacecenter.org
SUMMARY:Artemis Live Presentation
DESCRIPTION:
URL:https://spacecenter.org/events-calendar-event/artemis-live-presentation-3/2025-07-25/
LOCATION:Theater – Destiny
CATEGORIES:Live Presentation
ATTACH;FMTTYPE=image/jpeg:https://spacecenter.org/wp-content/uploads/2022/10/Artemis-Capsule.jpeg
END:VEVENT
BEGIN:VEVENT
DTSTART;TZID=America/Chicago:20250725T160000
DTEND;TZID=America/Chicago:20250725T164500
DTSTAMP:20260423T112726
CREATED:20250602T211841Z
LAST-MODIFIED:20250603T192151Z
UID:10211000-1753459200-1753461900@spacecenter.org
SUMMARY:Down to Earth: The Astronaut's Perspective Film
DESCRIPTION:
URL:https://spacecenter.org/events-calendar-event/down-to-earth-the-astronauts-perspective-film-5/2025-07-25/
LOCATION:Mission Briefing Center
CATEGORIES:Film
ATTACH;FMTTYPE=image/jpeg:https://spacecenter.org/wp-content/uploads/2025/02/profdeveducators1.jpg
END:VEVENT
BEGIN:VEVENT
DTSTART;TZID=America/Chicago:20250725T163000
DTEND;TZID=America/Chicago:20250725T164500
DTSTAMP:20260423T112726
CREATED:20250602T212726Z
LAST-MODIFIED:20250603T192225Z
UID:10214656-1753461000-1753461900@spacecenter.org
SUMMARY:OSIRIS Rex Live Presentation
DESCRIPTION:
URL:https://spacecenter.org/events-calendar-event/osiris-rex-live-presentation-3/2025-07-25/
LOCATION:Mission Sketch Staircase
CATEGORIES:Live Presentation
ATTACH;FMTTYPE=image/jpeg:https://spacecenter.org/wp-content/uploads/2024/03/web-march2024_tls_osirisrex.jpg
END:VEVENT
BEGIN:VEVENT
DTSTART;TZID=America/Chicago:20250726T101500
DTEND;TZID=America/Chicago:20250726T103000
DTSTAMP:20260423T112726
CREATED:20250602T214310Z
LAST-MODIFIED:20250603T184018Z
UID:10083041-1753524900-1753525800@spacecenter.org
SUMMARY:Human Destiny Film
DESCRIPTION:
URL:https://spacecenter.org/events-calendar-event/human-destiny-film/2025-07-26/
LOCATION:Theater – Destiny
CATEGORIES:Film
ATTACH;FMTTYPE=image/jpeg:https://spacecenter.org/wp-content/uploads/2022/10/Destiny-Theater.jpg
END:VEVENT
BEGIN:VEVENT
DTSTART;TZID=America/Chicago:20250726T101500
DTEND;TZID=America/Chicago:20250726T110000
DTSTAMP:20260423T112726
CREATED:20250602T204328Z
LAST-MODIFIED:20250603T184302Z
UID:10084869-1753524900-1753527600@spacecenter.org
SUMMARY:Rocket Park Tram Tour
DESCRIPTION:
URL:https://spacecenter.org/events-calendar-event/rocket-park-tram-tour/2025-07-26/
LOCATION:Tram Boarding Area
CATEGORIES:Tram Tour
ATTACH;FMTTYPE=image/jpeg:https://spacecenter.org/wp-content/uploads/2024/10/rocket-park.jpg
END:VEVENT
BEGIN:VEVENT
DTSTART;TZID=America/Chicago:20250726T103000
DTEND;TZID=America/Chicago:20250726T104500
DTSTAMP:20260423T112726
CREATED:20250602T214417Z
LAST-MODIFIED:20250603T184348Z
UID:10086697-1753525800-1753526700@spacecenter.org
SUMMARY:Human Destiny Film
DESCRIPTION:
URL:https://spacecenter.org/events-calendar-event/human-destiny-film-2/2025-07-26/
LOCATION:Theater – Destiny
CATEGORIES:Film
ATTACH;FMTTYPE=image/jpeg:https://spacecenter.org/wp-content/uploads/2022/10/Destiny-Theater.jpg
END:VEVENT
BEGIN:VEVENT
DTSTART;TZID=America/Chicago:20250726T103000
DTEND;TZID=America/Chicago:20250726T112000
DTSTAMP:20260423T112726
CREATED:20250602T215207Z
LAST-MODIFIED:20250603T184552Z
UID:10090353-1753525800-1753528800@spacecenter.org
SUMMARY:The Moonwalkers: A Journey with Tom Hanks
DESCRIPTION:
URL:https://spacecenter.org/events-calendar-event/the-moonwalkers-a-journey-with-tom-hanks/2025-07-26/
LOCATION:Theater – Space Center
CATEGORIES:Film
ATTACH;FMTTYPE=image/png:https://spacecenter.org/wp-content/uploads/2025/03/moonwalkers.png
END:VEVENT
BEGIN:VEVENT
DTSTART;TZID=America/Chicago:20250726T103000
DTEND;TZID=America/Chicago:20250726T113000
DTSTAMP:20260423T112726
CREATED:20250602T205851Z
LAST-MODIFIED:20250603T184720Z
UID:10094009-1753525800-1753529400@spacecenter.org
SUMMARY:Astronaut Training Facility Tram Tour
DESCRIPTION:
URL:https://spacecenter.org/events-calendar-event/astronaut-training-facility-tram-tour/2025-07-26/
LOCATION:Tram Boarding Area
CATEGORIES:Tram Tour
ATTACH;FMTTYPE=image/jpeg:https://spacecenter.org/wp-content/uploads/2022/07/IMG_2943.jpg
END:VEVENT
BEGIN:VEVENT
DTSTART;TZID=America/Chicago:20250726T104000
DTEND;TZID=America/Chicago:20250726T112000
DTSTAMP:20260423T112726
CREATED:20250602T205945Z
LAST-MODIFIED:20250603T185259Z
UID:10097665-1753526400-1753528800@spacecenter.org
SUMMARY:Apollo Mission Control Tram Tour
DESCRIPTION:
URL:https://spacecenter.org/events-calendar-event/apollo-mission-control-tram-tour/2025-07-26/
LOCATION:Tram Boarding Area
CATEGORIES:Tram Tour
ATTACH;FMTTYPE=image/jpeg:https://spacecenter.org/wp-content/uploads/2022/09/Apollo-10-web.jpeg
END:VEVENT
BEGIN:VEVENT
DTSTART;TZID=America/Chicago:20250726T104500
DTEND;TZID=America/Chicago:20250726T110000
DTSTAMP:20260423T112726
CREATED:20250602T212526Z
LAST-MODIFIED:20250603T185502Z
UID:10101321-1753526700-1753527600@spacecenter.org
SUMMARY:OSIRIS Rex Live Presentation
DESCRIPTION:
URL:https://spacecenter.org/events-calendar-event/osiris-rex-live-presentation/2025-07-26/
LOCATION:Mission Sketch Staircase
CATEGORIES:Live Presentation
ATTACH;FMTTYPE=image/jpeg:https://spacecenter.org/wp-content/uploads/2024/03/web-march2024_tls_osirisrex.jpg
END:VEVENT
BEGIN:VEVENT
DTSTART;TZID=America/Chicago:20250726T104500
DTEND;TZID=America/Chicago:20250726T110000
DTSTAMP:20260423T112726
CREATED:20250602T214618Z
LAST-MODIFIED:20250603T185541Z
UID:10104977-1753526700-1753527600@spacecenter.org
SUMMARY:Human Destiny Film
DESCRIPTION:
URL:https://spacecenter.org/events-calendar-event/human-destiny-film-3/2025-07-26/
LOCATION:Theater – Destiny
CATEGORIES:Film
ATTACH;FMTTYPE=image/jpeg:https://spacecenter.org/wp-content/uploads/2022/10/Destiny-Theater.jpg
END:VEVENT
BEGIN:VEVENT
DTSTART;TZID=America/Chicago:20250726T104500
DTEND;TZID=America/Chicago:20250726T111500
DTSTAMP:20260423T112726
CREATED:20250602T213905Z
LAST-MODIFIED:20250603T185637Z
UID:10108633-1753526700-1753528500@spacecenter.org
SUMMARY:Artemis Live Presentation
DESCRIPTION:
URL:https://spacecenter.org/events-calendar-event/artemis-live-presentation/2025-07-26/
LOCATION:Theater – Destiny
CATEGORIES:Live Presentation
ATTACH;FMTTYPE=image/jpeg:https://spacecenter.org/wp-content/uploads/2022/10/Artemis-Capsule.jpeg
END:VEVENT
BEGIN:VEVENT
DTSTART;TZID=America/Chicago:20250726T110000
DTEND;TZID=America/Chicago:20250726T111500
DTSTAMP:20260423T112726
CREATED:20250602T214802Z
LAST-MODIFIED:20250603T185720Z
UID:10112289-1753527600-1753528500@spacecenter.org
SUMMARY:Human Destiny Film
DESCRIPTION:
URL:https://spacecenter.org/events-calendar-event/human-destiny-film-4/2025-07-26/
LOCATION:Theater – Destiny
CATEGORIES:Film
ATTACH;FMTTYPE=image/jpeg:https://spacecenter.org/wp-content/uploads/2022/10/Destiny-Theater.jpg
END:VEVENT
BEGIN:VEVENT
DTSTART;TZID=America/Chicago:20250726T110000
DTEND;TZID=America/Chicago:20250726T114500
DTSTAMP:20260423T112726
CREATED:20250602T210952Z
LAST-MODIFIED:20250603T185820Z
UID:10115945-1753527600-1753530300@spacecenter.org
SUMMARY:Down to Earth: The Astronaut's Perspective Film
DESCRIPTION:
URL:https://spacecenter.org/events-calendar-event/down-to-earth-the-astronauts-perspective-film/2025-07-26/
LOCATION:Mission Briefing Center
CATEGORIES:Film
ATTACH;FMTTYPE=image/jpeg:https://spacecenter.org/wp-content/uploads/2025/02/profdeveducators1.jpg
END:VEVENT
BEGIN:VEVENT
DTSTART;TZID=America/Chicago:20250726T111500
DTEND;TZID=America/Chicago:20250726T113000
DTSTAMP:20260423T112726
CREATED:20250602T213010Z
LAST-MODIFIED:20250603T185901Z
UID:10119601-1753528500-1753529400@spacecenter.org
SUMMARY:Story Corner Live Presentation
DESCRIPTION:
URL:https://spacecenter.org/events-calendar-event/story-corner-live-presentation/2025-07-26/
LOCATION:Theater – Artemis
CATEGORIES:Live Presentation
END:VEVENT
BEGIN:VEVENT
DTSTART;TZID=America/Chicago:20250726T111500
DTEND;TZID=America/Chicago:20250726T113000
DTSTAMP:20260423T112726
CREATED:20250602T214855Z
LAST-MODIFIED:20250603T185944Z
UID:10123257-1753528500-1753529400@spacecenter.org
SUMMARY:Human Destiny Film
DESCRIPTION:
URL:https://spacecenter.org/events-calendar-event/human-destiny-film-5/2025-07-26/
LOCATION:Theater – Destiny
CATEGORIES:Film
ATTACH;FMTTYPE=image/jpeg:https://spacecenter.org/wp-content/uploads/2022/10/Destiny-Theater.jpg
END:VEVENT
BEGIN:VEVENT
DTSTART;TZID=America/Chicago:20250726T113000
DTEND;TZID=America/Chicago:20250726T114500
DTSTAMP:20260423T112726
CREATED:20250602T214945Z
LAST-MODIFIED:20250603T190019Z
UID:10126913-1753529400-1753530300@spacecenter.org
SUMMARY:Human Destiny Film
DESCRIPTION:
URL:https://spacecenter.org/events-calendar-event/human-destiny-film-6/2025-07-26/
LOCATION:Theater – Destiny
CATEGORIES:Film
ATTACH;FMTTYPE=image/jpeg:https://spacecenter.org/wp-content/uploads/2022/10/Destiny-Theater.jpg
END:VEVENT
BEGIN:VEVENT
DTSTART;TZID=America/Chicago:20250726T113000
DTEND;TZID=America/Chicago:20250726T122000
DTSTAMP:20260423T112726
CREATED:20250602T215324Z
LAST-MODIFIED:20250603T190108Z
UID:10130569-1753529400-1753532400@spacecenter.org
SUMMARY:The Moonwalkers: A Journey with Tom Hanks
DESCRIPTION:
URL:https://spacecenter.org/events-calendar-event/the-moonwalkers-a-journey-with-tom-hanks-2/2025-07-26/
LOCATION:Theater – Space Center
CATEGORIES:Film
ATTACH;FMTTYPE=image/png:https://spacecenter.org/wp-content/uploads/2025/03/moonwalkers.png
END:VEVENT
BEGIN:VEVENT
DTSTART;TZID=America/Chicago:20250726T113000
DTEND;TZID=America/Chicago:20250726T123000
DTSTAMP:20260423T112726
CREATED:20250602T210031Z
LAST-MODIFIED:20250603T190211Z
UID:10134225-1753529400-1753533000@spacecenter.org
SUMMARY:Astronaut Training Facility Tram Tour
DESCRIPTION:
URL:https://spacecenter.org/events-calendar-event/astronaut-training-facility-tram-tour-2/2025-07-26/
LOCATION:Tram Boarding Area
CATEGORIES:Tram Tour
ATTACH;FMTTYPE=image/jpeg:https://spacecenter.org/wp-content/uploads/2022/07/IMG_2943.jpg
END:VEVENT
BEGIN:VEVENT
DTSTART;TZID=America/Chicago:20250726T114500
DTEND;TZID=America/Chicago:20250726T120000
DTSTAMP:20260423T112726
CREATED:20250602T213503Z
LAST-MODIFIED:20250603T190256Z
UID:10137881-1753530300-1753531200@spacecenter.org
SUMMARY:James Webb Live Presentation
DESCRIPTION:
URL:https://spacecenter.org/events-calendar-event/james-webb-live-presentation/2025-07-26/
LOCATION:Theater – Destiny
CATEGORIES:Live Presentation
END:VEVENT
BEGIN:VEVENT
DTSTART;TZID=America/Chicago:20250726T121500
DTEND;TZID=America/Chicago:20250726T123000
DTSTAMP:20260423T112726
CREATED:20250602T213059Z
LAST-MODIFIED:20250603T190345Z
UID:10141537-1753532100-1753533000@spacecenter.org
SUMMARY:Story Corner Live Presentation
DESCRIPTION:
URL:https://spacecenter.org/events-calendar-event/story-corner-live-presentation-2/2025-07-26/
LOCATION:Theater – Artemis
CATEGORIES:Live Presentation
END:VEVENT
BEGIN:VEVENT
DTSTART;TZID=America/Chicago:20250726T123000
DTEND;TZID=America/Chicago:20250726T132000
DTSTAMP:20260423T112726
CREATED:20250602T215422Z
LAST-MODIFIED:20250603T190647Z
UID:10145193-1753533000-1753536000@spacecenter.org
SUMMARY:The Moonwalkers: A Journey with Tom Hanks
DESCRIPTION:
URL:https://spacecenter.org/events-calendar-event/the-moonwalkers-a-journey-with-tom-hanks-3/2025-07-26/
LOCATION:Theater – Space Center
CATEGORIES:Film
ATTACH;FMTTYPE=image/png:https://spacecenter.org/wp-content/uploads/2025/03/moonwalkers.png
END:VEVENT
BEGIN:VEVENT
DTSTART;TZID=America/Chicago:20250726T123000
DTEND;TZID=America/Chicago:20250726T133000
DTSTAMP:20260423T112726
CREATED:20250602T210135Z
LAST-MODIFIED:20250603T190719Z
UID:10148849-1753533000-1753536600@spacecenter.org
SUMMARY:Astronaut Training Facility Tram Tour
DESCRIPTION:
URL:https://spacecenter.org/events-calendar-event/astronaut-training-facility-tram-tour-3/2025-07-26/
LOCATION:Tram Boarding Area
CATEGORIES:Tram Tour
ATTACH;FMTTYPE=image/jpeg:https://spacecenter.org/wp-content/uploads/2022/07/IMG_2943.jpg
END:VEVENT
END:VCALENDAR