BEGIN:VCALENDAR
VERSION:2.0
PRODID:-//Space Center Houston - ECPv6.15.15//NONSGML v1.0//EN
CALSCALE:GREGORIAN
METHOD:PUBLISH
X-ORIGINAL-URL:https://spacecenter.org
X-WR-CALDESC:Events for Space Center Houston
REFRESH-INTERVAL;VALUE=DURATION:PT1H
X-Robots-Tag:noindex
X-PUBLISHED-TTL:PT1H
BEGIN:VTIMEZONE
TZID:America/Chicago
BEGIN:DAYLIGHT
TZOFFSETFROM:-0600
TZOFFSETTO:-0500
TZNAME:CDT
DTSTART:20240310T080000
END:DAYLIGHT
BEGIN:STANDARD
TZOFFSETFROM:-0500
TZOFFSETTO:-0600
TZNAME:CST
DTSTART:20241103T070000
END:STANDARD
BEGIN:DAYLIGHT
TZOFFSETFROM:-0600
TZOFFSETTO:-0500
TZNAME:CDT
DTSTART:20250309T080000
END:DAYLIGHT
BEGIN:STANDARD
TZOFFSETFROM:-0500
TZOFFSETTO:-0600
TZNAME:CST
DTSTART:20251102T070000
END:STANDARD
BEGIN:DAYLIGHT
TZOFFSETFROM:-0600
TZOFFSETTO:-0500
TZNAME:CDT
DTSTART:20260308T080000
END:DAYLIGHT
BEGIN:STANDARD
TZOFFSETFROM:-0500
TZOFFSETTO:-0600
TZNAME:CST
DTSTART:20261101T070000
END:STANDARD
END:VTIMEZONE
BEGIN:VEVENT
DTSTART;TZID=America/Chicago:20251115T123000
DTEND;TZID=America/Chicago:20251115T132000
DTSTAMP:20260423T000655
CREATED:20250602T215422Z
LAST-MODIFIED:20250603T190647Z
UID:10145305-1763209800-1763212800@spacecenter.org
SUMMARY:The Moonwalkers: A Journey with Tom Hanks
DESCRIPTION:
URL:https://spacecenter.org/events-calendar-event/the-moonwalkers-a-journey-with-tom-hanks-3/2025-11-15/
LOCATION:Theater – Space Center
CATEGORIES:Film
ATTACH;FMTTYPE=image/png:https://spacecenter.org/wp-content/uploads/2025/03/moonwalkers.png
END:VEVENT
BEGIN:VEVENT
DTSTART;TZID=America/Chicago:20251115T123000
DTEND;TZID=America/Chicago:20251115T133000
DTSTAMP:20260423T000655
CREATED:20250602T210135Z
LAST-MODIFIED:20250603T190719Z
UID:10148961-1763209800-1763213400@spacecenter.org
SUMMARY:Astronaut Training Facility Tram Tour
DESCRIPTION:
URL:https://spacecenter.org/events-calendar-event/astronaut-training-facility-tram-tour-3/2025-11-15/
LOCATION:Tram Boarding Area
CATEGORIES:Tram Tour
ATTACH;FMTTYPE=image/jpeg:https://spacecenter.org/wp-content/uploads/2022/07/IMG_2943.jpg
END:VEVENT
BEGIN:VEVENT
DTSTART;TZID=America/Chicago:20251115T124500
DTEND;TZID=America/Chicago:20251115T131500
DTSTAMP:20260423T000655
CREATED:20250602T214012Z
LAST-MODIFIED:20250603T190811Z
UID:10152617-1763210700-1763212500@spacecenter.org
SUMMARY:Artemis Live Presentation
DESCRIPTION:
URL:https://spacecenter.org/events-calendar-event/artemis-live-presentation-2/2025-11-15/
LOCATION:Theater – Destiny
CATEGORIES:Live Presentation
ATTACH;FMTTYPE=image/jpeg:https://spacecenter.org/wp-content/uploads/2022/10/Artemis-Capsule.jpeg
END:VEVENT
BEGIN:VEVENT
DTSTART;TZID=America/Chicago:20251115T130000
DTEND;TZID=America/Chicago:20251115T134500
DTSTAMP:20260423T000655
CREATED:20250602T211211Z
LAST-MODIFIED:20250603T190850Z
UID:10156273-1763211600-1763214300@spacecenter.org
SUMMARY:Down to Earth: The Astronaut's Perspective Film
DESCRIPTION:
URL:https://spacecenter.org/events-calendar-event/down-to-earth-the-astronauts-perspective-film-2/2025-11-15/
LOCATION:Mission Briefing Center
CATEGORIES:Film
ATTACH;FMTTYPE=image/jpeg:https://spacecenter.org/wp-content/uploads/2025/02/profdeveducators1.jpg
END:VEVENT
BEGIN:VEVENT
DTSTART;TZID=America/Chicago:20251115T131500
DTEND;TZID=America/Chicago:20251115T133000
DTSTAMP:20260423T000655
CREATED:20250602T213201Z
LAST-MODIFIED:20250603T190922Z
UID:10159929-1763212500-1763213400@spacecenter.org
SUMMARY:Story Corner Live Presentation
DESCRIPTION:
URL:https://spacecenter.org/events-calendar-event/story-corner-live-presentation-3/2025-11-15/
LOCATION:Theater – Artemis
CATEGORIES:Live Presentation
END:VEVENT
BEGIN:VEVENT
DTSTART;TZID=America/Chicago:20251115T133000
DTEND;TZID=America/Chicago:20251115T142000
DTSTAMP:20260423T000655
CREATED:20250602T215510Z
LAST-MODIFIED:20250603T190957Z
UID:10163585-1763213400-1763216400@spacecenter.org
SUMMARY:The Moonwalkers: A Journey with Tom Hanks
DESCRIPTION:
URL:https://spacecenter.org/events-calendar-event/the-moonwalkers-a-journey-with-tom-hanks-4/2025-11-15/
LOCATION:Theater – Space Center
CATEGORIES:Film
ATTACH;FMTTYPE=image/png:https://spacecenter.org/wp-content/uploads/2025/03/moonwalkers.png
END:VEVENT
BEGIN:VEVENT
DTSTART;TZID=America/Chicago:20251115T133000
DTEND;TZID=America/Chicago:20251115T143000
DTSTAMP:20260423T000655
CREATED:20250602T210232Z
LAST-MODIFIED:20250603T191037Z
UID:10167241-1763213400-1763217000@spacecenter.org
SUMMARY:Astronaut Training Facility Tram Tour
DESCRIPTION:
URL:https://spacecenter.org/events-calendar-event/astronaut-training-facility-tram-tour-4/2025-11-15/
LOCATION:Tram Boarding Area
CATEGORIES:Tram Tour
ATTACH;FMTTYPE=image/jpeg:https://spacecenter.org/wp-content/uploads/2022/07/IMG_2943.jpg
END:VEVENT
BEGIN:VEVENT
DTSTART;TZID=America/Chicago:20251115T134500
DTEND;TZID=America/Chicago:20251115T140000
DTSTAMP:20260423T000655
CREATED:20250602T212635Z
LAST-MODIFIED:20250603T191121Z
UID:10170897-1763214300-1763215200@spacecenter.org
SUMMARY:OSIRIS Rex Live Presentation
DESCRIPTION:
URL:https://spacecenter.org/events-calendar-event/osiris-rex-live-presentation-2/2025-11-15/
LOCATION:Mission Sketch Staircase
CATEGORIES:Live Presentation
ATTACH;FMTTYPE=image/jpeg:https://spacecenter.org/wp-content/uploads/2024/03/web-march2024_tls_osirisrex.jpg
END:VEVENT
BEGIN:VEVENT
DTSTART;TZID=America/Chicago:20251115T134500
DTEND;TZID=America/Chicago:20251115T140000
DTSTAMP:20260423T000655
CREATED:20250602T213557Z
LAST-MODIFIED:20250603T191327Z
UID:10174553-1763214300-1763215200@spacecenter.org
SUMMARY:James Webb Live Presentation
DESCRIPTION:
URL:https://spacecenter.org/events-calendar-event/james-webb-live-presentation-2/2025-11-15/
LOCATION:Theater – Destiny
CATEGORIES:Live Presentation
END:VEVENT
BEGIN:VEVENT
DTSTART;TZID=America/Chicago:20251115T140000
DTEND;TZID=America/Chicago:20251115T144500
DTSTAMP:20260423T000655
CREATED:20250602T211401Z
LAST-MODIFIED:20250603T191451Z
UID:10178209-1763215200-1763217900@spacecenter.org
SUMMARY:Down to Earth: The Astronaut's Perspective Film
DESCRIPTION:
URL:https://spacecenter.org/events-calendar-event/down-to-earth-the-astronauts-perspective-film-3/2025-11-15/
LOCATION:Mission Briefing Center
CATEGORIES:Film
ATTACH;FMTTYPE=image/jpeg:https://spacecenter.org/wp-content/uploads/2025/02/profdeveducators1.jpg
END:VEVENT
BEGIN:VEVENT
DTSTART;TZID=America/Chicago:20251115T143000
DTEND;TZID=America/Chicago:20251115T152000
DTSTAMP:20260423T000655
CREATED:20250602T215601Z
LAST-MODIFIED:20250603T191630Z
UID:10181865-1763217000-1763220000@spacecenter.org
SUMMARY:The Moonwalkers: A Journey with Tom Hanks
DESCRIPTION:
URL:https://spacecenter.org/events-calendar-event/the-moonwalkers-a-journey-with-tom-hanks-5/2025-11-15/
LOCATION:Theater – Space Center
CATEGORIES:Film
ATTACH;FMTTYPE=image/png:https://spacecenter.org/wp-content/uploads/2025/03/moonwalkers.png
END:VEVENT
BEGIN:VEVENT
DTSTART;TZID=America/Chicago:20251115T143000
DTEND;TZID=America/Chicago:20251115T153000
DTSTAMP:20260423T000655
CREATED:20250602T210317Z
LAST-MODIFIED:20250603T191717Z
UID:10185521-1763217000-1763220600@spacecenter.org
SUMMARY:Astronaut Training Facility Tram Tour
DESCRIPTION:
URL:https://spacecenter.org/events-calendar-event/astronaut-training-facility-tram-tour-5/2025-11-15/
LOCATION:Tram Boarding Area
CATEGORIES:Tram Tour
ATTACH;FMTTYPE=image/jpeg:https://spacecenter.org/wp-content/uploads/2022/07/IMG_2943.jpg
END:VEVENT
BEGIN:VEVENT
DTSTART;TZID=America/Chicago:20251115T144500
DTEND;TZID=America/Chicago:20251115T150000
DTSTAMP:20260423T000655
CREATED:20250602T213716Z
LAST-MODIFIED:20250603T191759Z
UID:10189177-1763217900-1763218800@spacecenter.org
SUMMARY:James Webb Live Presentation
DESCRIPTION:
URL:https://spacecenter.org/events-calendar-event/james-webb-live-presentation-3/2025-11-15/
LOCATION:Theater – Destiny
CATEGORIES:Live Presentation
END:VEVENT
BEGIN:VEVENT
DTSTART;TZID=America/Chicago:20251115T150000
DTEND;TZID=America/Chicago:20251115T154500
DTSTAMP:20260423T000655
CREATED:20250602T211753Z
LAST-MODIFIED:20250603T191844Z
UID:10192833-1763218800-1763221500@spacecenter.org
SUMMARY:Down to Earth: The Astronaut's Perspective Film
DESCRIPTION:
URL:https://spacecenter.org/events-calendar-event/down-to-earth-the-astronauts-perspective-film-4/2025-11-15/
LOCATION:Mission Briefing Center
CATEGORIES:Film
ATTACH;FMTTYPE=image/jpeg:https://spacecenter.org/wp-content/uploads/2025/02/profdeveducators1.jpg
END:VEVENT
BEGIN:VEVENT
DTSTART;TZID=America/Chicago:20251115T151500
DTEND;TZID=America/Chicago:20251115T153000
DTSTAMP:20260423T000655
CREATED:20250602T213249Z
LAST-MODIFIED:20250603T191942Z
UID:10196489-1763219700-1763220600@spacecenter.org
SUMMARY:Story Corner Live Presentation
DESCRIPTION:
URL:https://spacecenter.org/events-calendar-event/story-corner-live-presentation-4/2025-11-15/
LOCATION:Theater – Artemis
CATEGORIES:Live Presentation
END:VEVENT
BEGIN:VEVENT
DTSTART;TZID=America/Chicago:20251115T153000
DTEND;TZID=America/Chicago:20251115T162000
DTSTAMP:20260423T000655
CREATED:20250602T215646Z
LAST-MODIFIED:20260115T171957Z
UID:10200145-1763220600-1763223600@spacecenter.org
SUMMARY:The Moonwalkers: A Journey with Tom Hanks
DESCRIPTION:Test description
URL:https://spacecenter.org/events-calendar-event/the-moonwalkers-a-journey-with-tom-hanks-6/2025-11-15/
LOCATION:Theater – Space Center
CATEGORIES:Film
ATTACH;FMTTYPE=image/png:https://spacecenter.org/wp-content/uploads/2025/03/moonwalkers.png
END:VEVENT
BEGIN:VEVENT
DTSTART;TZID=America/Chicago:20251115T153000
DTEND;TZID=America/Chicago:20251115T163000
DTSTAMP:20260423T000655
CREATED:20250602T210404Z
LAST-MODIFIED:20250603T192048Z
UID:10203801-1763220600-1763224200@spacecenter.org
SUMMARY:Astronaut Training Facility Tram Tour
DESCRIPTION:
URL:https://spacecenter.org/events-calendar-event/astronaut-training-facility-tram-tour-6/2025-11-15/
LOCATION:Tram Boarding Area
CATEGORIES:Tram Tour
ATTACH;FMTTYPE=image/jpeg:https://spacecenter.org/wp-content/uploads/2022/07/IMG_2943.jpg
END:VEVENT
BEGIN:VEVENT
DTSTART;TZID=America/Chicago:20251115T154500
DTEND;TZID=America/Chicago:20251115T161500
DTSTAMP:20260423T000655
CREATED:20250602T214125Z
LAST-MODIFIED:20250603T192119Z
UID:10207457-1763221500-1763223300@spacecenter.org
SUMMARY:Artemis Live Presentation
DESCRIPTION:
URL:https://spacecenter.org/events-calendar-event/artemis-live-presentation-3/2025-11-15/
LOCATION:Theater – Destiny
CATEGORIES:Live Presentation
ATTACH;FMTTYPE=image/jpeg:https://spacecenter.org/wp-content/uploads/2022/10/Artemis-Capsule.jpeg
END:VEVENT
BEGIN:VEVENT
DTSTART;TZID=America/Chicago:20251115T160000
DTEND;TZID=America/Chicago:20251115T164500
DTSTAMP:20260423T000655
CREATED:20250602T211841Z
LAST-MODIFIED:20250603T192151Z
UID:10211113-1763222400-1763225100@spacecenter.org
SUMMARY:Down to Earth: The Astronaut's Perspective Film
DESCRIPTION:
URL:https://spacecenter.org/events-calendar-event/down-to-earth-the-astronauts-perspective-film-5/2025-11-15/
LOCATION:Mission Briefing Center
CATEGORIES:Film
ATTACH;FMTTYPE=image/jpeg:https://spacecenter.org/wp-content/uploads/2025/02/profdeveducators1.jpg
END:VEVENT
BEGIN:VEVENT
DTSTART;TZID=America/Chicago:20251115T163000
DTEND;TZID=America/Chicago:20251115T164500
DTSTAMP:20260423T000655
CREATED:20250602T212726Z
LAST-MODIFIED:20250603T192225Z
UID:10214769-1763224200-1763225100@spacecenter.org
SUMMARY:OSIRIS Rex Live Presentation
DESCRIPTION:
URL:https://spacecenter.org/events-calendar-event/osiris-rex-live-presentation-3/2025-11-15/
LOCATION:Mission Sketch Staircase
CATEGORIES:Live Presentation
ATTACH;FMTTYPE=image/jpeg:https://spacecenter.org/wp-content/uploads/2024/03/web-march2024_tls_osirisrex.jpg
END:VEVENT
BEGIN:VEVENT
DTSTART;TZID=America/Chicago:20251116T101500
DTEND;TZID=America/Chicago:20251116T103000
DTSTAMP:20260423T000655
CREATED:20250602T214310Z
LAST-MODIFIED:20250603T184018Z
UID:10083154-1763288100-1763289000@spacecenter.org
SUMMARY:Human Destiny Film
DESCRIPTION:
URL:https://spacecenter.org/events-calendar-event/human-destiny-film/2025-11-16/
LOCATION:Theater – Destiny
CATEGORIES:Film
ATTACH;FMTTYPE=image/jpeg:https://spacecenter.org/wp-content/uploads/2022/10/Destiny-Theater.jpg
END:VEVENT
BEGIN:VEVENT
DTSTART;TZID=America/Chicago:20251116T101500
DTEND;TZID=America/Chicago:20251116T110000
DTSTAMP:20260423T000655
CREATED:20250602T204328Z
LAST-MODIFIED:20250603T184302Z
UID:10084982-1763288100-1763290800@spacecenter.org
SUMMARY:Rocket Park Tram Tour
DESCRIPTION:
URL:https://spacecenter.org/events-calendar-event/rocket-park-tram-tour/2025-11-16/
LOCATION:Tram Boarding Area
CATEGORIES:Tram Tour
ATTACH;FMTTYPE=image/jpeg:https://spacecenter.org/wp-content/uploads/2024/10/rocket-park.jpg
END:VEVENT
BEGIN:VEVENT
DTSTART;TZID=America/Chicago:20251116T103000
DTEND;TZID=America/Chicago:20251116T104500
DTSTAMP:20260423T000655
CREATED:20250602T214417Z
LAST-MODIFIED:20250603T184348Z
UID:10086810-1763289000-1763289900@spacecenter.org
SUMMARY:Human Destiny Film
DESCRIPTION:
URL:https://spacecenter.org/events-calendar-event/human-destiny-film-2/2025-11-16/
LOCATION:Theater – Destiny
CATEGORIES:Film
ATTACH;FMTTYPE=image/jpeg:https://spacecenter.org/wp-content/uploads/2022/10/Destiny-Theater.jpg
END:VEVENT
BEGIN:VEVENT
DTSTART;TZID=America/Chicago:20251116T103000
DTEND;TZID=America/Chicago:20251116T112000
DTSTAMP:20260423T000655
CREATED:20250602T215207Z
LAST-MODIFIED:20250603T184552Z
UID:10090466-1763289000-1763292000@spacecenter.org
SUMMARY:The Moonwalkers: A Journey with Tom Hanks
DESCRIPTION:
URL:https://spacecenter.org/events-calendar-event/the-moonwalkers-a-journey-with-tom-hanks/2025-11-16/
LOCATION:Theater – Space Center
CATEGORIES:Film
ATTACH;FMTTYPE=image/png:https://spacecenter.org/wp-content/uploads/2025/03/moonwalkers.png
END:VEVENT
BEGIN:VEVENT
DTSTART;TZID=America/Chicago:20251116T103000
DTEND;TZID=America/Chicago:20251116T113000
DTSTAMP:20260423T000655
CREATED:20250602T205851Z
LAST-MODIFIED:20250603T184720Z
UID:10094122-1763289000-1763292600@spacecenter.org
SUMMARY:Astronaut Training Facility Tram Tour
DESCRIPTION:
URL:https://spacecenter.org/events-calendar-event/astronaut-training-facility-tram-tour/2025-11-16/
LOCATION:Tram Boarding Area
CATEGORIES:Tram Tour
ATTACH;FMTTYPE=image/jpeg:https://spacecenter.org/wp-content/uploads/2022/07/IMG_2943.jpg
END:VEVENT
BEGIN:VEVENT
DTSTART;TZID=America/Chicago:20251116T104000
DTEND;TZID=America/Chicago:20251116T112000
DTSTAMP:20260423T000655
CREATED:20250602T205945Z
LAST-MODIFIED:20250603T185259Z
UID:10097778-1763289600-1763292000@spacecenter.org
SUMMARY:Apollo Mission Control Tram Tour
DESCRIPTION:
URL:https://spacecenter.org/events-calendar-event/apollo-mission-control-tram-tour/2025-11-16/
LOCATION:Tram Boarding Area
CATEGORIES:Tram Tour
ATTACH;FMTTYPE=image/jpeg:https://spacecenter.org/wp-content/uploads/2022/09/Apollo-10-web.jpeg
END:VEVENT
BEGIN:VEVENT
DTSTART;TZID=America/Chicago:20251116T104500
DTEND;TZID=America/Chicago:20251116T110000
DTSTAMP:20260423T000655
CREATED:20250602T212526Z
LAST-MODIFIED:20250603T185502Z
UID:10101434-1763289900-1763290800@spacecenter.org
SUMMARY:OSIRIS Rex Live Presentation
DESCRIPTION:
URL:https://spacecenter.org/events-calendar-event/osiris-rex-live-presentation/2025-11-16/
LOCATION:Mission Sketch Staircase
CATEGORIES:Live Presentation
ATTACH;FMTTYPE=image/jpeg:https://spacecenter.org/wp-content/uploads/2024/03/web-march2024_tls_osirisrex.jpg
END:VEVENT
BEGIN:VEVENT
DTSTART;TZID=America/Chicago:20251116T104500
DTEND;TZID=America/Chicago:20251116T110000
DTSTAMP:20260423T000655
CREATED:20250602T214618Z
LAST-MODIFIED:20250603T185541Z
UID:10105090-1763289900-1763290800@spacecenter.org
SUMMARY:Human Destiny Film
DESCRIPTION:
URL:https://spacecenter.org/events-calendar-event/human-destiny-film-3/2025-11-16/
LOCATION:Theater – Destiny
CATEGORIES:Film
ATTACH;FMTTYPE=image/jpeg:https://spacecenter.org/wp-content/uploads/2022/10/Destiny-Theater.jpg
END:VEVENT
BEGIN:VEVENT
DTSTART;TZID=America/Chicago:20251116T104500
DTEND;TZID=America/Chicago:20251116T111500
DTSTAMP:20260423T000655
CREATED:20250602T213905Z
LAST-MODIFIED:20250603T185637Z
UID:10108746-1763289900-1763291700@spacecenter.org
SUMMARY:Artemis Live Presentation
DESCRIPTION:
URL:https://spacecenter.org/events-calendar-event/artemis-live-presentation/2025-11-16/
LOCATION:Theater – Destiny
CATEGORIES:Live Presentation
ATTACH;FMTTYPE=image/jpeg:https://spacecenter.org/wp-content/uploads/2022/10/Artemis-Capsule.jpeg
END:VEVENT
BEGIN:VEVENT
DTSTART;TZID=America/Chicago:20251116T110000
DTEND;TZID=America/Chicago:20251116T111500
DTSTAMP:20260423T000655
CREATED:20250602T214802Z
LAST-MODIFIED:20250603T185720Z
UID:10112402-1763290800-1763291700@spacecenter.org
SUMMARY:Human Destiny Film
DESCRIPTION:
URL:https://spacecenter.org/events-calendar-event/human-destiny-film-4/2025-11-16/
LOCATION:Theater – Destiny
CATEGORIES:Film
ATTACH;FMTTYPE=image/jpeg:https://spacecenter.org/wp-content/uploads/2022/10/Destiny-Theater.jpg
END:VEVENT
END:VCALENDAR