BEGIN:VCALENDAR
VERSION:2.0
PRODID:-//Space Center Houston - ECPv6.15.15//NONSGML v1.0//EN
CALSCALE:GREGORIAN
METHOD:PUBLISH
X-ORIGINAL-URL:https://spacecenter.org
X-WR-CALDESC:Events for Space Center Houston
REFRESH-INTERVAL;VALUE=DURATION:PT1H
X-Robots-Tag:noindex
X-PUBLISHED-TTL:PT1H
BEGIN:VTIMEZONE
TZID:America/Chicago
BEGIN:DAYLIGHT
TZOFFSETFROM:-0600
TZOFFSETTO:-0500
TZNAME:CDT
DTSTART:20260308T080000
END:DAYLIGHT
BEGIN:STANDARD
TZOFFSETFROM:-0500
TZOFFSETTO:-0600
TZNAME:CST
DTSTART:20261101T070000
END:STANDARD
BEGIN:DAYLIGHT
TZOFFSETFROM:-0600
TZOFFSETTO:-0500
TZNAME:CDT
DTSTART:20270314T080000
END:DAYLIGHT
BEGIN:STANDARD
TZOFFSETFROM:-0500
TZOFFSETTO:-0600
TZNAME:CST
DTSTART:20271107T070000
END:STANDARD
BEGIN:DAYLIGHT
TZOFFSETFROM:-0600
TZOFFSETTO:-0500
TZNAME:CDT
DTSTART:20280312T080000
END:DAYLIGHT
BEGIN:STANDARD
TZOFFSETFROM:-0500
TZOFFSETTO:-0600
TZNAME:CST
DTSTART:20281105T070000
END:STANDARD
END:VTIMEZONE
BEGIN:VEVENT
DTSTART;TZID=America/Chicago:20270827T143000
DTEND;TZID=America/Chicago:20270827T152000
DTSTAMP:20260421T095008
CREATED:20250602T215601Z
LAST-MODIFIED:20250603T191630Z
UID:10182515-1819377000-1819380000@spacecenter.org
SUMMARY:The Moonwalkers: A Journey with Tom Hanks
DESCRIPTION:
URL:https://spacecenter.org/events-calendar-event/the-moonwalkers-a-journey-with-tom-hanks-5/2027-08-27/
LOCATION:Theater – Space Center
CATEGORIES:Film
ATTACH;FMTTYPE=image/png:https://spacecenter.org/wp-content/uploads/2025/03/moonwalkers.png
END:VEVENT
BEGIN:VEVENT
DTSTART;TZID=America/Chicago:20270827T143000
DTEND;TZID=America/Chicago:20270827T153000
DTSTAMP:20260421T095008
CREATED:20250602T210317Z
LAST-MODIFIED:20250603T191717Z
UID:10186171-1819377000-1819380600@spacecenter.org
SUMMARY:Astronaut Training Facility Tram Tour
DESCRIPTION:
URL:https://spacecenter.org/events-calendar-event/astronaut-training-facility-tram-tour-5/2027-08-27/
LOCATION:Tram Boarding Area
CATEGORIES:Tram Tour
ATTACH;FMTTYPE=image/jpeg:https://spacecenter.org/wp-content/uploads/2022/07/IMG_2943.jpg
END:VEVENT
BEGIN:VEVENT
DTSTART;TZID=America/Chicago:20270827T144500
DTEND;TZID=America/Chicago:20270827T150000
DTSTAMP:20260421T095008
CREATED:20250602T213716Z
LAST-MODIFIED:20250603T191759Z
UID:10189827-1819377900-1819378800@spacecenter.org
SUMMARY:James Webb Live Presentation
DESCRIPTION:
URL:https://spacecenter.org/events-calendar-event/james-webb-live-presentation-3/2027-08-27/
LOCATION:Theater – Destiny
CATEGORIES:Live Presentation
END:VEVENT
BEGIN:VEVENT
DTSTART;TZID=America/Chicago:20270827T150000
DTEND;TZID=America/Chicago:20270827T154500
DTSTAMP:20260421T095008
CREATED:20250602T211753Z
LAST-MODIFIED:20250603T191844Z
UID:10193483-1819378800-1819381500@spacecenter.org
SUMMARY:Down to Earth: The Astronaut's Perspective Film
DESCRIPTION:
URL:https://spacecenter.org/events-calendar-event/down-to-earth-the-astronauts-perspective-film-4/2027-08-27/
LOCATION:Mission Briefing Center
CATEGORIES:Film
ATTACH;FMTTYPE=image/jpeg:https://spacecenter.org/wp-content/uploads/2025/02/profdeveducators1.jpg
END:VEVENT
BEGIN:VEVENT
DTSTART;TZID=America/Chicago:20270827T151500
DTEND;TZID=America/Chicago:20270827T153000
DTSTAMP:20260421T095008
CREATED:20250602T213249Z
LAST-MODIFIED:20250603T191942Z
UID:10197139-1819379700-1819380600@spacecenter.org
SUMMARY:Story Corner Live Presentation
DESCRIPTION:
URL:https://spacecenter.org/events-calendar-event/story-corner-live-presentation-4/2027-08-27/
LOCATION:Theater – Artemis
CATEGORIES:Live Presentation
END:VEVENT
BEGIN:VEVENT
DTSTART;TZID=America/Chicago:20270827T153000
DTEND;TZID=America/Chicago:20270827T162000
DTSTAMP:20260421T095008
CREATED:20250602T215646Z
LAST-MODIFIED:20260115T171957Z
UID:10200795-1819380600-1819383600@spacecenter.org
SUMMARY:The Moonwalkers: A Journey with Tom Hanks
DESCRIPTION:Test description
URL:https://spacecenter.org/events-calendar-event/the-moonwalkers-a-journey-with-tom-hanks-6/2027-08-27/
LOCATION:Theater – Space Center
CATEGORIES:Film
ATTACH;FMTTYPE=image/png:https://spacecenter.org/wp-content/uploads/2025/03/moonwalkers.png
END:VEVENT
BEGIN:VEVENT
DTSTART;TZID=America/Chicago:20270827T153000
DTEND;TZID=America/Chicago:20270827T163000
DTSTAMP:20260421T095008
CREATED:20250602T210404Z
LAST-MODIFIED:20250603T192048Z
UID:10204451-1819380600-1819384200@spacecenter.org
SUMMARY:Astronaut Training Facility Tram Tour
DESCRIPTION:
URL:https://spacecenter.org/events-calendar-event/astronaut-training-facility-tram-tour-6/2027-08-27/
LOCATION:Tram Boarding Area
CATEGORIES:Tram Tour
ATTACH;FMTTYPE=image/jpeg:https://spacecenter.org/wp-content/uploads/2022/07/IMG_2943.jpg
END:VEVENT
BEGIN:VEVENT
DTSTART;TZID=America/Chicago:20270827T154500
DTEND;TZID=America/Chicago:20270827T161500
DTSTAMP:20260421T095008
CREATED:20250602T214125Z
LAST-MODIFIED:20250603T192119Z
UID:10208107-1819381500-1819383300@spacecenter.org
SUMMARY:Artemis Live Presentation
DESCRIPTION:
URL:https://spacecenter.org/events-calendar-event/artemis-live-presentation-3/2027-08-27/
LOCATION:Theater – Destiny
CATEGORIES:Live Presentation
ATTACH;FMTTYPE=image/jpeg:https://spacecenter.org/wp-content/uploads/2022/10/Artemis-Capsule.jpeg
END:VEVENT
BEGIN:VEVENT
DTSTART;TZID=America/Chicago:20270827T160000
DTEND;TZID=America/Chicago:20270827T164500
DTSTAMP:20260421T095008
CREATED:20250602T211841Z
LAST-MODIFIED:20250603T192151Z
UID:10211763-1819382400-1819385100@spacecenter.org
SUMMARY:Down to Earth: The Astronaut's Perspective Film
DESCRIPTION:
URL:https://spacecenter.org/events-calendar-event/down-to-earth-the-astronauts-perspective-film-5/2027-08-27/
LOCATION:Mission Briefing Center
CATEGORIES:Film
ATTACH;FMTTYPE=image/jpeg:https://spacecenter.org/wp-content/uploads/2025/02/profdeveducators1.jpg
END:VEVENT
BEGIN:VEVENT
DTSTART;TZID=America/Chicago:20270827T163000
DTEND;TZID=America/Chicago:20270827T164500
DTSTAMP:20260421T095008
CREATED:20250602T212726Z
LAST-MODIFIED:20250603T192225Z
UID:10215419-1819384200-1819385100@spacecenter.org
SUMMARY:OSIRIS Rex Live Presentation
DESCRIPTION:
URL:https://spacecenter.org/events-calendar-event/osiris-rex-live-presentation-3/2027-08-27/
LOCATION:Mission Sketch Staircase
CATEGORIES:Live Presentation
ATTACH;FMTTYPE=image/jpeg:https://spacecenter.org/wp-content/uploads/2024/03/web-march2024_tls_osirisrex.jpg
END:VEVENT
BEGIN:VEVENT
DTSTART;TZID=America/Chicago:20270828T101500
DTEND;TZID=America/Chicago:20270828T103000
DTSTAMP:20260421T095008
CREATED:20250602T214310Z
LAST-MODIFIED:20250603T184018Z
UID:10083804-1819448100-1819449000@spacecenter.org
SUMMARY:Human Destiny Film
DESCRIPTION:
URL:https://spacecenter.org/events-calendar-event/human-destiny-film/2027-08-28/
LOCATION:Theater – Destiny
CATEGORIES:Film
ATTACH;FMTTYPE=image/jpeg:https://spacecenter.org/wp-content/uploads/2022/10/Destiny-Theater.jpg
END:VEVENT
BEGIN:VEVENT
DTSTART;TZID=America/Chicago:20270828T101500
DTEND;TZID=America/Chicago:20270828T110000
DTSTAMP:20260421T095008
CREATED:20250602T204328Z
LAST-MODIFIED:20250603T184302Z
UID:10085632-1819448100-1819450800@spacecenter.org
SUMMARY:Rocket Park Tram Tour
DESCRIPTION:
URL:https://spacecenter.org/events-calendar-event/rocket-park-tram-tour/2027-08-28/
LOCATION:Tram Boarding Area
CATEGORIES:Tram Tour
ATTACH;FMTTYPE=image/jpeg:https://spacecenter.org/wp-content/uploads/2024/10/rocket-park.jpg
END:VEVENT
BEGIN:VEVENT
DTSTART;TZID=America/Chicago:20270828T103000
DTEND;TZID=America/Chicago:20270828T104500
DTSTAMP:20260421T095008
CREATED:20250602T214417Z
LAST-MODIFIED:20250603T184348Z
UID:10087460-1819449000-1819449900@spacecenter.org
SUMMARY:Human Destiny Film
DESCRIPTION:
URL:https://spacecenter.org/events-calendar-event/human-destiny-film-2/2027-08-28/
LOCATION:Theater – Destiny
CATEGORIES:Film
ATTACH;FMTTYPE=image/jpeg:https://spacecenter.org/wp-content/uploads/2022/10/Destiny-Theater.jpg
END:VEVENT
BEGIN:VEVENT
DTSTART;TZID=America/Chicago:20270828T103000
DTEND;TZID=America/Chicago:20270828T112000
DTSTAMP:20260421T095008
CREATED:20250602T215207Z
LAST-MODIFIED:20250603T184552Z
UID:10091116-1819449000-1819452000@spacecenter.org
SUMMARY:The Moonwalkers: A Journey with Tom Hanks
DESCRIPTION:
URL:https://spacecenter.org/events-calendar-event/the-moonwalkers-a-journey-with-tom-hanks/2027-08-28/
LOCATION:Theater – Space Center
CATEGORIES:Film
ATTACH;FMTTYPE=image/png:https://spacecenter.org/wp-content/uploads/2025/03/moonwalkers.png
END:VEVENT
BEGIN:VEVENT
DTSTART;TZID=America/Chicago:20270828T103000
DTEND;TZID=America/Chicago:20270828T113000
DTSTAMP:20260421T095008
CREATED:20250602T205851Z
LAST-MODIFIED:20250603T184720Z
UID:10094772-1819449000-1819452600@spacecenter.org
SUMMARY:Astronaut Training Facility Tram Tour
DESCRIPTION:
URL:https://spacecenter.org/events-calendar-event/astronaut-training-facility-tram-tour/2027-08-28/
LOCATION:Tram Boarding Area
CATEGORIES:Tram Tour
ATTACH;FMTTYPE=image/jpeg:https://spacecenter.org/wp-content/uploads/2022/07/IMG_2943.jpg
END:VEVENT
BEGIN:VEVENT
DTSTART;TZID=America/Chicago:20270828T104000
DTEND;TZID=America/Chicago:20270828T112000
DTSTAMP:20260421T095008
CREATED:20250602T205945Z
LAST-MODIFIED:20250603T185259Z
UID:10098428-1819449600-1819452000@spacecenter.org
SUMMARY:Apollo Mission Control Tram Tour
DESCRIPTION:
URL:https://spacecenter.org/events-calendar-event/apollo-mission-control-tram-tour/2027-08-28/
LOCATION:Tram Boarding Area
CATEGORIES:Tram Tour
ATTACH;FMTTYPE=image/jpeg:https://spacecenter.org/wp-content/uploads/2022/09/Apollo-10-web.jpeg
END:VEVENT
BEGIN:VEVENT
DTSTART;TZID=America/Chicago:20270828T104500
DTEND;TZID=America/Chicago:20270828T110000
DTSTAMP:20260421T095008
CREATED:20250602T212526Z
LAST-MODIFIED:20250603T185502Z
UID:10102084-1819449900-1819450800@spacecenter.org
SUMMARY:OSIRIS Rex Live Presentation
DESCRIPTION:
URL:https://spacecenter.org/events-calendar-event/osiris-rex-live-presentation/2027-08-28/
LOCATION:Mission Sketch Staircase
CATEGORIES:Live Presentation
ATTACH;FMTTYPE=image/jpeg:https://spacecenter.org/wp-content/uploads/2024/03/web-march2024_tls_osirisrex.jpg
END:VEVENT
BEGIN:VEVENT
DTSTART;TZID=America/Chicago:20270828T104500
DTEND;TZID=America/Chicago:20270828T110000
DTSTAMP:20260421T095008
CREATED:20250602T214618Z
LAST-MODIFIED:20250603T185541Z
UID:10105740-1819449900-1819450800@spacecenter.org
SUMMARY:Human Destiny Film
DESCRIPTION:
URL:https://spacecenter.org/events-calendar-event/human-destiny-film-3/2027-08-28/
LOCATION:Theater – Destiny
CATEGORIES:Film
ATTACH;FMTTYPE=image/jpeg:https://spacecenter.org/wp-content/uploads/2022/10/Destiny-Theater.jpg
END:VEVENT
BEGIN:VEVENT
DTSTART;TZID=America/Chicago:20270828T104500
DTEND;TZID=America/Chicago:20270828T111500
DTSTAMP:20260421T095008
CREATED:20250602T213905Z
LAST-MODIFIED:20250603T185637Z
UID:10109396-1819449900-1819451700@spacecenter.org
SUMMARY:Artemis Live Presentation
DESCRIPTION:
URL:https://spacecenter.org/events-calendar-event/artemis-live-presentation/2027-08-28/
LOCATION:Theater – Destiny
CATEGORIES:Live Presentation
ATTACH;FMTTYPE=image/jpeg:https://spacecenter.org/wp-content/uploads/2022/10/Artemis-Capsule.jpeg
END:VEVENT
BEGIN:VEVENT
DTSTART;TZID=America/Chicago:20270828T110000
DTEND;TZID=America/Chicago:20270828T111500
DTSTAMP:20260421T095008
CREATED:20250602T214802Z
LAST-MODIFIED:20250603T185720Z
UID:10113052-1819450800-1819451700@spacecenter.org
SUMMARY:Human Destiny Film
DESCRIPTION:
URL:https://spacecenter.org/events-calendar-event/human-destiny-film-4/2027-08-28/
LOCATION:Theater – Destiny
CATEGORIES:Film
ATTACH;FMTTYPE=image/jpeg:https://spacecenter.org/wp-content/uploads/2022/10/Destiny-Theater.jpg
END:VEVENT
BEGIN:VEVENT
DTSTART;TZID=America/Chicago:20270828T110000
DTEND;TZID=America/Chicago:20270828T114500
DTSTAMP:20260421T095008
CREATED:20250602T210952Z
LAST-MODIFIED:20250603T185820Z
UID:10116708-1819450800-1819453500@spacecenter.org
SUMMARY:Down to Earth: The Astronaut's Perspective Film
DESCRIPTION:
URL:https://spacecenter.org/events-calendar-event/down-to-earth-the-astronauts-perspective-film/2027-08-28/
LOCATION:Mission Briefing Center
CATEGORIES:Film
ATTACH;FMTTYPE=image/jpeg:https://spacecenter.org/wp-content/uploads/2025/02/profdeveducators1.jpg
END:VEVENT
BEGIN:VEVENT
DTSTART;TZID=America/Chicago:20270828T111500
DTEND;TZID=America/Chicago:20270828T113000
DTSTAMP:20260421T095008
CREATED:20250602T213010Z
LAST-MODIFIED:20250603T185901Z
UID:10120364-1819451700-1819452600@spacecenter.org
SUMMARY:Story Corner Live Presentation
DESCRIPTION:
URL:https://spacecenter.org/events-calendar-event/story-corner-live-presentation/2027-08-28/
LOCATION:Theater – Artemis
CATEGORIES:Live Presentation
END:VEVENT
BEGIN:VEVENT
DTSTART;TZID=America/Chicago:20270828T111500
DTEND;TZID=America/Chicago:20270828T113000
DTSTAMP:20260421T095008
CREATED:20250602T214855Z
LAST-MODIFIED:20250603T185944Z
UID:10124020-1819451700-1819452600@spacecenter.org
SUMMARY:Human Destiny Film
DESCRIPTION:
URL:https://spacecenter.org/events-calendar-event/human-destiny-film-5/2027-08-28/
LOCATION:Theater – Destiny
CATEGORIES:Film
ATTACH;FMTTYPE=image/jpeg:https://spacecenter.org/wp-content/uploads/2022/10/Destiny-Theater.jpg
END:VEVENT
BEGIN:VEVENT
DTSTART;TZID=America/Chicago:20270828T113000
DTEND;TZID=America/Chicago:20270828T114500
DTSTAMP:20260421T095008
CREATED:20250602T214945Z
LAST-MODIFIED:20250603T190019Z
UID:10127676-1819452600-1819453500@spacecenter.org
SUMMARY:Human Destiny Film
DESCRIPTION:
URL:https://spacecenter.org/events-calendar-event/human-destiny-film-6/2027-08-28/
LOCATION:Theater – Destiny
CATEGORIES:Film
ATTACH;FMTTYPE=image/jpeg:https://spacecenter.org/wp-content/uploads/2022/10/Destiny-Theater.jpg
END:VEVENT
BEGIN:VEVENT
DTSTART;TZID=America/Chicago:20270828T113000
DTEND;TZID=America/Chicago:20270828T122000
DTSTAMP:20260421T095008
CREATED:20250602T215324Z
LAST-MODIFIED:20250603T190108Z
UID:10131332-1819452600-1819455600@spacecenter.org
SUMMARY:The Moonwalkers: A Journey with Tom Hanks
DESCRIPTION:
URL:https://spacecenter.org/events-calendar-event/the-moonwalkers-a-journey-with-tom-hanks-2/2027-08-28/
LOCATION:Theater – Space Center
CATEGORIES:Film
ATTACH;FMTTYPE=image/png:https://spacecenter.org/wp-content/uploads/2025/03/moonwalkers.png
END:VEVENT
BEGIN:VEVENT
DTSTART;TZID=America/Chicago:20270828T113000
DTEND;TZID=America/Chicago:20270828T123000
DTSTAMP:20260421T095008
CREATED:20250602T210031Z
LAST-MODIFIED:20250603T190211Z
UID:10134988-1819452600-1819456200@spacecenter.org
SUMMARY:Astronaut Training Facility Tram Tour
DESCRIPTION:
URL:https://spacecenter.org/events-calendar-event/astronaut-training-facility-tram-tour-2/2027-08-28/
LOCATION:Tram Boarding Area
CATEGORIES:Tram Tour
ATTACH;FMTTYPE=image/jpeg:https://spacecenter.org/wp-content/uploads/2022/07/IMG_2943.jpg
END:VEVENT
BEGIN:VEVENT
DTSTART;TZID=America/Chicago:20270828T114500
DTEND;TZID=America/Chicago:20270828T120000
DTSTAMP:20260421T095008
CREATED:20250602T213503Z
LAST-MODIFIED:20250603T190256Z
UID:10138644-1819453500-1819454400@spacecenter.org
SUMMARY:James Webb Live Presentation
DESCRIPTION:
URL:https://spacecenter.org/events-calendar-event/james-webb-live-presentation/2027-08-28/
LOCATION:Theater – Destiny
CATEGORIES:Live Presentation
END:VEVENT
BEGIN:VEVENT
DTSTART;TZID=America/Chicago:20270828T121500
DTEND;TZID=America/Chicago:20270828T123000
DTSTAMP:20260421T095008
CREATED:20250602T213059Z
LAST-MODIFIED:20250603T190345Z
UID:10142300-1819455300-1819456200@spacecenter.org
SUMMARY:Story Corner Live Presentation
DESCRIPTION:
URL:https://spacecenter.org/events-calendar-event/story-corner-live-presentation-2/2027-08-28/
LOCATION:Theater – Artemis
CATEGORIES:Live Presentation
END:VEVENT
BEGIN:VEVENT
DTSTART;TZID=America/Chicago:20270828T123000
DTEND;TZID=America/Chicago:20270828T132000
DTSTAMP:20260421T095008
CREATED:20250602T215422Z
LAST-MODIFIED:20250603T190647Z
UID:10145956-1819456200-1819459200@spacecenter.org
SUMMARY:The Moonwalkers: A Journey with Tom Hanks
DESCRIPTION:
URL:https://spacecenter.org/events-calendar-event/the-moonwalkers-a-journey-with-tom-hanks-3/2027-08-28/
LOCATION:Theater – Space Center
CATEGORIES:Film
ATTACH;FMTTYPE=image/png:https://spacecenter.org/wp-content/uploads/2025/03/moonwalkers.png
END:VEVENT
BEGIN:VEVENT
DTSTART;TZID=America/Chicago:20270828T123000
DTEND;TZID=America/Chicago:20270828T133000
DTSTAMP:20260421T095008
CREATED:20250602T210135Z
LAST-MODIFIED:20250603T190719Z
UID:10149612-1819456200-1819459800@spacecenter.org
SUMMARY:Astronaut Training Facility Tram Tour
DESCRIPTION:
URL:https://spacecenter.org/events-calendar-event/astronaut-training-facility-tram-tour-3/2027-08-28/
LOCATION:Tram Boarding Area
CATEGORIES:Tram Tour
ATTACH;FMTTYPE=image/jpeg:https://spacecenter.org/wp-content/uploads/2022/07/IMG_2943.jpg
END:VEVENT
END:VCALENDAR