BEGIN:VCALENDAR
VERSION:2.0
PRODID:-//Space Center Houston - ECPv6.15.15//NONSGML v1.0//EN
CALSCALE:GREGORIAN
METHOD:PUBLISH
X-ORIGINAL-URL:https://spacecenter.org
X-WR-CALDESC:Events for Space Center Houston
REFRESH-INTERVAL;VALUE=DURATION:PT1H
X-Robots-Tag:noindex
X-PUBLISHED-TTL:PT1H
BEGIN:VTIMEZONE
TZID:America/Chicago
BEGIN:DAYLIGHT
TZOFFSETFROM:-0600
TZOFFSETTO:-0500
TZNAME:CDT
DTSTART:20240310T080000
END:DAYLIGHT
BEGIN:STANDARD
TZOFFSETFROM:-0500
TZOFFSETTO:-0600
TZNAME:CST
DTSTART:20241103T070000
END:STANDARD
BEGIN:DAYLIGHT
TZOFFSETFROM:-0600
TZOFFSETTO:-0500
TZNAME:CDT
DTSTART:20250309T080000
END:DAYLIGHT
BEGIN:STANDARD
TZOFFSETFROM:-0500
TZOFFSETTO:-0600
TZNAME:CST
DTSTART:20251102T070000
END:STANDARD
BEGIN:DAYLIGHT
TZOFFSETFROM:-0600
TZOFFSETTO:-0500
TZNAME:CDT
DTSTART:20260308T080000
END:DAYLIGHT
BEGIN:STANDARD
TZOFFSETFROM:-0500
TZOFFSETTO:-0600
TZNAME:CST
DTSTART:20261101T070000
END:STANDARD
END:VTIMEZONE
BEGIN:VEVENT
DTSTART;TZID=America/Chicago:20250824T101500
DTEND;TZID=America/Chicago:20250824T110000
DTSTAMP:20260422T010533
CREATED:20250602T204328Z
LAST-MODIFIED:20250603T184302Z
UID:10084898-1756030500-1756033200@spacecenter.org
SUMMARY:Rocket Park Tram Tour
DESCRIPTION:
URL:https://spacecenter.org/events-calendar-event/rocket-park-tram-tour/2025-08-24/
LOCATION:Tram Boarding Area
CATEGORIES:Tram Tour
ATTACH;FMTTYPE=image/jpeg:https://spacecenter.org/wp-content/uploads/2024/10/rocket-park.jpg
END:VEVENT
BEGIN:VEVENT
DTSTART;TZID=America/Chicago:20250824T103000
DTEND;TZID=America/Chicago:20250824T113000
DTSTAMP:20260422T010533
CREATED:20250602T205851Z
LAST-MODIFIED:20250603T184720Z
UID:10094038-1756031400-1756035000@spacecenter.org
SUMMARY:Astronaut Training Facility Tram Tour
DESCRIPTION:
URL:https://spacecenter.org/events-calendar-event/astronaut-training-facility-tram-tour/2025-08-24/
LOCATION:Tram Boarding Area
CATEGORIES:Tram Tour
ATTACH;FMTTYPE=image/jpeg:https://spacecenter.org/wp-content/uploads/2022/07/IMG_2943.jpg
END:VEVENT
BEGIN:VEVENT
DTSTART;TZID=America/Chicago:20250824T104000
DTEND;TZID=America/Chicago:20250824T112000
DTSTAMP:20260422T010533
CREATED:20250602T205945Z
LAST-MODIFIED:20250603T185259Z
UID:10097694-1756032000-1756034400@spacecenter.org
SUMMARY:Apollo Mission Control Tram Tour
DESCRIPTION:
URL:https://spacecenter.org/events-calendar-event/apollo-mission-control-tram-tour/2025-08-24/
LOCATION:Tram Boarding Area
CATEGORIES:Tram Tour
ATTACH;FMTTYPE=image/jpeg:https://spacecenter.org/wp-content/uploads/2022/09/Apollo-10-web.jpeg
END:VEVENT
BEGIN:VEVENT
DTSTART;TZID=America/Chicago:20250824T113000
DTEND;TZID=America/Chicago:20250824T123000
DTSTAMP:20260422T010533
CREATED:20250602T210031Z
LAST-MODIFIED:20250603T190211Z
UID:10134254-1756035000-1756038600@spacecenter.org
SUMMARY:Astronaut Training Facility Tram Tour
DESCRIPTION:
URL:https://spacecenter.org/events-calendar-event/astronaut-training-facility-tram-tour-2/2025-08-24/
LOCATION:Tram Boarding Area
CATEGORIES:Tram Tour
ATTACH;FMTTYPE=image/jpeg:https://spacecenter.org/wp-content/uploads/2022/07/IMG_2943.jpg
END:VEVENT
BEGIN:VEVENT
DTSTART;TZID=America/Chicago:20250824T123000
DTEND;TZID=America/Chicago:20250824T133000
DTSTAMP:20260422T010533
CREATED:20250602T210135Z
LAST-MODIFIED:20250603T190719Z
UID:10148878-1756038600-1756042200@spacecenter.org
SUMMARY:Astronaut Training Facility Tram Tour
DESCRIPTION:
URL:https://spacecenter.org/events-calendar-event/astronaut-training-facility-tram-tour-3/2025-08-24/
LOCATION:Tram Boarding Area
CATEGORIES:Tram Tour
ATTACH;FMTTYPE=image/jpeg:https://spacecenter.org/wp-content/uploads/2022/07/IMG_2943.jpg
END:VEVENT
BEGIN:VEVENT
DTSTART;TZID=America/Chicago:20250824T133000
DTEND;TZID=America/Chicago:20250824T143000
DTSTAMP:20260422T010533
CREATED:20250602T210232Z
LAST-MODIFIED:20250603T191037Z
UID:10167158-1756042200-1756045800@spacecenter.org
SUMMARY:Astronaut Training Facility Tram Tour
DESCRIPTION:
URL:https://spacecenter.org/events-calendar-event/astronaut-training-facility-tram-tour-4/2025-08-24/
LOCATION:Tram Boarding Area
CATEGORIES:Tram Tour
ATTACH;FMTTYPE=image/jpeg:https://spacecenter.org/wp-content/uploads/2022/07/IMG_2943.jpg
END:VEVENT
BEGIN:VEVENT
DTSTART;TZID=America/Chicago:20250824T143000
DTEND;TZID=America/Chicago:20250824T153000
DTSTAMP:20260422T010533
CREATED:20250602T210317Z
LAST-MODIFIED:20250603T191717Z
UID:10185438-1756045800-1756049400@spacecenter.org
SUMMARY:Astronaut Training Facility Tram Tour
DESCRIPTION:
URL:https://spacecenter.org/events-calendar-event/astronaut-training-facility-tram-tour-5/2025-08-24/
LOCATION:Tram Boarding Area
CATEGORIES:Tram Tour
ATTACH;FMTTYPE=image/jpeg:https://spacecenter.org/wp-content/uploads/2022/07/IMG_2943.jpg
END:VEVENT
BEGIN:VEVENT
DTSTART;TZID=America/Chicago:20250824T153000
DTEND;TZID=America/Chicago:20250824T163000
DTSTAMP:20260422T010533
CREATED:20250602T210404Z
LAST-MODIFIED:20250603T192048Z
UID:10203718-1756049400-1756053000@spacecenter.org
SUMMARY:Astronaut Training Facility Tram Tour
DESCRIPTION:
URL:https://spacecenter.org/events-calendar-event/astronaut-training-facility-tram-tour-6/2025-08-24/
LOCATION:Tram Boarding Area
CATEGORIES:Tram Tour
ATTACH;FMTTYPE=image/jpeg:https://spacecenter.org/wp-content/uploads/2022/07/IMG_2943.jpg
END:VEVENT
BEGIN:VEVENT
DTSTART;TZID=America/Chicago:20250825T101500
DTEND;TZID=America/Chicago:20250825T110000
DTSTAMP:20260422T010533
CREATED:20250602T204328Z
LAST-MODIFIED:20250603T184302Z
UID:10084899-1756116900-1756119600@spacecenter.org
SUMMARY:Rocket Park Tram Tour
DESCRIPTION:
URL:https://spacecenter.org/events-calendar-event/rocket-park-tram-tour/2025-08-25/
LOCATION:Tram Boarding Area
CATEGORIES:Tram Tour
ATTACH;FMTTYPE=image/jpeg:https://spacecenter.org/wp-content/uploads/2024/10/rocket-park.jpg
END:VEVENT
BEGIN:VEVENT
DTSTART;TZID=America/Chicago:20250825T103000
DTEND;TZID=America/Chicago:20250825T113000
DTSTAMP:20260422T010533
CREATED:20250602T205851Z
LAST-MODIFIED:20250603T184720Z
UID:10094039-1756117800-1756121400@spacecenter.org
SUMMARY:Astronaut Training Facility Tram Tour
DESCRIPTION:
URL:https://spacecenter.org/events-calendar-event/astronaut-training-facility-tram-tour/2025-08-25/
LOCATION:Tram Boarding Area
CATEGORIES:Tram Tour
ATTACH;FMTTYPE=image/jpeg:https://spacecenter.org/wp-content/uploads/2022/07/IMG_2943.jpg
END:VEVENT
BEGIN:VEVENT
DTSTART;TZID=America/Chicago:20250825T104000
DTEND;TZID=America/Chicago:20250825T112000
DTSTAMP:20260422T010533
CREATED:20250602T205945Z
LAST-MODIFIED:20250603T185259Z
UID:10097695-1756118400-1756120800@spacecenter.org
SUMMARY:Apollo Mission Control Tram Tour
DESCRIPTION:
URL:https://spacecenter.org/events-calendar-event/apollo-mission-control-tram-tour/2025-08-25/
LOCATION:Tram Boarding Area
CATEGORIES:Tram Tour
ATTACH;FMTTYPE=image/jpeg:https://spacecenter.org/wp-content/uploads/2022/09/Apollo-10-web.jpeg
END:VEVENT
BEGIN:VEVENT
DTSTART;TZID=America/Chicago:20250825T113000
DTEND;TZID=America/Chicago:20250825T123000
DTSTAMP:20260422T010533
CREATED:20250602T210031Z
LAST-MODIFIED:20250603T190211Z
UID:10134255-1756121400-1756125000@spacecenter.org
SUMMARY:Astronaut Training Facility Tram Tour
DESCRIPTION:
URL:https://spacecenter.org/events-calendar-event/astronaut-training-facility-tram-tour-2/2025-08-25/
LOCATION:Tram Boarding Area
CATEGORIES:Tram Tour
ATTACH;FMTTYPE=image/jpeg:https://spacecenter.org/wp-content/uploads/2022/07/IMG_2943.jpg
END:VEVENT
BEGIN:VEVENT
DTSTART;TZID=America/Chicago:20250825T123000
DTEND;TZID=America/Chicago:20250825T133000
DTSTAMP:20260422T010533
CREATED:20250602T210135Z
LAST-MODIFIED:20250603T190719Z
UID:10148879-1756125000-1756128600@spacecenter.org
SUMMARY:Astronaut Training Facility Tram Tour
DESCRIPTION:
URL:https://spacecenter.org/events-calendar-event/astronaut-training-facility-tram-tour-3/2025-08-25/
LOCATION:Tram Boarding Area
CATEGORIES:Tram Tour
ATTACH;FMTTYPE=image/jpeg:https://spacecenter.org/wp-content/uploads/2022/07/IMG_2943.jpg
END:VEVENT
BEGIN:VEVENT
DTSTART;TZID=America/Chicago:20250825T133000
DTEND;TZID=America/Chicago:20250825T143000
DTSTAMP:20260422T010533
CREATED:20250602T210232Z
LAST-MODIFIED:20250603T191037Z
UID:10167159-1756128600-1756132200@spacecenter.org
SUMMARY:Astronaut Training Facility Tram Tour
DESCRIPTION:
URL:https://spacecenter.org/events-calendar-event/astronaut-training-facility-tram-tour-4/2025-08-25/
LOCATION:Tram Boarding Area
CATEGORIES:Tram Tour
ATTACH;FMTTYPE=image/jpeg:https://spacecenter.org/wp-content/uploads/2022/07/IMG_2943.jpg
END:VEVENT
BEGIN:VEVENT
DTSTART;TZID=America/Chicago:20250825T143000
DTEND;TZID=America/Chicago:20250825T153000
DTSTAMP:20260422T010533
CREATED:20250602T210317Z
LAST-MODIFIED:20250603T191717Z
UID:10185439-1756132200-1756135800@spacecenter.org
SUMMARY:Astronaut Training Facility Tram Tour
DESCRIPTION:
URL:https://spacecenter.org/events-calendar-event/astronaut-training-facility-tram-tour-5/2025-08-25/
LOCATION:Tram Boarding Area
CATEGORIES:Tram Tour
ATTACH;FMTTYPE=image/jpeg:https://spacecenter.org/wp-content/uploads/2022/07/IMG_2943.jpg
END:VEVENT
BEGIN:VEVENT
DTSTART;TZID=America/Chicago:20250825T153000
DTEND;TZID=America/Chicago:20250825T163000
DTSTAMP:20260422T010533
CREATED:20250602T210404Z
LAST-MODIFIED:20250603T192048Z
UID:10203719-1756135800-1756139400@spacecenter.org
SUMMARY:Astronaut Training Facility Tram Tour
DESCRIPTION:
URL:https://spacecenter.org/events-calendar-event/astronaut-training-facility-tram-tour-6/2025-08-25/
LOCATION:Tram Boarding Area
CATEGORIES:Tram Tour
ATTACH;FMTTYPE=image/jpeg:https://spacecenter.org/wp-content/uploads/2022/07/IMG_2943.jpg
END:VEVENT
BEGIN:VEVENT
DTSTART;TZID=America/Chicago:20250826T101500
DTEND;TZID=America/Chicago:20250826T110000
DTSTAMP:20260422T010533
CREATED:20250602T204328Z
LAST-MODIFIED:20250603T184302Z
UID:10084900-1756203300-1756206000@spacecenter.org
SUMMARY:Rocket Park Tram Tour
DESCRIPTION:
URL:https://spacecenter.org/events-calendar-event/rocket-park-tram-tour/2025-08-26/
LOCATION:Tram Boarding Area
CATEGORIES:Tram Tour
ATTACH;FMTTYPE=image/jpeg:https://spacecenter.org/wp-content/uploads/2024/10/rocket-park.jpg
END:VEVENT
BEGIN:VEVENT
DTSTART;TZID=America/Chicago:20250826T103000
DTEND;TZID=America/Chicago:20250826T113000
DTSTAMP:20260422T010533
CREATED:20250602T205851Z
LAST-MODIFIED:20250603T184720Z
UID:10094040-1756204200-1756207800@spacecenter.org
SUMMARY:Astronaut Training Facility Tram Tour
DESCRIPTION:
URL:https://spacecenter.org/events-calendar-event/astronaut-training-facility-tram-tour/2025-08-26/
LOCATION:Tram Boarding Area
CATEGORIES:Tram Tour
ATTACH;FMTTYPE=image/jpeg:https://spacecenter.org/wp-content/uploads/2022/07/IMG_2943.jpg
END:VEVENT
BEGIN:VEVENT
DTSTART;TZID=America/Chicago:20250826T104000
DTEND;TZID=America/Chicago:20250826T112000
DTSTAMP:20260422T010533
CREATED:20250602T205945Z
LAST-MODIFIED:20250603T185259Z
UID:10097696-1756204800-1756207200@spacecenter.org
SUMMARY:Apollo Mission Control Tram Tour
DESCRIPTION:
URL:https://spacecenter.org/events-calendar-event/apollo-mission-control-tram-tour/2025-08-26/
LOCATION:Tram Boarding Area
CATEGORIES:Tram Tour
ATTACH;FMTTYPE=image/jpeg:https://spacecenter.org/wp-content/uploads/2022/09/Apollo-10-web.jpeg
END:VEVENT
BEGIN:VEVENT
DTSTART;TZID=America/Chicago:20250826T113000
DTEND;TZID=America/Chicago:20250826T123000
DTSTAMP:20260422T010533
CREATED:20250602T210031Z
LAST-MODIFIED:20250603T190211Z
UID:10134256-1756207800-1756211400@spacecenter.org
SUMMARY:Astronaut Training Facility Tram Tour
DESCRIPTION:
URL:https://spacecenter.org/events-calendar-event/astronaut-training-facility-tram-tour-2/2025-08-26/
LOCATION:Tram Boarding Area
CATEGORIES:Tram Tour
ATTACH;FMTTYPE=image/jpeg:https://spacecenter.org/wp-content/uploads/2022/07/IMG_2943.jpg
END:VEVENT
BEGIN:VEVENT
DTSTART;TZID=America/Chicago:20250826T123000
DTEND;TZID=America/Chicago:20250826T133000
DTSTAMP:20260422T010533
CREATED:20250602T210135Z
LAST-MODIFIED:20250603T190719Z
UID:10148880-1756211400-1756215000@spacecenter.org
SUMMARY:Astronaut Training Facility Tram Tour
DESCRIPTION:
URL:https://spacecenter.org/events-calendar-event/astronaut-training-facility-tram-tour-3/2025-08-26/
LOCATION:Tram Boarding Area
CATEGORIES:Tram Tour
ATTACH;FMTTYPE=image/jpeg:https://spacecenter.org/wp-content/uploads/2022/07/IMG_2943.jpg
END:VEVENT
BEGIN:VEVENT
DTSTART;TZID=America/Chicago:20250826T133000
DTEND;TZID=America/Chicago:20250826T143000
DTSTAMP:20260422T010533
CREATED:20250602T210232Z
LAST-MODIFIED:20250603T191037Z
UID:10167160-1756215000-1756218600@spacecenter.org
SUMMARY:Astronaut Training Facility Tram Tour
DESCRIPTION:
URL:https://spacecenter.org/events-calendar-event/astronaut-training-facility-tram-tour-4/2025-08-26/
LOCATION:Tram Boarding Area
CATEGORIES:Tram Tour
ATTACH;FMTTYPE=image/jpeg:https://spacecenter.org/wp-content/uploads/2022/07/IMG_2943.jpg
END:VEVENT
BEGIN:VEVENT
DTSTART;TZID=America/Chicago:20250826T143000
DTEND;TZID=America/Chicago:20250826T153000
DTSTAMP:20260422T010533
CREATED:20250602T210317Z
LAST-MODIFIED:20250603T191717Z
UID:10185440-1756218600-1756222200@spacecenter.org
SUMMARY:Astronaut Training Facility Tram Tour
DESCRIPTION:
URL:https://spacecenter.org/events-calendar-event/astronaut-training-facility-tram-tour-5/2025-08-26/
LOCATION:Tram Boarding Area
CATEGORIES:Tram Tour
ATTACH;FMTTYPE=image/jpeg:https://spacecenter.org/wp-content/uploads/2022/07/IMG_2943.jpg
END:VEVENT
BEGIN:VEVENT
DTSTART;TZID=America/Chicago:20250826T153000
DTEND;TZID=America/Chicago:20250826T163000
DTSTAMP:20260422T010533
CREATED:20250602T210404Z
LAST-MODIFIED:20250603T192048Z
UID:10203720-1756222200-1756225800@spacecenter.org
SUMMARY:Astronaut Training Facility Tram Tour
DESCRIPTION:
URL:https://spacecenter.org/events-calendar-event/astronaut-training-facility-tram-tour-6/2025-08-26/
LOCATION:Tram Boarding Area
CATEGORIES:Tram Tour
ATTACH;FMTTYPE=image/jpeg:https://spacecenter.org/wp-content/uploads/2022/07/IMG_2943.jpg
END:VEVENT
BEGIN:VEVENT
DTSTART;TZID=America/Chicago:20250827T101500
DTEND;TZID=America/Chicago:20250827T110000
DTSTAMP:20260422T010533
CREATED:20250602T204328Z
LAST-MODIFIED:20250603T184302Z
UID:10084901-1756289700-1756292400@spacecenter.org
SUMMARY:Rocket Park Tram Tour
DESCRIPTION:
URL:https://spacecenter.org/events-calendar-event/rocket-park-tram-tour/2025-08-27/
LOCATION:Tram Boarding Area
CATEGORIES:Tram Tour
ATTACH;FMTTYPE=image/jpeg:https://spacecenter.org/wp-content/uploads/2024/10/rocket-park.jpg
END:VEVENT
BEGIN:VEVENT
DTSTART;TZID=America/Chicago:20250827T103000
DTEND;TZID=America/Chicago:20250827T113000
DTSTAMP:20260422T010533
CREATED:20250602T205851Z
LAST-MODIFIED:20250603T184720Z
UID:10094041-1756290600-1756294200@spacecenter.org
SUMMARY:Astronaut Training Facility Tram Tour
DESCRIPTION:
URL:https://spacecenter.org/events-calendar-event/astronaut-training-facility-tram-tour/2025-08-27/
LOCATION:Tram Boarding Area
CATEGORIES:Tram Tour
ATTACH;FMTTYPE=image/jpeg:https://spacecenter.org/wp-content/uploads/2022/07/IMG_2943.jpg
END:VEVENT
BEGIN:VEVENT
DTSTART;TZID=America/Chicago:20250827T104000
DTEND;TZID=America/Chicago:20250827T112000
DTSTAMP:20260422T010533
CREATED:20250602T205945Z
LAST-MODIFIED:20250603T185259Z
UID:10097697-1756291200-1756293600@spacecenter.org
SUMMARY:Apollo Mission Control Tram Tour
DESCRIPTION:
URL:https://spacecenter.org/events-calendar-event/apollo-mission-control-tram-tour/2025-08-27/
LOCATION:Tram Boarding Area
CATEGORIES:Tram Tour
ATTACH;FMTTYPE=image/jpeg:https://spacecenter.org/wp-content/uploads/2022/09/Apollo-10-web.jpeg
END:VEVENT
BEGIN:VEVENT
DTSTART;TZID=America/Chicago:20250827T113000
DTEND;TZID=America/Chicago:20250827T123000
DTSTAMP:20260422T010533
CREATED:20250602T210031Z
LAST-MODIFIED:20250603T190211Z
UID:10134257-1756294200-1756297800@spacecenter.org
SUMMARY:Astronaut Training Facility Tram Tour
DESCRIPTION:
URL:https://spacecenter.org/events-calendar-event/astronaut-training-facility-tram-tour-2/2025-08-27/
LOCATION:Tram Boarding Area
CATEGORIES:Tram Tour
ATTACH;FMTTYPE=image/jpeg:https://spacecenter.org/wp-content/uploads/2022/07/IMG_2943.jpg
END:VEVENT
BEGIN:VEVENT
DTSTART;TZID=America/Chicago:20250827T123000
DTEND;TZID=America/Chicago:20250827T133000
DTSTAMP:20260422T010533
CREATED:20250602T210135Z
LAST-MODIFIED:20250603T190719Z
UID:10148881-1756297800-1756301400@spacecenter.org
SUMMARY:Astronaut Training Facility Tram Tour
DESCRIPTION:
URL:https://spacecenter.org/events-calendar-event/astronaut-training-facility-tram-tour-3/2025-08-27/
LOCATION:Tram Boarding Area
CATEGORIES:Tram Tour
ATTACH;FMTTYPE=image/jpeg:https://spacecenter.org/wp-content/uploads/2022/07/IMG_2943.jpg
END:VEVENT
BEGIN:VEVENT
DTSTART;TZID=America/Chicago:20250827T133000
DTEND;TZID=America/Chicago:20250827T143000
DTSTAMP:20260422T010533
CREATED:20250602T210232Z
LAST-MODIFIED:20250603T191037Z
UID:10167161-1756301400-1756305000@spacecenter.org
SUMMARY:Astronaut Training Facility Tram Tour
DESCRIPTION:
URL:https://spacecenter.org/events-calendar-event/astronaut-training-facility-tram-tour-4/2025-08-27/
LOCATION:Tram Boarding Area
CATEGORIES:Tram Tour
ATTACH;FMTTYPE=image/jpeg:https://spacecenter.org/wp-content/uploads/2022/07/IMG_2943.jpg
END:VEVENT
END:VCALENDAR