BEGIN:VCALENDAR
VERSION:2.0
PRODID:-//Space Center Houston - ECPv6.15.15//NONSGML v1.0//EN
CALSCALE:GREGORIAN
METHOD:PUBLISH
X-ORIGINAL-URL:https://spacecenter.org
X-WR-CALDESC:Events for Space Center Houston
REFRESH-INTERVAL;VALUE=DURATION:PT1H
X-Robots-Tag:noindex
X-PUBLISHED-TTL:PT1H
BEGIN:VTIMEZONE
TZID:America/Chicago
BEGIN:DAYLIGHT
TZOFFSETFROM:-0600
TZOFFSETTO:-0500
TZNAME:CDT
DTSTART:20290311T080000
END:DAYLIGHT
BEGIN:STANDARD
TZOFFSETFROM:-0500
TZOFFSETTO:-0600
TZNAME:CST
DTSTART:20291104T070000
END:STANDARD
BEGIN:DAYLIGHT
TZOFFSETFROM:-0600
TZOFFSETTO:-0500
TZNAME:CDT
DTSTART:20300310T080000
END:DAYLIGHT
BEGIN:STANDARD
TZOFFSETFROM:-0500
TZOFFSETTO:-0600
TZNAME:CST
DTSTART:20301103T070000
END:STANDARD
BEGIN:DAYLIGHT
TZOFFSETFROM:-0600
TZOFFSETTO:-0500
TZNAME:CDT
DTSTART:20310309T080000
END:DAYLIGHT
BEGIN:STANDARD
TZOFFSETFROM:-0500
TZOFFSETTO:-0600
TZNAME:CST
DTSTART:20311102T070000
END:STANDARD
END:VTIMEZONE
BEGIN:VEVENT
DTSTART;TZID=America/Chicago:20300321T104000
DTEND;TZID=America/Chicago:20300321T112000
DTSTAMP:20260419T184238
CREATED:20250602T205945Z
LAST-MODIFIED:20250603T185259Z
UID:10099364-1900320000-1900322400@spacecenter.org
SUMMARY:Apollo Mission Control Tram Tour
DESCRIPTION:
URL:https://spacecenter.org/events-calendar-event/apollo-mission-control-tram-tour/2030-03-21/
LOCATION:Tram Boarding Area
CATEGORIES:Tram Tour
ATTACH;FMTTYPE=image/jpeg:https://spacecenter.org/wp-content/uploads/2022/09/Apollo-10-web.jpeg
END:VEVENT
BEGIN:VEVENT
DTSTART;TZID=America/Chicago:20300321T113000
DTEND;TZID=America/Chicago:20300321T123000
DTSTAMP:20260419T184238
CREATED:20250602T210031Z
LAST-MODIFIED:20250603T190211Z
UID:10135924-1900323000-1900326600@spacecenter.org
SUMMARY:Astronaut Training Facility Tram Tour
DESCRIPTION:
URL:https://spacecenter.org/events-calendar-event/astronaut-training-facility-tram-tour-2/2030-03-21/
LOCATION:Tram Boarding Area
CATEGORIES:Tram Tour
ATTACH;FMTTYPE=image/jpeg:https://spacecenter.org/wp-content/uploads/2022/07/IMG_2943.jpg
END:VEVENT
BEGIN:VEVENT
DTSTART;TZID=America/Chicago:20300321T123000
DTEND;TZID=America/Chicago:20300321T133000
DTSTAMP:20260419T184238
CREATED:20250602T210135Z
LAST-MODIFIED:20250603T190719Z
UID:10150548-1900326600-1900330200@spacecenter.org
SUMMARY:Astronaut Training Facility Tram Tour
DESCRIPTION:
URL:https://spacecenter.org/events-calendar-event/astronaut-training-facility-tram-tour-3/2030-03-21/
LOCATION:Tram Boarding Area
CATEGORIES:Tram Tour
ATTACH;FMTTYPE=image/jpeg:https://spacecenter.org/wp-content/uploads/2022/07/IMG_2943.jpg
END:VEVENT
BEGIN:VEVENT
DTSTART;TZID=America/Chicago:20300321T133000
DTEND;TZID=America/Chicago:20300321T143000
DTSTAMP:20260419T184238
CREATED:20250602T210232Z
LAST-MODIFIED:20250603T191037Z
UID:10168828-1900330200-1900333800@spacecenter.org
SUMMARY:Astronaut Training Facility Tram Tour
DESCRIPTION:
URL:https://spacecenter.org/events-calendar-event/astronaut-training-facility-tram-tour-4/2030-03-21/
LOCATION:Tram Boarding Area
CATEGORIES:Tram Tour
ATTACH;FMTTYPE=image/jpeg:https://spacecenter.org/wp-content/uploads/2022/07/IMG_2943.jpg
END:VEVENT
BEGIN:VEVENT
DTSTART;TZID=America/Chicago:20300321T143000
DTEND;TZID=America/Chicago:20300321T153000
DTSTAMP:20260419T184238
CREATED:20250602T210317Z
LAST-MODIFIED:20250603T191717Z
UID:10187108-1900333800-1900337400@spacecenter.org
SUMMARY:Astronaut Training Facility Tram Tour
DESCRIPTION:
URL:https://spacecenter.org/events-calendar-event/astronaut-training-facility-tram-tour-5/2030-03-21/
LOCATION:Tram Boarding Area
CATEGORIES:Tram Tour
ATTACH;FMTTYPE=image/jpeg:https://spacecenter.org/wp-content/uploads/2022/07/IMG_2943.jpg
END:VEVENT
BEGIN:VEVENT
DTSTART;TZID=America/Chicago:20300321T153000
DTEND;TZID=America/Chicago:20300321T163000
DTSTAMP:20260419T184238
CREATED:20250602T210404Z
LAST-MODIFIED:20250603T192048Z
UID:10205388-1900337400-1900341000@spacecenter.org
SUMMARY:Astronaut Training Facility Tram Tour
DESCRIPTION:
URL:https://spacecenter.org/events-calendar-event/astronaut-training-facility-tram-tour-6/2030-03-21/
LOCATION:Tram Boarding Area
CATEGORIES:Tram Tour
ATTACH;FMTTYPE=image/jpeg:https://spacecenter.org/wp-content/uploads/2022/07/IMG_2943.jpg
END:VEVENT
BEGIN:VEVENT
DTSTART;TZID=America/Chicago:20300322T101500
DTEND;TZID=America/Chicago:20300322T110000
DTSTAMP:20260419T184238
CREATED:20250602T204328Z
LAST-MODIFIED:20250603T184302Z
UID:10086569-1900404900-1900407600@spacecenter.org
SUMMARY:Rocket Park Tram Tour
DESCRIPTION:
URL:https://spacecenter.org/events-calendar-event/rocket-park-tram-tour/2030-03-22/
LOCATION:Tram Boarding Area
CATEGORIES:Tram Tour
ATTACH;FMTTYPE=image/jpeg:https://spacecenter.org/wp-content/uploads/2024/10/rocket-park.jpg
END:VEVENT
BEGIN:VEVENT
DTSTART;TZID=America/Chicago:20300322T103000
DTEND;TZID=America/Chicago:20300322T113000
DTSTAMP:20260419T184238
CREATED:20250602T205851Z
LAST-MODIFIED:20250603T184720Z
UID:10095709-1900405800-1900409400@spacecenter.org
SUMMARY:Astronaut Training Facility Tram Tour
DESCRIPTION:
URL:https://spacecenter.org/events-calendar-event/astronaut-training-facility-tram-tour/2030-03-22/
LOCATION:Tram Boarding Area
CATEGORIES:Tram Tour
ATTACH;FMTTYPE=image/jpeg:https://spacecenter.org/wp-content/uploads/2022/07/IMG_2943.jpg
END:VEVENT
BEGIN:VEVENT
DTSTART;TZID=America/Chicago:20300322T104000
DTEND;TZID=America/Chicago:20300322T112000
DTSTAMP:20260419T184238
CREATED:20250602T205945Z
LAST-MODIFIED:20250603T185259Z
UID:10099365-1900406400-1900408800@spacecenter.org
SUMMARY:Apollo Mission Control Tram Tour
DESCRIPTION:
URL:https://spacecenter.org/events-calendar-event/apollo-mission-control-tram-tour/2030-03-22/
LOCATION:Tram Boarding Area
CATEGORIES:Tram Tour
ATTACH;FMTTYPE=image/jpeg:https://spacecenter.org/wp-content/uploads/2022/09/Apollo-10-web.jpeg
END:VEVENT
BEGIN:VEVENT
DTSTART;TZID=America/Chicago:20300322T113000
DTEND;TZID=America/Chicago:20300322T123000
DTSTAMP:20260419T184238
CREATED:20250602T210031Z
LAST-MODIFIED:20250603T190211Z
UID:10135925-1900409400-1900413000@spacecenter.org
SUMMARY:Astronaut Training Facility Tram Tour
DESCRIPTION:
URL:https://spacecenter.org/events-calendar-event/astronaut-training-facility-tram-tour-2/2030-03-22/
LOCATION:Tram Boarding Area
CATEGORIES:Tram Tour
ATTACH;FMTTYPE=image/jpeg:https://spacecenter.org/wp-content/uploads/2022/07/IMG_2943.jpg
END:VEVENT
BEGIN:VEVENT
DTSTART;TZID=America/Chicago:20300322T123000
DTEND;TZID=America/Chicago:20300322T133000
DTSTAMP:20260419T184238
CREATED:20250602T210135Z
LAST-MODIFIED:20250603T190719Z
UID:10150549-1900413000-1900416600@spacecenter.org
SUMMARY:Astronaut Training Facility Tram Tour
DESCRIPTION:
URL:https://spacecenter.org/events-calendar-event/astronaut-training-facility-tram-tour-3/2030-03-22/
LOCATION:Tram Boarding Area
CATEGORIES:Tram Tour
ATTACH;FMTTYPE=image/jpeg:https://spacecenter.org/wp-content/uploads/2022/07/IMG_2943.jpg
END:VEVENT
BEGIN:VEVENT
DTSTART;TZID=America/Chicago:20300322T133000
DTEND;TZID=America/Chicago:20300322T143000
DTSTAMP:20260419T184238
CREATED:20250602T210232Z
LAST-MODIFIED:20250603T191037Z
UID:10168829-1900416600-1900420200@spacecenter.org
SUMMARY:Astronaut Training Facility Tram Tour
DESCRIPTION:
URL:https://spacecenter.org/events-calendar-event/astronaut-training-facility-tram-tour-4/2030-03-22/
LOCATION:Tram Boarding Area
CATEGORIES:Tram Tour
ATTACH;FMTTYPE=image/jpeg:https://spacecenter.org/wp-content/uploads/2022/07/IMG_2943.jpg
END:VEVENT
BEGIN:VEVENT
DTSTART;TZID=America/Chicago:20300322T143000
DTEND;TZID=America/Chicago:20300322T153000
DTSTAMP:20260419T184238
CREATED:20250602T210317Z
LAST-MODIFIED:20250603T191717Z
UID:10187109-1900420200-1900423800@spacecenter.org
SUMMARY:Astronaut Training Facility Tram Tour
DESCRIPTION:
URL:https://spacecenter.org/events-calendar-event/astronaut-training-facility-tram-tour-5/2030-03-22/
LOCATION:Tram Boarding Area
CATEGORIES:Tram Tour
ATTACH;FMTTYPE=image/jpeg:https://spacecenter.org/wp-content/uploads/2022/07/IMG_2943.jpg
END:VEVENT
BEGIN:VEVENT
DTSTART;TZID=America/Chicago:20300322T153000
DTEND;TZID=America/Chicago:20300322T163000
DTSTAMP:20260419T184238
CREATED:20250602T210404Z
LAST-MODIFIED:20250603T192048Z
UID:10205389-1900423800-1900427400@spacecenter.org
SUMMARY:Astronaut Training Facility Tram Tour
DESCRIPTION:
URL:https://spacecenter.org/events-calendar-event/astronaut-training-facility-tram-tour-6/2030-03-22/
LOCATION:Tram Boarding Area
CATEGORIES:Tram Tour
ATTACH;FMTTYPE=image/jpeg:https://spacecenter.org/wp-content/uploads/2022/07/IMG_2943.jpg
END:VEVENT
BEGIN:VEVENT
DTSTART;TZID=America/Chicago:20300323T101500
DTEND;TZID=America/Chicago:20300323T110000
DTSTAMP:20260419T184238
CREATED:20250602T204328Z
LAST-MODIFIED:20250603T184302Z
UID:10086570-1900491300-1900494000@spacecenter.org
SUMMARY:Rocket Park Tram Tour
DESCRIPTION:
URL:https://spacecenter.org/events-calendar-event/rocket-park-tram-tour/2030-03-23/
LOCATION:Tram Boarding Area
CATEGORIES:Tram Tour
ATTACH;FMTTYPE=image/jpeg:https://spacecenter.org/wp-content/uploads/2024/10/rocket-park.jpg
END:VEVENT
BEGIN:VEVENT
DTSTART;TZID=America/Chicago:20300323T103000
DTEND;TZID=America/Chicago:20300323T113000
DTSTAMP:20260419T184238
CREATED:20250602T205851Z
LAST-MODIFIED:20250603T184720Z
UID:10095710-1900492200-1900495800@spacecenter.org
SUMMARY:Astronaut Training Facility Tram Tour
DESCRIPTION:
URL:https://spacecenter.org/events-calendar-event/astronaut-training-facility-tram-tour/2030-03-23/
LOCATION:Tram Boarding Area
CATEGORIES:Tram Tour
ATTACH;FMTTYPE=image/jpeg:https://spacecenter.org/wp-content/uploads/2022/07/IMG_2943.jpg
END:VEVENT
BEGIN:VEVENT
DTSTART;TZID=America/Chicago:20300323T104000
DTEND;TZID=America/Chicago:20300323T112000
DTSTAMP:20260419T184238
CREATED:20250602T205945Z
LAST-MODIFIED:20250603T185259Z
UID:10099366-1900492800-1900495200@spacecenter.org
SUMMARY:Apollo Mission Control Tram Tour
DESCRIPTION:
URL:https://spacecenter.org/events-calendar-event/apollo-mission-control-tram-tour/2030-03-23/
LOCATION:Tram Boarding Area
CATEGORIES:Tram Tour
ATTACH;FMTTYPE=image/jpeg:https://spacecenter.org/wp-content/uploads/2022/09/Apollo-10-web.jpeg
END:VEVENT
BEGIN:VEVENT
DTSTART;TZID=America/Chicago:20300323T113000
DTEND;TZID=America/Chicago:20300323T123000
DTSTAMP:20260419T184238
CREATED:20250602T210031Z
LAST-MODIFIED:20250603T190211Z
UID:10135926-1900495800-1900499400@spacecenter.org
SUMMARY:Astronaut Training Facility Tram Tour
DESCRIPTION:
URL:https://spacecenter.org/events-calendar-event/astronaut-training-facility-tram-tour-2/2030-03-23/
LOCATION:Tram Boarding Area
CATEGORIES:Tram Tour
ATTACH;FMTTYPE=image/jpeg:https://spacecenter.org/wp-content/uploads/2022/07/IMG_2943.jpg
END:VEVENT
BEGIN:VEVENT
DTSTART;TZID=America/Chicago:20300323T123000
DTEND;TZID=America/Chicago:20300323T133000
DTSTAMP:20260419T184238
CREATED:20250602T210135Z
LAST-MODIFIED:20250603T190719Z
UID:10150550-1900499400-1900503000@spacecenter.org
SUMMARY:Astronaut Training Facility Tram Tour
DESCRIPTION:
URL:https://spacecenter.org/events-calendar-event/astronaut-training-facility-tram-tour-3/2030-03-23/
LOCATION:Tram Boarding Area
CATEGORIES:Tram Tour
ATTACH;FMTTYPE=image/jpeg:https://spacecenter.org/wp-content/uploads/2022/07/IMG_2943.jpg
END:VEVENT
BEGIN:VEVENT
DTSTART;TZID=America/Chicago:20300323T133000
DTEND;TZID=America/Chicago:20300323T143000
DTSTAMP:20260419T184238
CREATED:20250602T210232Z
LAST-MODIFIED:20250603T191037Z
UID:10168830-1900503000-1900506600@spacecenter.org
SUMMARY:Astronaut Training Facility Tram Tour
DESCRIPTION:
URL:https://spacecenter.org/events-calendar-event/astronaut-training-facility-tram-tour-4/2030-03-23/
LOCATION:Tram Boarding Area
CATEGORIES:Tram Tour
ATTACH;FMTTYPE=image/jpeg:https://spacecenter.org/wp-content/uploads/2022/07/IMG_2943.jpg
END:VEVENT
BEGIN:VEVENT
DTSTART;TZID=America/Chicago:20300323T143000
DTEND;TZID=America/Chicago:20300323T153000
DTSTAMP:20260419T184238
CREATED:20250602T210317Z
LAST-MODIFIED:20250603T191717Z
UID:10187110-1900506600-1900510200@spacecenter.org
SUMMARY:Astronaut Training Facility Tram Tour
DESCRIPTION:
URL:https://spacecenter.org/events-calendar-event/astronaut-training-facility-tram-tour-5/2030-03-23/
LOCATION:Tram Boarding Area
CATEGORIES:Tram Tour
ATTACH;FMTTYPE=image/jpeg:https://spacecenter.org/wp-content/uploads/2022/07/IMG_2943.jpg
END:VEVENT
BEGIN:VEVENT
DTSTART;TZID=America/Chicago:20300323T153000
DTEND;TZID=America/Chicago:20300323T163000
DTSTAMP:20260419T184238
CREATED:20250602T210404Z
LAST-MODIFIED:20250603T192048Z
UID:10205390-1900510200-1900513800@spacecenter.org
SUMMARY:Astronaut Training Facility Tram Tour
DESCRIPTION:
URL:https://spacecenter.org/events-calendar-event/astronaut-training-facility-tram-tour-6/2030-03-23/
LOCATION:Tram Boarding Area
CATEGORIES:Tram Tour
ATTACH;FMTTYPE=image/jpeg:https://spacecenter.org/wp-content/uploads/2022/07/IMG_2943.jpg
END:VEVENT
BEGIN:VEVENT
DTSTART;TZID=America/Chicago:20300324T101500
DTEND;TZID=America/Chicago:20300324T110000
DTSTAMP:20260419T184238
CREATED:20250602T204328Z
LAST-MODIFIED:20250603T184302Z
UID:10086571-1900577700-1900580400@spacecenter.org
SUMMARY:Rocket Park Tram Tour
DESCRIPTION:
URL:https://spacecenter.org/events-calendar-event/rocket-park-tram-tour/2030-03-24/
LOCATION:Tram Boarding Area
CATEGORIES:Tram Tour
ATTACH;FMTTYPE=image/jpeg:https://spacecenter.org/wp-content/uploads/2024/10/rocket-park.jpg
END:VEVENT
BEGIN:VEVENT
DTSTART;TZID=America/Chicago:20300324T103000
DTEND;TZID=America/Chicago:20300324T113000
DTSTAMP:20260419T184238
CREATED:20250602T205851Z
LAST-MODIFIED:20250603T184720Z
UID:10095711-1900578600-1900582200@spacecenter.org
SUMMARY:Astronaut Training Facility Tram Tour
DESCRIPTION:
URL:https://spacecenter.org/events-calendar-event/astronaut-training-facility-tram-tour/2030-03-24/
LOCATION:Tram Boarding Area
CATEGORIES:Tram Tour
ATTACH;FMTTYPE=image/jpeg:https://spacecenter.org/wp-content/uploads/2022/07/IMG_2943.jpg
END:VEVENT
BEGIN:VEVENT
DTSTART;TZID=America/Chicago:20300324T104000
DTEND;TZID=America/Chicago:20300324T112000
DTSTAMP:20260419T184238
CREATED:20250602T205945Z
LAST-MODIFIED:20250603T185259Z
UID:10099367-1900579200-1900581600@spacecenter.org
SUMMARY:Apollo Mission Control Tram Tour
DESCRIPTION:
URL:https://spacecenter.org/events-calendar-event/apollo-mission-control-tram-tour/2030-03-24/
LOCATION:Tram Boarding Area
CATEGORIES:Tram Tour
ATTACH;FMTTYPE=image/jpeg:https://spacecenter.org/wp-content/uploads/2022/09/Apollo-10-web.jpeg
END:VEVENT
BEGIN:VEVENT
DTSTART;TZID=America/Chicago:20300324T113000
DTEND;TZID=America/Chicago:20300324T123000
DTSTAMP:20260419T184238
CREATED:20250602T210031Z
LAST-MODIFIED:20250603T190211Z
UID:10135927-1900582200-1900585800@spacecenter.org
SUMMARY:Astronaut Training Facility Tram Tour
DESCRIPTION:
URL:https://spacecenter.org/events-calendar-event/astronaut-training-facility-tram-tour-2/2030-03-24/
LOCATION:Tram Boarding Area
CATEGORIES:Tram Tour
ATTACH;FMTTYPE=image/jpeg:https://spacecenter.org/wp-content/uploads/2022/07/IMG_2943.jpg
END:VEVENT
BEGIN:VEVENT
DTSTART;TZID=America/Chicago:20300324T123000
DTEND;TZID=America/Chicago:20300324T133000
DTSTAMP:20260419T184238
CREATED:20250602T210135Z
LAST-MODIFIED:20250603T190719Z
UID:10150551-1900585800-1900589400@spacecenter.org
SUMMARY:Astronaut Training Facility Tram Tour
DESCRIPTION:
URL:https://spacecenter.org/events-calendar-event/astronaut-training-facility-tram-tour-3/2030-03-24/
LOCATION:Tram Boarding Area
CATEGORIES:Tram Tour
ATTACH;FMTTYPE=image/jpeg:https://spacecenter.org/wp-content/uploads/2022/07/IMG_2943.jpg
END:VEVENT
BEGIN:VEVENT
DTSTART;TZID=America/Chicago:20300324T133000
DTEND;TZID=America/Chicago:20300324T143000
DTSTAMP:20260419T184238
CREATED:20250602T210232Z
LAST-MODIFIED:20250603T191037Z
UID:10168831-1900589400-1900593000@spacecenter.org
SUMMARY:Astronaut Training Facility Tram Tour
DESCRIPTION:
URL:https://spacecenter.org/events-calendar-event/astronaut-training-facility-tram-tour-4/2030-03-24/
LOCATION:Tram Boarding Area
CATEGORIES:Tram Tour
ATTACH;FMTTYPE=image/jpeg:https://spacecenter.org/wp-content/uploads/2022/07/IMG_2943.jpg
END:VEVENT
BEGIN:VEVENT
DTSTART;TZID=America/Chicago:20300324T143000
DTEND;TZID=America/Chicago:20300324T153000
DTSTAMP:20260419T184238
CREATED:20250602T210317Z
LAST-MODIFIED:20250603T191717Z
UID:10187111-1900593000-1900596600@spacecenter.org
SUMMARY:Astronaut Training Facility Tram Tour
DESCRIPTION:
URL:https://spacecenter.org/events-calendar-event/astronaut-training-facility-tram-tour-5/2030-03-24/
LOCATION:Tram Boarding Area
CATEGORIES:Tram Tour
ATTACH;FMTTYPE=image/jpeg:https://spacecenter.org/wp-content/uploads/2022/07/IMG_2943.jpg
END:VEVENT
BEGIN:VEVENT
DTSTART;TZID=America/Chicago:20300324T153000
DTEND;TZID=America/Chicago:20300324T163000
DTSTAMP:20260419T184238
CREATED:20250602T210404Z
LAST-MODIFIED:20250603T192048Z
UID:10205391-1900596600-1900600200@spacecenter.org
SUMMARY:Astronaut Training Facility Tram Tour
DESCRIPTION:
URL:https://spacecenter.org/events-calendar-event/astronaut-training-facility-tram-tour-6/2030-03-24/
LOCATION:Tram Boarding Area
CATEGORIES:Tram Tour
ATTACH;FMTTYPE=image/jpeg:https://spacecenter.org/wp-content/uploads/2022/07/IMG_2943.jpg
END:VEVENT
END:VCALENDAR