BEGIN:VCALENDAR
VERSION:2.0
PRODID:-//Space Center Houston - ECPv6.15.15//NONSGML v1.0//EN
CALSCALE:GREGORIAN
METHOD:PUBLISH
X-WR-CALNAME:Space Center Houston
X-ORIGINAL-URL:https://spacecenter.org
X-WR-CALDESC:Events for Space Center Houston
REFRESH-INTERVAL;VALUE=DURATION:PT1H
X-Robots-Tag:noindex
X-PUBLISHED-TTL:PT1H
BEGIN:VTIMEZONE
TZID:America/Chicago
BEGIN:DAYLIGHT
TZOFFSETFROM:-0600
TZOFFSETTO:-0500
TZNAME:CDT
DTSTART:20260308T080000
END:DAYLIGHT
BEGIN:STANDARD
TZOFFSETFROM:-0500
TZOFFSETTO:-0600
TZNAME:CST
DTSTART:20261101T070000
END:STANDARD
BEGIN:DAYLIGHT
TZOFFSETFROM:-0600
TZOFFSETTO:-0500
TZNAME:CDT
DTSTART:20270314T080000
END:DAYLIGHT
BEGIN:STANDARD
TZOFFSETFROM:-0500
TZOFFSETTO:-0600
TZNAME:CST
DTSTART:20271107T070000
END:STANDARD
BEGIN:DAYLIGHT
TZOFFSETFROM:-0600
TZOFFSETTO:-0500
TZNAME:CDT
DTSTART:20280312T080000
END:DAYLIGHT
BEGIN:STANDARD
TZOFFSETFROM:-0500
TZOFFSETTO:-0600
TZNAME:CST
DTSTART:20281105T070000
END:STANDARD
END:VTIMEZONE
BEGIN:VEVENT
DTSTART;TZID=America/Chicago:20270424T114500
DTEND;TZID=America/Chicago:20270424T120000
DTSTAMP:20260420T003251
CREATED:20250602T213503Z
LAST-MODIFIED:20250603T190256Z
UID:10138518-1808567100-1808568000@spacecenter.org
SUMMARY:James Webb Live Presentation
DESCRIPTION:
URL:https://spacecenter.org/events-calendar-event/james-webb-live-presentation/2027-04-24/
LOCATION:Theater – Destiny
CATEGORIES:Live Presentation
END:VEVENT
BEGIN:VEVENT
DTSTART;TZID=America/Chicago:20270424T121500
DTEND;TZID=America/Chicago:20270424T123000
DTSTAMP:20260420T003251
CREATED:20250602T213059Z
LAST-MODIFIED:20250603T190345Z
UID:10142174-1808568900-1808569800@spacecenter.org
SUMMARY:Story Corner Live Presentation
DESCRIPTION:
URL:https://spacecenter.org/events-calendar-event/story-corner-live-presentation-2/2027-04-24/
LOCATION:Theater – Artemis
CATEGORIES:Live Presentation
END:VEVENT
BEGIN:VEVENT
DTSTART;TZID=America/Chicago:20270424T124500
DTEND;TZID=America/Chicago:20270424T131500
DTSTAMP:20260420T003251
CREATED:20250602T214012Z
LAST-MODIFIED:20250603T190811Z
UID:10153142-1808570700-1808572500@spacecenter.org
SUMMARY:Artemis Live Presentation
DESCRIPTION:
URL:https://spacecenter.org/events-calendar-event/artemis-live-presentation-2/2027-04-24/
LOCATION:Theater – Destiny
CATEGORIES:Live Presentation
ATTACH;FMTTYPE=image/jpeg:https://spacecenter.org/wp-content/uploads/2022/10/Artemis-Capsule.jpeg
END:VEVENT
BEGIN:VEVENT
DTSTART;TZID=America/Chicago:20270424T131500
DTEND;TZID=America/Chicago:20270424T133000
DTSTAMP:20260420T003251
CREATED:20250602T213201Z
LAST-MODIFIED:20250603T190922Z
UID:10160454-1808572500-1808573400@spacecenter.org
SUMMARY:Story Corner Live Presentation
DESCRIPTION:
URL:https://spacecenter.org/events-calendar-event/story-corner-live-presentation-3/2027-04-24/
LOCATION:Theater – Artemis
CATEGORIES:Live Presentation
END:VEVENT
BEGIN:VEVENT
DTSTART;TZID=America/Chicago:20270424T134500
DTEND;TZID=America/Chicago:20270424T140000
DTSTAMP:20260420T003251
CREATED:20250602T212635Z
LAST-MODIFIED:20250603T191121Z
UID:10171422-1808574300-1808575200@spacecenter.org
SUMMARY:OSIRIS Rex Live Presentation
DESCRIPTION:
URL:https://spacecenter.org/events-calendar-event/osiris-rex-live-presentation-2/2027-04-24/
LOCATION:Mission Sketch Staircase
CATEGORIES:Live Presentation
ATTACH;FMTTYPE=image/jpeg:https://spacecenter.org/wp-content/uploads/2024/03/web-march2024_tls_osirisrex.jpg
END:VEVENT
BEGIN:VEVENT
DTSTART;TZID=America/Chicago:20270424T134500
DTEND;TZID=America/Chicago:20270424T140000
DTSTAMP:20260420T003251
CREATED:20250602T213557Z
LAST-MODIFIED:20250603T191327Z
UID:10175078-1808574300-1808575200@spacecenter.org
SUMMARY:James Webb Live Presentation
DESCRIPTION:
URL:https://spacecenter.org/events-calendar-event/james-webb-live-presentation-2/2027-04-24/
LOCATION:Theater – Destiny
CATEGORIES:Live Presentation
END:VEVENT
BEGIN:VEVENT
DTSTART;TZID=America/Chicago:20270424T144500
DTEND;TZID=America/Chicago:20270424T150000
DTSTAMP:20260420T003251
CREATED:20250602T213716Z
LAST-MODIFIED:20250603T191759Z
UID:10189702-1808577900-1808578800@spacecenter.org
SUMMARY:James Webb Live Presentation
DESCRIPTION:
URL:https://spacecenter.org/events-calendar-event/james-webb-live-presentation-3/2027-04-24/
LOCATION:Theater – Destiny
CATEGORIES:Live Presentation
END:VEVENT
BEGIN:VEVENT
DTSTART;TZID=America/Chicago:20270424T151500
DTEND;TZID=America/Chicago:20270424T153000
DTSTAMP:20260420T003251
CREATED:20250602T213249Z
LAST-MODIFIED:20250603T191942Z
UID:10197014-1808579700-1808580600@spacecenter.org
SUMMARY:Story Corner Live Presentation
DESCRIPTION:
URL:https://spacecenter.org/events-calendar-event/story-corner-live-presentation-4/2027-04-24/
LOCATION:Theater – Artemis
CATEGORIES:Live Presentation
END:VEVENT
BEGIN:VEVENT
DTSTART;TZID=America/Chicago:20270424T154500
DTEND;TZID=America/Chicago:20270424T161500
DTSTAMP:20260420T003251
CREATED:20250602T214125Z
LAST-MODIFIED:20250603T192119Z
UID:10207982-1808581500-1808583300@spacecenter.org
SUMMARY:Artemis Live Presentation
DESCRIPTION:
URL:https://spacecenter.org/events-calendar-event/artemis-live-presentation-3/2027-04-24/
LOCATION:Theater – Destiny
CATEGORIES:Live Presentation
ATTACH;FMTTYPE=image/jpeg:https://spacecenter.org/wp-content/uploads/2022/10/Artemis-Capsule.jpeg
END:VEVENT
BEGIN:VEVENT
DTSTART;TZID=America/Chicago:20270424T163000
DTEND;TZID=America/Chicago:20270424T164500
DTSTAMP:20260420T003251
CREATED:20250602T212726Z
LAST-MODIFIED:20250603T192225Z
UID:10215294-1808584200-1808585100@spacecenter.org
SUMMARY:OSIRIS Rex Live Presentation
DESCRIPTION:
URL:https://spacecenter.org/events-calendar-event/osiris-rex-live-presentation-3/2027-04-24/
LOCATION:Mission Sketch Staircase
CATEGORIES:Live Presentation
ATTACH;FMTTYPE=image/jpeg:https://spacecenter.org/wp-content/uploads/2024/03/web-march2024_tls_osirisrex.jpg
END:VEVENT
BEGIN:VEVENT
DTSTART;TZID=America/Chicago:20270425T104500
DTEND;TZID=America/Chicago:20270425T110000
DTSTAMP:20260420T003251
CREATED:20250602T212526Z
LAST-MODIFIED:20250603T185502Z
UID:10101959-1808649900-1808650800@spacecenter.org
SUMMARY:OSIRIS Rex Live Presentation
DESCRIPTION:
URL:https://spacecenter.org/events-calendar-event/osiris-rex-live-presentation/2027-04-25/
LOCATION:Mission Sketch Staircase
CATEGORIES:Live Presentation
ATTACH;FMTTYPE=image/jpeg:https://spacecenter.org/wp-content/uploads/2024/03/web-march2024_tls_osirisrex.jpg
END:VEVENT
BEGIN:VEVENT
DTSTART;TZID=America/Chicago:20270425T104500
DTEND;TZID=America/Chicago:20270425T111500
DTSTAMP:20260420T003251
CREATED:20250602T213905Z
LAST-MODIFIED:20250603T185637Z
UID:10109271-1808649900-1808651700@spacecenter.org
SUMMARY:Artemis Live Presentation
DESCRIPTION:
URL:https://spacecenter.org/events-calendar-event/artemis-live-presentation/2027-04-25/
LOCATION:Theater – Destiny
CATEGORIES:Live Presentation
ATTACH;FMTTYPE=image/jpeg:https://spacecenter.org/wp-content/uploads/2022/10/Artemis-Capsule.jpeg
END:VEVENT
BEGIN:VEVENT
DTSTART;TZID=America/Chicago:20270425T111500
DTEND;TZID=America/Chicago:20270425T113000
DTSTAMP:20260420T003251
CREATED:20250602T213010Z
LAST-MODIFIED:20250603T185901Z
UID:10120239-1808651700-1808652600@spacecenter.org
SUMMARY:Story Corner Live Presentation
DESCRIPTION:
URL:https://spacecenter.org/events-calendar-event/story-corner-live-presentation/2027-04-25/
LOCATION:Theater – Artemis
CATEGORIES:Live Presentation
END:VEVENT
BEGIN:VEVENT
DTSTART;TZID=America/Chicago:20270425T114500
DTEND;TZID=America/Chicago:20270425T120000
DTSTAMP:20260420T003251
CREATED:20250602T213503Z
LAST-MODIFIED:20250603T190256Z
UID:10138519-1808653500-1808654400@spacecenter.org
SUMMARY:James Webb Live Presentation
DESCRIPTION:
URL:https://spacecenter.org/events-calendar-event/james-webb-live-presentation/2027-04-25/
LOCATION:Theater – Destiny
CATEGORIES:Live Presentation
END:VEVENT
BEGIN:VEVENT
DTSTART;TZID=America/Chicago:20270425T121500
DTEND;TZID=America/Chicago:20270425T123000
DTSTAMP:20260420T003251
CREATED:20250602T213059Z
LAST-MODIFIED:20250603T190345Z
UID:10142175-1808655300-1808656200@spacecenter.org
SUMMARY:Story Corner Live Presentation
DESCRIPTION:
URL:https://spacecenter.org/events-calendar-event/story-corner-live-presentation-2/2027-04-25/
LOCATION:Theater – Artemis
CATEGORIES:Live Presentation
END:VEVENT
BEGIN:VEVENT
DTSTART;TZID=America/Chicago:20270425T124500
DTEND;TZID=America/Chicago:20270425T131500
DTSTAMP:20260420T003251
CREATED:20250602T214012Z
LAST-MODIFIED:20250603T190811Z
UID:10153143-1808657100-1808658900@spacecenter.org
SUMMARY:Artemis Live Presentation
DESCRIPTION:
URL:https://spacecenter.org/events-calendar-event/artemis-live-presentation-2/2027-04-25/
LOCATION:Theater – Destiny
CATEGORIES:Live Presentation
ATTACH;FMTTYPE=image/jpeg:https://spacecenter.org/wp-content/uploads/2022/10/Artemis-Capsule.jpeg
END:VEVENT
BEGIN:VEVENT
DTSTART;TZID=America/Chicago:20270425T131500
DTEND;TZID=America/Chicago:20270425T133000
DTSTAMP:20260420T003251
CREATED:20250602T213201Z
LAST-MODIFIED:20250603T190922Z
UID:10160455-1808658900-1808659800@spacecenter.org
SUMMARY:Story Corner Live Presentation
DESCRIPTION:
URL:https://spacecenter.org/events-calendar-event/story-corner-live-presentation-3/2027-04-25/
LOCATION:Theater – Artemis
CATEGORIES:Live Presentation
END:VEVENT
BEGIN:VEVENT
DTSTART;TZID=America/Chicago:20270425T134500
DTEND;TZID=America/Chicago:20270425T140000
DTSTAMP:20260420T003251
CREATED:20250602T212635Z
LAST-MODIFIED:20250603T191121Z
UID:10171423-1808660700-1808661600@spacecenter.org
SUMMARY:OSIRIS Rex Live Presentation
DESCRIPTION:
URL:https://spacecenter.org/events-calendar-event/osiris-rex-live-presentation-2/2027-04-25/
LOCATION:Mission Sketch Staircase
CATEGORIES:Live Presentation
ATTACH;FMTTYPE=image/jpeg:https://spacecenter.org/wp-content/uploads/2024/03/web-march2024_tls_osirisrex.jpg
END:VEVENT
BEGIN:VEVENT
DTSTART;TZID=America/Chicago:20270425T134500
DTEND;TZID=America/Chicago:20270425T140000
DTSTAMP:20260420T003251
CREATED:20250602T213557Z
LAST-MODIFIED:20250603T191327Z
UID:10175079-1808660700-1808661600@spacecenter.org
SUMMARY:James Webb Live Presentation
DESCRIPTION:
URL:https://spacecenter.org/events-calendar-event/james-webb-live-presentation-2/2027-04-25/
LOCATION:Theater – Destiny
CATEGORIES:Live Presentation
END:VEVENT
BEGIN:VEVENT
DTSTART;TZID=America/Chicago:20270425T144500
DTEND;TZID=America/Chicago:20270425T150000
DTSTAMP:20260420T003251
CREATED:20250602T213716Z
LAST-MODIFIED:20250603T191759Z
UID:10189703-1808664300-1808665200@spacecenter.org
SUMMARY:James Webb Live Presentation
DESCRIPTION:
URL:https://spacecenter.org/events-calendar-event/james-webb-live-presentation-3/2027-04-25/
LOCATION:Theater – Destiny
CATEGORIES:Live Presentation
END:VEVENT
BEGIN:VEVENT
DTSTART;TZID=America/Chicago:20270425T151500
DTEND;TZID=America/Chicago:20270425T153000
DTSTAMP:20260420T003251
CREATED:20250602T213249Z
LAST-MODIFIED:20250603T191942Z
UID:10197015-1808666100-1808667000@spacecenter.org
SUMMARY:Story Corner Live Presentation
DESCRIPTION:
URL:https://spacecenter.org/events-calendar-event/story-corner-live-presentation-4/2027-04-25/
LOCATION:Theater – Artemis
CATEGORIES:Live Presentation
END:VEVENT
BEGIN:VEVENT
DTSTART;TZID=America/Chicago:20270425T154500
DTEND;TZID=America/Chicago:20270425T161500
DTSTAMP:20260420T003251
CREATED:20250602T214125Z
LAST-MODIFIED:20250603T192119Z
UID:10207983-1808667900-1808669700@spacecenter.org
SUMMARY:Artemis Live Presentation
DESCRIPTION:
URL:https://spacecenter.org/events-calendar-event/artemis-live-presentation-3/2027-04-25/
LOCATION:Theater – Destiny
CATEGORIES:Live Presentation
ATTACH;FMTTYPE=image/jpeg:https://spacecenter.org/wp-content/uploads/2022/10/Artemis-Capsule.jpeg
END:VEVENT
BEGIN:VEVENT
DTSTART;TZID=America/Chicago:20270425T163000
DTEND;TZID=America/Chicago:20270425T164500
DTSTAMP:20260420T003251
CREATED:20250602T212726Z
LAST-MODIFIED:20250603T192225Z
UID:10215295-1808670600-1808671500@spacecenter.org
SUMMARY:OSIRIS Rex Live Presentation
DESCRIPTION:
URL:https://spacecenter.org/events-calendar-event/osiris-rex-live-presentation-3/2027-04-25/
LOCATION:Mission Sketch Staircase
CATEGORIES:Live Presentation
ATTACH;FMTTYPE=image/jpeg:https://spacecenter.org/wp-content/uploads/2024/03/web-march2024_tls_osirisrex.jpg
END:VEVENT
BEGIN:VEVENT
DTSTART;TZID=America/Chicago:20270426T104500
DTEND;TZID=America/Chicago:20270426T110000
DTSTAMP:20260420T003251
CREATED:20250602T212526Z
LAST-MODIFIED:20250603T185502Z
UID:10101960-1808736300-1808737200@spacecenter.org
SUMMARY:OSIRIS Rex Live Presentation
DESCRIPTION:
URL:https://spacecenter.org/events-calendar-event/osiris-rex-live-presentation/2027-04-26/
LOCATION:Mission Sketch Staircase
CATEGORIES:Live Presentation
ATTACH;FMTTYPE=image/jpeg:https://spacecenter.org/wp-content/uploads/2024/03/web-march2024_tls_osirisrex.jpg
END:VEVENT
BEGIN:VEVENT
DTSTART;TZID=America/Chicago:20270426T104500
DTEND;TZID=America/Chicago:20270426T111500
DTSTAMP:20260420T003251
CREATED:20250602T213905Z
LAST-MODIFIED:20250603T185637Z
UID:10109272-1808736300-1808738100@spacecenter.org
SUMMARY:Artemis Live Presentation
DESCRIPTION:
URL:https://spacecenter.org/events-calendar-event/artemis-live-presentation/2027-04-26/
LOCATION:Theater – Destiny
CATEGORIES:Live Presentation
ATTACH;FMTTYPE=image/jpeg:https://spacecenter.org/wp-content/uploads/2022/10/Artemis-Capsule.jpeg
END:VEVENT
BEGIN:VEVENT
DTSTART;TZID=America/Chicago:20270426T111500
DTEND;TZID=America/Chicago:20270426T113000
DTSTAMP:20260420T003251
CREATED:20250602T213010Z
LAST-MODIFIED:20250603T185901Z
UID:10120240-1808738100-1808739000@spacecenter.org
SUMMARY:Story Corner Live Presentation
DESCRIPTION:
URL:https://spacecenter.org/events-calendar-event/story-corner-live-presentation/2027-04-26/
LOCATION:Theater – Artemis
CATEGORIES:Live Presentation
END:VEVENT
BEGIN:VEVENT
DTSTART;TZID=America/Chicago:20270426T114500
DTEND;TZID=America/Chicago:20270426T120000
DTSTAMP:20260420T003251
CREATED:20250602T213503Z
LAST-MODIFIED:20250603T190256Z
UID:10138520-1808739900-1808740800@spacecenter.org
SUMMARY:James Webb Live Presentation
DESCRIPTION:
URL:https://spacecenter.org/events-calendar-event/james-webb-live-presentation/2027-04-26/
LOCATION:Theater – Destiny
CATEGORIES:Live Presentation
END:VEVENT
BEGIN:VEVENT
DTSTART;TZID=America/Chicago:20270426T121500
DTEND;TZID=America/Chicago:20270426T123000
DTSTAMP:20260420T003251
CREATED:20250602T213059Z
LAST-MODIFIED:20250603T190345Z
UID:10142176-1808741700-1808742600@spacecenter.org
SUMMARY:Story Corner Live Presentation
DESCRIPTION:
URL:https://spacecenter.org/events-calendar-event/story-corner-live-presentation-2/2027-04-26/
LOCATION:Theater – Artemis
CATEGORIES:Live Presentation
END:VEVENT
BEGIN:VEVENT
DTSTART;TZID=America/Chicago:20270426T124500
DTEND;TZID=America/Chicago:20270426T131500
DTSTAMP:20260420T003251
CREATED:20250602T214012Z
LAST-MODIFIED:20250603T190811Z
UID:10153144-1808743500-1808745300@spacecenter.org
SUMMARY:Artemis Live Presentation
DESCRIPTION:
URL:https://spacecenter.org/events-calendar-event/artemis-live-presentation-2/2027-04-26/
LOCATION:Theater – Destiny
CATEGORIES:Live Presentation
ATTACH;FMTTYPE=image/jpeg:https://spacecenter.org/wp-content/uploads/2022/10/Artemis-Capsule.jpeg
END:VEVENT
BEGIN:VEVENT
DTSTART;TZID=America/Chicago:20270426T131500
DTEND;TZID=America/Chicago:20270426T133000
DTSTAMP:20260420T003251
CREATED:20250602T213201Z
LAST-MODIFIED:20250603T190922Z
UID:10160456-1808745300-1808746200@spacecenter.org
SUMMARY:Story Corner Live Presentation
DESCRIPTION:
URL:https://spacecenter.org/events-calendar-event/story-corner-live-presentation-3/2027-04-26/
LOCATION:Theater – Artemis
CATEGORIES:Live Presentation
END:VEVENT
END:VCALENDAR