BEGIN:VCALENDAR
VERSION:2.0
PRODID:-//Space Center Houston - ECPv6.15.15//NONSGML v1.0//EN
CALSCALE:GREGORIAN
METHOD:PUBLISH
X-WR-CALNAME:Space Center Houston
X-ORIGINAL-URL:https://spacecenter.org
X-WR-CALDESC:Events for Space Center Houston
REFRESH-INTERVAL;VALUE=DURATION:PT1H
X-Robots-Tag:noindex
X-PUBLISHED-TTL:PT1H
BEGIN:VTIMEZONE
TZID:America/Chicago
BEGIN:DAYLIGHT
TZOFFSETFROM:-0600
TZOFFSETTO:-0500
TZNAME:CDT
DTSTART:20290311T080000
END:DAYLIGHT
BEGIN:STANDARD
TZOFFSETFROM:-0500
TZOFFSETTO:-0600
TZNAME:CST
DTSTART:20291104T070000
END:STANDARD
BEGIN:DAYLIGHT
TZOFFSETFROM:-0600
TZOFFSETTO:-0500
TZNAME:CDT
DTSTART:20300310T080000
END:DAYLIGHT
BEGIN:STANDARD
TZOFFSETFROM:-0500
TZOFFSETTO:-0600
TZNAME:CST
DTSTART:20301103T070000
END:STANDARD
BEGIN:DAYLIGHT
TZOFFSETFROM:-0600
TZOFFSETTO:-0500
TZNAME:CDT
DTSTART:20310309T080000
END:DAYLIGHT
BEGIN:STANDARD
TZOFFSETFROM:-0500
TZOFFSETTO:-0600
TZNAME:CST
DTSTART:20311102T070000
END:STANDARD
END:VTIMEZONE
BEGIN:VEVENT
DTSTART;TZID=America/Chicago:20300522T131500
DTEND;TZID=America/Chicago:20300522T133000
DTSTAMP:20260424T223905
CREATED:20250602T213201Z
LAST-MODIFIED:20250603T190922Z
UID:10161578-1905686100-1905687000@spacecenter.org
SUMMARY:Story Corner Live Presentation
DESCRIPTION:
URL:https://spacecenter.org/events-calendar-event/story-corner-live-presentation-3/2030-05-22/
LOCATION:Theater – Artemis
CATEGORIES:Live Presentation
END:VEVENT
BEGIN:VEVENT
DTSTART;TZID=America/Chicago:20300522T134500
DTEND;TZID=America/Chicago:20300522T140000
DTSTAMP:20260424T223905
CREATED:20250602T212635Z
LAST-MODIFIED:20250603T191121Z
UID:10172546-1905687900-1905688800@spacecenter.org
SUMMARY:OSIRIS Rex Live Presentation
DESCRIPTION:
URL:https://spacecenter.org/events-calendar-event/osiris-rex-live-presentation-2/2030-05-22/
LOCATION:Mission Sketch Staircase
CATEGORIES:Live Presentation
ATTACH;FMTTYPE=image/jpeg:https://spacecenter.org/wp-content/uploads/2024/03/web-march2024_tls_osirisrex.jpg
END:VEVENT
BEGIN:VEVENT
DTSTART;TZID=America/Chicago:20300522T134500
DTEND;TZID=America/Chicago:20300522T140000
DTSTAMP:20260424T223905
CREATED:20250602T213557Z
LAST-MODIFIED:20250603T191327Z
UID:10176202-1905687900-1905688800@spacecenter.org
SUMMARY:James Webb Live Presentation
DESCRIPTION:
URL:https://spacecenter.org/events-calendar-event/james-webb-live-presentation-2/2030-05-22/
LOCATION:Theater – Destiny
CATEGORIES:Live Presentation
END:VEVENT
BEGIN:VEVENT
DTSTART;TZID=America/Chicago:20300522T144500
DTEND;TZID=America/Chicago:20300522T150000
DTSTAMP:20260424T223905
CREATED:20250602T213716Z
LAST-MODIFIED:20250603T191759Z
UID:10190826-1905691500-1905692400@spacecenter.org
SUMMARY:James Webb Live Presentation
DESCRIPTION:
URL:https://spacecenter.org/events-calendar-event/james-webb-live-presentation-3/2030-05-22/
LOCATION:Theater – Destiny
CATEGORIES:Live Presentation
END:VEVENT
BEGIN:VEVENT
DTSTART;TZID=America/Chicago:20300522T151500
DTEND;TZID=America/Chicago:20300522T153000
DTSTAMP:20260424T223905
CREATED:20250602T213249Z
LAST-MODIFIED:20250603T191942Z
UID:10198138-1905693300-1905694200@spacecenter.org
SUMMARY:Story Corner Live Presentation
DESCRIPTION:
URL:https://spacecenter.org/events-calendar-event/story-corner-live-presentation-4/2030-05-22/
LOCATION:Theater – Artemis
CATEGORIES:Live Presentation
END:VEVENT
BEGIN:VEVENT
DTSTART;TZID=America/Chicago:20300522T154500
DTEND;TZID=America/Chicago:20300522T161500
DTSTAMP:20260424T223905
CREATED:20250602T214125Z
LAST-MODIFIED:20250603T192119Z
UID:10209106-1905695100-1905696900@spacecenter.org
SUMMARY:Artemis Live Presentation
DESCRIPTION:
URL:https://spacecenter.org/events-calendar-event/artemis-live-presentation-3/2030-05-22/
LOCATION:Theater – Destiny
CATEGORIES:Live Presentation
ATTACH;FMTTYPE=image/jpeg:https://spacecenter.org/wp-content/uploads/2022/10/Artemis-Capsule.jpeg
END:VEVENT
BEGIN:VEVENT
DTSTART;TZID=America/Chicago:20300522T163000
DTEND;TZID=America/Chicago:20300522T164500
DTSTAMP:20260424T223905
CREATED:20250602T212726Z
LAST-MODIFIED:20250603T192225Z
UID:10216418-1905697800-1905698700@spacecenter.org
SUMMARY:OSIRIS Rex Live Presentation
DESCRIPTION:
URL:https://spacecenter.org/events-calendar-event/osiris-rex-live-presentation-3/2030-05-22/
LOCATION:Mission Sketch Staircase
CATEGORIES:Live Presentation
ATTACH;FMTTYPE=image/jpeg:https://spacecenter.org/wp-content/uploads/2024/03/web-march2024_tls_osirisrex.jpg
END:VEVENT
BEGIN:VEVENT
DTSTART;TZID=America/Chicago:20300523T104500
DTEND;TZID=America/Chicago:20300523T110000
DTSTAMP:20260424T223905
CREATED:20250602T212526Z
LAST-MODIFIED:20250603T185502Z
UID:10103083-1905763500-1905764400@spacecenter.org
SUMMARY:OSIRIS Rex Live Presentation
DESCRIPTION:
URL:https://spacecenter.org/events-calendar-event/osiris-rex-live-presentation/2030-05-23/
LOCATION:Mission Sketch Staircase
CATEGORIES:Live Presentation
ATTACH;FMTTYPE=image/jpeg:https://spacecenter.org/wp-content/uploads/2024/03/web-march2024_tls_osirisrex.jpg
END:VEVENT
BEGIN:VEVENT
DTSTART;TZID=America/Chicago:20300523T104500
DTEND;TZID=America/Chicago:20300523T111500
DTSTAMP:20260424T223905
CREATED:20250602T213905Z
LAST-MODIFIED:20250603T185637Z
UID:10110395-1905763500-1905765300@spacecenter.org
SUMMARY:Artemis Live Presentation
DESCRIPTION:
URL:https://spacecenter.org/events-calendar-event/artemis-live-presentation/2030-05-23/
LOCATION:Theater – Destiny
CATEGORIES:Live Presentation
ATTACH;FMTTYPE=image/jpeg:https://spacecenter.org/wp-content/uploads/2022/10/Artemis-Capsule.jpeg
END:VEVENT
BEGIN:VEVENT
DTSTART;TZID=America/Chicago:20300523T111500
DTEND;TZID=America/Chicago:20300523T113000
DTSTAMP:20260424T223905
CREATED:20250602T213010Z
LAST-MODIFIED:20250603T185901Z
UID:10121363-1905765300-1905766200@spacecenter.org
SUMMARY:Story Corner Live Presentation
DESCRIPTION:
URL:https://spacecenter.org/events-calendar-event/story-corner-live-presentation/2030-05-23/
LOCATION:Theater – Artemis
CATEGORIES:Live Presentation
END:VEVENT
BEGIN:VEVENT
DTSTART;TZID=America/Chicago:20300523T114500
DTEND;TZID=America/Chicago:20300523T120000
DTSTAMP:20260424T223905
CREATED:20250602T213503Z
LAST-MODIFIED:20250603T190256Z
UID:10139643-1905767100-1905768000@spacecenter.org
SUMMARY:James Webb Live Presentation
DESCRIPTION:
URL:https://spacecenter.org/events-calendar-event/james-webb-live-presentation/2030-05-23/
LOCATION:Theater – Destiny
CATEGORIES:Live Presentation
END:VEVENT
BEGIN:VEVENT
DTSTART;TZID=America/Chicago:20300523T121500
DTEND;TZID=America/Chicago:20300523T123000
DTSTAMP:20260424T223905
CREATED:20250602T213059Z
LAST-MODIFIED:20250603T190345Z
UID:10143299-1905768900-1905769800@spacecenter.org
SUMMARY:Story Corner Live Presentation
DESCRIPTION:
URL:https://spacecenter.org/events-calendar-event/story-corner-live-presentation-2/2030-05-23/
LOCATION:Theater – Artemis
CATEGORIES:Live Presentation
END:VEVENT
BEGIN:VEVENT
DTSTART;TZID=America/Chicago:20300523T124500
DTEND;TZID=America/Chicago:20300523T131500
DTSTAMP:20260424T223905
CREATED:20250602T214012Z
LAST-MODIFIED:20250603T190811Z
UID:10154267-1905770700-1905772500@spacecenter.org
SUMMARY:Artemis Live Presentation
DESCRIPTION:
URL:https://spacecenter.org/events-calendar-event/artemis-live-presentation-2/2030-05-23/
LOCATION:Theater – Destiny
CATEGORIES:Live Presentation
ATTACH;FMTTYPE=image/jpeg:https://spacecenter.org/wp-content/uploads/2022/10/Artemis-Capsule.jpeg
END:VEVENT
BEGIN:VEVENT
DTSTART;TZID=America/Chicago:20300523T131500
DTEND;TZID=America/Chicago:20300523T133000
DTSTAMP:20260424T223905
CREATED:20250602T213201Z
LAST-MODIFIED:20250603T190922Z
UID:10161579-1905772500-1905773400@spacecenter.org
SUMMARY:Story Corner Live Presentation
DESCRIPTION:
URL:https://spacecenter.org/events-calendar-event/story-corner-live-presentation-3/2030-05-23/
LOCATION:Theater – Artemis
CATEGORIES:Live Presentation
END:VEVENT
BEGIN:VEVENT
DTSTART;TZID=America/Chicago:20300523T134500
DTEND;TZID=America/Chicago:20300523T140000
DTSTAMP:20260424T223905
CREATED:20250602T212635Z
LAST-MODIFIED:20250603T191121Z
UID:10172547-1905774300-1905775200@spacecenter.org
SUMMARY:OSIRIS Rex Live Presentation
DESCRIPTION:
URL:https://spacecenter.org/events-calendar-event/osiris-rex-live-presentation-2/2030-05-23/
LOCATION:Mission Sketch Staircase
CATEGORIES:Live Presentation
ATTACH;FMTTYPE=image/jpeg:https://spacecenter.org/wp-content/uploads/2024/03/web-march2024_tls_osirisrex.jpg
END:VEVENT
BEGIN:VEVENT
DTSTART;TZID=America/Chicago:20300523T134500
DTEND;TZID=America/Chicago:20300523T140000
DTSTAMP:20260424T223905
CREATED:20250602T213557Z
LAST-MODIFIED:20250603T191327Z
UID:10176203-1905774300-1905775200@spacecenter.org
SUMMARY:James Webb Live Presentation
DESCRIPTION:
URL:https://spacecenter.org/events-calendar-event/james-webb-live-presentation-2/2030-05-23/
LOCATION:Theater – Destiny
CATEGORIES:Live Presentation
END:VEVENT
BEGIN:VEVENT
DTSTART;TZID=America/Chicago:20300523T144500
DTEND;TZID=America/Chicago:20300523T150000
DTSTAMP:20260424T223905
CREATED:20250602T213716Z
LAST-MODIFIED:20250603T191759Z
UID:10190827-1905777900-1905778800@spacecenter.org
SUMMARY:James Webb Live Presentation
DESCRIPTION:
URL:https://spacecenter.org/events-calendar-event/james-webb-live-presentation-3/2030-05-23/
LOCATION:Theater – Destiny
CATEGORIES:Live Presentation
END:VEVENT
BEGIN:VEVENT
DTSTART;TZID=America/Chicago:20300523T151500
DTEND;TZID=America/Chicago:20300523T153000
DTSTAMP:20260424T223905
CREATED:20250602T213249Z
LAST-MODIFIED:20250603T191942Z
UID:10198139-1905779700-1905780600@spacecenter.org
SUMMARY:Story Corner Live Presentation
DESCRIPTION:
URL:https://spacecenter.org/events-calendar-event/story-corner-live-presentation-4/2030-05-23/
LOCATION:Theater – Artemis
CATEGORIES:Live Presentation
END:VEVENT
BEGIN:VEVENT
DTSTART;TZID=America/Chicago:20300523T154500
DTEND;TZID=America/Chicago:20300523T161500
DTSTAMP:20260424T223905
CREATED:20250602T214125Z
LAST-MODIFIED:20250603T192119Z
UID:10209107-1905781500-1905783300@spacecenter.org
SUMMARY:Artemis Live Presentation
DESCRIPTION:
URL:https://spacecenter.org/events-calendar-event/artemis-live-presentation-3/2030-05-23/
LOCATION:Theater – Destiny
CATEGORIES:Live Presentation
ATTACH;FMTTYPE=image/jpeg:https://spacecenter.org/wp-content/uploads/2022/10/Artemis-Capsule.jpeg
END:VEVENT
BEGIN:VEVENT
DTSTART;TZID=America/Chicago:20300523T163000
DTEND;TZID=America/Chicago:20300523T164500
DTSTAMP:20260424T223905
CREATED:20250602T212726Z
LAST-MODIFIED:20250603T192225Z
UID:10216419-1905784200-1905785100@spacecenter.org
SUMMARY:OSIRIS Rex Live Presentation
DESCRIPTION:
URL:https://spacecenter.org/events-calendar-event/osiris-rex-live-presentation-3/2030-05-23/
LOCATION:Mission Sketch Staircase
CATEGORIES:Live Presentation
ATTACH;FMTTYPE=image/jpeg:https://spacecenter.org/wp-content/uploads/2024/03/web-march2024_tls_osirisrex.jpg
END:VEVENT
BEGIN:VEVENT
DTSTART;TZID=America/Chicago:20300524T104500
DTEND;TZID=America/Chicago:20300524T110000
DTSTAMP:20260424T223905
CREATED:20250602T212526Z
LAST-MODIFIED:20250603T185502Z
UID:10103084-1905849900-1905850800@spacecenter.org
SUMMARY:OSIRIS Rex Live Presentation
DESCRIPTION:
URL:https://spacecenter.org/events-calendar-event/osiris-rex-live-presentation/2030-05-24/
LOCATION:Mission Sketch Staircase
CATEGORIES:Live Presentation
ATTACH;FMTTYPE=image/jpeg:https://spacecenter.org/wp-content/uploads/2024/03/web-march2024_tls_osirisrex.jpg
END:VEVENT
BEGIN:VEVENT
DTSTART;TZID=America/Chicago:20300524T104500
DTEND;TZID=America/Chicago:20300524T111500
DTSTAMP:20260424T223905
CREATED:20250602T213905Z
LAST-MODIFIED:20250603T185637Z
UID:10110396-1905849900-1905851700@spacecenter.org
SUMMARY:Artemis Live Presentation
DESCRIPTION:
URL:https://spacecenter.org/events-calendar-event/artemis-live-presentation/2030-05-24/
LOCATION:Theater – Destiny
CATEGORIES:Live Presentation
ATTACH;FMTTYPE=image/jpeg:https://spacecenter.org/wp-content/uploads/2022/10/Artemis-Capsule.jpeg
END:VEVENT
BEGIN:VEVENT
DTSTART;TZID=America/Chicago:20300524T111500
DTEND;TZID=America/Chicago:20300524T113000
DTSTAMP:20260424T223905
CREATED:20250602T213010Z
LAST-MODIFIED:20250603T185901Z
UID:10121364-1905851700-1905852600@spacecenter.org
SUMMARY:Story Corner Live Presentation
DESCRIPTION:
URL:https://spacecenter.org/events-calendar-event/story-corner-live-presentation/2030-05-24/
LOCATION:Theater – Artemis
CATEGORIES:Live Presentation
END:VEVENT
BEGIN:VEVENT
DTSTART;TZID=America/Chicago:20300524T114500
DTEND;TZID=America/Chicago:20300524T120000
DTSTAMP:20260424T223905
CREATED:20250602T213503Z
LAST-MODIFIED:20250603T190256Z
UID:10139644-1905853500-1905854400@spacecenter.org
SUMMARY:James Webb Live Presentation
DESCRIPTION:
URL:https://spacecenter.org/events-calendar-event/james-webb-live-presentation/2030-05-24/
LOCATION:Theater – Destiny
CATEGORIES:Live Presentation
END:VEVENT
BEGIN:VEVENT
DTSTART;TZID=America/Chicago:20300524T121500
DTEND;TZID=America/Chicago:20300524T123000
DTSTAMP:20260424T223905
CREATED:20250602T213059Z
LAST-MODIFIED:20250603T190345Z
UID:10143300-1905855300-1905856200@spacecenter.org
SUMMARY:Story Corner Live Presentation
DESCRIPTION:
URL:https://spacecenter.org/events-calendar-event/story-corner-live-presentation-2/2030-05-24/
LOCATION:Theater – Artemis
CATEGORIES:Live Presentation
END:VEVENT
BEGIN:VEVENT
DTSTART;TZID=America/Chicago:20300524T124500
DTEND;TZID=America/Chicago:20300524T131500
DTSTAMP:20260424T223905
CREATED:20250602T214012Z
LAST-MODIFIED:20250603T190811Z
UID:10154268-1905857100-1905858900@spacecenter.org
SUMMARY:Artemis Live Presentation
DESCRIPTION:
URL:https://spacecenter.org/events-calendar-event/artemis-live-presentation-2/2030-05-24/
LOCATION:Theater – Destiny
CATEGORIES:Live Presentation
ATTACH;FMTTYPE=image/jpeg:https://spacecenter.org/wp-content/uploads/2022/10/Artemis-Capsule.jpeg
END:VEVENT
BEGIN:VEVENT
DTSTART;TZID=America/Chicago:20300524T131500
DTEND;TZID=America/Chicago:20300524T133000
DTSTAMP:20260424T223905
CREATED:20250602T213201Z
LAST-MODIFIED:20250603T190922Z
UID:10161580-1905858900-1905859800@spacecenter.org
SUMMARY:Story Corner Live Presentation
DESCRIPTION:
URL:https://spacecenter.org/events-calendar-event/story-corner-live-presentation-3/2030-05-24/
LOCATION:Theater – Artemis
CATEGORIES:Live Presentation
END:VEVENT
BEGIN:VEVENT
DTSTART;TZID=America/Chicago:20300524T134500
DTEND;TZID=America/Chicago:20300524T140000
DTSTAMP:20260424T223905
CREATED:20250602T212635Z
LAST-MODIFIED:20250603T191121Z
UID:10172548-1905860700-1905861600@spacecenter.org
SUMMARY:OSIRIS Rex Live Presentation
DESCRIPTION:
URL:https://spacecenter.org/events-calendar-event/osiris-rex-live-presentation-2/2030-05-24/
LOCATION:Mission Sketch Staircase
CATEGORIES:Live Presentation
ATTACH;FMTTYPE=image/jpeg:https://spacecenter.org/wp-content/uploads/2024/03/web-march2024_tls_osirisrex.jpg
END:VEVENT
BEGIN:VEVENT
DTSTART;TZID=America/Chicago:20300524T134500
DTEND;TZID=America/Chicago:20300524T140000
DTSTAMP:20260424T223905
CREATED:20250602T213557Z
LAST-MODIFIED:20250603T191327Z
UID:10176204-1905860700-1905861600@spacecenter.org
SUMMARY:James Webb Live Presentation
DESCRIPTION:
URL:https://spacecenter.org/events-calendar-event/james-webb-live-presentation-2/2030-05-24/
LOCATION:Theater – Destiny
CATEGORIES:Live Presentation
END:VEVENT
BEGIN:VEVENT
DTSTART;TZID=America/Chicago:20300524T144500
DTEND;TZID=America/Chicago:20300524T150000
DTSTAMP:20260424T223905
CREATED:20250602T213716Z
LAST-MODIFIED:20250603T191759Z
UID:10190828-1905864300-1905865200@spacecenter.org
SUMMARY:James Webb Live Presentation
DESCRIPTION:
URL:https://spacecenter.org/events-calendar-event/james-webb-live-presentation-3/2030-05-24/
LOCATION:Theater – Destiny
CATEGORIES:Live Presentation
END:VEVENT
END:VCALENDAR