BEGIN:VCALENDAR
VERSION:2.0
PRODID:-//Space Center Houston - ECPv6.15.15//NONSGML v1.0//EN
CALSCALE:GREGORIAN
METHOD:PUBLISH
X-ORIGINAL-URL:https://spacecenter.org
X-WR-CALDESC:Events for Space Center Houston
REFRESH-INTERVAL;VALUE=DURATION:PT1H
X-Robots-Tag:noindex
X-PUBLISHED-TTL:PT1H
BEGIN:VTIMEZONE
TZID:America/Chicago
BEGIN:DAYLIGHT
TZOFFSETFROM:-0600
TZOFFSETTO:-0500
TZNAME:CDT
DTSTART:20290311T080000
END:DAYLIGHT
BEGIN:STANDARD
TZOFFSETFROM:-0500
TZOFFSETTO:-0600
TZNAME:CST
DTSTART:20291104T070000
END:STANDARD
BEGIN:DAYLIGHT
TZOFFSETFROM:-0600
TZOFFSETTO:-0500
TZNAME:CDT
DTSTART:20300310T080000
END:DAYLIGHT
BEGIN:STANDARD
TZOFFSETFROM:-0500
TZOFFSETTO:-0600
TZNAME:CST
DTSTART:20301103T070000
END:STANDARD
BEGIN:DAYLIGHT
TZOFFSETFROM:-0600
TZOFFSETTO:-0500
TZNAME:CDT
DTSTART:20310309T080000
END:DAYLIGHT
BEGIN:STANDARD
TZOFFSETFROM:-0500
TZOFFSETTO:-0600
TZNAME:CST
DTSTART:20311102T070000
END:STANDARD
END:VTIMEZONE
BEGIN:VEVENT
DTSTART;TZID=America/Chicago:20300510T151500
DTEND;TZID=America/Chicago:20300510T153000
DTSTAMP:20260421T091959
CREATED:20250602T213249Z
LAST-MODIFIED:20250603T191942Z
UID:10198126-1904656500-1904657400@spacecenter.org
SUMMARY:Story Corner Live Presentation
DESCRIPTION:
URL:https://spacecenter.org/events-calendar-event/story-corner-live-presentation-4/2030-05-10/
LOCATION:Theater – Artemis
CATEGORIES:Live Presentation
END:VEVENT
BEGIN:VEVENT
DTSTART;TZID=America/Chicago:20300510T154500
DTEND;TZID=America/Chicago:20300510T161500
DTSTAMP:20260421T091959
CREATED:20250602T214125Z
LAST-MODIFIED:20250603T192119Z
UID:10209094-1904658300-1904660100@spacecenter.org
SUMMARY:Artemis Live Presentation
DESCRIPTION:
URL:https://spacecenter.org/events-calendar-event/artemis-live-presentation-3/2030-05-10/
LOCATION:Theater – Destiny
CATEGORIES:Live Presentation
ATTACH;FMTTYPE=image/jpeg:https://spacecenter.org/wp-content/uploads/2022/10/Artemis-Capsule.jpeg
END:VEVENT
BEGIN:VEVENT
DTSTART;TZID=America/Chicago:20300510T163000
DTEND;TZID=America/Chicago:20300510T164500
DTSTAMP:20260421T091959
CREATED:20250602T212726Z
LAST-MODIFIED:20250603T192225Z
UID:10216406-1904661000-1904661900@spacecenter.org
SUMMARY:OSIRIS Rex Live Presentation
DESCRIPTION:
URL:https://spacecenter.org/events-calendar-event/osiris-rex-live-presentation-3/2030-05-10/
LOCATION:Mission Sketch Staircase
CATEGORIES:Live Presentation
ATTACH;FMTTYPE=image/jpeg:https://spacecenter.org/wp-content/uploads/2024/03/web-march2024_tls_osirisrex.jpg
END:VEVENT
BEGIN:VEVENT
DTSTART;TZID=America/Chicago:20300511T104500
DTEND;TZID=America/Chicago:20300511T110000
DTSTAMP:20260421T091959
CREATED:20250602T212526Z
LAST-MODIFIED:20250603T185502Z
UID:10103071-1904726700-1904727600@spacecenter.org
SUMMARY:OSIRIS Rex Live Presentation
DESCRIPTION:
URL:https://spacecenter.org/events-calendar-event/osiris-rex-live-presentation/2030-05-11/
LOCATION:Mission Sketch Staircase
CATEGORIES:Live Presentation
ATTACH;FMTTYPE=image/jpeg:https://spacecenter.org/wp-content/uploads/2024/03/web-march2024_tls_osirisrex.jpg
END:VEVENT
BEGIN:VEVENT
DTSTART;TZID=America/Chicago:20300511T104500
DTEND;TZID=America/Chicago:20300511T111500
DTSTAMP:20260421T091959
CREATED:20250602T213905Z
LAST-MODIFIED:20250603T185637Z
UID:10110383-1904726700-1904728500@spacecenter.org
SUMMARY:Artemis Live Presentation
DESCRIPTION:
URL:https://spacecenter.org/events-calendar-event/artemis-live-presentation/2030-05-11/
LOCATION:Theater – Destiny
CATEGORIES:Live Presentation
ATTACH;FMTTYPE=image/jpeg:https://spacecenter.org/wp-content/uploads/2022/10/Artemis-Capsule.jpeg
END:VEVENT
BEGIN:VEVENT
DTSTART;TZID=America/Chicago:20300511T111500
DTEND;TZID=America/Chicago:20300511T113000
DTSTAMP:20260421T091959
CREATED:20250602T213010Z
LAST-MODIFIED:20250603T185901Z
UID:10121351-1904728500-1904729400@spacecenter.org
SUMMARY:Story Corner Live Presentation
DESCRIPTION:
URL:https://spacecenter.org/events-calendar-event/story-corner-live-presentation/2030-05-11/
LOCATION:Theater – Artemis
CATEGORIES:Live Presentation
END:VEVENT
BEGIN:VEVENT
DTSTART;TZID=America/Chicago:20300511T114500
DTEND;TZID=America/Chicago:20300511T120000
DTSTAMP:20260421T091959
CREATED:20250602T213503Z
LAST-MODIFIED:20250603T190256Z
UID:10139631-1904730300-1904731200@spacecenter.org
SUMMARY:James Webb Live Presentation
DESCRIPTION:
URL:https://spacecenter.org/events-calendar-event/james-webb-live-presentation/2030-05-11/
LOCATION:Theater – Destiny
CATEGORIES:Live Presentation
END:VEVENT
BEGIN:VEVENT
DTSTART;TZID=America/Chicago:20300511T121500
DTEND;TZID=America/Chicago:20300511T123000
DTSTAMP:20260421T091959
CREATED:20250602T213059Z
LAST-MODIFIED:20250603T190345Z
UID:10143287-1904732100-1904733000@spacecenter.org
SUMMARY:Story Corner Live Presentation
DESCRIPTION:
URL:https://spacecenter.org/events-calendar-event/story-corner-live-presentation-2/2030-05-11/
LOCATION:Theater – Artemis
CATEGORIES:Live Presentation
END:VEVENT
BEGIN:VEVENT
DTSTART;TZID=America/Chicago:20300511T124500
DTEND;TZID=America/Chicago:20300511T131500
DTSTAMP:20260421T091959
CREATED:20250602T214012Z
LAST-MODIFIED:20250603T190811Z
UID:10154255-1904733900-1904735700@spacecenter.org
SUMMARY:Artemis Live Presentation
DESCRIPTION:
URL:https://spacecenter.org/events-calendar-event/artemis-live-presentation-2/2030-05-11/
LOCATION:Theater – Destiny
CATEGORIES:Live Presentation
ATTACH;FMTTYPE=image/jpeg:https://spacecenter.org/wp-content/uploads/2022/10/Artemis-Capsule.jpeg
END:VEVENT
BEGIN:VEVENT
DTSTART;TZID=America/Chicago:20300511T131500
DTEND;TZID=America/Chicago:20300511T133000
DTSTAMP:20260421T091959
CREATED:20250602T213201Z
LAST-MODIFIED:20250603T190922Z
UID:10161567-1904735700-1904736600@spacecenter.org
SUMMARY:Story Corner Live Presentation
DESCRIPTION:
URL:https://spacecenter.org/events-calendar-event/story-corner-live-presentation-3/2030-05-11/
LOCATION:Theater – Artemis
CATEGORIES:Live Presentation
END:VEVENT
BEGIN:VEVENT
DTSTART;TZID=America/Chicago:20300511T134500
DTEND;TZID=America/Chicago:20300511T140000
DTSTAMP:20260421T091959
CREATED:20250602T212635Z
LAST-MODIFIED:20250603T191121Z
UID:10172535-1904737500-1904738400@spacecenter.org
SUMMARY:OSIRIS Rex Live Presentation
DESCRIPTION:
URL:https://spacecenter.org/events-calendar-event/osiris-rex-live-presentation-2/2030-05-11/
LOCATION:Mission Sketch Staircase
CATEGORIES:Live Presentation
ATTACH;FMTTYPE=image/jpeg:https://spacecenter.org/wp-content/uploads/2024/03/web-march2024_tls_osirisrex.jpg
END:VEVENT
BEGIN:VEVENT
DTSTART;TZID=America/Chicago:20300511T134500
DTEND;TZID=America/Chicago:20300511T140000
DTSTAMP:20260421T091959
CREATED:20250602T213557Z
LAST-MODIFIED:20250603T191327Z
UID:10176191-1904737500-1904738400@spacecenter.org
SUMMARY:James Webb Live Presentation
DESCRIPTION:
URL:https://spacecenter.org/events-calendar-event/james-webb-live-presentation-2/2030-05-11/
LOCATION:Theater – Destiny
CATEGORIES:Live Presentation
END:VEVENT
BEGIN:VEVENT
DTSTART;TZID=America/Chicago:20300511T144500
DTEND;TZID=America/Chicago:20300511T150000
DTSTAMP:20260421T091959
CREATED:20250602T213716Z
LAST-MODIFIED:20250603T191759Z
UID:10190815-1904741100-1904742000@spacecenter.org
SUMMARY:James Webb Live Presentation
DESCRIPTION:
URL:https://spacecenter.org/events-calendar-event/james-webb-live-presentation-3/2030-05-11/
LOCATION:Theater – Destiny
CATEGORIES:Live Presentation
END:VEVENT
BEGIN:VEVENT
DTSTART;TZID=America/Chicago:20300511T151500
DTEND;TZID=America/Chicago:20300511T153000
DTSTAMP:20260421T091959
CREATED:20250602T213249Z
LAST-MODIFIED:20250603T191942Z
UID:10198127-1904742900-1904743800@spacecenter.org
SUMMARY:Story Corner Live Presentation
DESCRIPTION:
URL:https://spacecenter.org/events-calendar-event/story-corner-live-presentation-4/2030-05-11/
LOCATION:Theater – Artemis
CATEGORIES:Live Presentation
END:VEVENT
BEGIN:VEVENT
DTSTART;TZID=America/Chicago:20300511T154500
DTEND;TZID=America/Chicago:20300511T161500
DTSTAMP:20260421T091959
CREATED:20250602T214125Z
LAST-MODIFIED:20250603T192119Z
UID:10209095-1904744700-1904746500@spacecenter.org
SUMMARY:Artemis Live Presentation
DESCRIPTION:
URL:https://spacecenter.org/events-calendar-event/artemis-live-presentation-3/2030-05-11/
LOCATION:Theater – Destiny
CATEGORIES:Live Presentation
ATTACH;FMTTYPE=image/jpeg:https://spacecenter.org/wp-content/uploads/2022/10/Artemis-Capsule.jpeg
END:VEVENT
BEGIN:VEVENT
DTSTART;TZID=America/Chicago:20300511T163000
DTEND;TZID=America/Chicago:20300511T164500
DTSTAMP:20260421T091959
CREATED:20250602T212726Z
LAST-MODIFIED:20250603T192225Z
UID:10216407-1904747400-1904748300@spacecenter.org
SUMMARY:OSIRIS Rex Live Presentation
DESCRIPTION:
URL:https://spacecenter.org/events-calendar-event/osiris-rex-live-presentation-3/2030-05-11/
LOCATION:Mission Sketch Staircase
CATEGORIES:Live Presentation
ATTACH;FMTTYPE=image/jpeg:https://spacecenter.org/wp-content/uploads/2024/03/web-march2024_tls_osirisrex.jpg
END:VEVENT
BEGIN:VEVENT
DTSTART;TZID=America/Chicago:20300512T104500
DTEND;TZID=America/Chicago:20300512T110000
DTSTAMP:20260421T091959
CREATED:20250602T212526Z
LAST-MODIFIED:20250603T185502Z
UID:10103072-1904813100-1904814000@spacecenter.org
SUMMARY:OSIRIS Rex Live Presentation
DESCRIPTION:
URL:https://spacecenter.org/events-calendar-event/osiris-rex-live-presentation/2030-05-12/
LOCATION:Mission Sketch Staircase
CATEGORIES:Live Presentation
ATTACH;FMTTYPE=image/jpeg:https://spacecenter.org/wp-content/uploads/2024/03/web-march2024_tls_osirisrex.jpg
END:VEVENT
BEGIN:VEVENT
DTSTART;TZID=America/Chicago:20300512T104500
DTEND;TZID=America/Chicago:20300512T111500
DTSTAMP:20260421T091959
CREATED:20250602T213905Z
LAST-MODIFIED:20250603T185637Z
UID:10110384-1904813100-1904814900@spacecenter.org
SUMMARY:Artemis Live Presentation
DESCRIPTION:
URL:https://spacecenter.org/events-calendar-event/artemis-live-presentation/2030-05-12/
LOCATION:Theater – Destiny
CATEGORIES:Live Presentation
ATTACH;FMTTYPE=image/jpeg:https://spacecenter.org/wp-content/uploads/2022/10/Artemis-Capsule.jpeg
END:VEVENT
BEGIN:VEVENT
DTSTART;TZID=America/Chicago:20300512T111500
DTEND;TZID=America/Chicago:20300512T113000
DTSTAMP:20260421T091959
CREATED:20250602T213010Z
LAST-MODIFIED:20250603T185901Z
UID:10121352-1904814900-1904815800@spacecenter.org
SUMMARY:Story Corner Live Presentation
DESCRIPTION:
URL:https://spacecenter.org/events-calendar-event/story-corner-live-presentation/2030-05-12/
LOCATION:Theater – Artemis
CATEGORIES:Live Presentation
END:VEVENT
BEGIN:VEVENT
DTSTART;TZID=America/Chicago:20300512T114500
DTEND;TZID=America/Chicago:20300512T120000
DTSTAMP:20260421T091959
CREATED:20250602T213503Z
LAST-MODIFIED:20250603T190256Z
UID:10139632-1904816700-1904817600@spacecenter.org
SUMMARY:James Webb Live Presentation
DESCRIPTION:
URL:https://spacecenter.org/events-calendar-event/james-webb-live-presentation/2030-05-12/
LOCATION:Theater – Destiny
CATEGORIES:Live Presentation
END:VEVENT
BEGIN:VEVENT
DTSTART;TZID=America/Chicago:20300512T121500
DTEND;TZID=America/Chicago:20300512T123000
DTSTAMP:20260421T091959
CREATED:20250602T213059Z
LAST-MODIFIED:20250603T190345Z
UID:10143288-1904818500-1904819400@spacecenter.org
SUMMARY:Story Corner Live Presentation
DESCRIPTION:
URL:https://spacecenter.org/events-calendar-event/story-corner-live-presentation-2/2030-05-12/
LOCATION:Theater – Artemis
CATEGORIES:Live Presentation
END:VEVENT
BEGIN:VEVENT
DTSTART;TZID=America/Chicago:20300512T124500
DTEND;TZID=America/Chicago:20300512T131500
DTSTAMP:20260421T091959
CREATED:20250602T214012Z
LAST-MODIFIED:20250603T190811Z
UID:10154256-1904820300-1904822100@spacecenter.org
SUMMARY:Artemis Live Presentation
DESCRIPTION:
URL:https://spacecenter.org/events-calendar-event/artemis-live-presentation-2/2030-05-12/
LOCATION:Theater – Destiny
CATEGORIES:Live Presentation
ATTACH;FMTTYPE=image/jpeg:https://spacecenter.org/wp-content/uploads/2022/10/Artemis-Capsule.jpeg
END:VEVENT
BEGIN:VEVENT
DTSTART;TZID=America/Chicago:20300512T131500
DTEND;TZID=America/Chicago:20300512T133000
DTSTAMP:20260421T091959
CREATED:20250602T213201Z
LAST-MODIFIED:20250603T190922Z
UID:10161568-1904822100-1904823000@spacecenter.org
SUMMARY:Story Corner Live Presentation
DESCRIPTION:
URL:https://spacecenter.org/events-calendar-event/story-corner-live-presentation-3/2030-05-12/
LOCATION:Theater – Artemis
CATEGORIES:Live Presentation
END:VEVENT
BEGIN:VEVENT
DTSTART;TZID=America/Chicago:20300512T134500
DTEND;TZID=America/Chicago:20300512T140000
DTSTAMP:20260421T091959
CREATED:20250602T212635Z
LAST-MODIFIED:20250603T191121Z
UID:10172536-1904823900-1904824800@spacecenter.org
SUMMARY:OSIRIS Rex Live Presentation
DESCRIPTION:
URL:https://spacecenter.org/events-calendar-event/osiris-rex-live-presentation-2/2030-05-12/
LOCATION:Mission Sketch Staircase
CATEGORIES:Live Presentation
ATTACH;FMTTYPE=image/jpeg:https://spacecenter.org/wp-content/uploads/2024/03/web-march2024_tls_osirisrex.jpg
END:VEVENT
BEGIN:VEVENT
DTSTART;TZID=America/Chicago:20300512T134500
DTEND;TZID=America/Chicago:20300512T140000
DTSTAMP:20260421T091959
CREATED:20250602T213557Z
LAST-MODIFIED:20250603T191327Z
UID:10176192-1904823900-1904824800@spacecenter.org
SUMMARY:James Webb Live Presentation
DESCRIPTION:
URL:https://spacecenter.org/events-calendar-event/james-webb-live-presentation-2/2030-05-12/
LOCATION:Theater – Destiny
CATEGORIES:Live Presentation
END:VEVENT
BEGIN:VEVENT
DTSTART;TZID=America/Chicago:20300512T144500
DTEND;TZID=America/Chicago:20300512T150000
DTSTAMP:20260421T091959
CREATED:20250602T213716Z
LAST-MODIFIED:20250603T191759Z
UID:10190816-1904827500-1904828400@spacecenter.org
SUMMARY:James Webb Live Presentation
DESCRIPTION:
URL:https://spacecenter.org/events-calendar-event/james-webb-live-presentation-3/2030-05-12/
LOCATION:Theater – Destiny
CATEGORIES:Live Presentation
END:VEVENT
BEGIN:VEVENT
DTSTART;TZID=America/Chicago:20300512T151500
DTEND;TZID=America/Chicago:20300512T153000
DTSTAMP:20260421T091959
CREATED:20250602T213249Z
LAST-MODIFIED:20250603T191942Z
UID:10198128-1904829300-1904830200@spacecenter.org
SUMMARY:Story Corner Live Presentation
DESCRIPTION:
URL:https://spacecenter.org/events-calendar-event/story-corner-live-presentation-4/2030-05-12/
LOCATION:Theater – Artemis
CATEGORIES:Live Presentation
END:VEVENT
BEGIN:VEVENT
DTSTART;TZID=America/Chicago:20300512T154500
DTEND;TZID=America/Chicago:20300512T161500
DTSTAMP:20260421T091959
CREATED:20250602T214125Z
LAST-MODIFIED:20250603T192119Z
UID:10209096-1904831100-1904832900@spacecenter.org
SUMMARY:Artemis Live Presentation
DESCRIPTION:
URL:https://spacecenter.org/events-calendar-event/artemis-live-presentation-3/2030-05-12/
LOCATION:Theater – Destiny
CATEGORIES:Live Presentation
ATTACH;FMTTYPE=image/jpeg:https://spacecenter.org/wp-content/uploads/2022/10/Artemis-Capsule.jpeg
END:VEVENT
BEGIN:VEVENT
DTSTART;TZID=America/Chicago:20300512T163000
DTEND;TZID=America/Chicago:20300512T164500
DTSTAMP:20260421T091959
CREATED:20250602T212726Z
LAST-MODIFIED:20250603T192225Z
UID:10216408-1904833800-1904834700@spacecenter.org
SUMMARY:OSIRIS Rex Live Presentation
DESCRIPTION:
URL:https://spacecenter.org/events-calendar-event/osiris-rex-live-presentation-3/2030-05-12/
LOCATION:Mission Sketch Staircase
CATEGORIES:Live Presentation
ATTACH;FMTTYPE=image/jpeg:https://spacecenter.org/wp-content/uploads/2024/03/web-march2024_tls_osirisrex.jpg
END:VEVENT
BEGIN:VEVENT
DTSTART;TZID=America/Chicago:20300513T104500
DTEND;TZID=America/Chicago:20300513T110000
DTSTAMP:20260421T091959
CREATED:20250602T212526Z
LAST-MODIFIED:20250603T185502Z
UID:10103073-1904899500-1904900400@spacecenter.org
SUMMARY:OSIRIS Rex Live Presentation
DESCRIPTION:
URL:https://spacecenter.org/events-calendar-event/osiris-rex-live-presentation/2030-05-13/
LOCATION:Mission Sketch Staircase
CATEGORIES:Live Presentation
ATTACH;FMTTYPE=image/jpeg:https://spacecenter.org/wp-content/uploads/2024/03/web-march2024_tls_osirisrex.jpg
END:VEVENT
END:VCALENDAR