BEGIN:VCALENDAR
VERSION:2.0
PRODID:-//Space Center Houston - ECPv6.15.15//NONSGML v1.0//EN
CALSCALE:GREGORIAN
METHOD:PUBLISH
X-WR-CALNAME:Space Center Houston
X-ORIGINAL-URL:https://spacecenter.org
X-WR-CALDESC:Events for Space Center Houston
REFRESH-INTERVAL;VALUE=DURATION:PT1H
X-Robots-Tag:noindex
X-PUBLISHED-TTL:PT1H
BEGIN:VTIMEZONE
TZID:America/Chicago
BEGIN:DAYLIGHT
TZOFFSETFROM:-0600
TZOFFSETTO:-0500
TZNAME:CDT
DTSTART:20290311T080000
END:DAYLIGHT
BEGIN:STANDARD
TZOFFSETFROM:-0500
TZOFFSETTO:-0600
TZNAME:CST
DTSTART:20291104T070000
END:STANDARD
BEGIN:DAYLIGHT
TZOFFSETFROM:-0600
TZOFFSETTO:-0500
TZNAME:CDT
DTSTART:20300310T080000
END:DAYLIGHT
BEGIN:STANDARD
TZOFFSETFROM:-0500
TZOFFSETTO:-0600
TZNAME:CST
DTSTART:20301103T070000
END:STANDARD
BEGIN:DAYLIGHT
TZOFFSETFROM:-0600
TZOFFSETTO:-0500
TZNAME:CDT
DTSTART:20310309T080000
END:DAYLIGHT
BEGIN:STANDARD
TZOFFSETFROM:-0500
TZOFFSETTO:-0600
TZNAME:CST
DTSTART:20311102T070000
END:STANDARD
END:VTIMEZONE
BEGIN:VEVENT
DTSTART;TZID=America/Chicago:20300410T104500
DTEND;TZID=America/Chicago:20300410T110000
DTSTAMP:20260420T230110
CREATED:20250602T212526Z
LAST-MODIFIED:20250603T185502Z
UID:10103040-1902048300-1902049200@spacecenter.org
SUMMARY:OSIRIS Rex Live Presentation
DESCRIPTION:
URL:https://spacecenter.org/events-calendar-event/osiris-rex-live-presentation/2030-04-10/
LOCATION:Mission Sketch Staircase
CATEGORIES:Live Presentation
ATTACH;FMTTYPE=image/jpeg:https://spacecenter.org/wp-content/uploads/2024/03/web-march2024_tls_osirisrex.jpg
END:VEVENT
BEGIN:VEVENT
DTSTART;TZID=America/Chicago:20300410T104500
DTEND;TZID=America/Chicago:20300410T111500
DTSTAMP:20260420T230110
CREATED:20250602T213905Z
LAST-MODIFIED:20250603T185637Z
UID:10110352-1902048300-1902050100@spacecenter.org
SUMMARY:Artemis Live Presentation
DESCRIPTION:
URL:https://spacecenter.org/events-calendar-event/artemis-live-presentation/2030-04-10/
LOCATION:Theater – Destiny
CATEGORIES:Live Presentation
ATTACH;FMTTYPE=image/jpeg:https://spacecenter.org/wp-content/uploads/2022/10/Artemis-Capsule.jpeg
END:VEVENT
BEGIN:VEVENT
DTSTART;TZID=America/Chicago:20300410T111500
DTEND;TZID=America/Chicago:20300410T113000
DTSTAMP:20260420T230110
CREATED:20250602T213010Z
LAST-MODIFIED:20250603T185901Z
UID:10121320-1902050100-1902051000@spacecenter.org
SUMMARY:Story Corner Live Presentation
DESCRIPTION:
URL:https://spacecenter.org/events-calendar-event/story-corner-live-presentation/2030-04-10/
LOCATION:Theater – Artemis
CATEGORIES:Live Presentation
END:VEVENT
BEGIN:VEVENT
DTSTART;TZID=America/Chicago:20300410T114500
DTEND;TZID=America/Chicago:20300410T120000
DTSTAMP:20260420T230110
CREATED:20250602T213503Z
LAST-MODIFIED:20250603T190256Z
UID:10139600-1902051900-1902052800@spacecenter.org
SUMMARY:James Webb Live Presentation
DESCRIPTION:
URL:https://spacecenter.org/events-calendar-event/james-webb-live-presentation/2030-04-10/
LOCATION:Theater – Destiny
CATEGORIES:Live Presentation
END:VEVENT
BEGIN:VEVENT
DTSTART;TZID=America/Chicago:20300410T121500
DTEND;TZID=America/Chicago:20300410T123000
DTSTAMP:20260420T230110
CREATED:20250602T213059Z
LAST-MODIFIED:20250603T190345Z
UID:10143256-1902053700-1902054600@spacecenter.org
SUMMARY:Story Corner Live Presentation
DESCRIPTION:
URL:https://spacecenter.org/events-calendar-event/story-corner-live-presentation-2/2030-04-10/
LOCATION:Theater – Artemis
CATEGORIES:Live Presentation
END:VEVENT
BEGIN:VEVENT
DTSTART;TZID=America/Chicago:20300410T124500
DTEND;TZID=America/Chicago:20300410T131500
DTSTAMP:20260420T230110
CREATED:20250602T214012Z
LAST-MODIFIED:20250603T190811Z
UID:10154224-1902055500-1902057300@spacecenter.org
SUMMARY:Artemis Live Presentation
DESCRIPTION:
URL:https://spacecenter.org/events-calendar-event/artemis-live-presentation-2/2030-04-10/
LOCATION:Theater – Destiny
CATEGORIES:Live Presentation
ATTACH;FMTTYPE=image/jpeg:https://spacecenter.org/wp-content/uploads/2022/10/Artemis-Capsule.jpeg
END:VEVENT
BEGIN:VEVENT
DTSTART;TZID=America/Chicago:20300410T131500
DTEND;TZID=America/Chicago:20300410T133000
DTSTAMP:20260420T230110
CREATED:20250602T213201Z
LAST-MODIFIED:20250603T190922Z
UID:10161536-1902057300-1902058200@spacecenter.org
SUMMARY:Story Corner Live Presentation
DESCRIPTION:
URL:https://spacecenter.org/events-calendar-event/story-corner-live-presentation-3/2030-04-10/
LOCATION:Theater – Artemis
CATEGORIES:Live Presentation
END:VEVENT
BEGIN:VEVENT
DTSTART;TZID=America/Chicago:20300410T134500
DTEND;TZID=America/Chicago:20300410T140000
DTSTAMP:20260420T230110
CREATED:20250602T212635Z
LAST-MODIFIED:20250603T191121Z
UID:10172504-1902059100-1902060000@spacecenter.org
SUMMARY:OSIRIS Rex Live Presentation
DESCRIPTION:
URL:https://spacecenter.org/events-calendar-event/osiris-rex-live-presentation-2/2030-04-10/
LOCATION:Mission Sketch Staircase
CATEGORIES:Live Presentation
ATTACH;FMTTYPE=image/jpeg:https://spacecenter.org/wp-content/uploads/2024/03/web-march2024_tls_osirisrex.jpg
END:VEVENT
BEGIN:VEVENT
DTSTART;TZID=America/Chicago:20300410T134500
DTEND;TZID=America/Chicago:20300410T140000
DTSTAMP:20260420T230110
CREATED:20250602T213557Z
LAST-MODIFIED:20250603T191327Z
UID:10176160-1902059100-1902060000@spacecenter.org
SUMMARY:James Webb Live Presentation
DESCRIPTION:
URL:https://spacecenter.org/events-calendar-event/james-webb-live-presentation-2/2030-04-10/
LOCATION:Theater – Destiny
CATEGORIES:Live Presentation
END:VEVENT
BEGIN:VEVENT
DTSTART;TZID=America/Chicago:20300410T144500
DTEND;TZID=America/Chicago:20300410T150000
DTSTAMP:20260420T230110
CREATED:20250602T213716Z
LAST-MODIFIED:20250603T191759Z
UID:10190784-1902062700-1902063600@spacecenter.org
SUMMARY:James Webb Live Presentation
DESCRIPTION:
URL:https://spacecenter.org/events-calendar-event/james-webb-live-presentation-3/2030-04-10/
LOCATION:Theater – Destiny
CATEGORIES:Live Presentation
END:VEVENT
BEGIN:VEVENT
DTSTART;TZID=America/Chicago:20300410T151500
DTEND;TZID=America/Chicago:20300410T153000
DTSTAMP:20260420T230110
CREATED:20250602T213249Z
LAST-MODIFIED:20250603T191942Z
UID:10198096-1902064500-1902065400@spacecenter.org
SUMMARY:Story Corner Live Presentation
DESCRIPTION:
URL:https://spacecenter.org/events-calendar-event/story-corner-live-presentation-4/2030-04-10/
LOCATION:Theater – Artemis
CATEGORIES:Live Presentation
END:VEVENT
BEGIN:VEVENT
DTSTART;TZID=America/Chicago:20300410T154500
DTEND;TZID=America/Chicago:20300410T161500
DTSTAMP:20260420T230110
CREATED:20250602T214125Z
LAST-MODIFIED:20250603T192119Z
UID:10209064-1902066300-1902068100@spacecenter.org
SUMMARY:Artemis Live Presentation
DESCRIPTION:
URL:https://spacecenter.org/events-calendar-event/artemis-live-presentation-3/2030-04-10/
LOCATION:Theater – Destiny
CATEGORIES:Live Presentation
ATTACH;FMTTYPE=image/jpeg:https://spacecenter.org/wp-content/uploads/2022/10/Artemis-Capsule.jpeg
END:VEVENT
BEGIN:VEVENT
DTSTART;TZID=America/Chicago:20300410T163000
DTEND;TZID=America/Chicago:20300410T164500
DTSTAMP:20260420T230110
CREATED:20250602T212726Z
LAST-MODIFIED:20250603T192225Z
UID:10216376-1902069000-1902069900@spacecenter.org
SUMMARY:OSIRIS Rex Live Presentation
DESCRIPTION:
URL:https://spacecenter.org/events-calendar-event/osiris-rex-live-presentation-3/2030-04-10/
LOCATION:Mission Sketch Staircase
CATEGORIES:Live Presentation
ATTACH;FMTTYPE=image/jpeg:https://spacecenter.org/wp-content/uploads/2024/03/web-march2024_tls_osirisrex.jpg
END:VEVENT
BEGIN:VEVENT
DTSTART;TZID=America/Chicago:20300411T104500
DTEND;TZID=America/Chicago:20300411T110000
DTSTAMP:20260420T230110
CREATED:20250602T212526Z
LAST-MODIFIED:20250603T185502Z
UID:10103041-1902134700-1902135600@spacecenter.org
SUMMARY:OSIRIS Rex Live Presentation
DESCRIPTION:
URL:https://spacecenter.org/events-calendar-event/osiris-rex-live-presentation/2030-04-11/
LOCATION:Mission Sketch Staircase
CATEGORIES:Live Presentation
ATTACH;FMTTYPE=image/jpeg:https://spacecenter.org/wp-content/uploads/2024/03/web-march2024_tls_osirisrex.jpg
END:VEVENT
BEGIN:VEVENT
DTSTART;TZID=America/Chicago:20300411T104500
DTEND;TZID=America/Chicago:20300411T111500
DTSTAMP:20260420T230110
CREATED:20250602T213905Z
LAST-MODIFIED:20250603T185637Z
UID:10110353-1902134700-1902136500@spacecenter.org
SUMMARY:Artemis Live Presentation
DESCRIPTION:
URL:https://spacecenter.org/events-calendar-event/artemis-live-presentation/2030-04-11/
LOCATION:Theater – Destiny
CATEGORIES:Live Presentation
ATTACH;FMTTYPE=image/jpeg:https://spacecenter.org/wp-content/uploads/2022/10/Artemis-Capsule.jpeg
END:VEVENT
BEGIN:VEVENT
DTSTART;TZID=America/Chicago:20300411T111500
DTEND;TZID=America/Chicago:20300411T113000
DTSTAMP:20260420T230110
CREATED:20250602T213010Z
LAST-MODIFIED:20250603T185901Z
UID:10121321-1902136500-1902137400@spacecenter.org
SUMMARY:Story Corner Live Presentation
DESCRIPTION:
URL:https://spacecenter.org/events-calendar-event/story-corner-live-presentation/2030-04-11/
LOCATION:Theater – Artemis
CATEGORIES:Live Presentation
END:VEVENT
BEGIN:VEVENT
DTSTART;TZID=America/Chicago:20300411T114500
DTEND;TZID=America/Chicago:20300411T120000
DTSTAMP:20260420T230110
CREATED:20250602T213503Z
LAST-MODIFIED:20250603T190256Z
UID:10139601-1902138300-1902139200@spacecenter.org
SUMMARY:James Webb Live Presentation
DESCRIPTION:
URL:https://spacecenter.org/events-calendar-event/james-webb-live-presentation/2030-04-11/
LOCATION:Theater – Destiny
CATEGORIES:Live Presentation
END:VEVENT
BEGIN:VEVENT
DTSTART;TZID=America/Chicago:20300411T121500
DTEND;TZID=America/Chicago:20300411T123000
DTSTAMP:20260420T230110
CREATED:20250602T213059Z
LAST-MODIFIED:20250603T190345Z
UID:10143257-1902140100-1902141000@spacecenter.org
SUMMARY:Story Corner Live Presentation
DESCRIPTION:
URL:https://spacecenter.org/events-calendar-event/story-corner-live-presentation-2/2030-04-11/
LOCATION:Theater – Artemis
CATEGORIES:Live Presentation
END:VEVENT
BEGIN:VEVENT
DTSTART;TZID=America/Chicago:20300411T124500
DTEND;TZID=America/Chicago:20300411T131500
DTSTAMP:20260420T230110
CREATED:20250602T214012Z
LAST-MODIFIED:20250603T190811Z
UID:10154225-1902141900-1902143700@spacecenter.org
SUMMARY:Artemis Live Presentation
DESCRIPTION:
URL:https://spacecenter.org/events-calendar-event/artemis-live-presentation-2/2030-04-11/
LOCATION:Theater – Destiny
CATEGORIES:Live Presentation
ATTACH;FMTTYPE=image/jpeg:https://spacecenter.org/wp-content/uploads/2022/10/Artemis-Capsule.jpeg
END:VEVENT
BEGIN:VEVENT
DTSTART;TZID=America/Chicago:20300411T131500
DTEND;TZID=America/Chicago:20300411T133000
DTSTAMP:20260420T230110
CREATED:20250602T213201Z
LAST-MODIFIED:20250603T190922Z
UID:10161537-1902143700-1902144600@spacecenter.org
SUMMARY:Story Corner Live Presentation
DESCRIPTION:
URL:https://spacecenter.org/events-calendar-event/story-corner-live-presentation-3/2030-04-11/
LOCATION:Theater – Artemis
CATEGORIES:Live Presentation
END:VEVENT
BEGIN:VEVENT
DTSTART;TZID=America/Chicago:20300411T134500
DTEND;TZID=America/Chicago:20300411T140000
DTSTAMP:20260420T230110
CREATED:20250602T212635Z
LAST-MODIFIED:20250603T191121Z
UID:10172505-1902145500-1902146400@spacecenter.org
SUMMARY:OSIRIS Rex Live Presentation
DESCRIPTION:
URL:https://spacecenter.org/events-calendar-event/osiris-rex-live-presentation-2/2030-04-11/
LOCATION:Mission Sketch Staircase
CATEGORIES:Live Presentation
ATTACH;FMTTYPE=image/jpeg:https://spacecenter.org/wp-content/uploads/2024/03/web-march2024_tls_osirisrex.jpg
END:VEVENT
BEGIN:VEVENT
DTSTART;TZID=America/Chicago:20300411T134500
DTEND;TZID=America/Chicago:20300411T140000
DTSTAMP:20260420T230110
CREATED:20250602T213557Z
LAST-MODIFIED:20250603T191327Z
UID:10176161-1902145500-1902146400@spacecenter.org
SUMMARY:James Webb Live Presentation
DESCRIPTION:
URL:https://spacecenter.org/events-calendar-event/james-webb-live-presentation-2/2030-04-11/
LOCATION:Theater – Destiny
CATEGORIES:Live Presentation
END:VEVENT
BEGIN:VEVENT
DTSTART;TZID=America/Chicago:20300411T144500
DTEND;TZID=America/Chicago:20300411T150000
DTSTAMP:20260420T230110
CREATED:20250602T213716Z
LAST-MODIFIED:20250603T191759Z
UID:10190785-1902149100-1902150000@spacecenter.org
SUMMARY:James Webb Live Presentation
DESCRIPTION:
URL:https://spacecenter.org/events-calendar-event/james-webb-live-presentation-3/2030-04-11/
LOCATION:Theater – Destiny
CATEGORIES:Live Presentation
END:VEVENT
BEGIN:VEVENT
DTSTART;TZID=America/Chicago:20300411T151500
DTEND;TZID=America/Chicago:20300411T153000
DTSTAMP:20260420T230110
CREATED:20250602T213249Z
LAST-MODIFIED:20250603T191942Z
UID:10198097-1902150900-1902151800@spacecenter.org
SUMMARY:Story Corner Live Presentation
DESCRIPTION:
URL:https://spacecenter.org/events-calendar-event/story-corner-live-presentation-4/2030-04-11/
LOCATION:Theater – Artemis
CATEGORIES:Live Presentation
END:VEVENT
BEGIN:VEVENT
DTSTART;TZID=America/Chicago:20300411T154500
DTEND;TZID=America/Chicago:20300411T161500
DTSTAMP:20260420T230110
CREATED:20250602T214125Z
LAST-MODIFIED:20250603T192119Z
UID:10209065-1902152700-1902154500@spacecenter.org
SUMMARY:Artemis Live Presentation
DESCRIPTION:
URL:https://spacecenter.org/events-calendar-event/artemis-live-presentation-3/2030-04-11/
LOCATION:Theater – Destiny
CATEGORIES:Live Presentation
ATTACH;FMTTYPE=image/jpeg:https://spacecenter.org/wp-content/uploads/2022/10/Artemis-Capsule.jpeg
END:VEVENT
BEGIN:VEVENT
DTSTART;TZID=America/Chicago:20300411T163000
DTEND;TZID=America/Chicago:20300411T164500
DTSTAMP:20260420T230110
CREATED:20250602T212726Z
LAST-MODIFIED:20250603T192225Z
UID:10216377-1902155400-1902156300@spacecenter.org
SUMMARY:OSIRIS Rex Live Presentation
DESCRIPTION:
URL:https://spacecenter.org/events-calendar-event/osiris-rex-live-presentation-3/2030-04-11/
LOCATION:Mission Sketch Staircase
CATEGORIES:Live Presentation
ATTACH;FMTTYPE=image/jpeg:https://spacecenter.org/wp-content/uploads/2024/03/web-march2024_tls_osirisrex.jpg
END:VEVENT
BEGIN:VEVENT
DTSTART;TZID=America/Chicago:20300412T104500
DTEND;TZID=America/Chicago:20300412T110000
DTSTAMP:20260420T230110
CREATED:20250602T212526Z
LAST-MODIFIED:20250603T185502Z
UID:10103042-1902221100-1902222000@spacecenter.org
SUMMARY:OSIRIS Rex Live Presentation
DESCRIPTION:
URL:https://spacecenter.org/events-calendar-event/osiris-rex-live-presentation/2030-04-12/
LOCATION:Mission Sketch Staircase
CATEGORIES:Live Presentation
ATTACH;FMTTYPE=image/jpeg:https://spacecenter.org/wp-content/uploads/2024/03/web-march2024_tls_osirisrex.jpg
END:VEVENT
BEGIN:VEVENT
DTSTART;TZID=America/Chicago:20300412T104500
DTEND;TZID=America/Chicago:20300412T111500
DTSTAMP:20260420T230110
CREATED:20250602T213905Z
LAST-MODIFIED:20250603T185637Z
UID:10110354-1902221100-1902222900@spacecenter.org
SUMMARY:Artemis Live Presentation
DESCRIPTION:
URL:https://spacecenter.org/events-calendar-event/artemis-live-presentation/2030-04-12/
LOCATION:Theater – Destiny
CATEGORIES:Live Presentation
ATTACH;FMTTYPE=image/jpeg:https://spacecenter.org/wp-content/uploads/2022/10/Artemis-Capsule.jpeg
END:VEVENT
BEGIN:VEVENT
DTSTART;TZID=America/Chicago:20300412T111500
DTEND;TZID=America/Chicago:20300412T113000
DTSTAMP:20260420T230110
CREATED:20250602T213010Z
LAST-MODIFIED:20250603T185901Z
UID:10121322-1902222900-1902223800@spacecenter.org
SUMMARY:Story Corner Live Presentation
DESCRIPTION:
URL:https://spacecenter.org/events-calendar-event/story-corner-live-presentation/2030-04-12/
LOCATION:Theater – Artemis
CATEGORIES:Live Presentation
END:VEVENT
BEGIN:VEVENT
DTSTART;TZID=America/Chicago:20300412T114500
DTEND;TZID=America/Chicago:20300412T120000
DTSTAMP:20260420T230110
CREATED:20250602T213503Z
LAST-MODIFIED:20250603T190256Z
UID:10139602-1902224700-1902225600@spacecenter.org
SUMMARY:James Webb Live Presentation
DESCRIPTION:
URL:https://spacecenter.org/events-calendar-event/james-webb-live-presentation/2030-04-12/
LOCATION:Theater – Destiny
CATEGORIES:Live Presentation
END:VEVENT
END:VCALENDAR