BEGIN:VCALENDAR
VERSION:2.0
PRODID:-//Space Center Houston - ECPv6.15.15//NONSGML v1.0//EN
CALSCALE:GREGORIAN
METHOD:PUBLISH
X-ORIGINAL-URL:https://spacecenter.org
X-WR-CALDESC:Events for Space Center Houston
REFRESH-INTERVAL;VALUE=DURATION:PT1H
X-Robots-Tag:noindex
X-PUBLISHED-TTL:PT1H
BEGIN:VTIMEZONE
TZID:America/Chicago
BEGIN:DAYLIGHT
TZOFFSETFROM:-0600
TZOFFSETTO:-0500
TZNAME:CDT
DTSTART:20290311T080000
END:DAYLIGHT
BEGIN:STANDARD
TZOFFSETFROM:-0500
TZOFFSETTO:-0600
TZNAME:CST
DTSTART:20291104T070000
END:STANDARD
BEGIN:DAYLIGHT
TZOFFSETFROM:-0600
TZOFFSETTO:-0500
TZNAME:CDT
DTSTART:20300310T080000
END:DAYLIGHT
BEGIN:STANDARD
TZOFFSETFROM:-0500
TZOFFSETTO:-0600
TZNAME:CST
DTSTART:20301103T070000
END:STANDARD
BEGIN:DAYLIGHT
TZOFFSETFROM:-0600
TZOFFSETTO:-0500
TZNAME:CDT
DTSTART:20310309T080000
END:DAYLIGHT
BEGIN:STANDARD
TZOFFSETFROM:-0500
TZOFFSETTO:-0600
TZNAME:CST
DTSTART:20311102T070000
END:STANDARD
END:VTIMEZONE
BEGIN:VEVENT
DTSTART;TZID=America/Chicago:20300406T111500
DTEND;TZID=America/Chicago:20300406T113000
DTSTAMP:20260420T200213
CREATED:20250602T213010Z
LAST-MODIFIED:20250603T185901Z
UID:10121316-1901704500-1901705400@spacecenter.org
SUMMARY:Story Corner Live Presentation
DESCRIPTION:
URL:https://spacecenter.org/events-calendar-event/story-corner-live-presentation/2030-04-06/
LOCATION:Theater – Artemis
CATEGORIES:Live Presentation
END:VEVENT
BEGIN:VEVENT
DTSTART;TZID=America/Chicago:20300406T114500
DTEND;TZID=America/Chicago:20300406T120000
DTSTAMP:20260420T200213
CREATED:20250602T213503Z
LAST-MODIFIED:20250603T190256Z
UID:10139596-1901706300-1901707200@spacecenter.org
SUMMARY:James Webb Live Presentation
DESCRIPTION:
URL:https://spacecenter.org/events-calendar-event/james-webb-live-presentation/2030-04-06/
LOCATION:Theater – Destiny
CATEGORIES:Live Presentation
END:VEVENT
BEGIN:VEVENT
DTSTART;TZID=America/Chicago:20300406T121500
DTEND;TZID=America/Chicago:20300406T123000
DTSTAMP:20260420T200213
CREATED:20250602T213059Z
LAST-MODIFIED:20250603T190345Z
UID:10143252-1901708100-1901709000@spacecenter.org
SUMMARY:Story Corner Live Presentation
DESCRIPTION:
URL:https://spacecenter.org/events-calendar-event/story-corner-live-presentation-2/2030-04-06/
LOCATION:Theater – Artemis
CATEGORIES:Live Presentation
END:VEVENT
BEGIN:VEVENT
DTSTART;TZID=America/Chicago:20300406T124500
DTEND;TZID=America/Chicago:20300406T131500
DTSTAMP:20260420T200213
CREATED:20250602T214012Z
LAST-MODIFIED:20250603T190811Z
UID:10154220-1901709900-1901711700@spacecenter.org
SUMMARY:Artemis Live Presentation
DESCRIPTION:
URL:https://spacecenter.org/events-calendar-event/artemis-live-presentation-2/2030-04-06/
LOCATION:Theater – Destiny
CATEGORIES:Live Presentation
ATTACH;FMTTYPE=image/jpeg:https://spacecenter.org/wp-content/uploads/2022/10/Artemis-Capsule.jpeg
END:VEVENT
BEGIN:VEVENT
DTSTART;TZID=America/Chicago:20300406T131500
DTEND;TZID=America/Chicago:20300406T133000
DTSTAMP:20260420T200213
CREATED:20250602T213201Z
LAST-MODIFIED:20250603T190922Z
UID:10161532-1901711700-1901712600@spacecenter.org
SUMMARY:Story Corner Live Presentation
DESCRIPTION:
URL:https://spacecenter.org/events-calendar-event/story-corner-live-presentation-3/2030-04-06/
LOCATION:Theater – Artemis
CATEGORIES:Live Presentation
END:VEVENT
BEGIN:VEVENT
DTSTART;TZID=America/Chicago:20300406T134500
DTEND;TZID=America/Chicago:20300406T140000
DTSTAMP:20260420T200213
CREATED:20250602T212635Z
LAST-MODIFIED:20250603T191121Z
UID:10172500-1901713500-1901714400@spacecenter.org
SUMMARY:OSIRIS Rex Live Presentation
DESCRIPTION:
URL:https://spacecenter.org/events-calendar-event/osiris-rex-live-presentation-2/2030-04-06/
LOCATION:Mission Sketch Staircase
CATEGORIES:Live Presentation
ATTACH;FMTTYPE=image/jpeg:https://spacecenter.org/wp-content/uploads/2024/03/web-march2024_tls_osirisrex.jpg
END:VEVENT
BEGIN:VEVENT
DTSTART;TZID=America/Chicago:20300406T134500
DTEND;TZID=America/Chicago:20300406T140000
DTSTAMP:20260420T200213
CREATED:20250602T213557Z
LAST-MODIFIED:20250603T191327Z
UID:10176156-1901713500-1901714400@spacecenter.org
SUMMARY:James Webb Live Presentation
DESCRIPTION:
URL:https://spacecenter.org/events-calendar-event/james-webb-live-presentation-2/2030-04-06/
LOCATION:Theater – Destiny
CATEGORIES:Live Presentation
END:VEVENT
BEGIN:VEVENT
DTSTART;TZID=America/Chicago:20300406T144500
DTEND;TZID=America/Chicago:20300406T150000
DTSTAMP:20260420T200213
CREATED:20250602T213716Z
LAST-MODIFIED:20250603T191759Z
UID:10190780-1901717100-1901718000@spacecenter.org
SUMMARY:James Webb Live Presentation
DESCRIPTION:
URL:https://spacecenter.org/events-calendar-event/james-webb-live-presentation-3/2030-04-06/
LOCATION:Theater – Destiny
CATEGORIES:Live Presentation
END:VEVENT
BEGIN:VEVENT
DTSTART;TZID=America/Chicago:20300406T151500
DTEND;TZID=America/Chicago:20300406T153000
DTSTAMP:20260420T200213
CREATED:20250602T213249Z
LAST-MODIFIED:20250603T191942Z
UID:10198092-1901718900-1901719800@spacecenter.org
SUMMARY:Story Corner Live Presentation
DESCRIPTION:
URL:https://spacecenter.org/events-calendar-event/story-corner-live-presentation-4/2030-04-06/
LOCATION:Theater – Artemis
CATEGORIES:Live Presentation
END:VEVENT
BEGIN:VEVENT
DTSTART;TZID=America/Chicago:20300406T154500
DTEND;TZID=America/Chicago:20300406T161500
DTSTAMP:20260420T200213
CREATED:20250602T214125Z
LAST-MODIFIED:20250603T192119Z
UID:10209060-1901720700-1901722500@spacecenter.org
SUMMARY:Artemis Live Presentation
DESCRIPTION:
URL:https://spacecenter.org/events-calendar-event/artemis-live-presentation-3/2030-04-06/
LOCATION:Theater – Destiny
CATEGORIES:Live Presentation
ATTACH;FMTTYPE=image/jpeg:https://spacecenter.org/wp-content/uploads/2022/10/Artemis-Capsule.jpeg
END:VEVENT
BEGIN:VEVENT
DTSTART;TZID=America/Chicago:20300406T163000
DTEND;TZID=America/Chicago:20300406T164500
DTSTAMP:20260420T200213
CREATED:20250602T212726Z
LAST-MODIFIED:20250603T192225Z
UID:10216372-1901723400-1901724300@spacecenter.org
SUMMARY:OSIRIS Rex Live Presentation
DESCRIPTION:
URL:https://spacecenter.org/events-calendar-event/osiris-rex-live-presentation-3/2030-04-06/
LOCATION:Mission Sketch Staircase
CATEGORIES:Live Presentation
ATTACH;FMTTYPE=image/jpeg:https://spacecenter.org/wp-content/uploads/2024/03/web-march2024_tls_osirisrex.jpg
END:VEVENT
BEGIN:VEVENT
DTSTART;TZID=America/Chicago:20300407T104500
DTEND;TZID=America/Chicago:20300407T110000
DTSTAMP:20260420T200213
CREATED:20250602T212526Z
LAST-MODIFIED:20250603T185502Z
UID:10103037-1901789100-1901790000@spacecenter.org
SUMMARY:OSIRIS Rex Live Presentation
DESCRIPTION:
URL:https://spacecenter.org/events-calendar-event/osiris-rex-live-presentation/2030-04-07/
LOCATION:Mission Sketch Staircase
CATEGORIES:Live Presentation
ATTACH;FMTTYPE=image/jpeg:https://spacecenter.org/wp-content/uploads/2024/03/web-march2024_tls_osirisrex.jpg
END:VEVENT
BEGIN:VEVENT
DTSTART;TZID=America/Chicago:20300407T104500
DTEND;TZID=America/Chicago:20300407T111500
DTSTAMP:20260420T200213
CREATED:20250602T213905Z
LAST-MODIFIED:20250603T185637Z
UID:10110349-1901789100-1901790900@spacecenter.org
SUMMARY:Artemis Live Presentation
DESCRIPTION:
URL:https://spacecenter.org/events-calendar-event/artemis-live-presentation/2030-04-07/
LOCATION:Theater – Destiny
CATEGORIES:Live Presentation
ATTACH;FMTTYPE=image/jpeg:https://spacecenter.org/wp-content/uploads/2022/10/Artemis-Capsule.jpeg
END:VEVENT
BEGIN:VEVENT
DTSTART;TZID=America/Chicago:20300407T111500
DTEND;TZID=America/Chicago:20300407T113000
DTSTAMP:20260420T200213
CREATED:20250602T213010Z
LAST-MODIFIED:20250603T185901Z
UID:10121317-1901790900-1901791800@spacecenter.org
SUMMARY:Story Corner Live Presentation
DESCRIPTION:
URL:https://spacecenter.org/events-calendar-event/story-corner-live-presentation/2030-04-07/
LOCATION:Theater – Artemis
CATEGORIES:Live Presentation
END:VEVENT
BEGIN:VEVENT
DTSTART;TZID=America/Chicago:20300407T114500
DTEND;TZID=America/Chicago:20300407T120000
DTSTAMP:20260420T200213
CREATED:20250602T213503Z
LAST-MODIFIED:20250603T190256Z
UID:10139597-1901792700-1901793600@spacecenter.org
SUMMARY:James Webb Live Presentation
DESCRIPTION:
URL:https://spacecenter.org/events-calendar-event/james-webb-live-presentation/2030-04-07/
LOCATION:Theater – Destiny
CATEGORIES:Live Presentation
END:VEVENT
BEGIN:VEVENT
DTSTART;TZID=America/Chicago:20300407T121500
DTEND;TZID=America/Chicago:20300407T123000
DTSTAMP:20260420T200213
CREATED:20250602T213059Z
LAST-MODIFIED:20250603T190345Z
UID:10143253-1901794500-1901795400@spacecenter.org
SUMMARY:Story Corner Live Presentation
DESCRIPTION:
URL:https://spacecenter.org/events-calendar-event/story-corner-live-presentation-2/2030-04-07/
LOCATION:Theater – Artemis
CATEGORIES:Live Presentation
END:VEVENT
BEGIN:VEVENT
DTSTART;TZID=America/Chicago:20300407T124500
DTEND;TZID=America/Chicago:20300407T131500
DTSTAMP:20260420T200213
CREATED:20250602T214012Z
LAST-MODIFIED:20250603T190811Z
UID:10154221-1901796300-1901798100@spacecenter.org
SUMMARY:Artemis Live Presentation
DESCRIPTION:
URL:https://spacecenter.org/events-calendar-event/artemis-live-presentation-2/2030-04-07/
LOCATION:Theater – Destiny
CATEGORIES:Live Presentation
ATTACH;FMTTYPE=image/jpeg:https://spacecenter.org/wp-content/uploads/2022/10/Artemis-Capsule.jpeg
END:VEVENT
BEGIN:VEVENT
DTSTART;TZID=America/Chicago:20300407T131500
DTEND;TZID=America/Chicago:20300407T133000
DTSTAMP:20260420T200213
CREATED:20250602T213201Z
LAST-MODIFIED:20250603T190922Z
UID:10161533-1901798100-1901799000@spacecenter.org
SUMMARY:Story Corner Live Presentation
DESCRIPTION:
URL:https://spacecenter.org/events-calendar-event/story-corner-live-presentation-3/2030-04-07/
LOCATION:Theater – Artemis
CATEGORIES:Live Presentation
END:VEVENT
BEGIN:VEVENT
DTSTART;TZID=America/Chicago:20300407T134500
DTEND;TZID=America/Chicago:20300407T140000
DTSTAMP:20260420T200213
CREATED:20250602T212635Z
LAST-MODIFIED:20250603T191121Z
UID:10172501-1901799900-1901800800@spacecenter.org
SUMMARY:OSIRIS Rex Live Presentation
DESCRIPTION:
URL:https://spacecenter.org/events-calendar-event/osiris-rex-live-presentation-2/2030-04-07/
LOCATION:Mission Sketch Staircase
CATEGORIES:Live Presentation
ATTACH;FMTTYPE=image/jpeg:https://spacecenter.org/wp-content/uploads/2024/03/web-march2024_tls_osirisrex.jpg
END:VEVENT
BEGIN:VEVENT
DTSTART;TZID=America/Chicago:20300407T134500
DTEND;TZID=America/Chicago:20300407T140000
DTSTAMP:20260420T200213
CREATED:20250602T213557Z
LAST-MODIFIED:20250603T191327Z
UID:10176157-1901799900-1901800800@spacecenter.org
SUMMARY:James Webb Live Presentation
DESCRIPTION:
URL:https://spacecenter.org/events-calendar-event/james-webb-live-presentation-2/2030-04-07/
LOCATION:Theater – Destiny
CATEGORIES:Live Presentation
END:VEVENT
BEGIN:VEVENT
DTSTART;TZID=America/Chicago:20300407T144500
DTEND;TZID=America/Chicago:20300407T150000
DTSTAMP:20260420T200213
CREATED:20250602T213716Z
LAST-MODIFIED:20250603T191759Z
UID:10190781-1901803500-1901804400@spacecenter.org
SUMMARY:James Webb Live Presentation
DESCRIPTION:
URL:https://spacecenter.org/events-calendar-event/james-webb-live-presentation-3/2030-04-07/
LOCATION:Theater – Destiny
CATEGORIES:Live Presentation
END:VEVENT
BEGIN:VEVENT
DTSTART;TZID=America/Chicago:20300407T151500
DTEND;TZID=America/Chicago:20300407T153000
DTSTAMP:20260420T200213
CREATED:20250602T213249Z
LAST-MODIFIED:20250603T191942Z
UID:10198093-1901805300-1901806200@spacecenter.org
SUMMARY:Story Corner Live Presentation
DESCRIPTION:
URL:https://spacecenter.org/events-calendar-event/story-corner-live-presentation-4/2030-04-07/
LOCATION:Theater – Artemis
CATEGORIES:Live Presentation
END:VEVENT
BEGIN:VEVENT
DTSTART;TZID=America/Chicago:20300407T154500
DTEND;TZID=America/Chicago:20300407T161500
DTSTAMP:20260420T200213
CREATED:20250602T214125Z
LAST-MODIFIED:20250603T192119Z
UID:10209061-1901807100-1901808900@spacecenter.org
SUMMARY:Artemis Live Presentation
DESCRIPTION:
URL:https://spacecenter.org/events-calendar-event/artemis-live-presentation-3/2030-04-07/
LOCATION:Theater – Destiny
CATEGORIES:Live Presentation
ATTACH;FMTTYPE=image/jpeg:https://spacecenter.org/wp-content/uploads/2022/10/Artemis-Capsule.jpeg
END:VEVENT
BEGIN:VEVENT
DTSTART;TZID=America/Chicago:20300407T163000
DTEND;TZID=America/Chicago:20300407T164500
DTSTAMP:20260420T200213
CREATED:20250602T212726Z
LAST-MODIFIED:20250603T192225Z
UID:10216373-1901809800-1901810700@spacecenter.org
SUMMARY:OSIRIS Rex Live Presentation
DESCRIPTION:
URL:https://spacecenter.org/events-calendar-event/osiris-rex-live-presentation-3/2030-04-07/
LOCATION:Mission Sketch Staircase
CATEGORIES:Live Presentation
ATTACH;FMTTYPE=image/jpeg:https://spacecenter.org/wp-content/uploads/2024/03/web-march2024_tls_osirisrex.jpg
END:VEVENT
BEGIN:VEVENT
DTSTART;TZID=America/Chicago:20300408T104500
DTEND;TZID=America/Chicago:20300408T110000
DTSTAMP:20260420T200213
CREATED:20250602T212526Z
LAST-MODIFIED:20250603T185502Z
UID:10103038-1901875500-1901876400@spacecenter.org
SUMMARY:OSIRIS Rex Live Presentation
DESCRIPTION:
URL:https://spacecenter.org/events-calendar-event/osiris-rex-live-presentation/2030-04-08/
LOCATION:Mission Sketch Staircase
CATEGORIES:Live Presentation
ATTACH;FMTTYPE=image/jpeg:https://spacecenter.org/wp-content/uploads/2024/03/web-march2024_tls_osirisrex.jpg
END:VEVENT
BEGIN:VEVENT
DTSTART;TZID=America/Chicago:20300408T104500
DTEND;TZID=America/Chicago:20300408T111500
DTSTAMP:20260420T200213
CREATED:20250602T213905Z
LAST-MODIFIED:20250603T185637Z
UID:10110350-1901875500-1901877300@spacecenter.org
SUMMARY:Artemis Live Presentation
DESCRIPTION:
URL:https://spacecenter.org/events-calendar-event/artemis-live-presentation/2030-04-08/
LOCATION:Theater – Destiny
CATEGORIES:Live Presentation
ATTACH;FMTTYPE=image/jpeg:https://spacecenter.org/wp-content/uploads/2022/10/Artemis-Capsule.jpeg
END:VEVENT
BEGIN:VEVENT
DTSTART;TZID=America/Chicago:20300408T111500
DTEND;TZID=America/Chicago:20300408T113000
DTSTAMP:20260420T200213
CREATED:20250602T213010Z
LAST-MODIFIED:20250603T185901Z
UID:10121318-1901877300-1901878200@spacecenter.org
SUMMARY:Story Corner Live Presentation
DESCRIPTION:
URL:https://spacecenter.org/events-calendar-event/story-corner-live-presentation/2030-04-08/
LOCATION:Theater – Artemis
CATEGORIES:Live Presentation
END:VEVENT
BEGIN:VEVENT
DTSTART;TZID=America/Chicago:20300408T114500
DTEND;TZID=America/Chicago:20300408T120000
DTSTAMP:20260420T200213
CREATED:20250602T213503Z
LAST-MODIFIED:20250603T190256Z
UID:10139598-1901879100-1901880000@spacecenter.org
SUMMARY:James Webb Live Presentation
DESCRIPTION:
URL:https://spacecenter.org/events-calendar-event/james-webb-live-presentation/2030-04-08/
LOCATION:Theater – Destiny
CATEGORIES:Live Presentation
END:VEVENT
BEGIN:VEVENT
DTSTART;TZID=America/Chicago:20300408T121500
DTEND;TZID=America/Chicago:20300408T123000
DTSTAMP:20260420T200213
CREATED:20250602T213059Z
LAST-MODIFIED:20250603T190345Z
UID:10143254-1901880900-1901881800@spacecenter.org
SUMMARY:Story Corner Live Presentation
DESCRIPTION:
URL:https://spacecenter.org/events-calendar-event/story-corner-live-presentation-2/2030-04-08/
LOCATION:Theater – Artemis
CATEGORIES:Live Presentation
END:VEVENT
BEGIN:VEVENT
DTSTART;TZID=America/Chicago:20300408T124500
DTEND;TZID=America/Chicago:20300408T131500
DTSTAMP:20260420T200213
CREATED:20250602T214012Z
LAST-MODIFIED:20250603T190811Z
UID:10154222-1901882700-1901884500@spacecenter.org
SUMMARY:Artemis Live Presentation
DESCRIPTION:
URL:https://spacecenter.org/events-calendar-event/artemis-live-presentation-2/2030-04-08/
LOCATION:Theater – Destiny
CATEGORIES:Live Presentation
ATTACH;FMTTYPE=image/jpeg:https://spacecenter.org/wp-content/uploads/2022/10/Artemis-Capsule.jpeg
END:VEVENT
END:VCALENDAR