BEGIN:VCALENDAR
VERSION:2.0
PRODID:-//Space Center Houston - ECPv6.15.15//NONSGML v1.0//EN
CALSCALE:GREGORIAN
METHOD:PUBLISH
X-WR-CALNAME:Space Center Houston
X-ORIGINAL-URL:https://spacecenter.org
X-WR-CALDESC:Events for Space Center Houston
REFRESH-INTERVAL;VALUE=DURATION:PT1H
X-Robots-Tag:noindex
X-PUBLISHED-TTL:PT1H
BEGIN:VTIMEZONE
TZID:America/Chicago
BEGIN:DAYLIGHT
TZOFFSETFROM:-0600
TZOFFSETTO:-0500
TZNAME:CDT
DTSTART:20290311T080000
END:DAYLIGHT
BEGIN:STANDARD
TZOFFSETFROM:-0500
TZOFFSETTO:-0600
TZNAME:CST
DTSTART:20291104T070000
END:STANDARD
BEGIN:DAYLIGHT
TZOFFSETFROM:-0600
TZOFFSETTO:-0500
TZNAME:CDT
DTSTART:20300310T080000
END:DAYLIGHT
BEGIN:STANDARD
TZOFFSETFROM:-0500
TZOFFSETTO:-0600
TZNAME:CST
DTSTART:20301103T070000
END:STANDARD
BEGIN:DAYLIGHT
TZOFFSETFROM:-0600
TZOFFSETTO:-0500
TZNAME:CDT
DTSTART:20310309T080000
END:DAYLIGHT
BEGIN:STANDARD
TZOFFSETFROM:-0500
TZOFFSETTO:-0600
TZNAME:CST
DTSTART:20311102T070000
END:STANDARD
END:VTIMEZONE
BEGIN:VEVENT
DTSTART;TZID=America/Chicago:20300320T151500
DTEND;TZID=America/Chicago:20300320T153000
DTSTAMP:20260420T062513
CREATED:20250602T213249Z
LAST-MODIFIED:20250603T191942Z
UID:10198075-1900250100-1900251000@spacecenter.org
SUMMARY:Story Corner Live Presentation
DESCRIPTION:
URL:https://spacecenter.org/events-calendar-event/story-corner-live-presentation-4/2030-03-20/
LOCATION:Theater – Artemis
CATEGORIES:Live Presentation
END:VEVENT
BEGIN:VEVENT
DTSTART;TZID=America/Chicago:20300320T154500
DTEND;TZID=America/Chicago:20300320T161500
DTSTAMP:20260420T062513
CREATED:20250602T214125Z
LAST-MODIFIED:20250603T192119Z
UID:10209043-1900251900-1900253700@spacecenter.org
SUMMARY:Artemis Live Presentation
DESCRIPTION:
URL:https://spacecenter.org/events-calendar-event/artemis-live-presentation-3/2030-03-20/
LOCATION:Theater – Destiny
CATEGORIES:Live Presentation
ATTACH;FMTTYPE=image/jpeg:https://spacecenter.org/wp-content/uploads/2022/10/Artemis-Capsule.jpeg
END:VEVENT
BEGIN:VEVENT
DTSTART;TZID=America/Chicago:20300320T163000
DTEND;TZID=America/Chicago:20300320T164500
DTSTAMP:20260420T062513
CREATED:20250602T212726Z
LAST-MODIFIED:20250603T192225Z
UID:10216355-1900254600-1900255500@spacecenter.org
SUMMARY:OSIRIS Rex Live Presentation
DESCRIPTION:
URL:https://spacecenter.org/events-calendar-event/osiris-rex-live-presentation-3/2030-03-20/
LOCATION:Mission Sketch Staircase
CATEGORIES:Live Presentation
ATTACH;FMTTYPE=image/jpeg:https://spacecenter.org/wp-content/uploads/2024/03/web-march2024_tls_osirisrex.jpg
END:VEVENT
BEGIN:VEVENT
DTSTART;TZID=America/Chicago:20300321T104500
DTEND;TZID=America/Chicago:20300321T110000
DTSTAMP:20260420T062513
CREATED:20250602T212526Z
LAST-MODIFIED:20250603T185502Z
UID:10103020-1900320300-1900321200@spacecenter.org
SUMMARY:OSIRIS Rex Live Presentation
DESCRIPTION:
URL:https://spacecenter.org/events-calendar-event/osiris-rex-live-presentation/2030-03-21/
LOCATION:Mission Sketch Staircase
CATEGORIES:Live Presentation
ATTACH;FMTTYPE=image/jpeg:https://spacecenter.org/wp-content/uploads/2024/03/web-march2024_tls_osirisrex.jpg
END:VEVENT
BEGIN:VEVENT
DTSTART;TZID=America/Chicago:20300321T104500
DTEND;TZID=America/Chicago:20300321T111500
DTSTAMP:20260420T062513
CREATED:20250602T213905Z
LAST-MODIFIED:20250603T185637Z
UID:10110332-1900320300-1900322100@spacecenter.org
SUMMARY:Artemis Live Presentation
DESCRIPTION:
URL:https://spacecenter.org/events-calendar-event/artemis-live-presentation/2030-03-21/
LOCATION:Theater – Destiny
CATEGORIES:Live Presentation
ATTACH;FMTTYPE=image/jpeg:https://spacecenter.org/wp-content/uploads/2022/10/Artemis-Capsule.jpeg
END:VEVENT
BEGIN:VEVENT
DTSTART;TZID=America/Chicago:20300321T111500
DTEND;TZID=America/Chicago:20300321T113000
DTSTAMP:20260420T062513
CREATED:20250602T213010Z
LAST-MODIFIED:20250603T185901Z
UID:10121300-1900322100-1900323000@spacecenter.org
SUMMARY:Story Corner Live Presentation
DESCRIPTION:
URL:https://spacecenter.org/events-calendar-event/story-corner-live-presentation/2030-03-21/
LOCATION:Theater – Artemis
CATEGORIES:Live Presentation
END:VEVENT
BEGIN:VEVENT
DTSTART;TZID=America/Chicago:20300321T114500
DTEND;TZID=America/Chicago:20300321T120000
DTSTAMP:20260420T062513
CREATED:20250602T213503Z
LAST-MODIFIED:20250603T190256Z
UID:10139580-1900323900-1900324800@spacecenter.org
SUMMARY:James Webb Live Presentation
DESCRIPTION:
URL:https://spacecenter.org/events-calendar-event/james-webb-live-presentation/2030-03-21/
LOCATION:Theater – Destiny
CATEGORIES:Live Presentation
END:VEVENT
BEGIN:VEVENT
DTSTART;TZID=America/Chicago:20300321T121500
DTEND;TZID=America/Chicago:20300321T123000
DTSTAMP:20260420T062513
CREATED:20250602T213059Z
LAST-MODIFIED:20250603T190345Z
UID:10143236-1900325700-1900326600@spacecenter.org
SUMMARY:Story Corner Live Presentation
DESCRIPTION:
URL:https://spacecenter.org/events-calendar-event/story-corner-live-presentation-2/2030-03-21/
LOCATION:Theater – Artemis
CATEGORIES:Live Presentation
END:VEVENT
BEGIN:VEVENT
DTSTART;TZID=America/Chicago:20300321T124500
DTEND;TZID=America/Chicago:20300321T131500
DTSTAMP:20260420T062513
CREATED:20250602T214012Z
LAST-MODIFIED:20250603T190811Z
UID:10154204-1900327500-1900329300@spacecenter.org
SUMMARY:Artemis Live Presentation
DESCRIPTION:
URL:https://spacecenter.org/events-calendar-event/artemis-live-presentation-2/2030-03-21/
LOCATION:Theater – Destiny
CATEGORIES:Live Presentation
ATTACH;FMTTYPE=image/jpeg:https://spacecenter.org/wp-content/uploads/2022/10/Artemis-Capsule.jpeg
END:VEVENT
BEGIN:VEVENT
DTSTART;TZID=America/Chicago:20300321T131500
DTEND;TZID=America/Chicago:20300321T133000
DTSTAMP:20260420T062513
CREATED:20250602T213201Z
LAST-MODIFIED:20250603T190922Z
UID:10161516-1900329300-1900330200@spacecenter.org
SUMMARY:Story Corner Live Presentation
DESCRIPTION:
URL:https://spacecenter.org/events-calendar-event/story-corner-live-presentation-3/2030-03-21/
LOCATION:Theater – Artemis
CATEGORIES:Live Presentation
END:VEVENT
BEGIN:VEVENT
DTSTART;TZID=America/Chicago:20300321T134500
DTEND;TZID=America/Chicago:20300321T140000
DTSTAMP:20260420T062513
CREATED:20250602T212635Z
LAST-MODIFIED:20250603T191121Z
UID:10172484-1900331100-1900332000@spacecenter.org
SUMMARY:OSIRIS Rex Live Presentation
DESCRIPTION:
URL:https://spacecenter.org/events-calendar-event/osiris-rex-live-presentation-2/2030-03-21/
LOCATION:Mission Sketch Staircase
CATEGORIES:Live Presentation
ATTACH;FMTTYPE=image/jpeg:https://spacecenter.org/wp-content/uploads/2024/03/web-march2024_tls_osirisrex.jpg
END:VEVENT
BEGIN:VEVENT
DTSTART;TZID=America/Chicago:20300321T134500
DTEND;TZID=America/Chicago:20300321T140000
DTSTAMP:20260420T062513
CREATED:20250602T213557Z
LAST-MODIFIED:20250603T191327Z
UID:10176140-1900331100-1900332000@spacecenter.org
SUMMARY:James Webb Live Presentation
DESCRIPTION:
URL:https://spacecenter.org/events-calendar-event/james-webb-live-presentation-2/2030-03-21/
LOCATION:Theater – Destiny
CATEGORIES:Live Presentation
END:VEVENT
BEGIN:VEVENT
DTSTART;TZID=America/Chicago:20300321T144500
DTEND;TZID=America/Chicago:20300321T150000
DTSTAMP:20260420T062513
CREATED:20250602T213716Z
LAST-MODIFIED:20250603T191759Z
UID:10190764-1900334700-1900335600@spacecenter.org
SUMMARY:James Webb Live Presentation
DESCRIPTION:
URL:https://spacecenter.org/events-calendar-event/james-webb-live-presentation-3/2030-03-21/
LOCATION:Theater – Destiny
CATEGORIES:Live Presentation
END:VEVENT
BEGIN:VEVENT
DTSTART;TZID=America/Chicago:20300321T151500
DTEND;TZID=America/Chicago:20300321T153000
DTSTAMP:20260420T062513
CREATED:20250602T213249Z
LAST-MODIFIED:20250603T191942Z
UID:10198076-1900336500-1900337400@spacecenter.org
SUMMARY:Story Corner Live Presentation
DESCRIPTION:
URL:https://spacecenter.org/events-calendar-event/story-corner-live-presentation-4/2030-03-21/
LOCATION:Theater – Artemis
CATEGORIES:Live Presentation
END:VEVENT
BEGIN:VEVENT
DTSTART;TZID=America/Chicago:20300321T154500
DTEND;TZID=America/Chicago:20300321T161500
DTSTAMP:20260420T062513
CREATED:20250602T214125Z
LAST-MODIFIED:20250603T192119Z
UID:10209044-1900338300-1900340100@spacecenter.org
SUMMARY:Artemis Live Presentation
DESCRIPTION:
URL:https://spacecenter.org/events-calendar-event/artemis-live-presentation-3/2030-03-21/
LOCATION:Theater – Destiny
CATEGORIES:Live Presentation
ATTACH;FMTTYPE=image/jpeg:https://spacecenter.org/wp-content/uploads/2022/10/Artemis-Capsule.jpeg
END:VEVENT
BEGIN:VEVENT
DTSTART;TZID=America/Chicago:20300321T163000
DTEND;TZID=America/Chicago:20300321T164500
DTSTAMP:20260420T062513
CREATED:20250602T212726Z
LAST-MODIFIED:20250603T192225Z
UID:10216356-1900341000-1900341900@spacecenter.org
SUMMARY:OSIRIS Rex Live Presentation
DESCRIPTION:
URL:https://spacecenter.org/events-calendar-event/osiris-rex-live-presentation-3/2030-03-21/
LOCATION:Mission Sketch Staircase
CATEGORIES:Live Presentation
ATTACH;FMTTYPE=image/jpeg:https://spacecenter.org/wp-content/uploads/2024/03/web-march2024_tls_osirisrex.jpg
END:VEVENT
BEGIN:VEVENT
DTSTART;TZID=America/Chicago:20300322T104500
DTEND;TZID=America/Chicago:20300322T110000
DTSTAMP:20260420T062513
CREATED:20250602T212526Z
LAST-MODIFIED:20250603T185502Z
UID:10103021-1900406700-1900407600@spacecenter.org
SUMMARY:OSIRIS Rex Live Presentation
DESCRIPTION:
URL:https://spacecenter.org/events-calendar-event/osiris-rex-live-presentation/2030-03-22/
LOCATION:Mission Sketch Staircase
CATEGORIES:Live Presentation
ATTACH;FMTTYPE=image/jpeg:https://spacecenter.org/wp-content/uploads/2024/03/web-march2024_tls_osirisrex.jpg
END:VEVENT
BEGIN:VEVENT
DTSTART;TZID=America/Chicago:20300322T104500
DTEND;TZID=America/Chicago:20300322T111500
DTSTAMP:20260420T062513
CREATED:20250602T213905Z
LAST-MODIFIED:20250603T185637Z
UID:10110333-1900406700-1900408500@spacecenter.org
SUMMARY:Artemis Live Presentation
DESCRIPTION:
URL:https://spacecenter.org/events-calendar-event/artemis-live-presentation/2030-03-22/
LOCATION:Theater – Destiny
CATEGORIES:Live Presentation
ATTACH;FMTTYPE=image/jpeg:https://spacecenter.org/wp-content/uploads/2022/10/Artemis-Capsule.jpeg
END:VEVENT
BEGIN:VEVENT
DTSTART;TZID=America/Chicago:20300322T111500
DTEND;TZID=America/Chicago:20300322T113000
DTSTAMP:20260420T062513
CREATED:20250602T213010Z
LAST-MODIFIED:20250603T185901Z
UID:10121301-1900408500-1900409400@spacecenter.org
SUMMARY:Story Corner Live Presentation
DESCRIPTION:
URL:https://spacecenter.org/events-calendar-event/story-corner-live-presentation/2030-03-22/
LOCATION:Theater – Artemis
CATEGORIES:Live Presentation
END:VEVENT
BEGIN:VEVENT
DTSTART;TZID=America/Chicago:20300322T114500
DTEND;TZID=America/Chicago:20300322T120000
DTSTAMP:20260420T062513
CREATED:20250602T213503Z
LAST-MODIFIED:20250603T190256Z
UID:10139581-1900410300-1900411200@spacecenter.org
SUMMARY:James Webb Live Presentation
DESCRIPTION:
URL:https://spacecenter.org/events-calendar-event/james-webb-live-presentation/2030-03-22/
LOCATION:Theater – Destiny
CATEGORIES:Live Presentation
END:VEVENT
BEGIN:VEVENT
DTSTART;TZID=America/Chicago:20300322T121500
DTEND;TZID=America/Chicago:20300322T123000
DTSTAMP:20260420T062513
CREATED:20250602T213059Z
LAST-MODIFIED:20250603T190345Z
UID:10143237-1900412100-1900413000@spacecenter.org
SUMMARY:Story Corner Live Presentation
DESCRIPTION:
URL:https://spacecenter.org/events-calendar-event/story-corner-live-presentation-2/2030-03-22/
LOCATION:Theater – Artemis
CATEGORIES:Live Presentation
END:VEVENT
BEGIN:VEVENT
DTSTART;TZID=America/Chicago:20300322T124500
DTEND;TZID=America/Chicago:20300322T131500
DTSTAMP:20260420T062513
CREATED:20250602T214012Z
LAST-MODIFIED:20250603T190811Z
UID:10154205-1900413900-1900415700@spacecenter.org
SUMMARY:Artemis Live Presentation
DESCRIPTION:
URL:https://spacecenter.org/events-calendar-event/artemis-live-presentation-2/2030-03-22/
LOCATION:Theater – Destiny
CATEGORIES:Live Presentation
ATTACH;FMTTYPE=image/jpeg:https://spacecenter.org/wp-content/uploads/2022/10/Artemis-Capsule.jpeg
END:VEVENT
BEGIN:VEVENT
DTSTART;TZID=America/Chicago:20300322T131500
DTEND;TZID=America/Chicago:20300322T133000
DTSTAMP:20260420T062513
CREATED:20250602T213201Z
LAST-MODIFIED:20250603T190922Z
UID:10161517-1900415700-1900416600@spacecenter.org
SUMMARY:Story Corner Live Presentation
DESCRIPTION:
URL:https://spacecenter.org/events-calendar-event/story-corner-live-presentation-3/2030-03-22/
LOCATION:Theater – Artemis
CATEGORIES:Live Presentation
END:VEVENT
BEGIN:VEVENT
DTSTART;TZID=America/Chicago:20300322T134500
DTEND;TZID=America/Chicago:20300322T140000
DTSTAMP:20260420T062513
CREATED:20250602T212635Z
LAST-MODIFIED:20250603T191121Z
UID:10172485-1900417500-1900418400@spacecenter.org
SUMMARY:OSIRIS Rex Live Presentation
DESCRIPTION:
URL:https://spacecenter.org/events-calendar-event/osiris-rex-live-presentation-2/2030-03-22/
LOCATION:Mission Sketch Staircase
CATEGORIES:Live Presentation
ATTACH;FMTTYPE=image/jpeg:https://spacecenter.org/wp-content/uploads/2024/03/web-march2024_tls_osirisrex.jpg
END:VEVENT
BEGIN:VEVENT
DTSTART;TZID=America/Chicago:20300322T134500
DTEND;TZID=America/Chicago:20300322T140000
DTSTAMP:20260420T062513
CREATED:20250602T213557Z
LAST-MODIFIED:20250603T191327Z
UID:10176141-1900417500-1900418400@spacecenter.org
SUMMARY:James Webb Live Presentation
DESCRIPTION:
URL:https://spacecenter.org/events-calendar-event/james-webb-live-presentation-2/2030-03-22/
LOCATION:Theater – Destiny
CATEGORIES:Live Presentation
END:VEVENT
BEGIN:VEVENT
DTSTART;TZID=America/Chicago:20300322T144500
DTEND;TZID=America/Chicago:20300322T150000
DTSTAMP:20260420T062513
CREATED:20250602T213716Z
LAST-MODIFIED:20250603T191759Z
UID:10190765-1900421100-1900422000@spacecenter.org
SUMMARY:James Webb Live Presentation
DESCRIPTION:
URL:https://spacecenter.org/events-calendar-event/james-webb-live-presentation-3/2030-03-22/
LOCATION:Theater – Destiny
CATEGORIES:Live Presentation
END:VEVENT
BEGIN:VEVENT
DTSTART;TZID=America/Chicago:20300322T151500
DTEND;TZID=America/Chicago:20300322T153000
DTSTAMP:20260420T062513
CREATED:20250602T213249Z
LAST-MODIFIED:20250603T191942Z
UID:10198077-1900422900-1900423800@spacecenter.org
SUMMARY:Story Corner Live Presentation
DESCRIPTION:
URL:https://spacecenter.org/events-calendar-event/story-corner-live-presentation-4/2030-03-22/
LOCATION:Theater – Artemis
CATEGORIES:Live Presentation
END:VEVENT
BEGIN:VEVENT
DTSTART;TZID=America/Chicago:20300322T154500
DTEND;TZID=America/Chicago:20300322T161500
DTSTAMP:20260420T062513
CREATED:20250602T214125Z
LAST-MODIFIED:20250603T192119Z
UID:10209045-1900424700-1900426500@spacecenter.org
SUMMARY:Artemis Live Presentation
DESCRIPTION:
URL:https://spacecenter.org/events-calendar-event/artemis-live-presentation-3/2030-03-22/
LOCATION:Theater – Destiny
CATEGORIES:Live Presentation
ATTACH;FMTTYPE=image/jpeg:https://spacecenter.org/wp-content/uploads/2022/10/Artemis-Capsule.jpeg
END:VEVENT
BEGIN:VEVENT
DTSTART;TZID=America/Chicago:20300322T163000
DTEND;TZID=America/Chicago:20300322T164500
DTSTAMP:20260420T062513
CREATED:20250602T212726Z
LAST-MODIFIED:20250603T192225Z
UID:10216357-1900427400-1900428300@spacecenter.org
SUMMARY:OSIRIS Rex Live Presentation
DESCRIPTION:
URL:https://spacecenter.org/events-calendar-event/osiris-rex-live-presentation-3/2030-03-22/
LOCATION:Mission Sketch Staircase
CATEGORIES:Live Presentation
ATTACH;FMTTYPE=image/jpeg:https://spacecenter.org/wp-content/uploads/2024/03/web-march2024_tls_osirisrex.jpg
END:VEVENT
BEGIN:VEVENT
DTSTART;TZID=America/Chicago:20300323T104500
DTEND;TZID=America/Chicago:20300323T110000
DTSTAMP:20260420T062513
CREATED:20250602T212526Z
LAST-MODIFIED:20250603T185502Z
UID:10103022-1900493100-1900494000@spacecenter.org
SUMMARY:OSIRIS Rex Live Presentation
DESCRIPTION:
URL:https://spacecenter.org/events-calendar-event/osiris-rex-live-presentation/2030-03-23/
LOCATION:Mission Sketch Staircase
CATEGORIES:Live Presentation
ATTACH;FMTTYPE=image/jpeg:https://spacecenter.org/wp-content/uploads/2024/03/web-march2024_tls_osirisrex.jpg
END:VEVENT
END:VCALENDAR