BEGIN:VCALENDAR
VERSION:2.0
PRODID:-//Space Center Houston - ECPv6.15.15//NONSGML v1.0//EN
CALSCALE:GREGORIAN
METHOD:PUBLISH
X-WR-CALNAME:Space Center Houston
X-ORIGINAL-URL:https://spacecenter.org
X-WR-CALDESC:Events for Space Center Houston
REFRESH-INTERVAL;VALUE=DURATION:PT1H
X-Robots-Tag:noindex
X-PUBLISHED-TTL:PT1H
BEGIN:VTIMEZONE
TZID:America/Chicago
BEGIN:DAYLIGHT
TZOFFSETFROM:-0600
TZOFFSETTO:-0500
TZNAME:CDT
DTSTART:20290311T080000
END:DAYLIGHT
BEGIN:STANDARD
TZOFFSETFROM:-0500
TZOFFSETTO:-0600
TZNAME:CST
DTSTART:20291104T070000
END:STANDARD
BEGIN:DAYLIGHT
TZOFFSETFROM:-0600
TZOFFSETTO:-0500
TZNAME:CDT
DTSTART:20300310T080000
END:DAYLIGHT
BEGIN:STANDARD
TZOFFSETFROM:-0500
TZOFFSETTO:-0600
TZNAME:CST
DTSTART:20301103T070000
END:STANDARD
BEGIN:DAYLIGHT
TZOFFSETFROM:-0600
TZOFFSETTO:-0500
TZNAME:CDT
DTSTART:20310309T080000
END:DAYLIGHT
BEGIN:STANDARD
TZOFFSETFROM:-0500
TZOFFSETTO:-0600
TZNAME:CST
DTSTART:20311102T070000
END:STANDARD
END:VTIMEZONE
BEGIN:VEVENT
DTSTART;TZID=America/Chicago:20300309T114500
DTEND;TZID=America/Chicago:20300309T120000
DTSTAMP:20260420T021939
CREATED:20250602T213503Z
LAST-MODIFIED:20250603T190256Z
UID:10139568-1899287100-1899288000@spacecenter.org
SUMMARY:James Webb Live Presentation
DESCRIPTION:
URL:https://spacecenter.org/events-calendar-event/james-webb-live-presentation/2030-03-09/
LOCATION:Theater – Destiny
CATEGORIES:Live Presentation
END:VEVENT
BEGIN:VEVENT
DTSTART;TZID=America/Chicago:20300309T121500
DTEND;TZID=America/Chicago:20300309T123000
DTSTAMP:20260420T021939
CREATED:20250602T213059Z
LAST-MODIFIED:20250603T190345Z
UID:10143224-1899288900-1899289800@spacecenter.org
SUMMARY:Story Corner Live Presentation
DESCRIPTION:
URL:https://spacecenter.org/events-calendar-event/story-corner-live-presentation-2/2030-03-09/
LOCATION:Theater – Artemis
CATEGORIES:Live Presentation
END:VEVENT
BEGIN:VEVENT
DTSTART;TZID=America/Chicago:20300309T124500
DTEND;TZID=America/Chicago:20300309T131500
DTSTAMP:20260420T021939
CREATED:20250602T214012Z
LAST-MODIFIED:20250603T190811Z
UID:10154192-1899290700-1899292500@spacecenter.org
SUMMARY:Artemis Live Presentation
DESCRIPTION:
URL:https://spacecenter.org/events-calendar-event/artemis-live-presentation-2/2030-03-09/
LOCATION:Theater – Destiny
CATEGORIES:Live Presentation
ATTACH;FMTTYPE=image/jpeg:https://spacecenter.org/wp-content/uploads/2022/10/Artemis-Capsule.jpeg
END:VEVENT
BEGIN:VEVENT
DTSTART;TZID=America/Chicago:20300309T131500
DTEND;TZID=America/Chicago:20300309T133000
DTSTAMP:20260420T021939
CREATED:20250602T213201Z
LAST-MODIFIED:20250603T190922Z
UID:10161504-1899292500-1899293400@spacecenter.org
SUMMARY:Story Corner Live Presentation
DESCRIPTION:
URL:https://spacecenter.org/events-calendar-event/story-corner-live-presentation-3/2030-03-09/
LOCATION:Theater – Artemis
CATEGORIES:Live Presentation
END:VEVENT
BEGIN:VEVENT
DTSTART;TZID=America/Chicago:20300309T134500
DTEND;TZID=America/Chicago:20300309T140000
DTSTAMP:20260420T021939
CREATED:20250602T212635Z
LAST-MODIFIED:20250603T191121Z
UID:10172472-1899294300-1899295200@spacecenter.org
SUMMARY:OSIRIS Rex Live Presentation
DESCRIPTION:
URL:https://spacecenter.org/events-calendar-event/osiris-rex-live-presentation-2/2030-03-09/
LOCATION:Mission Sketch Staircase
CATEGORIES:Live Presentation
ATTACH;FMTTYPE=image/jpeg:https://spacecenter.org/wp-content/uploads/2024/03/web-march2024_tls_osirisrex.jpg
END:VEVENT
BEGIN:VEVENT
DTSTART;TZID=America/Chicago:20300309T134500
DTEND;TZID=America/Chicago:20300309T140000
DTSTAMP:20260420T021939
CREATED:20250602T213557Z
LAST-MODIFIED:20250603T191327Z
UID:10176128-1899294300-1899295200@spacecenter.org
SUMMARY:James Webb Live Presentation
DESCRIPTION:
URL:https://spacecenter.org/events-calendar-event/james-webb-live-presentation-2/2030-03-09/
LOCATION:Theater – Destiny
CATEGORIES:Live Presentation
END:VEVENT
BEGIN:VEVENT
DTSTART;TZID=America/Chicago:20300309T144500
DTEND;TZID=America/Chicago:20300309T150000
DTSTAMP:20260420T021939
CREATED:20250602T213716Z
LAST-MODIFIED:20250603T191759Z
UID:10190752-1899297900-1899298800@spacecenter.org
SUMMARY:James Webb Live Presentation
DESCRIPTION:
URL:https://spacecenter.org/events-calendar-event/james-webb-live-presentation-3/2030-03-09/
LOCATION:Theater – Destiny
CATEGORIES:Live Presentation
END:VEVENT
BEGIN:VEVENT
DTSTART;TZID=America/Chicago:20300309T151500
DTEND;TZID=America/Chicago:20300309T153000
DTSTAMP:20260420T021939
CREATED:20250602T213249Z
LAST-MODIFIED:20250603T191942Z
UID:10198064-1899299700-1899300600@spacecenter.org
SUMMARY:Story Corner Live Presentation
DESCRIPTION:
URL:https://spacecenter.org/events-calendar-event/story-corner-live-presentation-4/2030-03-09/
LOCATION:Theater – Artemis
CATEGORIES:Live Presentation
END:VEVENT
BEGIN:VEVENT
DTSTART;TZID=America/Chicago:20300309T154500
DTEND;TZID=America/Chicago:20300309T161500
DTSTAMP:20260420T021940
CREATED:20250602T214125Z
LAST-MODIFIED:20250603T192119Z
UID:10209032-1899301500-1899303300@spacecenter.org
SUMMARY:Artemis Live Presentation
DESCRIPTION:
URL:https://spacecenter.org/events-calendar-event/artemis-live-presentation-3/2030-03-09/
LOCATION:Theater – Destiny
CATEGORIES:Live Presentation
ATTACH;FMTTYPE=image/jpeg:https://spacecenter.org/wp-content/uploads/2022/10/Artemis-Capsule.jpeg
END:VEVENT
BEGIN:VEVENT
DTSTART;TZID=America/Chicago:20300309T163000
DTEND;TZID=America/Chicago:20300309T164500
DTSTAMP:20260420T021940
CREATED:20250602T212726Z
LAST-MODIFIED:20250603T192225Z
UID:10216344-1899304200-1899305100@spacecenter.org
SUMMARY:OSIRIS Rex Live Presentation
DESCRIPTION:
URL:https://spacecenter.org/events-calendar-event/osiris-rex-live-presentation-3/2030-03-09/
LOCATION:Mission Sketch Staircase
CATEGORIES:Live Presentation
ATTACH;FMTTYPE=image/jpeg:https://spacecenter.org/wp-content/uploads/2024/03/web-march2024_tls_osirisrex.jpg
END:VEVENT
BEGIN:VEVENT
DTSTART;TZID=America/Chicago:20300310T104500
DTEND;TZID=America/Chicago:20300310T110000
DTSTAMP:20260420T021940
CREATED:20250602T212526Z
LAST-MODIFIED:20250603T185502Z
UID:10103009-1899369900-1899370800@spacecenter.org
SUMMARY:OSIRIS Rex Live Presentation
DESCRIPTION:
URL:https://spacecenter.org/events-calendar-event/osiris-rex-live-presentation/2030-03-10/
LOCATION:Mission Sketch Staircase
CATEGORIES:Live Presentation
ATTACH;FMTTYPE=image/jpeg:https://spacecenter.org/wp-content/uploads/2024/03/web-march2024_tls_osirisrex.jpg
END:VEVENT
BEGIN:VEVENT
DTSTART;TZID=America/Chicago:20300310T104500
DTEND;TZID=America/Chicago:20300310T111500
DTSTAMP:20260420T021940
CREATED:20250602T213905Z
LAST-MODIFIED:20250603T185637Z
UID:10110321-1899369900-1899371700@spacecenter.org
SUMMARY:Artemis Live Presentation
DESCRIPTION:
URL:https://spacecenter.org/events-calendar-event/artemis-live-presentation/2030-03-10/
LOCATION:Theater – Destiny
CATEGORIES:Live Presentation
ATTACH;FMTTYPE=image/jpeg:https://spacecenter.org/wp-content/uploads/2022/10/Artemis-Capsule.jpeg
END:VEVENT
BEGIN:VEVENT
DTSTART;TZID=America/Chicago:20300310T111500
DTEND;TZID=America/Chicago:20300310T113000
DTSTAMP:20260420T021940
CREATED:20250602T213010Z
LAST-MODIFIED:20250603T185901Z
UID:10121289-1899371700-1899372600@spacecenter.org
SUMMARY:Story Corner Live Presentation
DESCRIPTION:
URL:https://spacecenter.org/events-calendar-event/story-corner-live-presentation/2030-03-10/
LOCATION:Theater – Artemis
CATEGORIES:Live Presentation
END:VEVENT
BEGIN:VEVENT
DTSTART;TZID=America/Chicago:20300310T114500
DTEND;TZID=America/Chicago:20300310T120000
DTSTAMP:20260420T021940
CREATED:20250602T213503Z
LAST-MODIFIED:20250603T190256Z
UID:10139569-1899373500-1899374400@spacecenter.org
SUMMARY:James Webb Live Presentation
DESCRIPTION:
URL:https://spacecenter.org/events-calendar-event/james-webb-live-presentation/2030-03-10/
LOCATION:Theater – Destiny
CATEGORIES:Live Presentation
END:VEVENT
BEGIN:VEVENT
DTSTART;TZID=America/Chicago:20300310T121500
DTEND;TZID=America/Chicago:20300310T123000
DTSTAMP:20260420T021940
CREATED:20250602T213059Z
LAST-MODIFIED:20250603T190345Z
UID:10143225-1899375300-1899376200@spacecenter.org
SUMMARY:Story Corner Live Presentation
DESCRIPTION:
URL:https://spacecenter.org/events-calendar-event/story-corner-live-presentation-2/2030-03-10/
LOCATION:Theater – Artemis
CATEGORIES:Live Presentation
END:VEVENT
BEGIN:VEVENT
DTSTART;TZID=America/Chicago:20300310T124500
DTEND;TZID=America/Chicago:20300310T131500
DTSTAMP:20260420T021940
CREATED:20250602T214012Z
LAST-MODIFIED:20250603T190811Z
UID:10154193-1899377100-1899378900@spacecenter.org
SUMMARY:Artemis Live Presentation
DESCRIPTION:
URL:https://spacecenter.org/events-calendar-event/artemis-live-presentation-2/2030-03-10/
LOCATION:Theater – Destiny
CATEGORIES:Live Presentation
ATTACH;FMTTYPE=image/jpeg:https://spacecenter.org/wp-content/uploads/2022/10/Artemis-Capsule.jpeg
END:VEVENT
BEGIN:VEVENT
DTSTART;TZID=America/Chicago:20300310T131500
DTEND;TZID=America/Chicago:20300310T133000
DTSTAMP:20260420T021940
CREATED:20250602T213201Z
LAST-MODIFIED:20250603T190922Z
UID:10161505-1899378900-1899379800@spacecenter.org
SUMMARY:Story Corner Live Presentation
DESCRIPTION:
URL:https://spacecenter.org/events-calendar-event/story-corner-live-presentation-3/2030-03-10/
LOCATION:Theater – Artemis
CATEGORIES:Live Presentation
END:VEVENT
BEGIN:VEVENT
DTSTART;TZID=America/Chicago:20300310T134500
DTEND;TZID=America/Chicago:20300310T140000
DTSTAMP:20260420T021940
CREATED:20250602T212635Z
LAST-MODIFIED:20250603T191121Z
UID:10172473-1899380700-1899381600@spacecenter.org
SUMMARY:OSIRIS Rex Live Presentation
DESCRIPTION:
URL:https://spacecenter.org/events-calendar-event/osiris-rex-live-presentation-2/2030-03-10/
LOCATION:Mission Sketch Staircase
CATEGORIES:Live Presentation
ATTACH;FMTTYPE=image/jpeg:https://spacecenter.org/wp-content/uploads/2024/03/web-march2024_tls_osirisrex.jpg
END:VEVENT
BEGIN:VEVENT
DTSTART;TZID=America/Chicago:20300310T134500
DTEND;TZID=America/Chicago:20300310T140000
DTSTAMP:20260420T021940
CREATED:20250602T213557Z
LAST-MODIFIED:20250603T191327Z
UID:10176129-1899380700-1899381600@spacecenter.org
SUMMARY:James Webb Live Presentation
DESCRIPTION:
URL:https://spacecenter.org/events-calendar-event/james-webb-live-presentation-2/2030-03-10/
LOCATION:Theater – Destiny
CATEGORIES:Live Presentation
END:VEVENT
BEGIN:VEVENT
DTSTART;TZID=America/Chicago:20300310T144500
DTEND;TZID=America/Chicago:20300310T150000
DTSTAMP:20260420T021940
CREATED:20250602T213716Z
LAST-MODIFIED:20250603T191759Z
UID:10190753-1899384300-1899385200@spacecenter.org
SUMMARY:James Webb Live Presentation
DESCRIPTION:
URL:https://spacecenter.org/events-calendar-event/james-webb-live-presentation-3/2030-03-10/
LOCATION:Theater – Destiny
CATEGORIES:Live Presentation
END:VEVENT
BEGIN:VEVENT
DTSTART;TZID=America/Chicago:20300310T151500
DTEND;TZID=America/Chicago:20300310T153000
DTSTAMP:20260420T021940
CREATED:20250602T213249Z
LAST-MODIFIED:20250603T191942Z
UID:10198065-1899386100-1899387000@spacecenter.org
SUMMARY:Story Corner Live Presentation
DESCRIPTION:
URL:https://spacecenter.org/events-calendar-event/story-corner-live-presentation-4/2030-03-10/
LOCATION:Theater – Artemis
CATEGORIES:Live Presentation
END:VEVENT
BEGIN:VEVENT
DTSTART;TZID=America/Chicago:20300310T154500
DTEND;TZID=America/Chicago:20300310T161500
DTSTAMP:20260420T021940
CREATED:20250602T214125Z
LAST-MODIFIED:20250603T192119Z
UID:10209033-1899387900-1899389700@spacecenter.org
SUMMARY:Artemis Live Presentation
DESCRIPTION:
URL:https://spacecenter.org/events-calendar-event/artemis-live-presentation-3/2030-03-10/
LOCATION:Theater – Destiny
CATEGORIES:Live Presentation
ATTACH;FMTTYPE=image/jpeg:https://spacecenter.org/wp-content/uploads/2022/10/Artemis-Capsule.jpeg
END:VEVENT
BEGIN:VEVENT
DTSTART;TZID=America/Chicago:20300310T163000
DTEND;TZID=America/Chicago:20300310T164500
DTSTAMP:20260420T021940
CREATED:20250602T212726Z
LAST-MODIFIED:20250603T192225Z
UID:10216345-1899390600-1899391500@spacecenter.org
SUMMARY:OSIRIS Rex Live Presentation
DESCRIPTION:
URL:https://spacecenter.org/events-calendar-event/osiris-rex-live-presentation-3/2030-03-10/
LOCATION:Mission Sketch Staircase
CATEGORIES:Live Presentation
ATTACH;FMTTYPE=image/jpeg:https://spacecenter.org/wp-content/uploads/2024/03/web-march2024_tls_osirisrex.jpg
END:VEVENT
BEGIN:VEVENT
DTSTART;TZID=America/Chicago:20300311T104500
DTEND;TZID=America/Chicago:20300311T110000
DTSTAMP:20260420T021940
CREATED:20250602T212526Z
LAST-MODIFIED:20250603T185502Z
UID:10103010-1899456300-1899457200@spacecenter.org
SUMMARY:OSIRIS Rex Live Presentation
DESCRIPTION:
URL:https://spacecenter.org/events-calendar-event/osiris-rex-live-presentation/2030-03-11/
LOCATION:Mission Sketch Staircase
CATEGORIES:Live Presentation
ATTACH;FMTTYPE=image/jpeg:https://spacecenter.org/wp-content/uploads/2024/03/web-march2024_tls_osirisrex.jpg
END:VEVENT
BEGIN:VEVENT
DTSTART;TZID=America/Chicago:20300311T104500
DTEND;TZID=America/Chicago:20300311T111500
DTSTAMP:20260420T021940
CREATED:20250602T213905Z
LAST-MODIFIED:20250603T185637Z
UID:10110322-1899456300-1899458100@spacecenter.org
SUMMARY:Artemis Live Presentation
DESCRIPTION:
URL:https://spacecenter.org/events-calendar-event/artemis-live-presentation/2030-03-11/
LOCATION:Theater – Destiny
CATEGORIES:Live Presentation
ATTACH;FMTTYPE=image/jpeg:https://spacecenter.org/wp-content/uploads/2022/10/Artemis-Capsule.jpeg
END:VEVENT
BEGIN:VEVENT
DTSTART;TZID=America/Chicago:20300311T111500
DTEND;TZID=America/Chicago:20300311T113000
DTSTAMP:20260420T021940
CREATED:20250602T213010Z
LAST-MODIFIED:20250603T185901Z
UID:10121290-1899458100-1899459000@spacecenter.org
SUMMARY:Story Corner Live Presentation
DESCRIPTION:
URL:https://spacecenter.org/events-calendar-event/story-corner-live-presentation/2030-03-11/
LOCATION:Theater – Artemis
CATEGORIES:Live Presentation
END:VEVENT
BEGIN:VEVENT
DTSTART;TZID=America/Chicago:20300311T114500
DTEND;TZID=America/Chicago:20300311T120000
DTSTAMP:20260420T021940
CREATED:20250602T213503Z
LAST-MODIFIED:20250603T190256Z
UID:10139570-1899459900-1899460800@spacecenter.org
SUMMARY:James Webb Live Presentation
DESCRIPTION:
URL:https://spacecenter.org/events-calendar-event/james-webb-live-presentation/2030-03-11/
LOCATION:Theater – Destiny
CATEGORIES:Live Presentation
END:VEVENT
BEGIN:VEVENT
DTSTART;TZID=America/Chicago:20300311T121500
DTEND;TZID=America/Chicago:20300311T123000
DTSTAMP:20260420T021940
CREATED:20250602T213059Z
LAST-MODIFIED:20250603T190345Z
UID:10143226-1899461700-1899462600@spacecenter.org
SUMMARY:Story Corner Live Presentation
DESCRIPTION:
URL:https://spacecenter.org/events-calendar-event/story-corner-live-presentation-2/2030-03-11/
LOCATION:Theater – Artemis
CATEGORIES:Live Presentation
END:VEVENT
BEGIN:VEVENT
DTSTART;TZID=America/Chicago:20300311T124500
DTEND;TZID=America/Chicago:20300311T131500
DTSTAMP:20260420T021940
CREATED:20250602T214012Z
LAST-MODIFIED:20250603T190811Z
UID:10154194-1899463500-1899465300@spacecenter.org
SUMMARY:Artemis Live Presentation
DESCRIPTION:
URL:https://spacecenter.org/events-calendar-event/artemis-live-presentation-2/2030-03-11/
LOCATION:Theater – Destiny
CATEGORIES:Live Presentation
ATTACH;FMTTYPE=image/jpeg:https://spacecenter.org/wp-content/uploads/2022/10/Artemis-Capsule.jpeg
END:VEVENT
BEGIN:VEVENT
DTSTART;TZID=America/Chicago:20300311T131500
DTEND;TZID=America/Chicago:20300311T133000
DTSTAMP:20260420T021940
CREATED:20250602T213201Z
LAST-MODIFIED:20250603T190922Z
UID:10161506-1899465300-1899466200@spacecenter.org
SUMMARY:Story Corner Live Presentation
DESCRIPTION:
URL:https://spacecenter.org/events-calendar-event/story-corner-live-presentation-3/2030-03-11/
LOCATION:Theater – Artemis
CATEGORIES:Live Presentation
END:VEVENT
END:VCALENDAR