BEGIN:VCALENDAR
VERSION:2.0
PRODID:-//Space Center Houston - ECPv6.15.15//NONSGML v1.0//EN
CALSCALE:GREGORIAN
METHOD:PUBLISH
X-WR-CALNAME:Space Center Houston
X-ORIGINAL-URL:https://spacecenter.org
X-WR-CALDESC:Events for Space Center Houston
REFRESH-INTERVAL;VALUE=DURATION:PT1H
X-Robots-Tag:noindex
X-PUBLISHED-TTL:PT1H
BEGIN:VTIMEZONE
TZID:America/Chicago
BEGIN:DAYLIGHT
TZOFFSETFROM:-0600
TZOFFSETTO:-0500
TZNAME:CDT
DTSTART:20290311T080000
END:DAYLIGHT
BEGIN:STANDARD
TZOFFSETFROM:-0500
TZOFFSETTO:-0600
TZNAME:CST
DTSTART:20291104T070000
END:STANDARD
BEGIN:DAYLIGHT
TZOFFSETFROM:-0600
TZOFFSETTO:-0500
TZNAME:CDT
DTSTART:20300310T080000
END:DAYLIGHT
BEGIN:STANDARD
TZOFFSETFROM:-0500
TZOFFSETTO:-0600
TZNAME:CST
DTSTART:20301103T070000
END:STANDARD
BEGIN:DAYLIGHT
TZOFFSETFROM:-0600
TZOFFSETTO:-0500
TZNAME:CDT
DTSTART:20310309T080000
END:DAYLIGHT
BEGIN:STANDARD
TZOFFSETFROM:-0500
TZOFFSETTO:-0600
TZNAME:CST
DTSTART:20311102T070000
END:STANDARD
END:VTIMEZONE
BEGIN:VEVENT
DTSTART;TZID=America/Chicago:20300301T134500
DTEND;TZID=America/Chicago:20300301T140000
DTSTAMP:20260420T040351
CREATED:20250602T212635Z
LAST-MODIFIED:20250603T191121Z
UID:10172464-1898603100-1898604000@spacecenter.org
SUMMARY:OSIRIS Rex Live Presentation
DESCRIPTION:
URL:https://spacecenter.org/events-calendar-event/osiris-rex-live-presentation-2/2030-03-01/
LOCATION:Mission Sketch Staircase
CATEGORIES:Live Presentation
ATTACH;FMTTYPE=image/jpeg:https://spacecenter.org/wp-content/uploads/2024/03/web-march2024_tls_osirisrex.jpg
END:VEVENT
BEGIN:VEVENT
DTSTART;TZID=America/Chicago:20300301T134500
DTEND;TZID=America/Chicago:20300301T140000
DTSTAMP:20260420T040351
CREATED:20250602T213557Z
LAST-MODIFIED:20250603T191327Z
UID:10176120-1898603100-1898604000@spacecenter.org
SUMMARY:James Webb Live Presentation
DESCRIPTION:
URL:https://spacecenter.org/events-calendar-event/james-webb-live-presentation-2/2030-03-01/
LOCATION:Theater – Destiny
CATEGORIES:Live Presentation
END:VEVENT
BEGIN:VEVENT
DTSTART;TZID=America/Chicago:20300301T144500
DTEND;TZID=America/Chicago:20300301T150000
DTSTAMP:20260420T040351
CREATED:20250602T213716Z
LAST-MODIFIED:20250603T191759Z
UID:10190744-1898606700-1898607600@spacecenter.org
SUMMARY:James Webb Live Presentation
DESCRIPTION:
URL:https://spacecenter.org/events-calendar-event/james-webb-live-presentation-3/2030-03-01/
LOCATION:Theater – Destiny
CATEGORIES:Live Presentation
END:VEVENT
BEGIN:VEVENT
DTSTART;TZID=America/Chicago:20300301T151500
DTEND;TZID=America/Chicago:20300301T153000
DTSTAMP:20260420T040351
CREATED:20250602T213249Z
LAST-MODIFIED:20250603T191942Z
UID:10198056-1898608500-1898609400@spacecenter.org
SUMMARY:Story Corner Live Presentation
DESCRIPTION:
URL:https://spacecenter.org/events-calendar-event/story-corner-live-presentation-4/2030-03-01/
LOCATION:Theater – Artemis
CATEGORIES:Live Presentation
END:VEVENT
BEGIN:VEVENT
DTSTART;TZID=America/Chicago:20300301T154500
DTEND;TZID=America/Chicago:20300301T161500
DTSTAMP:20260420T040351
CREATED:20250602T214125Z
LAST-MODIFIED:20250603T192119Z
UID:10209024-1898610300-1898612100@spacecenter.org
SUMMARY:Artemis Live Presentation
DESCRIPTION:
URL:https://spacecenter.org/events-calendar-event/artemis-live-presentation-3/2030-03-01/
LOCATION:Theater – Destiny
CATEGORIES:Live Presentation
ATTACH;FMTTYPE=image/jpeg:https://spacecenter.org/wp-content/uploads/2022/10/Artemis-Capsule.jpeg
END:VEVENT
BEGIN:VEVENT
DTSTART;TZID=America/Chicago:20300301T163000
DTEND;TZID=America/Chicago:20300301T164500
DTSTAMP:20260420T040351
CREATED:20250602T212726Z
LAST-MODIFIED:20250603T192225Z
UID:10216336-1898613000-1898613900@spacecenter.org
SUMMARY:OSIRIS Rex Live Presentation
DESCRIPTION:
URL:https://spacecenter.org/events-calendar-event/osiris-rex-live-presentation-3/2030-03-01/
LOCATION:Mission Sketch Staircase
CATEGORIES:Live Presentation
ATTACH;FMTTYPE=image/jpeg:https://spacecenter.org/wp-content/uploads/2024/03/web-march2024_tls_osirisrex.jpg
END:VEVENT
BEGIN:VEVENT
DTSTART;TZID=America/Chicago:20300302T104500
DTEND;TZID=America/Chicago:20300302T110000
DTSTAMP:20260420T040351
CREATED:20250602T212526Z
LAST-MODIFIED:20250603T185502Z
UID:10103001-1898678700-1898679600@spacecenter.org
SUMMARY:OSIRIS Rex Live Presentation
DESCRIPTION:
URL:https://spacecenter.org/events-calendar-event/osiris-rex-live-presentation/2030-03-02/
LOCATION:Mission Sketch Staircase
CATEGORIES:Live Presentation
ATTACH;FMTTYPE=image/jpeg:https://spacecenter.org/wp-content/uploads/2024/03/web-march2024_tls_osirisrex.jpg
END:VEVENT
BEGIN:VEVENT
DTSTART;TZID=America/Chicago:20300302T104500
DTEND;TZID=America/Chicago:20300302T111500
DTSTAMP:20260420T040351
CREATED:20250602T213905Z
LAST-MODIFIED:20250603T185637Z
UID:10110313-1898678700-1898680500@spacecenter.org
SUMMARY:Artemis Live Presentation
DESCRIPTION:
URL:https://spacecenter.org/events-calendar-event/artemis-live-presentation/2030-03-02/
LOCATION:Theater – Destiny
CATEGORIES:Live Presentation
ATTACH;FMTTYPE=image/jpeg:https://spacecenter.org/wp-content/uploads/2022/10/Artemis-Capsule.jpeg
END:VEVENT
BEGIN:VEVENT
DTSTART;TZID=America/Chicago:20300302T111500
DTEND;TZID=America/Chicago:20300302T113000
DTSTAMP:20260420T040351
CREATED:20250602T213010Z
LAST-MODIFIED:20250603T185901Z
UID:10121281-1898680500-1898681400@spacecenter.org
SUMMARY:Story Corner Live Presentation
DESCRIPTION:
URL:https://spacecenter.org/events-calendar-event/story-corner-live-presentation/2030-03-02/
LOCATION:Theater – Artemis
CATEGORIES:Live Presentation
END:VEVENT
BEGIN:VEVENT
DTSTART;TZID=America/Chicago:20300302T114500
DTEND;TZID=America/Chicago:20300302T120000
DTSTAMP:20260420T040351
CREATED:20250602T213503Z
LAST-MODIFIED:20250603T190256Z
UID:10139561-1898682300-1898683200@spacecenter.org
SUMMARY:James Webb Live Presentation
DESCRIPTION:
URL:https://spacecenter.org/events-calendar-event/james-webb-live-presentation/2030-03-02/
LOCATION:Theater – Destiny
CATEGORIES:Live Presentation
END:VEVENT
BEGIN:VEVENT
DTSTART;TZID=America/Chicago:20300302T121500
DTEND;TZID=America/Chicago:20300302T123000
DTSTAMP:20260420T040351
CREATED:20250602T213059Z
LAST-MODIFIED:20250603T190345Z
UID:10143217-1898684100-1898685000@spacecenter.org
SUMMARY:Story Corner Live Presentation
DESCRIPTION:
URL:https://spacecenter.org/events-calendar-event/story-corner-live-presentation-2/2030-03-02/
LOCATION:Theater – Artemis
CATEGORIES:Live Presentation
END:VEVENT
BEGIN:VEVENT
DTSTART;TZID=America/Chicago:20300302T124500
DTEND;TZID=America/Chicago:20300302T131500
DTSTAMP:20260420T040351
CREATED:20250602T214012Z
LAST-MODIFIED:20250603T190811Z
UID:10154185-1898685900-1898687700@spacecenter.org
SUMMARY:Artemis Live Presentation
DESCRIPTION:
URL:https://spacecenter.org/events-calendar-event/artemis-live-presentation-2/2030-03-02/
LOCATION:Theater – Destiny
CATEGORIES:Live Presentation
ATTACH;FMTTYPE=image/jpeg:https://spacecenter.org/wp-content/uploads/2022/10/Artemis-Capsule.jpeg
END:VEVENT
BEGIN:VEVENT
DTSTART;TZID=America/Chicago:20300302T131500
DTEND;TZID=America/Chicago:20300302T133000
DTSTAMP:20260420T040351
CREATED:20250602T213201Z
LAST-MODIFIED:20250603T190922Z
UID:10161497-1898687700-1898688600@spacecenter.org
SUMMARY:Story Corner Live Presentation
DESCRIPTION:
URL:https://spacecenter.org/events-calendar-event/story-corner-live-presentation-3/2030-03-02/
LOCATION:Theater – Artemis
CATEGORIES:Live Presentation
END:VEVENT
BEGIN:VEVENT
DTSTART;TZID=America/Chicago:20300302T134500
DTEND;TZID=America/Chicago:20300302T140000
DTSTAMP:20260420T040351
CREATED:20250602T212635Z
LAST-MODIFIED:20250603T191121Z
UID:10172465-1898689500-1898690400@spacecenter.org
SUMMARY:OSIRIS Rex Live Presentation
DESCRIPTION:
URL:https://spacecenter.org/events-calendar-event/osiris-rex-live-presentation-2/2030-03-02/
LOCATION:Mission Sketch Staircase
CATEGORIES:Live Presentation
ATTACH;FMTTYPE=image/jpeg:https://spacecenter.org/wp-content/uploads/2024/03/web-march2024_tls_osirisrex.jpg
END:VEVENT
BEGIN:VEVENT
DTSTART;TZID=America/Chicago:20300302T134500
DTEND;TZID=America/Chicago:20300302T140000
DTSTAMP:20260420T040351
CREATED:20250602T213557Z
LAST-MODIFIED:20250603T191327Z
UID:10176121-1898689500-1898690400@spacecenter.org
SUMMARY:James Webb Live Presentation
DESCRIPTION:
URL:https://spacecenter.org/events-calendar-event/james-webb-live-presentation-2/2030-03-02/
LOCATION:Theater – Destiny
CATEGORIES:Live Presentation
END:VEVENT
BEGIN:VEVENT
DTSTART;TZID=America/Chicago:20300302T144500
DTEND;TZID=America/Chicago:20300302T150000
DTSTAMP:20260420T040351
CREATED:20250602T213716Z
LAST-MODIFIED:20250603T191759Z
UID:10190745-1898693100-1898694000@spacecenter.org
SUMMARY:James Webb Live Presentation
DESCRIPTION:
URL:https://spacecenter.org/events-calendar-event/james-webb-live-presentation-3/2030-03-02/
LOCATION:Theater – Destiny
CATEGORIES:Live Presentation
END:VEVENT
BEGIN:VEVENT
DTSTART;TZID=America/Chicago:20300302T151500
DTEND;TZID=America/Chicago:20300302T153000
DTSTAMP:20260420T040351
CREATED:20250602T213249Z
LAST-MODIFIED:20250603T191942Z
UID:10198057-1898694900-1898695800@spacecenter.org
SUMMARY:Story Corner Live Presentation
DESCRIPTION:
URL:https://spacecenter.org/events-calendar-event/story-corner-live-presentation-4/2030-03-02/
LOCATION:Theater – Artemis
CATEGORIES:Live Presentation
END:VEVENT
BEGIN:VEVENT
DTSTART;TZID=America/Chicago:20300302T154500
DTEND;TZID=America/Chicago:20300302T161500
DTSTAMP:20260420T040351
CREATED:20250602T214125Z
LAST-MODIFIED:20250603T192119Z
UID:10209025-1898696700-1898698500@spacecenter.org
SUMMARY:Artemis Live Presentation
DESCRIPTION:
URL:https://spacecenter.org/events-calendar-event/artemis-live-presentation-3/2030-03-02/
LOCATION:Theater – Destiny
CATEGORIES:Live Presentation
ATTACH;FMTTYPE=image/jpeg:https://spacecenter.org/wp-content/uploads/2022/10/Artemis-Capsule.jpeg
END:VEVENT
BEGIN:VEVENT
DTSTART;TZID=America/Chicago:20300302T163000
DTEND;TZID=America/Chicago:20300302T164500
DTSTAMP:20260420T040351
CREATED:20250602T212726Z
LAST-MODIFIED:20250603T192225Z
UID:10216337-1898699400-1898700300@spacecenter.org
SUMMARY:OSIRIS Rex Live Presentation
DESCRIPTION:
URL:https://spacecenter.org/events-calendar-event/osiris-rex-live-presentation-3/2030-03-02/
LOCATION:Mission Sketch Staircase
CATEGORIES:Live Presentation
ATTACH;FMTTYPE=image/jpeg:https://spacecenter.org/wp-content/uploads/2024/03/web-march2024_tls_osirisrex.jpg
END:VEVENT
BEGIN:VEVENT
DTSTART;TZID=America/Chicago:20300303T104500
DTEND;TZID=America/Chicago:20300303T110000
DTSTAMP:20260420T040351
CREATED:20250602T212526Z
LAST-MODIFIED:20250603T185502Z
UID:10103002-1898765100-1898766000@spacecenter.org
SUMMARY:OSIRIS Rex Live Presentation
DESCRIPTION:
URL:https://spacecenter.org/events-calendar-event/osiris-rex-live-presentation/2030-03-03/
LOCATION:Mission Sketch Staircase
CATEGORIES:Live Presentation
ATTACH;FMTTYPE=image/jpeg:https://spacecenter.org/wp-content/uploads/2024/03/web-march2024_tls_osirisrex.jpg
END:VEVENT
BEGIN:VEVENT
DTSTART;TZID=America/Chicago:20300303T104500
DTEND;TZID=America/Chicago:20300303T111500
DTSTAMP:20260420T040351
CREATED:20250602T213905Z
LAST-MODIFIED:20250603T185637Z
UID:10110314-1898765100-1898766900@spacecenter.org
SUMMARY:Artemis Live Presentation
DESCRIPTION:
URL:https://spacecenter.org/events-calendar-event/artemis-live-presentation/2030-03-03/
LOCATION:Theater – Destiny
CATEGORIES:Live Presentation
ATTACH;FMTTYPE=image/jpeg:https://spacecenter.org/wp-content/uploads/2022/10/Artemis-Capsule.jpeg
END:VEVENT
BEGIN:VEVENT
DTSTART;TZID=America/Chicago:20300303T111500
DTEND;TZID=America/Chicago:20300303T113000
DTSTAMP:20260420T040351
CREATED:20250602T213010Z
LAST-MODIFIED:20250603T185901Z
UID:10121282-1898766900-1898767800@spacecenter.org
SUMMARY:Story Corner Live Presentation
DESCRIPTION:
URL:https://spacecenter.org/events-calendar-event/story-corner-live-presentation/2030-03-03/
LOCATION:Theater – Artemis
CATEGORIES:Live Presentation
END:VEVENT
BEGIN:VEVENT
DTSTART;TZID=America/Chicago:20300303T114500
DTEND;TZID=America/Chicago:20300303T120000
DTSTAMP:20260420T040351
CREATED:20250602T213503Z
LAST-MODIFIED:20250603T190256Z
UID:10139562-1898768700-1898769600@spacecenter.org
SUMMARY:James Webb Live Presentation
DESCRIPTION:
URL:https://spacecenter.org/events-calendar-event/james-webb-live-presentation/2030-03-03/
LOCATION:Theater – Destiny
CATEGORIES:Live Presentation
END:VEVENT
BEGIN:VEVENT
DTSTART;TZID=America/Chicago:20300303T121500
DTEND;TZID=America/Chicago:20300303T123000
DTSTAMP:20260420T040351
CREATED:20250602T213059Z
LAST-MODIFIED:20250603T190345Z
UID:10143218-1898770500-1898771400@spacecenter.org
SUMMARY:Story Corner Live Presentation
DESCRIPTION:
URL:https://spacecenter.org/events-calendar-event/story-corner-live-presentation-2/2030-03-03/
LOCATION:Theater – Artemis
CATEGORIES:Live Presentation
END:VEVENT
BEGIN:VEVENT
DTSTART;TZID=America/Chicago:20300303T124500
DTEND;TZID=America/Chicago:20300303T131500
DTSTAMP:20260420T040351
CREATED:20250602T214012Z
LAST-MODIFIED:20250603T190811Z
UID:10154186-1898772300-1898774100@spacecenter.org
SUMMARY:Artemis Live Presentation
DESCRIPTION:
URL:https://spacecenter.org/events-calendar-event/artemis-live-presentation-2/2030-03-03/
LOCATION:Theater – Destiny
CATEGORIES:Live Presentation
ATTACH;FMTTYPE=image/jpeg:https://spacecenter.org/wp-content/uploads/2022/10/Artemis-Capsule.jpeg
END:VEVENT
BEGIN:VEVENT
DTSTART;TZID=America/Chicago:20300303T131500
DTEND;TZID=America/Chicago:20300303T133000
DTSTAMP:20260420T040351
CREATED:20250602T213201Z
LAST-MODIFIED:20250603T190922Z
UID:10161498-1898774100-1898775000@spacecenter.org
SUMMARY:Story Corner Live Presentation
DESCRIPTION:
URL:https://spacecenter.org/events-calendar-event/story-corner-live-presentation-3/2030-03-03/
LOCATION:Theater – Artemis
CATEGORIES:Live Presentation
END:VEVENT
BEGIN:VEVENT
DTSTART;TZID=America/Chicago:20300303T134500
DTEND;TZID=America/Chicago:20300303T140000
DTSTAMP:20260420T040351
CREATED:20250602T212635Z
LAST-MODIFIED:20250603T191121Z
UID:10172466-1898775900-1898776800@spacecenter.org
SUMMARY:OSIRIS Rex Live Presentation
DESCRIPTION:
URL:https://spacecenter.org/events-calendar-event/osiris-rex-live-presentation-2/2030-03-03/
LOCATION:Mission Sketch Staircase
CATEGORIES:Live Presentation
ATTACH;FMTTYPE=image/jpeg:https://spacecenter.org/wp-content/uploads/2024/03/web-march2024_tls_osirisrex.jpg
END:VEVENT
BEGIN:VEVENT
DTSTART;TZID=America/Chicago:20300303T134500
DTEND;TZID=America/Chicago:20300303T140000
DTSTAMP:20260420T040351
CREATED:20250602T213557Z
LAST-MODIFIED:20250603T191327Z
UID:10176122-1898775900-1898776800@spacecenter.org
SUMMARY:James Webb Live Presentation
DESCRIPTION:
URL:https://spacecenter.org/events-calendar-event/james-webb-live-presentation-2/2030-03-03/
LOCATION:Theater – Destiny
CATEGORIES:Live Presentation
END:VEVENT
BEGIN:VEVENT
DTSTART;TZID=America/Chicago:20300303T144500
DTEND;TZID=America/Chicago:20300303T150000
DTSTAMP:20260420T040351
CREATED:20250602T213716Z
LAST-MODIFIED:20250603T191759Z
UID:10190746-1898779500-1898780400@spacecenter.org
SUMMARY:James Webb Live Presentation
DESCRIPTION:
URL:https://spacecenter.org/events-calendar-event/james-webb-live-presentation-3/2030-03-03/
LOCATION:Theater – Destiny
CATEGORIES:Live Presentation
END:VEVENT
BEGIN:VEVENT
DTSTART;TZID=America/Chicago:20300303T151500
DTEND;TZID=America/Chicago:20300303T153000
DTSTAMP:20260420T040351
CREATED:20250602T213249Z
LAST-MODIFIED:20250603T191942Z
UID:10198058-1898781300-1898782200@spacecenter.org
SUMMARY:Story Corner Live Presentation
DESCRIPTION:
URL:https://spacecenter.org/events-calendar-event/story-corner-live-presentation-4/2030-03-03/
LOCATION:Theater – Artemis
CATEGORIES:Live Presentation
END:VEVENT
END:VCALENDAR