BEGIN:VCALENDAR
VERSION:2.0
PRODID:-//Space Center Houston - ECPv6.15.15//NONSGML v1.0//EN
CALSCALE:GREGORIAN
METHOD:PUBLISH
X-ORIGINAL-URL:https://spacecenter.org
X-WR-CALDESC:Events for Space Center Houston
REFRESH-INTERVAL;VALUE=DURATION:PT1H
X-Robots-Tag:noindex
X-PUBLISHED-TTL:PT1H
BEGIN:VTIMEZONE
TZID:America/Chicago
BEGIN:DAYLIGHT
TZOFFSETFROM:-0600
TZOFFSETTO:-0500
TZNAME:CDT
DTSTART:20290311T080000
END:DAYLIGHT
BEGIN:STANDARD
TZOFFSETFROM:-0500
TZOFFSETTO:-0600
TZNAME:CST
DTSTART:20291104T070000
END:STANDARD
BEGIN:DAYLIGHT
TZOFFSETFROM:-0600
TZOFFSETTO:-0500
TZNAME:CDT
DTSTART:20300310T080000
END:DAYLIGHT
BEGIN:STANDARD
TZOFFSETFROM:-0500
TZOFFSETTO:-0600
TZNAME:CST
DTSTART:20301103T070000
END:STANDARD
BEGIN:DAYLIGHT
TZOFFSETFROM:-0600
TZOFFSETTO:-0500
TZNAME:CDT
DTSTART:20310309T080000
END:DAYLIGHT
BEGIN:STANDARD
TZOFFSETFROM:-0500
TZOFFSETTO:-0600
TZNAME:CST
DTSTART:20311102T070000
END:STANDARD
END:VTIMEZONE
BEGIN:VEVENT
DTSTART;TZID=America/Chicago:20300202T134500
DTEND;TZID=America/Chicago:20300202T140000
DTSTAMP:20260420T094815
CREATED:20250602T213557Z
LAST-MODIFIED:20250603T191327Z
UID:10176093-1896270300-1896271200@spacecenter.org
SUMMARY:James Webb Live Presentation
DESCRIPTION:
URL:https://spacecenter.org/events-calendar-event/james-webb-live-presentation-2/2030-02-02/
LOCATION:Theater – Destiny
CATEGORIES:Live Presentation
END:VEVENT
BEGIN:VEVENT
DTSTART;TZID=America/Chicago:20300202T144500
DTEND;TZID=America/Chicago:20300202T150000
DTSTAMP:20260420T094815
CREATED:20250602T213716Z
LAST-MODIFIED:20250603T191759Z
UID:10190717-1896273900-1896274800@spacecenter.org
SUMMARY:James Webb Live Presentation
DESCRIPTION:
URL:https://spacecenter.org/events-calendar-event/james-webb-live-presentation-3/2030-02-02/
LOCATION:Theater – Destiny
CATEGORIES:Live Presentation
END:VEVENT
BEGIN:VEVENT
DTSTART;TZID=America/Chicago:20300202T151500
DTEND;TZID=America/Chicago:20300202T153000
DTSTAMP:20260420T094815
CREATED:20250602T213249Z
LAST-MODIFIED:20250603T191942Z
UID:10198029-1896275700-1896276600@spacecenter.org
SUMMARY:Story Corner Live Presentation
DESCRIPTION:
URL:https://spacecenter.org/events-calendar-event/story-corner-live-presentation-4/2030-02-02/
LOCATION:Theater – Artemis
CATEGORIES:Live Presentation
END:VEVENT
BEGIN:VEVENT
DTSTART;TZID=America/Chicago:20300202T154500
DTEND;TZID=America/Chicago:20300202T161500
DTSTAMP:20260420T094815
CREATED:20250602T214125Z
LAST-MODIFIED:20250603T192119Z
UID:10208997-1896277500-1896279300@spacecenter.org
SUMMARY:Artemis Live Presentation
DESCRIPTION:
URL:https://spacecenter.org/events-calendar-event/artemis-live-presentation-3/2030-02-02/
LOCATION:Theater – Destiny
CATEGORIES:Live Presentation
ATTACH;FMTTYPE=image/jpeg:https://spacecenter.org/wp-content/uploads/2022/10/Artemis-Capsule.jpeg
END:VEVENT
BEGIN:VEVENT
DTSTART;TZID=America/Chicago:20300202T163000
DTEND;TZID=America/Chicago:20300202T164500
DTSTAMP:20260420T094815
CREATED:20250602T212726Z
LAST-MODIFIED:20250603T192225Z
UID:10216309-1896280200-1896281100@spacecenter.org
SUMMARY:OSIRIS Rex Live Presentation
DESCRIPTION:
URL:https://spacecenter.org/events-calendar-event/osiris-rex-live-presentation-3/2030-02-02/
LOCATION:Mission Sketch Staircase
CATEGORIES:Live Presentation
ATTACH;FMTTYPE=image/jpeg:https://spacecenter.org/wp-content/uploads/2024/03/web-march2024_tls_osirisrex.jpg
END:VEVENT
BEGIN:VEVENT
DTSTART;TZID=America/Chicago:20300203T104500
DTEND;TZID=America/Chicago:20300203T110000
DTSTAMP:20260420T094815
CREATED:20250602T212526Z
LAST-MODIFIED:20250603T185502Z
UID:10102974-1896345900-1896346800@spacecenter.org
SUMMARY:OSIRIS Rex Live Presentation
DESCRIPTION:
URL:https://spacecenter.org/events-calendar-event/osiris-rex-live-presentation/2030-02-03/
LOCATION:Mission Sketch Staircase
CATEGORIES:Live Presentation
ATTACH;FMTTYPE=image/jpeg:https://spacecenter.org/wp-content/uploads/2024/03/web-march2024_tls_osirisrex.jpg
END:VEVENT
BEGIN:VEVENT
DTSTART;TZID=America/Chicago:20300203T104500
DTEND;TZID=America/Chicago:20300203T111500
DTSTAMP:20260420T094815
CREATED:20250602T213905Z
LAST-MODIFIED:20250603T185637Z
UID:10110286-1896345900-1896347700@spacecenter.org
SUMMARY:Artemis Live Presentation
DESCRIPTION:
URL:https://spacecenter.org/events-calendar-event/artemis-live-presentation/2030-02-03/
LOCATION:Theater – Destiny
CATEGORIES:Live Presentation
ATTACH;FMTTYPE=image/jpeg:https://spacecenter.org/wp-content/uploads/2022/10/Artemis-Capsule.jpeg
END:VEVENT
BEGIN:VEVENT
DTSTART;TZID=America/Chicago:20300203T111500
DTEND;TZID=America/Chicago:20300203T113000
DTSTAMP:20260420T094815
CREATED:20250602T213010Z
LAST-MODIFIED:20250603T185901Z
UID:10121254-1896347700-1896348600@spacecenter.org
SUMMARY:Story Corner Live Presentation
DESCRIPTION:
URL:https://spacecenter.org/events-calendar-event/story-corner-live-presentation/2030-02-03/
LOCATION:Theater – Artemis
CATEGORIES:Live Presentation
END:VEVENT
BEGIN:VEVENT
DTSTART;TZID=America/Chicago:20300203T114500
DTEND;TZID=America/Chicago:20300203T120000
DTSTAMP:20260420T094815
CREATED:20250602T213503Z
LAST-MODIFIED:20250603T190256Z
UID:10139534-1896349500-1896350400@spacecenter.org
SUMMARY:James Webb Live Presentation
DESCRIPTION:
URL:https://spacecenter.org/events-calendar-event/james-webb-live-presentation/2030-02-03/
LOCATION:Theater – Destiny
CATEGORIES:Live Presentation
END:VEVENT
BEGIN:VEVENT
DTSTART;TZID=America/Chicago:20300203T121500
DTEND;TZID=America/Chicago:20300203T123000
DTSTAMP:20260420T094815
CREATED:20250602T213059Z
LAST-MODIFIED:20250603T190345Z
UID:10143190-1896351300-1896352200@spacecenter.org
SUMMARY:Story Corner Live Presentation
DESCRIPTION:
URL:https://spacecenter.org/events-calendar-event/story-corner-live-presentation-2/2030-02-03/
LOCATION:Theater – Artemis
CATEGORIES:Live Presentation
END:VEVENT
BEGIN:VEVENT
DTSTART;TZID=America/Chicago:20300203T124500
DTEND;TZID=America/Chicago:20300203T131500
DTSTAMP:20260420T094815
CREATED:20250602T214012Z
LAST-MODIFIED:20250603T190811Z
UID:10154158-1896353100-1896354900@spacecenter.org
SUMMARY:Artemis Live Presentation
DESCRIPTION:
URL:https://spacecenter.org/events-calendar-event/artemis-live-presentation-2/2030-02-03/
LOCATION:Theater – Destiny
CATEGORIES:Live Presentation
ATTACH;FMTTYPE=image/jpeg:https://spacecenter.org/wp-content/uploads/2022/10/Artemis-Capsule.jpeg
END:VEVENT
BEGIN:VEVENT
DTSTART;TZID=America/Chicago:20300203T131500
DTEND;TZID=America/Chicago:20300203T133000
DTSTAMP:20260420T094815
CREATED:20250602T213201Z
LAST-MODIFIED:20250603T190922Z
UID:10161470-1896354900-1896355800@spacecenter.org
SUMMARY:Story Corner Live Presentation
DESCRIPTION:
URL:https://spacecenter.org/events-calendar-event/story-corner-live-presentation-3/2030-02-03/
LOCATION:Theater – Artemis
CATEGORIES:Live Presentation
END:VEVENT
BEGIN:VEVENT
DTSTART;TZID=America/Chicago:20300203T134500
DTEND;TZID=America/Chicago:20300203T140000
DTSTAMP:20260420T094815
CREATED:20250602T212635Z
LAST-MODIFIED:20250603T191121Z
UID:10172438-1896356700-1896357600@spacecenter.org
SUMMARY:OSIRIS Rex Live Presentation
DESCRIPTION:
URL:https://spacecenter.org/events-calendar-event/osiris-rex-live-presentation-2/2030-02-03/
LOCATION:Mission Sketch Staircase
CATEGORIES:Live Presentation
ATTACH;FMTTYPE=image/jpeg:https://spacecenter.org/wp-content/uploads/2024/03/web-march2024_tls_osirisrex.jpg
END:VEVENT
BEGIN:VEVENT
DTSTART;TZID=America/Chicago:20300203T134500
DTEND;TZID=America/Chicago:20300203T140000
DTSTAMP:20260420T094815
CREATED:20250602T213557Z
LAST-MODIFIED:20250603T191327Z
UID:10176094-1896356700-1896357600@spacecenter.org
SUMMARY:James Webb Live Presentation
DESCRIPTION:
URL:https://spacecenter.org/events-calendar-event/james-webb-live-presentation-2/2030-02-03/
LOCATION:Theater – Destiny
CATEGORIES:Live Presentation
END:VEVENT
BEGIN:VEVENT
DTSTART;TZID=America/Chicago:20300203T144500
DTEND;TZID=America/Chicago:20300203T150000
DTSTAMP:20260420T094815
CREATED:20250602T213716Z
LAST-MODIFIED:20250603T191759Z
UID:10190718-1896360300-1896361200@spacecenter.org
SUMMARY:James Webb Live Presentation
DESCRIPTION:
URL:https://spacecenter.org/events-calendar-event/james-webb-live-presentation-3/2030-02-03/
LOCATION:Theater – Destiny
CATEGORIES:Live Presentation
END:VEVENT
BEGIN:VEVENT
DTSTART;TZID=America/Chicago:20300203T151500
DTEND;TZID=America/Chicago:20300203T153000
DTSTAMP:20260420T094815
CREATED:20250602T213249Z
LAST-MODIFIED:20250603T191942Z
UID:10198030-1896362100-1896363000@spacecenter.org
SUMMARY:Story Corner Live Presentation
DESCRIPTION:
URL:https://spacecenter.org/events-calendar-event/story-corner-live-presentation-4/2030-02-03/
LOCATION:Theater – Artemis
CATEGORIES:Live Presentation
END:VEVENT
BEGIN:VEVENT
DTSTART;TZID=America/Chicago:20300203T154500
DTEND;TZID=America/Chicago:20300203T161500
DTSTAMP:20260420T094815
CREATED:20250602T214125Z
LAST-MODIFIED:20250603T192119Z
UID:10208998-1896363900-1896365700@spacecenter.org
SUMMARY:Artemis Live Presentation
DESCRIPTION:
URL:https://spacecenter.org/events-calendar-event/artemis-live-presentation-3/2030-02-03/
LOCATION:Theater – Destiny
CATEGORIES:Live Presentation
ATTACH;FMTTYPE=image/jpeg:https://spacecenter.org/wp-content/uploads/2022/10/Artemis-Capsule.jpeg
END:VEVENT
BEGIN:VEVENT
DTSTART;TZID=America/Chicago:20300203T163000
DTEND;TZID=America/Chicago:20300203T164500
DTSTAMP:20260420T094815
CREATED:20250602T212726Z
LAST-MODIFIED:20250603T192225Z
UID:10216310-1896366600-1896367500@spacecenter.org
SUMMARY:OSIRIS Rex Live Presentation
DESCRIPTION:
URL:https://spacecenter.org/events-calendar-event/osiris-rex-live-presentation-3/2030-02-03/
LOCATION:Mission Sketch Staircase
CATEGORIES:Live Presentation
ATTACH;FMTTYPE=image/jpeg:https://spacecenter.org/wp-content/uploads/2024/03/web-march2024_tls_osirisrex.jpg
END:VEVENT
BEGIN:VEVENT
DTSTART;TZID=America/Chicago:20300204T104500
DTEND;TZID=America/Chicago:20300204T110000
DTSTAMP:20260420T094815
CREATED:20250602T212526Z
LAST-MODIFIED:20250603T185502Z
UID:10102975-1896432300-1896433200@spacecenter.org
SUMMARY:OSIRIS Rex Live Presentation
DESCRIPTION:
URL:https://spacecenter.org/events-calendar-event/osiris-rex-live-presentation/2030-02-04/
LOCATION:Mission Sketch Staircase
CATEGORIES:Live Presentation
ATTACH;FMTTYPE=image/jpeg:https://spacecenter.org/wp-content/uploads/2024/03/web-march2024_tls_osirisrex.jpg
END:VEVENT
BEGIN:VEVENT
DTSTART;TZID=America/Chicago:20300204T104500
DTEND;TZID=America/Chicago:20300204T111500
DTSTAMP:20260420T094815
CREATED:20250602T213905Z
LAST-MODIFIED:20250603T185637Z
UID:10110287-1896432300-1896434100@spacecenter.org
SUMMARY:Artemis Live Presentation
DESCRIPTION:
URL:https://spacecenter.org/events-calendar-event/artemis-live-presentation/2030-02-04/
LOCATION:Theater – Destiny
CATEGORIES:Live Presentation
ATTACH;FMTTYPE=image/jpeg:https://spacecenter.org/wp-content/uploads/2022/10/Artemis-Capsule.jpeg
END:VEVENT
BEGIN:VEVENT
DTSTART;TZID=America/Chicago:20300204T111500
DTEND;TZID=America/Chicago:20300204T113000
DTSTAMP:20260420T094815
CREATED:20250602T213010Z
LAST-MODIFIED:20250603T185901Z
UID:10121255-1896434100-1896435000@spacecenter.org
SUMMARY:Story Corner Live Presentation
DESCRIPTION:
URL:https://spacecenter.org/events-calendar-event/story-corner-live-presentation/2030-02-04/
LOCATION:Theater – Artemis
CATEGORIES:Live Presentation
END:VEVENT
BEGIN:VEVENT
DTSTART;TZID=America/Chicago:20300204T114500
DTEND;TZID=America/Chicago:20300204T120000
DTSTAMP:20260420T094815
CREATED:20250602T213503Z
LAST-MODIFIED:20250603T190256Z
UID:10139535-1896435900-1896436800@spacecenter.org
SUMMARY:James Webb Live Presentation
DESCRIPTION:
URL:https://spacecenter.org/events-calendar-event/james-webb-live-presentation/2030-02-04/
LOCATION:Theater – Destiny
CATEGORIES:Live Presentation
END:VEVENT
BEGIN:VEVENT
DTSTART;TZID=America/Chicago:20300204T121500
DTEND;TZID=America/Chicago:20300204T123000
DTSTAMP:20260420T094815
CREATED:20250602T213059Z
LAST-MODIFIED:20250603T190345Z
UID:10143191-1896437700-1896438600@spacecenter.org
SUMMARY:Story Corner Live Presentation
DESCRIPTION:
URL:https://spacecenter.org/events-calendar-event/story-corner-live-presentation-2/2030-02-04/
LOCATION:Theater – Artemis
CATEGORIES:Live Presentation
END:VEVENT
BEGIN:VEVENT
DTSTART;TZID=America/Chicago:20300204T124500
DTEND;TZID=America/Chicago:20300204T131500
DTSTAMP:20260420T094815
CREATED:20250602T214012Z
LAST-MODIFIED:20250603T190811Z
UID:10154159-1896439500-1896441300@spacecenter.org
SUMMARY:Artemis Live Presentation
DESCRIPTION:
URL:https://spacecenter.org/events-calendar-event/artemis-live-presentation-2/2030-02-04/
LOCATION:Theater – Destiny
CATEGORIES:Live Presentation
ATTACH;FMTTYPE=image/jpeg:https://spacecenter.org/wp-content/uploads/2022/10/Artemis-Capsule.jpeg
END:VEVENT
BEGIN:VEVENT
DTSTART;TZID=America/Chicago:20300204T131500
DTEND;TZID=America/Chicago:20300204T133000
DTSTAMP:20260420T094815
CREATED:20250602T213201Z
LAST-MODIFIED:20250603T190922Z
UID:10161471-1896441300-1896442200@spacecenter.org
SUMMARY:Story Corner Live Presentation
DESCRIPTION:
URL:https://spacecenter.org/events-calendar-event/story-corner-live-presentation-3/2030-02-04/
LOCATION:Theater – Artemis
CATEGORIES:Live Presentation
END:VEVENT
BEGIN:VEVENT
DTSTART;TZID=America/Chicago:20300204T134500
DTEND;TZID=America/Chicago:20300204T140000
DTSTAMP:20260420T094815
CREATED:20250602T212635Z
LAST-MODIFIED:20250603T191121Z
UID:10172439-1896443100-1896444000@spacecenter.org
SUMMARY:OSIRIS Rex Live Presentation
DESCRIPTION:
URL:https://spacecenter.org/events-calendar-event/osiris-rex-live-presentation-2/2030-02-04/
LOCATION:Mission Sketch Staircase
CATEGORIES:Live Presentation
ATTACH;FMTTYPE=image/jpeg:https://spacecenter.org/wp-content/uploads/2024/03/web-march2024_tls_osirisrex.jpg
END:VEVENT
BEGIN:VEVENT
DTSTART;TZID=America/Chicago:20300204T134500
DTEND;TZID=America/Chicago:20300204T140000
DTSTAMP:20260420T094815
CREATED:20250602T213557Z
LAST-MODIFIED:20250603T191327Z
UID:10176095-1896443100-1896444000@spacecenter.org
SUMMARY:James Webb Live Presentation
DESCRIPTION:
URL:https://spacecenter.org/events-calendar-event/james-webb-live-presentation-2/2030-02-04/
LOCATION:Theater – Destiny
CATEGORIES:Live Presentation
END:VEVENT
BEGIN:VEVENT
DTSTART;TZID=America/Chicago:20300204T144500
DTEND;TZID=America/Chicago:20300204T150000
DTSTAMP:20260420T094815
CREATED:20250602T213716Z
LAST-MODIFIED:20250603T191759Z
UID:10190719-1896446700-1896447600@spacecenter.org
SUMMARY:James Webb Live Presentation
DESCRIPTION:
URL:https://spacecenter.org/events-calendar-event/james-webb-live-presentation-3/2030-02-04/
LOCATION:Theater – Destiny
CATEGORIES:Live Presentation
END:VEVENT
BEGIN:VEVENT
DTSTART;TZID=America/Chicago:20300204T151500
DTEND;TZID=America/Chicago:20300204T153000
DTSTAMP:20260420T094815
CREATED:20250602T213249Z
LAST-MODIFIED:20250603T191942Z
UID:10198031-1896448500-1896449400@spacecenter.org
SUMMARY:Story Corner Live Presentation
DESCRIPTION:
URL:https://spacecenter.org/events-calendar-event/story-corner-live-presentation-4/2030-02-04/
LOCATION:Theater – Artemis
CATEGORIES:Live Presentation
END:VEVENT
BEGIN:VEVENT
DTSTART;TZID=America/Chicago:20300204T154500
DTEND;TZID=America/Chicago:20300204T161500
DTSTAMP:20260420T094815
CREATED:20250602T214125Z
LAST-MODIFIED:20250603T192119Z
UID:10208999-1896450300-1896452100@spacecenter.org
SUMMARY:Artemis Live Presentation
DESCRIPTION:
URL:https://spacecenter.org/events-calendar-event/artemis-live-presentation-3/2030-02-04/
LOCATION:Theater – Destiny
CATEGORIES:Live Presentation
ATTACH;FMTTYPE=image/jpeg:https://spacecenter.org/wp-content/uploads/2022/10/Artemis-Capsule.jpeg
END:VEVENT
END:VCALENDAR