BEGIN:VCALENDAR
VERSION:2.0
PRODID:-//Space Center Houston - ECPv6.15.15//NONSGML v1.0//EN
CALSCALE:GREGORIAN
METHOD:PUBLISH
X-WR-CALNAME:Space Center Houston
X-ORIGINAL-URL:https://spacecenter.org
X-WR-CALDESC:Events for Space Center Houston
REFRESH-INTERVAL;VALUE=DURATION:PT1H
X-Robots-Tag:noindex
X-PUBLISHED-TTL:PT1H
BEGIN:VTIMEZONE
TZID:America/Chicago
BEGIN:DAYLIGHT
TZOFFSETFROM:-0600
TZOFFSETTO:-0500
TZNAME:CDT
DTSTART:20280312T080000
END:DAYLIGHT
BEGIN:STANDARD
TZOFFSETFROM:-0500
TZOFFSETTO:-0600
TZNAME:CST
DTSTART:20281105T070000
END:STANDARD
BEGIN:DAYLIGHT
TZOFFSETFROM:-0600
TZOFFSETTO:-0500
TZNAME:CDT
DTSTART:20290311T080000
END:DAYLIGHT
BEGIN:STANDARD
TZOFFSETFROM:-0500
TZOFFSETTO:-0600
TZNAME:CST
DTSTART:20291104T070000
END:STANDARD
BEGIN:DAYLIGHT
TZOFFSETFROM:-0600
TZOFFSETTO:-0500
TZNAME:CDT
DTSTART:20300310T080000
END:DAYLIGHT
BEGIN:STANDARD
TZOFFSETFROM:-0500
TZOFFSETTO:-0600
TZNAME:CST
DTSTART:20301103T070000
END:STANDARD
END:VTIMEZONE
BEGIN:VEVENT
DTSTART;TZID=America/Chicago:20290713T163000
DTEND;TZID=America/Chicago:20290713T164500
DTSTAMP:20260424T093600
CREATED:20250602T212726Z
LAST-MODIFIED:20250603T192225Z
UID:10216105-1878654600-1878655500@spacecenter.org
SUMMARY:OSIRIS Rex Live Presentation
DESCRIPTION:
URL:https://spacecenter.org/events-calendar-event/osiris-rex-live-presentation-3/2029-07-13/
LOCATION:Mission Sketch Staircase
CATEGORIES:Live Presentation
ATTACH;FMTTYPE=image/jpeg:https://spacecenter.org/wp-content/uploads/2024/03/web-march2024_tls_osirisrex.jpg
END:VEVENT
BEGIN:VEVENT
DTSTART;TZID=America/Chicago:20290714T104500
DTEND;TZID=America/Chicago:20290714T110000
DTSTAMP:20260424T093600
CREATED:20250602T212526Z
LAST-MODIFIED:20250603T185502Z
UID:10102770-1878720300-1878721200@spacecenter.org
SUMMARY:OSIRIS Rex Live Presentation
DESCRIPTION:
URL:https://spacecenter.org/events-calendar-event/osiris-rex-live-presentation/2029-07-14/
LOCATION:Mission Sketch Staircase
CATEGORIES:Live Presentation
ATTACH;FMTTYPE=image/jpeg:https://spacecenter.org/wp-content/uploads/2024/03/web-march2024_tls_osirisrex.jpg
END:VEVENT
BEGIN:VEVENT
DTSTART;TZID=America/Chicago:20290714T104500
DTEND;TZID=America/Chicago:20290714T111500
DTSTAMP:20260424T093600
CREATED:20250602T213905Z
LAST-MODIFIED:20250603T185637Z
UID:10110082-1878720300-1878722100@spacecenter.org
SUMMARY:Artemis Live Presentation
DESCRIPTION:
URL:https://spacecenter.org/events-calendar-event/artemis-live-presentation/2029-07-14/
LOCATION:Theater – Destiny
CATEGORIES:Live Presentation
ATTACH;FMTTYPE=image/jpeg:https://spacecenter.org/wp-content/uploads/2022/10/Artemis-Capsule.jpeg
END:VEVENT
BEGIN:VEVENT
DTSTART;TZID=America/Chicago:20290714T111500
DTEND;TZID=America/Chicago:20290714T113000
DTSTAMP:20260424T093600
CREATED:20250602T213010Z
LAST-MODIFIED:20250603T185901Z
UID:10121050-1878722100-1878723000@spacecenter.org
SUMMARY:Story Corner Live Presentation
DESCRIPTION:
URL:https://spacecenter.org/events-calendar-event/story-corner-live-presentation/2029-07-14/
LOCATION:Theater – Artemis
CATEGORIES:Live Presentation
END:VEVENT
BEGIN:VEVENT
DTSTART;TZID=America/Chicago:20290714T114500
DTEND;TZID=America/Chicago:20290714T120000
DTSTAMP:20260424T093600
CREATED:20250602T213503Z
LAST-MODIFIED:20250603T190256Z
UID:10139330-1878723900-1878724800@spacecenter.org
SUMMARY:James Webb Live Presentation
DESCRIPTION:
URL:https://spacecenter.org/events-calendar-event/james-webb-live-presentation/2029-07-14/
LOCATION:Theater – Destiny
CATEGORIES:Live Presentation
END:VEVENT
BEGIN:VEVENT
DTSTART;TZID=America/Chicago:20290714T121500
DTEND;TZID=America/Chicago:20290714T123000
DTSTAMP:20260424T093600
CREATED:20250602T213059Z
LAST-MODIFIED:20250603T190345Z
UID:10142986-1878725700-1878726600@spacecenter.org
SUMMARY:Story Corner Live Presentation
DESCRIPTION:
URL:https://spacecenter.org/events-calendar-event/story-corner-live-presentation-2/2029-07-14/
LOCATION:Theater – Artemis
CATEGORIES:Live Presentation
END:VEVENT
BEGIN:VEVENT
DTSTART;TZID=America/Chicago:20290714T124500
DTEND;TZID=America/Chicago:20290714T131500
DTSTAMP:20260424T093600
CREATED:20250602T214012Z
LAST-MODIFIED:20250603T190811Z
UID:10153954-1878727500-1878729300@spacecenter.org
SUMMARY:Artemis Live Presentation
DESCRIPTION:
URL:https://spacecenter.org/events-calendar-event/artemis-live-presentation-2/2029-07-14/
LOCATION:Theater – Destiny
CATEGORIES:Live Presentation
ATTACH;FMTTYPE=image/jpeg:https://spacecenter.org/wp-content/uploads/2022/10/Artemis-Capsule.jpeg
END:VEVENT
BEGIN:VEVENT
DTSTART;TZID=America/Chicago:20290714T131500
DTEND;TZID=America/Chicago:20290714T133000
DTSTAMP:20260424T093600
CREATED:20250602T213201Z
LAST-MODIFIED:20250603T190922Z
UID:10161266-1878729300-1878730200@spacecenter.org
SUMMARY:Story Corner Live Presentation
DESCRIPTION:
URL:https://spacecenter.org/events-calendar-event/story-corner-live-presentation-3/2029-07-14/
LOCATION:Theater – Artemis
CATEGORIES:Live Presentation
END:VEVENT
BEGIN:VEVENT
DTSTART;TZID=America/Chicago:20290714T134500
DTEND;TZID=America/Chicago:20290714T140000
DTSTAMP:20260424T093600
CREATED:20250602T212635Z
LAST-MODIFIED:20250603T191121Z
UID:10172234-1878731100-1878732000@spacecenter.org
SUMMARY:OSIRIS Rex Live Presentation
DESCRIPTION:
URL:https://spacecenter.org/events-calendar-event/osiris-rex-live-presentation-2/2029-07-14/
LOCATION:Mission Sketch Staircase
CATEGORIES:Live Presentation
ATTACH;FMTTYPE=image/jpeg:https://spacecenter.org/wp-content/uploads/2024/03/web-march2024_tls_osirisrex.jpg
END:VEVENT
BEGIN:VEVENT
DTSTART;TZID=America/Chicago:20290714T134500
DTEND;TZID=America/Chicago:20290714T140000
DTSTAMP:20260424T093600
CREATED:20250602T213557Z
LAST-MODIFIED:20250603T191327Z
UID:10175890-1878731100-1878732000@spacecenter.org
SUMMARY:James Webb Live Presentation
DESCRIPTION:
URL:https://spacecenter.org/events-calendar-event/james-webb-live-presentation-2/2029-07-14/
LOCATION:Theater – Destiny
CATEGORIES:Live Presentation
END:VEVENT
BEGIN:VEVENT
DTSTART;TZID=America/Chicago:20290714T144500
DTEND;TZID=America/Chicago:20290714T150000
DTSTAMP:20260424T093600
CREATED:20250602T213716Z
LAST-MODIFIED:20250603T191759Z
UID:10190514-1878734700-1878735600@spacecenter.org
SUMMARY:James Webb Live Presentation
DESCRIPTION:
URL:https://spacecenter.org/events-calendar-event/james-webb-live-presentation-3/2029-07-14/
LOCATION:Theater – Destiny
CATEGORIES:Live Presentation
END:VEVENT
BEGIN:VEVENT
DTSTART;TZID=America/Chicago:20290714T151500
DTEND;TZID=America/Chicago:20290714T153000
DTSTAMP:20260424T093600
CREATED:20250602T213249Z
LAST-MODIFIED:20250603T191942Z
UID:10197826-1878736500-1878737400@spacecenter.org
SUMMARY:Story Corner Live Presentation
DESCRIPTION:
URL:https://spacecenter.org/events-calendar-event/story-corner-live-presentation-4/2029-07-14/
LOCATION:Theater – Artemis
CATEGORIES:Live Presentation
END:VEVENT
BEGIN:VEVENT
DTSTART;TZID=America/Chicago:20290714T154500
DTEND;TZID=America/Chicago:20290714T161500
DTSTAMP:20260424T093600
CREATED:20250602T214125Z
LAST-MODIFIED:20250603T192119Z
UID:10208794-1878738300-1878740100@spacecenter.org
SUMMARY:Artemis Live Presentation
DESCRIPTION:
URL:https://spacecenter.org/events-calendar-event/artemis-live-presentation-3/2029-07-14/
LOCATION:Theater – Destiny
CATEGORIES:Live Presentation
ATTACH;FMTTYPE=image/jpeg:https://spacecenter.org/wp-content/uploads/2022/10/Artemis-Capsule.jpeg
END:VEVENT
BEGIN:VEVENT
DTSTART;TZID=America/Chicago:20290714T163000
DTEND;TZID=America/Chicago:20290714T164500
DTSTAMP:20260424T093600
CREATED:20250602T212726Z
LAST-MODIFIED:20250603T192225Z
UID:10216106-1878741000-1878741900@spacecenter.org
SUMMARY:OSIRIS Rex Live Presentation
DESCRIPTION:
URL:https://spacecenter.org/events-calendar-event/osiris-rex-live-presentation-3/2029-07-14/
LOCATION:Mission Sketch Staircase
CATEGORIES:Live Presentation
ATTACH;FMTTYPE=image/jpeg:https://spacecenter.org/wp-content/uploads/2024/03/web-march2024_tls_osirisrex.jpg
END:VEVENT
BEGIN:VEVENT
DTSTART;TZID=America/Chicago:20290715T104500
DTEND;TZID=America/Chicago:20290715T110000
DTSTAMP:20260424T093600
CREATED:20250602T212526Z
LAST-MODIFIED:20250603T185502Z
UID:10102771-1878806700-1878807600@spacecenter.org
SUMMARY:OSIRIS Rex Live Presentation
DESCRIPTION:
URL:https://spacecenter.org/events-calendar-event/osiris-rex-live-presentation/2029-07-15/
LOCATION:Mission Sketch Staircase
CATEGORIES:Live Presentation
ATTACH;FMTTYPE=image/jpeg:https://spacecenter.org/wp-content/uploads/2024/03/web-march2024_tls_osirisrex.jpg
END:VEVENT
BEGIN:VEVENT
DTSTART;TZID=America/Chicago:20290715T104500
DTEND;TZID=America/Chicago:20290715T111500
DTSTAMP:20260424T093600
CREATED:20250602T213905Z
LAST-MODIFIED:20250603T185637Z
UID:10110083-1878806700-1878808500@spacecenter.org
SUMMARY:Artemis Live Presentation
DESCRIPTION:
URL:https://spacecenter.org/events-calendar-event/artemis-live-presentation/2029-07-15/
LOCATION:Theater – Destiny
CATEGORIES:Live Presentation
ATTACH;FMTTYPE=image/jpeg:https://spacecenter.org/wp-content/uploads/2022/10/Artemis-Capsule.jpeg
END:VEVENT
BEGIN:VEVENT
DTSTART;TZID=America/Chicago:20290715T111500
DTEND;TZID=America/Chicago:20290715T113000
DTSTAMP:20260424T093600
CREATED:20250602T213010Z
LAST-MODIFIED:20250603T185901Z
UID:10121051-1878808500-1878809400@spacecenter.org
SUMMARY:Story Corner Live Presentation
DESCRIPTION:
URL:https://spacecenter.org/events-calendar-event/story-corner-live-presentation/2029-07-15/
LOCATION:Theater – Artemis
CATEGORIES:Live Presentation
END:VEVENT
BEGIN:VEVENT
DTSTART;TZID=America/Chicago:20290715T114500
DTEND;TZID=America/Chicago:20290715T120000
DTSTAMP:20260424T093600
CREATED:20250602T213503Z
LAST-MODIFIED:20250603T190256Z
UID:10139331-1878810300-1878811200@spacecenter.org
SUMMARY:James Webb Live Presentation
DESCRIPTION:
URL:https://spacecenter.org/events-calendar-event/james-webb-live-presentation/2029-07-15/
LOCATION:Theater – Destiny
CATEGORIES:Live Presentation
END:VEVENT
BEGIN:VEVENT
DTSTART;TZID=America/Chicago:20290715T121500
DTEND;TZID=America/Chicago:20290715T123000
DTSTAMP:20260424T093600
CREATED:20250602T213059Z
LAST-MODIFIED:20250603T190345Z
UID:10142987-1878812100-1878813000@spacecenter.org
SUMMARY:Story Corner Live Presentation
DESCRIPTION:
URL:https://spacecenter.org/events-calendar-event/story-corner-live-presentation-2/2029-07-15/
LOCATION:Theater – Artemis
CATEGORIES:Live Presentation
END:VEVENT
BEGIN:VEVENT
DTSTART;TZID=America/Chicago:20290715T124500
DTEND;TZID=America/Chicago:20290715T131500
DTSTAMP:20260424T093600
CREATED:20250602T214012Z
LAST-MODIFIED:20250603T190811Z
UID:10153955-1878813900-1878815700@spacecenter.org
SUMMARY:Artemis Live Presentation
DESCRIPTION:
URL:https://spacecenter.org/events-calendar-event/artemis-live-presentation-2/2029-07-15/
LOCATION:Theater – Destiny
CATEGORIES:Live Presentation
ATTACH;FMTTYPE=image/jpeg:https://spacecenter.org/wp-content/uploads/2022/10/Artemis-Capsule.jpeg
END:VEVENT
BEGIN:VEVENT
DTSTART;TZID=America/Chicago:20290715T131500
DTEND;TZID=America/Chicago:20290715T133000
DTSTAMP:20260424T093600
CREATED:20250602T213201Z
LAST-MODIFIED:20250603T190922Z
UID:10161267-1878815700-1878816600@spacecenter.org
SUMMARY:Story Corner Live Presentation
DESCRIPTION:
URL:https://spacecenter.org/events-calendar-event/story-corner-live-presentation-3/2029-07-15/
LOCATION:Theater – Artemis
CATEGORIES:Live Presentation
END:VEVENT
BEGIN:VEVENT
DTSTART;TZID=America/Chicago:20290715T134500
DTEND;TZID=America/Chicago:20290715T140000
DTSTAMP:20260424T093600
CREATED:20250602T212635Z
LAST-MODIFIED:20250603T191121Z
UID:10172235-1878817500-1878818400@spacecenter.org
SUMMARY:OSIRIS Rex Live Presentation
DESCRIPTION:
URL:https://spacecenter.org/events-calendar-event/osiris-rex-live-presentation-2/2029-07-15/
LOCATION:Mission Sketch Staircase
CATEGORIES:Live Presentation
ATTACH;FMTTYPE=image/jpeg:https://spacecenter.org/wp-content/uploads/2024/03/web-march2024_tls_osirisrex.jpg
END:VEVENT
BEGIN:VEVENT
DTSTART;TZID=America/Chicago:20290715T134500
DTEND;TZID=America/Chicago:20290715T140000
DTSTAMP:20260424T093600
CREATED:20250602T213557Z
LAST-MODIFIED:20250603T191327Z
UID:10175891-1878817500-1878818400@spacecenter.org
SUMMARY:James Webb Live Presentation
DESCRIPTION:
URL:https://spacecenter.org/events-calendar-event/james-webb-live-presentation-2/2029-07-15/
LOCATION:Theater – Destiny
CATEGORIES:Live Presentation
END:VEVENT
BEGIN:VEVENT
DTSTART;TZID=America/Chicago:20290715T144500
DTEND;TZID=America/Chicago:20290715T150000
DTSTAMP:20260424T093600
CREATED:20250602T213716Z
LAST-MODIFIED:20250603T191759Z
UID:10190515-1878821100-1878822000@spacecenter.org
SUMMARY:James Webb Live Presentation
DESCRIPTION:
URL:https://spacecenter.org/events-calendar-event/james-webb-live-presentation-3/2029-07-15/
LOCATION:Theater – Destiny
CATEGORIES:Live Presentation
END:VEVENT
BEGIN:VEVENT
DTSTART;TZID=America/Chicago:20290715T151500
DTEND;TZID=America/Chicago:20290715T153000
DTSTAMP:20260424T093600
CREATED:20250602T213249Z
LAST-MODIFIED:20250603T191942Z
UID:10197827-1878822900-1878823800@spacecenter.org
SUMMARY:Story Corner Live Presentation
DESCRIPTION:
URL:https://spacecenter.org/events-calendar-event/story-corner-live-presentation-4/2029-07-15/
LOCATION:Theater – Artemis
CATEGORIES:Live Presentation
END:VEVENT
BEGIN:VEVENT
DTSTART;TZID=America/Chicago:20290715T154500
DTEND;TZID=America/Chicago:20290715T161500
DTSTAMP:20260424T093600
CREATED:20250602T214125Z
LAST-MODIFIED:20250603T192119Z
UID:10208795-1878824700-1878826500@spacecenter.org
SUMMARY:Artemis Live Presentation
DESCRIPTION:
URL:https://spacecenter.org/events-calendar-event/artemis-live-presentation-3/2029-07-15/
LOCATION:Theater – Destiny
CATEGORIES:Live Presentation
ATTACH;FMTTYPE=image/jpeg:https://spacecenter.org/wp-content/uploads/2022/10/Artemis-Capsule.jpeg
END:VEVENT
BEGIN:VEVENT
DTSTART;TZID=America/Chicago:20290715T163000
DTEND;TZID=America/Chicago:20290715T164500
DTSTAMP:20260424T093600
CREATED:20250602T212726Z
LAST-MODIFIED:20250603T192225Z
UID:10216107-1878827400-1878828300@spacecenter.org
SUMMARY:OSIRIS Rex Live Presentation
DESCRIPTION:
URL:https://spacecenter.org/events-calendar-event/osiris-rex-live-presentation-3/2029-07-15/
LOCATION:Mission Sketch Staircase
CATEGORIES:Live Presentation
ATTACH;FMTTYPE=image/jpeg:https://spacecenter.org/wp-content/uploads/2024/03/web-march2024_tls_osirisrex.jpg
END:VEVENT
BEGIN:VEVENT
DTSTART;TZID=America/Chicago:20290716T104500
DTEND;TZID=America/Chicago:20290716T110000
DTSTAMP:20260424T093600
CREATED:20250602T212526Z
LAST-MODIFIED:20250603T185502Z
UID:10102772-1878893100-1878894000@spacecenter.org
SUMMARY:OSIRIS Rex Live Presentation
DESCRIPTION:
URL:https://spacecenter.org/events-calendar-event/osiris-rex-live-presentation/2029-07-16/
LOCATION:Mission Sketch Staircase
CATEGORIES:Live Presentation
ATTACH;FMTTYPE=image/jpeg:https://spacecenter.org/wp-content/uploads/2024/03/web-march2024_tls_osirisrex.jpg
END:VEVENT
BEGIN:VEVENT
DTSTART;TZID=America/Chicago:20290716T104500
DTEND;TZID=America/Chicago:20290716T111500
DTSTAMP:20260424T093600
CREATED:20250602T213905Z
LAST-MODIFIED:20250603T185637Z
UID:10110084-1878893100-1878894900@spacecenter.org
SUMMARY:Artemis Live Presentation
DESCRIPTION:
URL:https://spacecenter.org/events-calendar-event/artemis-live-presentation/2029-07-16/
LOCATION:Theater – Destiny
CATEGORIES:Live Presentation
ATTACH;FMTTYPE=image/jpeg:https://spacecenter.org/wp-content/uploads/2022/10/Artemis-Capsule.jpeg
END:VEVENT
BEGIN:VEVENT
DTSTART;TZID=America/Chicago:20290716T111500
DTEND;TZID=America/Chicago:20290716T113000
DTSTAMP:20260424T093600
CREATED:20250602T213010Z
LAST-MODIFIED:20250603T185901Z
UID:10121052-1878894900-1878895800@spacecenter.org
SUMMARY:Story Corner Live Presentation
DESCRIPTION:
URL:https://spacecenter.org/events-calendar-event/story-corner-live-presentation/2029-07-16/
LOCATION:Theater – Artemis
CATEGORIES:Live Presentation
END:VEVENT
END:VCALENDAR