BEGIN:VCALENDAR
VERSION:2.0
PRODID:-//Space Center Houston - ECPv6.15.15//NONSGML v1.0//EN
CALSCALE:GREGORIAN
METHOD:PUBLISH
X-WR-CALNAME:Space Center Houston
X-ORIGINAL-URL:https://spacecenter.org
X-WR-CALDESC:Events for Space Center Houston
REFRESH-INTERVAL;VALUE=DURATION:PT1H
X-Robots-Tag:noindex
X-PUBLISHED-TTL:PT1H
BEGIN:VTIMEZONE
TZID:America/Chicago
BEGIN:DAYLIGHT
TZOFFSETFROM:-0600
TZOFFSETTO:-0500
TZNAME:CDT
DTSTART:20260308T080000
END:DAYLIGHT
BEGIN:STANDARD
TZOFFSETFROM:-0500
TZOFFSETTO:-0600
TZNAME:CST
DTSTART:20261101T070000
END:STANDARD
BEGIN:DAYLIGHT
TZOFFSETFROM:-0600
TZOFFSETTO:-0500
TZNAME:CDT
DTSTART:20270314T080000
END:DAYLIGHT
BEGIN:STANDARD
TZOFFSETFROM:-0500
TZOFFSETTO:-0600
TZNAME:CST
DTSTART:20271107T070000
END:STANDARD
BEGIN:DAYLIGHT
TZOFFSETFROM:-0600
TZOFFSETTO:-0500
TZNAME:CDT
DTSTART:20280312T080000
END:DAYLIGHT
BEGIN:STANDARD
TZOFFSETFROM:-0500
TZOFFSETTO:-0600
TZNAME:CST
DTSTART:20281105T070000
END:STANDARD
END:VTIMEZONE
BEGIN:VEVENT
DTSTART;TZID=America/Chicago:20270718T104500
DTEND;TZID=America/Chicago:20270718T110000
DTSTAMP:20260423T165456
CREATED:20250602T212526Z
LAST-MODIFIED:20250603T185502Z
UID:10102043-1815907500-1815908400@spacecenter.org
SUMMARY:OSIRIS Rex Live Presentation
DESCRIPTION:
URL:https://spacecenter.org/events-calendar-event/osiris-rex-live-presentation/2027-07-18/
LOCATION:Mission Sketch Staircase
CATEGORIES:Live Presentation
ATTACH;FMTTYPE=image/jpeg:https://spacecenter.org/wp-content/uploads/2024/03/web-march2024_tls_osirisrex.jpg
END:VEVENT
BEGIN:VEVENT
DTSTART;TZID=America/Chicago:20270718T104500
DTEND;TZID=America/Chicago:20270718T111500
DTSTAMP:20260423T165456
CREATED:20250602T213905Z
LAST-MODIFIED:20250603T185637Z
UID:10109355-1815907500-1815909300@spacecenter.org
SUMMARY:Artemis Live Presentation
DESCRIPTION:
URL:https://spacecenter.org/events-calendar-event/artemis-live-presentation/2027-07-18/
LOCATION:Theater – Destiny
CATEGORIES:Live Presentation
ATTACH;FMTTYPE=image/jpeg:https://spacecenter.org/wp-content/uploads/2022/10/Artemis-Capsule.jpeg
END:VEVENT
BEGIN:VEVENT
DTSTART;TZID=America/Chicago:20270718T111500
DTEND;TZID=America/Chicago:20270718T113000
DTSTAMP:20260423T165456
CREATED:20250602T213010Z
LAST-MODIFIED:20250603T185901Z
UID:10120323-1815909300-1815910200@spacecenter.org
SUMMARY:Story Corner Live Presentation
DESCRIPTION:
URL:https://spacecenter.org/events-calendar-event/story-corner-live-presentation/2027-07-18/
LOCATION:Theater – Artemis
CATEGORIES:Live Presentation
END:VEVENT
BEGIN:VEVENT
DTSTART;TZID=America/Chicago:20270718T114500
DTEND;TZID=America/Chicago:20270718T120000
DTSTAMP:20260423T165456
CREATED:20250602T213503Z
LAST-MODIFIED:20250603T190256Z
UID:10138603-1815911100-1815912000@spacecenter.org
SUMMARY:James Webb Live Presentation
DESCRIPTION:
URL:https://spacecenter.org/events-calendar-event/james-webb-live-presentation/2027-07-18/
LOCATION:Theater – Destiny
CATEGORIES:Live Presentation
END:VEVENT
BEGIN:VEVENT
DTSTART;TZID=America/Chicago:20270718T121500
DTEND;TZID=America/Chicago:20270718T123000
DTSTAMP:20260423T165456
CREATED:20250602T213059Z
LAST-MODIFIED:20250603T190345Z
UID:10142259-1815912900-1815913800@spacecenter.org
SUMMARY:Story Corner Live Presentation
DESCRIPTION:
URL:https://spacecenter.org/events-calendar-event/story-corner-live-presentation-2/2027-07-18/
LOCATION:Theater – Artemis
CATEGORIES:Live Presentation
END:VEVENT
BEGIN:VEVENT
DTSTART;TZID=America/Chicago:20270718T124500
DTEND;TZID=America/Chicago:20270718T131500
DTSTAMP:20260423T165456
CREATED:20250602T214012Z
LAST-MODIFIED:20250603T190811Z
UID:10153227-1815914700-1815916500@spacecenter.org
SUMMARY:Artemis Live Presentation
DESCRIPTION:
URL:https://spacecenter.org/events-calendar-event/artemis-live-presentation-2/2027-07-18/
LOCATION:Theater – Destiny
CATEGORIES:Live Presentation
ATTACH;FMTTYPE=image/jpeg:https://spacecenter.org/wp-content/uploads/2022/10/Artemis-Capsule.jpeg
END:VEVENT
BEGIN:VEVENT
DTSTART;TZID=America/Chicago:20270718T131500
DTEND;TZID=America/Chicago:20270718T133000
DTSTAMP:20260423T165456
CREATED:20250602T213201Z
LAST-MODIFIED:20250603T190922Z
UID:10160539-1815916500-1815917400@spacecenter.org
SUMMARY:Story Corner Live Presentation
DESCRIPTION:
URL:https://spacecenter.org/events-calendar-event/story-corner-live-presentation-3/2027-07-18/
LOCATION:Theater – Artemis
CATEGORIES:Live Presentation
END:VEVENT
BEGIN:VEVENT
DTSTART;TZID=America/Chicago:20270718T134500
DTEND;TZID=America/Chicago:20270718T140000
DTSTAMP:20260423T165456
CREATED:20250602T212635Z
LAST-MODIFIED:20250603T191121Z
UID:10171507-1815918300-1815919200@spacecenter.org
SUMMARY:OSIRIS Rex Live Presentation
DESCRIPTION:
URL:https://spacecenter.org/events-calendar-event/osiris-rex-live-presentation-2/2027-07-18/
LOCATION:Mission Sketch Staircase
CATEGORIES:Live Presentation
ATTACH;FMTTYPE=image/jpeg:https://spacecenter.org/wp-content/uploads/2024/03/web-march2024_tls_osirisrex.jpg
END:VEVENT
BEGIN:VEVENT
DTSTART;TZID=America/Chicago:20270718T134500
DTEND;TZID=America/Chicago:20270718T140000
DTSTAMP:20260423T165456
CREATED:20250602T213557Z
LAST-MODIFIED:20250603T191327Z
UID:10175163-1815918300-1815919200@spacecenter.org
SUMMARY:James Webb Live Presentation
DESCRIPTION:
URL:https://spacecenter.org/events-calendar-event/james-webb-live-presentation-2/2027-07-18/
LOCATION:Theater – Destiny
CATEGORIES:Live Presentation
END:VEVENT
BEGIN:VEVENT
DTSTART;TZID=America/Chicago:20270718T144500
DTEND;TZID=America/Chicago:20270718T150000
DTSTAMP:20260423T165456
CREATED:20250602T213716Z
LAST-MODIFIED:20250603T191759Z
UID:10189787-1815921900-1815922800@spacecenter.org
SUMMARY:James Webb Live Presentation
DESCRIPTION:
URL:https://spacecenter.org/events-calendar-event/james-webb-live-presentation-3/2027-07-18/
LOCATION:Theater – Destiny
CATEGORIES:Live Presentation
END:VEVENT
BEGIN:VEVENT
DTSTART;TZID=America/Chicago:20270718T151500
DTEND;TZID=America/Chicago:20270718T153000
DTSTAMP:20260423T165456
CREATED:20250602T213249Z
LAST-MODIFIED:20250603T191942Z
UID:10197099-1815923700-1815924600@spacecenter.org
SUMMARY:Story Corner Live Presentation
DESCRIPTION:
URL:https://spacecenter.org/events-calendar-event/story-corner-live-presentation-4/2027-07-18/
LOCATION:Theater – Artemis
CATEGORIES:Live Presentation
END:VEVENT
BEGIN:VEVENT
DTSTART;TZID=America/Chicago:20270718T154500
DTEND;TZID=America/Chicago:20270718T161500
DTSTAMP:20260423T165456
CREATED:20250602T214125Z
LAST-MODIFIED:20250603T192119Z
UID:10208067-1815925500-1815927300@spacecenter.org
SUMMARY:Artemis Live Presentation
DESCRIPTION:
URL:https://spacecenter.org/events-calendar-event/artemis-live-presentation-3/2027-07-18/
LOCATION:Theater – Destiny
CATEGORIES:Live Presentation
ATTACH;FMTTYPE=image/jpeg:https://spacecenter.org/wp-content/uploads/2022/10/Artemis-Capsule.jpeg
END:VEVENT
BEGIN:VEVENT
DTSTART;TZID=America/Chicago:20270718T163000
DTEND;TZID=America/Chicago:20270718T164500
DTSTAMP:20260423T165456
CREATED:20250602T212726Z
LAST-MODIFIED:20250603T192225Z
UID:10215379-1815928200-1815929100@spacecenter.org
SUMMARY:OSIRIS Rex Live Presentation
DESCRIPTION:
URL:https://spacecenter.org/events-calendar-event/osiris-rex-live-presentation-3/2027-07-18/
LOCATION:Mission Sketch Staircase
CATEGORIES:Live Presentation
ATTACH;FMTTYPE=image/jpeg:https://spacecenter.org/wp-content/uploads/2024/03/web-march2024_tls_osirisrex.jpg
END:VEVENT
BEGIN:VEVENT
DTSTART;TZID=America/Chicago:20270719T104500
DTEND;TZID=America/Chicago:20270719T110000
DTSTAMP:20260423T165456
CREATED:20250602T212526Z
LAST-MODIFIED:20250603T185502Z
UID:10102044-1815993900-1815994800@spacecenter.org
SUMMARY:OSIRIS Rex Live Presentation
DESCRIPTION:
URL:https://spacecenter.org/events-calendar-event/osiris-rex-live-presentation/2027-07-19/
LOCATION:Mission Sketch Staircase
CATEGORIES:Live Presentation
ATTACH;FMTTYPE=image/jpeg:https://spacecenter.org/wp-content/uploads/2024/03/web-march2024_tls_osirisrex.jpg
END:VEVENT
BEGIN:VEVENT
DTSTART;TZID=America/Chicago:20270719T104500
DTEND;TZID=America/Chicago:20270719T111500
DTSTAMP:20260423T165456
CREATED:20250602T213905Z
LAST-MODIFIED:20250603T185637Z
UID:10109356-1815993900-1815995700@spacecenter.org
SUMMARY:Artemis Live Presentation
DESCRIPTION:
URL:https://spacecenter.org/events-calendar-event/artemis-live-presentation/2027-07-19/
LOCATION:Theater – Destiny
CATEGORIES:Live Presentation
ATTACH;FMTTYPE=image/jpeg:https://spacecenter.org/wp-content/uploads/2022/10/Artemis-Capsule.jpeg
END:VEVENT
BEGIN:VEVENT
DTSTART;TZID=America/Chicago:20270719T111500
DTEND;TZID=America/Chicago:20270719T113000
DTSTAMP:20260423T165456
CREATED:20250602T213010Z
LAST-MODIFIED:20250603T185901Z
UID:10120324-1815995700-1815996600@spacecenter.org
SUMMARY:Story Corner Live Presentation
DESCRIPTION:
URL:https://spacecenter.org/events-calendar-event/story-corner-live-presentation/2027-07-19/
LOCATION:Theater – Artemis
CATEGORIES:Live Presentation
END:VEVENT
BEGIN:VEVENT
DTSTART;TZID=America/Chicago:20270719T114500
DTEND;TZID=America/Chicago:20270719T120000
DTSTAMP:20260423T165456
CREATED:20250602T213503Z
LAST-MODIFIED:20250603T190256Z
UID:10138604-1815997500-1815998400@spacecenter.org
SUMMARY:James Webb Live Presentation
DESCRIPTION:
URL:https://spacecenter.org/events-calendar-event/james-webb-live-presentation/2027-07-19/
LOCATION:Theater – Destiny
CATEGORIES:Live Presentation
END:VEVENT
BEGIN:VEVENT
DTSTART;TZID=America/Chicago:20270719T121500
DTEND;TZID=America/Chicago:20270719T123000
DTSTAMP:20260423T165456
CREATED:20250602T213059Z
LAST-MODIFIED:20250603T190345Z
UID:10142260-1815999300-1816000200@spacecenter.org
SUMMARY:Story Corner Live Presentation
DESCRIPTION:
URL:https://spacecenter.org/events-calendar-event/story-corner-live-presentation-2/2027-07-19/
LOCATION:Theater – Artemis
CATEGORIES:Live Presentation
END:VEVENT
BEGIN:VEVENT
DTSTART;TZID=America/Chicago:20270719T124500
DTEND;TZID=America/Chicago:20270719T131500
DTSTAMP:20260423T165456
CREATED:20250602T214012Z
LAST-MODIFIED:20250603T190811Z
UID:10153228-1816001100-1816002900@spacecenter.org
SUMMARY:Artemis Live Presentation
DESCRIPTION:
URL:https://spacecenter.org/events-calendar-event/artemis-live-presentation-2/2027-07-19/
LOCATION:Theater – Destiny
CATEGORIES:Live Presentation
ATTACH;FMTTYPE=image/jpeg:https://spacecenter.org/wp-content/uploads/2022/10/Artemis-Capsule.jpeg
END:VEVENT
BEGIN:VEVENT
DTSTART;TZID=America/Chicago:20270719T131500
DTEND;TZID=America/Chicago:20270719T133000
DTSTAMP:20260423T165456
CREATED:20250602T213201Z
LAST-MODIFIED:20250603T190922Z
UID:10160540-1816002900-1816003800@spacecenter.org
SUMMARY:Story Corner Live Presentation
DESCRIPTION:
URL:https://spacecenter.org/events-calendar-event/story-corner-live-presentation-3/2027-07-19/
LOCATION:Theater – Artemis
CATEGORIES:Live Presentation
END:VEVENT
BEGIN:VEVENT
DTSTART;TZID=America/Chicago:20270719T134500
DTEND;TZID=America/Chicago:20270719T140000
DTSTAMP:20260423T165456
CREATED:20250602T212635Z
LAST-MODIFIED:20250603T191121Z
UID:10171508-1816004700-1816005600@spacecenter.org
SUMMARY:OSIRIS Rex Live Presentation
DESCRIPTION:
URL:https://spacecenter.org/events-calendar-event/osiris-rex-live-presentation-2/2027-07-19/
LOCATION:Mission Sketch Staircase
CATEGORIES:Live Presentation
ATTACH;FMTTYPE=image/jpeg:https://spacecenter.org/wp-content/uploads/2024/03/web-march2024_tls_osirisrex.jpg
END:VEVENT
BEGIN:VEVENT
DTSTART;TZID=America/Chicago:20270719T134500
DTEND;TZID=America/Chicago:20270719T140000
DTSTAMP:20260423T165456
CREATED:20250602T213557Z
LAST-MODIFIED:20250603T191327Z
UID:10175164-1816004700-1816005600@spacecenter.org
SUMMARY:James Webb Live Presentation
DESCRIPTION:
URL:https://spacecenter.org/events-calendar-event/james-webb-live-presentation-2/2027-07-19/
LOCATION:Theater – Destiny
CATEGORIES:Live Presentation
END:VEVENT
BEGIN:VEVENT
DTSTART;TZID=America/Chicago:20270719T144500
DTEND;TZID=America/Chicago:20270719T150000
DTSTAMP:20260423T165456
CREATED:20250602T213716Z
LAST-MODIFIED:20250603T191759Z
UID:10189788-1816008300-1816009200@spacecenter.org
SUMMARY:James Webb Live Presentation
DESCRIPTION:
URL:https://spacecenter.org/events-calendar-event/james-webb-live-presentation-3/2027-07-19/
LOCATION:Theater – Destiny
CATEGORIES:Live Presentation
END:VEVENT
BEGIN:VEVENT
DTSTART;TZID=America/Chicago:20270719T151500
DTEND;TZID=America/Chicago:20270719T153000
DTSTAMP:20260423T165456
CREATED:20250602T213249Z
LAST-MODIFIED:20250603T191942Z
UID:10197100-1816010100-1816011000@spacecenter.org
SUMMARY:Story Corner Live Presentation
DESCRIPTION:
URL:https://spacecenter.org/events-calendar-event/story-corner-live-presentation-4/2027-07-19/
LOCATION:Theater – Artemis
CATEGORIES:Live Presentation
END:VEVENT
BEGIN:VEVENT
DTSTART;TZID=America/Chicago:20270719T154500
DTEND;TZID=America/Chicago:20270719T161500
DTSTAMP:20260423T165456
CREATED:20250602T214125Z
LAST-MODIFIED:20250603T192119Z
UID:10208068-1816011900-1816013700@spacecenter.org
SUMMARY:Artemis Live Presentation
DESCRIPTION:
URL:https://spacecenter.org/events-calendar-event/artemis-live-presentation-3/2027-07-19/
LOCATION:Theater – Destiny
CATEGORIES:Live Presentation
ATTACH;FMTTYPE=image/jpeg:https://spacecenter.org/wp-content/uploads/2022/10/Artemis-Capsule.jpeg
END:VEVENT
BEGIN:VEVENT
DTSTART;TZID=America/Chicago:20270719T163000
DTEND;TZID=America/Chicago:20270719T164500
DTSTAMP:20260423T165456
CREATED:20250602T212726Z
LAST-MODIFIED:20250603T192225Z
UID:10215380-1816014600-1816015500@spacecenter.org
SUMMARY:OSIRIS Rex Live Presentation
DESCRIPTION:
URL:https://spacecenter.org/events-calendar-event/osiris-rex-live-presentation-3/2027-07-19/
LOCATION:Mission Sketch Staircase
CATEGORIES:Live Presentation
ATTACH;FMTTYPE=image/jpeg:https://spacecenter.org/wp-content/uploads/2024/03/web-march2024_tls_osirisrex.jpg
END:VEVENT
BEGIN:VEVENT
DTSTART;TZID=America/Chicago:20270720T104500
DTEND;TZID=America/Chicago:20270720T110000
DTSTAMP:20260423T165456
CREATED:20250602T212526Z
LAST-MODIFIED:20250603T185502Z
UID:10102045-1816080300-1816081200@spacecenter.org
SUMMARY:OSIRIS Rex Live Presentation
DESCRIPTION:
URL:https://spacecenter.org/events-calendar-event/osiris-rex-live-presentation/2027-07-20/
LOCATION:Mission Sketch Staircase
CATEGORIES:Live Presentation
ATTACH;FMTTYPE=image/jpeg:https://spacecenter.org/wp-content/uploads/2024/03/web-march2024_tls_osirisrex.jpg
END:VEVENT
BEGIN:VEVENT
DTSTART;TZID=America/Chicago:20270720T104500
DTEND;TZID=America/Chicago:20270720T111500
DTSTAMP:20260423T165456
CREATED:20250602T213905Z
LAST-MODIFIED:20250603T185637Z
UID:10109357-1816080300-1816082100@spacecenter.org
SUMMARY:Artemis Live Presentation
DESCRIPTION:
URL:https://spacecenter.org/events-calendar-event/artemis-live-presentation/2027-07-20/
LOCATION:Theater – Destiny
CATEGORIES:Live Presentation
ATTACH;FMTTYPE=image/jpeg:https://spacecenter.org/wp-content/uploads/2022/10/Artemis-Capsule.jpeg
END:VEVENT
BEGIN:VEVENT
DTSTART;TZID=America/Chicago:20270720T111500
DTEND;TZID=America/Chicago:20270720T113000
DTSTAMP:20260423T165456
CREATED:20250602T213010Z
LAST-MODIFIED:20250603T185901Z
UID:10120325-1816082100-1816083000@spacecenter.org
SUMMARY:Story Corner Live Presentation
DESCRIPTION:
URL:https://spacecenter.org/events-calendar-event/story-corner-live-presentation/2027-07-20/
LOCATION:Theater – Artemis
CATEGORIES:Live Presentation
END:VEVENT
BEGIN:VEVENT
DTSTART;TZID=America/Chicago:20270720T114500
DTEND;TZID=America/Chicago:20270720T120000
DTSTAMP:20260423T165456
CREATED:20250602T213503Z
LAST-MODIFIED:20250603T190256Z
UID:10138605-1816083900-1816084800@spacecenter.org
SUMMARY:James Webb Live Presentation
DESCRIPTION:
URL:https://spacecenter.org/events-calendar-event/james-webb-live-presentation/2027-07-20/
LOCATION:Theater – Destiny
CATEGORIES:Live Presentation
END:VEVENT
END:VCALENDAR