BEGIN:VCALENDAR
VERSION:2.0
PRODID:-//Space Center Houston - ECPv6.15.15//NONSGML v1.0//EN
CALSCALE:GREGORIAN
METHOD:PUBLISH
X-ORIGINAL-URL:https://spacecenter.org
X-WR-CALDESC:Events for Space Center Houston
REFRESH-INTERVAL;VALUE=DURATION:PT1H
X-Robots-Tag:noindex
X-PUBLISHED-TTL:PT1H
BEGIN:VTIMEZONE
TZID:America/Chicago
BEGIN:DAYLIGHT
TZOFFSETFROM:-0600
TZOFFSETTO:-0500
TZNAME:CDT
DTSTART:20260308T080000
END:DAYLIGHT
BEGIN:STANDARD
TZOFFSETFROM:-0500
TZOFFSETTO:-0600
TZNAME:CST
DTSTART:20261101T070000
END:STANDARD
BEGIN:DAYLIGHT
TZOFFSETFROM:-0600
TZOFFSETTO:-0500
TZNAME:CDT
DTSTART:20270314T080000
END:DAYLIGHT
BEGIN:STANDARD
TZOFFSETFROM:-0500
TZOFFSETTO:-0600
TZNAME:CST
DTSTART:20271107T070000
END:STANDARD
BEGIN:DAYLIGHT
TZOFFSETFROM:-0600
TZOFFSETTO:-0500
TZNAME:CDT
DTSTART:20280312T080000
END:DAYLIGHT
BEGIN:STANDARD
TZOFFSETFROM:-0500
TZOFFSETTO:-0600
TZNAME:CST
DTSTART:20281105T070000
END:STANDARD
END:VTIMEZONE
BEGIN:VEVENT
DTSTART;TZID=America/Chicago:20270704T131500
DTEND;TZID=America/Chicago:20270704T133000
DTSTAMP:20260421T211920
CREATED:20250602T213201Z
LAST-MODIFIED:20250603T190922Z
UID:10160525-1814706900-1814707800@spacecenter.org
SUMMARY:Story Corner Live Presentation
DESCRIPTION:
URL:https://spacecenter.org/events-calendar-event/story-corner-live-presentation-3/2027-07-04/
LOCATION:Theater – Artemis
CATEGORIES:Live Presentation
END:VEVENT
BEGIN:VEVENT
DTSTART;TZID=America/Chicago:20270704T134500
DTEND;TZID=America/Chicago:20270704T140000
DTSTAMP:20260421T211920
CREATED:20250602T212635Z
LAST-MODIFIED:20250603T191121Z
UID:10171493-1814708700-1814709600@spacecenter.org
SUMMARY:OSIRIS Rex Live Presentation
DESCRIPTION:
URL:https://spacecenter.org/events-calendar-event/osiris-rex-live-presentation-2/2027-07-04/
LOCATION:Mission Sketch Staircase
CATEGORIES:Live Presentation
ATTACH;FMTTYPE=image/jpeg:https://spacecenter.org/wp-content/uploads/2024/03/web-march2024_tls_osirisrex.jpg
END:VEVENT
BEGIN:VEVENT
DTSTART;TZID=America/Chicago:20270704T134500
DTEND;TZID=America/Chicago:20270704T140000
DTSTAMP:20260421T211920
CREATED:20250602T213557Z
LAST-MODIFIED:20250603T191327Z
UID:10175149-1814708700-1814709600@spacecenter.org
SUMMARY:James Webb Live Presentation
DESCRIPTION:
URL:https://spacecenter.org/events-calendar-event/james-webb-live-presentation-2/2027-07-04/
LOCATION:Theater – Destiny
CATEGORIES:Live Presentation
END:VEVENT
BEGIN:VEVENT
DTSTART;TZID=America/Chicago:20270704T144500
DTEND;TZID=America/Chicago:20270704T150000
DTSTAMP:20260421T211920
CREATED:20250602T213716Z
LAST-MODIFIED:20250603T191759Z
UID:10189773-1814712300-1814713200@spacecenter.org
SUMMARY:James Webb Live Presentation
DESCRIPTION:
URL:https://spacecenter.org/events-calendar-event/james-webb-live-presentation-3/2027-07-04/
LOCATION:Theater – Destiny
CATEGORIES:Live Presentation
END:VEVENT
BEGIN:VEVENT
DTSTART;TZID=America/Chicago:20270704T151500
DTEND;TZID=America/Chicago:20270704T153000
DTSTAMP:20260421T211920
CREATED:20250602T213249Z
LAST-MODIFIED:20250603T191942Z
UID:10197085-1814714100-1814715000@spacecenter.org
SUMMARY:Story Corner Live Presentation
DESCRIPTION:
URL:https://spacecenter.org/events-calendar-event/story-corner-live-presentation-4/2027-07-04/
LOCATION:Theater – Artemis
CATEGORIES:Live Presentation
END:VEVENT
BEGIN:VEVENT
DTSTART;TZID=America/Chicago:20270704T154500
DTEND;TZID=America/Chicago:20270704T161500
DTSTAMP:20260421T211920
CREATED:20250602T214125Z
LAST-MODIFIED:20250603T192119Z
UID:10208053-1814715900-1814717700@spacecenter.org
SUMMARY:Artemis Live Presentation
DESCRIPTION:
URL:https://spacecenter.org/events-calendar-event/artemis-live-presentation-3/2027-07-04/
LOCATION:Theater – Destiny
CATEGORIES:Live Presentation
ATTACH;FMTTYPE=image/jpeg:https://spacecenter.org/wp-content/uploads/2022/10/Artemis-Capsule.jpeg
END:VEVENT
BEGIN:VEVENT
DTSTART;TZID=America/Chicago:20270704T163000
DTEND;TZID=America/Chicago:20270704T164500
DTSTAMP:20260421T211920
CREATED:20250602T212726Z
LAST-MODIFIED:20250603T192225Z
UID:10215365-1814718600-1814719500@spacecenter.org
SUMMARY:OSIRIS Rex Live Presentation
DESCRIPTION:
URL:https://spacecenter.org/events-calendar-event/osiris-rex-live-presentation-3/2027-07-04/
LOCATION:Mission Sketch Staircase
CATEGORIES:Live Presentation
ATTACH;FMTTYPE=image/jpeg:https://spacecenter.org/wp-content/uploads/2024/03/web-march2024_tls_osirisrex.jpg
END:VEVENT
BEGIN:VEVENT
DTSTART;TZID=America/Chicago:20270705T104500
DTEND;TZID=America/Chicago:20270705T110000
DTSTAMP:20260421T211920
CREATED:20250602T212526Z
LAST-MODIFIED:20250603T185502Z
UID:10102030-1814784300-1814785200@spacecenter.org
SUMMARY:OSIRIS Rex Live Presentation
DESCRIPTION:
URL:https://spacecenter.org/events-calendar-event/osiris-rex-live-presentation/2027-07-05/
LOCATION:Mission Sketch Staircase
CATEGORIES:Live Presentation
ATTACH;FMTTYPE=image/jpeg:https://spacecenter.org/wp-content/uploads/2024/03/web-march2024_tls_osirisrex.jpg
END:VEVENT
BEGIN:VEVENT
DTSTART;TZID=America/Chicago:20270705T104500
DTEND;TZID=America/Chicago:20270705T111500
DTSTAMP:20260421T211920
CREATED:20250602T213905Z
LAST-MODIFIED:20250603T185637Z
UID:10109342-1814784300-1814786100@spacecenter.org
SUMMARY:Artemis Live Presentation
DESCRIPTION:
URL:https://spacecenter.org/events-calendar-event/artemis-live-presentation/2027-07-05/
LOCATION:Theater – Destiny
CATEGORIES:Live Presentation
ATTACH;FMTTYPE=image/jpeg:https://spacecenter.org/wp-content/uploads/2022/10/Artemis-Capsule.jpeg
END:VEVENT
BEGIN:VEVENT
DTSTART;TZID=America/Chicago:20270705T111500
DTEND;TZID=America/Chicago:20270705T113000
DTSTAMP:20260421T211920
CREATED:20250602T213010Z
LAST-MODIFIED:20250603T185901Z
UID:10120310-1814786100-1814787000@spacecenter.org
SUMMARY:Story Corner Live Presentation
DESCRIPTION:
URL:https://spacecenter.org/events-calendar-event/story-corner-live-presentation/2027-07-05/
LOCATION:Theater – Artemis
CATEGORIES:Live Presentation
END:VEVENT
BEGIN:VEVENT
DTSTART;TZID=America/Chicago:20270705T114500
DTEND;TZID=America/Chicago:20270705T120000
DTSTAMP:20260421T211920
CREATED:20250602T213503Z
LAST-MODIFIED:20250603T190256Z
UID:10138590-1814787900-1814788800@spacecenter.org
SUMMARY:James Webb Live Presentation
DESCRIPTION:
URL:https://spacecenter.org/events-calendar-event/james-webb-live-presentation/2027-07-05/
LOCATION:Theater – Destiny
CATEGORIES:Live Presentation
END:VEVENT
BEGIN:VEVENT
DTSTART;TZID=America/Chicago:20270705T121500
DTEND;TZID=America/Chicago:20270705T123000
DTSTAMP:20260421T211920
CREATED:20250602T213059Z
LAST-MODIFIED:20250603T190345Z
UID:10142246-1814789700-1814790600@spacecenter.org
SUMMARY:Story Corner Live Presentation
DESCRIPTION:
URL:https://spacecenter.org/events-calendar-event/story-corner-live-presentation-2/2027-07-05/
LOCATION:Theater – Artemis
CATEGORIES:Live Presentation
END:VEVENT
BEGIN:VEVENT
DTSTART;TZID=America/Chicago:20270705T124500
DTEND;TZID=America/Chicago:20270705T131500
DTSTAMP:20260421T211920
CREATED:20250602T214012Z
LAST-MODIFIED:20250603T190811Z
UID:10153214-1814791500-1814793300@spacecenter.org
SUMMARY:Artemis Live Presentation
DESCRIPTION:
URL:https://spacecenter.org/events-calendar-event/artemis-live-presentation-2/2027-07-05/
LOCATION:Theater – Destiny
CATEGORIES:Live Presentation
ATTACH;FMTTYPE=image/jpeg:https://spacecenter.org/wp-content/uploads/2022/10/Artemis-Capsule.jpeg
END:VEVENT
BEGIN:VEVENT
DTSTART;TZID=America/Chicago:20270705T131500
DTEND;TZID=America/Chicago:20270705T133000
DTSTAMP:20260421T211920
CREATED:20250602T213201Z
LAST-MODIFIED:20250603T190922Z
UID:10160526-1814793300-1814794200@spacecenter.org
SUMMARY:Story Corner Live Presentation
DESCRIPTION:
URL:https://spacecenter.org/events-calendar-event/story-corner-live-presentation-3/2027-07-05/
LOCATION:Theater – Artemis
CATEGORIES:Live Presentation
END:VEVENT
BEGIN:VEVENT
DTSTART;TZID=America/Chicago:20270705T134500
DTEND;TZID=America/Chicago:20270705T140000
DTSTAMP:20260421T211920
CREATED:20250602T212635Z
LAST-MODIFIED:20250603T191121Z
UID:10171494-1814795100-1814796000@spacecenter.org
SUMMARY:OSIRIS Rex Live Presentation
DESCRIPTION:
URL:https://spacecenter.org/events-calendar-event/osiris-rex-live-presentation-2/2027-07-05/
LOCATION:Mission Sketch Staircase
CATEGORIES:Live Presentation
ATTACH;FMTTYPE=image/jpeg:https://spacecenter.org/wp-content/uploads/2024/03/web-march2024_tls_osirisrex.jpg
END:VEVENT
BEGIN:VEVENT
DTSTART;TZID=America/Chicago:20270705T134500
DTEND;TZID=America/Chicago:20270705T140000
DTSTAMP:20260421T211920
CREATED:20250602T213557Z
LAST-MODIFIED:20250603T191327Z
UID:10175150-1814795100-1814796000@spacecenter.org
SUMMARY:James Webb Live Presentation
DESCRIPTION:
URL:https://spacecenter.org/events-calendar-event/james-webb-live-presentation-2/2027-07-05/
LOCATION:Theater – Destiny
CATEGORIES:Live Presentation
END:VEVENT
BEGIN:VEVENT
DTSTART;TZID=America/Chicago:20270705T144500
DTEND;TZID=America/Chicago:20270705T150000
DTSTAMP:20260421T211920
CREATED:20250602T213716Z
LAST-MODIFIED:20250603T191759Z
UID:10189774-1814798700-1814799600@spacecenter.org
SUMMARY:James Webb Live Presentation
DESCRIPTION:
URL:https://spacecenter.org/events-calendar-event/james-webb-live-presentation-3/2027-07-05/
LOCATION:Theater – Destiny
CATEGORIES:Live Presentation
END:VEVENT
BEGIN:VEVENT
DTSTART;TZID=America/Chicago:20270705T151500
DTEND;TZID=America/Chicago:20270705T153000
DTSTAMP:20260421T211920
CREATED:20250602T213249Z
LAST-MODIFIED:20250603T191942Z
UID:10197086-1814800500-1814801400@spacecenter.org
SUMMARY:Story Corner Live Presentation
DESCRIPTION:
URL:https://spacecenter.org/events-calendar-event/story-corner-live-presentation-4/2027-07-05/
LOCATION:Theater – Artemis
CATEGORIES:Live Presentation
END:VEVENT
BEGIN:VEVENT
DTSTART;TZID=America/Chicago:20270705T154500
DTEND;TZID=America/Chicago:20270705T161500
DTSTAMP:20260421T211920
CREATED:20250602T214125Z
LAST-MODIFIED:20250603T192119Z
UID:10208054-1814802300-1814804100@spacecenter.org
SUMMARY:Artemis Live Presentation
DESCRIPTION:
URL:https://spacecenter.org/events-calendar-event/artemis-live-presentation-3/2027-07-05/
LOCATION:Theater – Destiny
CATEGORIES:Live Presentation
ATTACH;FMTTYPE=image/jpeg:https://spacecenter.org/wp-content/uploads/2022/10/Artemis-Capsule.jpeg
END:VEVENT
BEGIN:VEVENT
DTSTART;TZID=America/Chicago:20270705T163000
DTEND;TZID=America/Chicago:20270705T164500
DTSTAMP:20260421T211920
CREATED:20250602T212726Z
LAST-MODIFIED:20250603T192225Z
UID:10215366-1814805000-1814805900@spacecenter.org
SUMMARY:OSIRIS Rex Live Presentation
DESCRIPTION:
URL:https://spacecenter.org/events-calendar-event/osiris-rex-live-presentation-3/2027-07-05/
LOCATION:Mission Sketch Staircase
CATEGORIES:Live Presentation
ATTACH;FMTTYPE=image/jpeg:https://spacecenter.org/wp-content/uploads/2024/03/web-march2024_tls_osirisrex.jpg
END:VEVENT
BEGIN:VEVENT
DTSTART;TZID=America/Chicago:20270706T104500
DTEND;TZID=America/Chicago:20270706T110000
DTSTAMP:20260421T211920
CREATED:20250602T212526Z
LAST-MODIFIED:20250603T185502Z
UID:10102031-1814870700-1814871600@spacecenter.org
SUMMARY:OSIRIS Rex Live Presentation
DESCRIPTION:
URL:https://spacecenter.org/events-calendar-event/osiris-rex-live-presentation/2027-07-06/
LOCATION:Mission Sketch Staircase
CATEGORIES:Live Presentation
ATTACH;FMTTYPE=image/jpeg:https://spacecenter.org/wp-content/uploads/2024/03/web-march2024_tls_osirisrex.jpg
END:VEVENT
BEGIN:VEVENT
DTSTART;TZID=America/Chicago:20270706T104500
DTEND;TZID=America/Chicago:20270706T111500
DTSTAMP:20260421T211920
CREATED:20250602T213905Z
LAST-MODIFIED:20250603T185637Z
UID:10109343-1814870700-1814872500@spacecenter.org
SUMMARY:Artemis Live Presentation
DESCRIPTION:
URL:https://spacecenter.org/events-calendar-event/artemis-live-presentation/2027-07-06/
LOCATION:Theater – Destiny
CATEGORIES:Live Presentation
ATTACH;FMTTYPE=image/jpeg:https://spacecenter.org/wp-content/uploads/2022/10/Artemis-Capsule.jpeg
END:VEVENT
BEGIN:VEVENT
DTSTART;TZID=America/Chicago:20270706T111500
DTEND;TZID=America/Chicago:20270706T113000
DTSTAMP:20260421T211920
CREATED:20250602T213010Z
LAST-MODIFIED:20250603T185901Z
UID:10120311-1814872500-1814873400@spacecenter.org
SUMMARY:Story Corner Live Presentation
DESCRIPTION:
URL:https://spacecenter.org/events-calendar-event/story-corner-live-presentation/2027-07-06/
LOCATION:Theater – Artemis
CATEGORIES:Live Presentation
END:VEVENT
BEGIN:VEVENT
DTSTART;TZID=America/Chicago:20270706T114500
DTEND;TZID=America/Chicago:20270706T120000
DTSTAMP:20260421T211920
CREATED:20250602T213503Z
LAST-MODIFIED:20250603T190256Z
UID:10138591-1814874300-1814875200@spacecenter.org
SUMMARY:James Webb Live Presentation
DESCRIPTION:
URL:https://spacecenter.org/events-calendar-event/james-webb-live-presentation/2027-07-06/
LOCATION:Theater – Destiny
CATEGORIES:Live Presentation
END:VEVENT
BEGIN:VEVENT
DTSTART;TZID=America/Chicago:20270706T121500
DTEND;TZID=America/Chicago:20270706T123000
DTSTAMP:20260421T211920
CREATED:20250602T213059Z
LAST-MODIFIED:20250603T190345Z
UID:10142247-1814876100-1814877000@spacecenter.org
SUMMARY:Story Corner Live Presentation
DESCRIPTION:
URL:https://spacecenter.org/events-calendar-event/story-corner-live-presentation-2/2027-07-06/
LOCATION:Theater – Artemis
CATEGORIES:Live Presentation
END:VEVENT
BEGIN:VEVENT
DTSTART;TZID=America/Chicago:20270706T124500
DTEND;TZID=America/Chicago:20270706T131500
DTSTAMP:20260421T211920
CREATED:20250602T214012Z
LAST-MODIFIED:20250603T190811Z
UID:10153215-1814877900-1814879700@spacecenter.org
SUMMARY:Artemis Live Presentation
DESCRIPTION:
URL:https://spacecenter.org/events-calendar-event/artemis-live-presentation-2/2027-07-06/
LOCATION:Theater – Destiny
CATEGORIES:Live Presentation
ATTACH;FMTTYPE=image/jpeg:https://spacecenter.org/wp-content/uploads/2022/10/Artemis-Capsule.jpeg
END:VEVENT
BEGIN:VEVENT
DTSTART;TZID=America/Chicago:20270706T131500
DTEND;TZID=America/Chicago:20270706T133000
DTSTAMP:20260421T211920
CREATED:20250602T213201Z
LAST-MODIFIED:20250603T190922Z
UID:10160527-1814879700-1814880600@spacecenter.org
SUMMARY:Story Corner Live Presentation
DESCRIPTION:
URL:https://spacecenter.org/events-calendar-event/story-corner-live-presentation-3/2027-07-06/
LOCATION:Theater – Artemis
CATEGORIES:Live Presentation
END:VEVENT
BEGIN:VEVENT
DTSTART;TZID=America/Chicago:20270706T134500
DTEND;TZID=America/Chicago:20270706T140000
DTSTAMP:20260421T211920
CREATED:20250602T212635Z
LAST-MODIFIED:20250603T191121Z
UID:10171495-1814881500-1814882400@spacecenter.org
SUMMARY:OSIRIS Rex Live Presentation
DESCRIPTION:
URL:https://spacecenter.org/events-calendar-event/osiris-rex-live-presentation-2/2027-07-06/
LOCATION:Mission Sketch Staircase
CATEGORIES:Live Presentation
ATTACH;FMTTYPE=image/jpeg:https://spacecenter.org/wp-content/uploads/2024/03/web-march2024_tls_osirisrex.jpg
END:VEVENT
BEGIN:VEVENT
DTSTART;TZID=America/Chicago:20270706T134500
DTEND;TZID=America/Chicago:20270706T140000
DTSTAMP:20260421T211920
CREATED:20250602T213557Z
LAST-MODIFIED:20250603T191327Z
UID:10175151-1814881500-1814882400@spacecenter.org
SUMMARY:James Webb Live Presentation
DESCRIPTION:
URL:https://spacecenter.org/events-calendar-event/james-webb-live-presentation-2/2027-07-06/
LOCATION:Theater – Destiny
CATEGORIES:Live Presentation
END:VEVENT
BEGIN:VEVENT
DTSTART;TZID=America/Chicago:20270706T144500
DTEND;TZID=America/Chicago:20270706T150000
DTSTAMP:20260421T211920
CREATED:20250602T213716Z
LAST-MODIFIED:20250603T191759Z
UID:10189775-1814885100-1814886000@spacecenter.org
SUMMARY:James Webb Live Presentation
DESCRIPTION:
URL:https://spacecenter.org/events-calendar-event/james-webb-live-presentation-3/2027-07-06/
LOCATION:Theater – Destiny
CATEGORIES:Live Presentation
END:VEVENT
END:VCALENDAR