BEGIN:VCALENDAR
VERSION:2.0
PRODID:-//Space Center Houston - ECPv6.15.15//NONSGML v1.0//EN
CALSCALE:GREGORIAN
METHOD:PUBLISH
X-WR-CALNAME:Space Center Houston
X-ORIGINAL-URL:https://spacecenter.org
X-WR-CALDESC:Events for Space Center Houston
REFRESH-INTERVAL;VALUE=DURATION:PT1H
X-Robots-Tag:noindex
X-PUBLISHED-TTL:PT1H
BEGIN:VTIMEZONE
TZID:America/Chicago
BEGIN:DAYLIGHT
TZOFFSETFROM:-0600
TZOFFSETTO:-0500
TZNAME:CDT
DTSTART:20260308T080000
END:DAYLIGHT
BEGIN:STANDARD
TZOFFSETFROM:-0500
TZOFFSETTO:-0600
TZNAME:CST
DTSTART:20261101T070000
END:STANDARD
BEGIN:DAYLIGHT
TZOFFSETFROM:-0600
TZOFFSETTO:-0500
TZNAME:CDT
DTSTART:20270314T080000
END:DAYLIGHT
BEGIN:STANDARD
TZOFFSETFROM:-0500
TZOFFSETTO:-0600
TZNAME:CST
DTSTART:20271107T070000
END:STANDARD
BEGIN:DAYLIGHT
TZOFFSETFROM:-0600
TZOFFSETTO:-0500
TZNAME:CDT
DTSTART:20280312T080000
END:DAYLIGHT
BEGIN:STANDARD
TZOFFSETFROM:-0500
TZOFFSETTO:-0600
TZNAME:CST
DTSTART:20281105T070000
END:STANDARD
END:VTIMEZONE
BEGIN:VEVENT
DTSTART;TZID=America/Chicago:20270614T114500
DTEND;TZID=America/Chicago:20270614T120000
DTSTAMP:20260421T004350
CREATED:20250602T213503Z
LAST-MODIFIED:20250603T190256Z
UID:10138569-1812973500-1812974400@spacecenter.org
SUMMARY:James Webb Live Presentation
DESCRIPTION:
URL:https://spacecenter.org/events-calendar-event/james-webb-live-presentation/2027-06-14/
LOCATION:Theater – Destiny
CATEGORIES:Live Presentation
END:VEVENT
BEGIN:VEVENT
DTSTART;TZID=America/Chicago:20270614T121500
DTEND;TZID=America/Chicago:20270614T123000
DTSTAMP:20260421T004350
CREATED:20250602T213059Z
LAST-MODIFIED:20250603T190345Z
UID:10142225-1812975300-1812976200@spacecenter.org
SUMMARY:Story Corner Live Presentation
DESCRIPTION:
URL:https://spacecenter.org/events-calendar-event/story-corner-live-presentation-2/2027-06-14/
LOCATION:Theater – Artemis
CATEGORIES:Live Presentation
END:VEVENT
BEGIN:VEVENT
DTSTART;TZID=America/Chicago:20270614T124500
DTEND;TZID=America/Chicago:20270614T131500
DTSTAMP:20260421T004350
CREATED:20250602T214012Z
LAST-MODIFIED:20250603T190811Z
UID:10153193-1812977100-1812978900@spacecenter.org
SUMMARY:Artemis Live Presentation
DESCRIPTION:
URL:https://spacecenter.org/events-calendar-event/artemis-live-presentation-2/2027-06-14/
LOCATION:Theater – Destiny
CATEGORIES:Live Presentation
ATTACH;FMTTYPE=image/jpeg:https://spacecenter.org/wp-content/uploads/2022/10/Artemis-Capsule.jpeg
END:VEVENT
BEGIN:VEVENT
DTSTART;TZID=America/Chicago:20270614T131500
DTEND;TZID=America/Chicago:20270614T133000
DTSTAMP:20260421T004350
CREATED:20250602T213201Z
LAST-MODIFIED:20250603T190922Z
UID:10160505-1812978900-1812979800@spacecenter.org
SUMMARY:Story Corner Live Presentation
DESCRIPTION:
URL:https://spacecenter.org/events-calendar-event/story-corner-live-presentation-3/2027-06-14/
LOCATION:Theater – Artemis
CATEGORIES:Live Presentation
END:VEVENT
BEGIN:VEVENT
DTSTART;TZID=America/Chicago:20270614T134500
DTEND;TZID=America/Chicago:20270614T140000
DTSTAMP:20260421T004350
CREATED:20250602T212635Z
LAST-MODIFIED:20250603T191121Z
UID:10171473-1812980700-1812981600@spacecenter.org
SUMMARY:OSIRIS Rex Live Presentation
DESCRIPTION:
URL:https://spacecenter.org/events-calendar-event/osiris-rex-live-presentation-2/2027-06-14/
LOCATION:Mission Sketch Staircase
CATEGORIES:Live Presentation
ATTACH;FMTTYPE=image/jpeg:https://spacecenter.org/wp-content/uploads/2024/03/web-march2024_tls_osirisrex.jpg
END:VEVENT
BEGIN:VEVENT
DTSTART;TZID=America/Chicago:20270614T134500
DTEND;TZID=America/Chicago:20270614T140000
DTSTAMP:20260421T004350
CREATED:20250602T213557Z
LAST-MODIFIED:20250603T191327Z
UID:10175129-1812980700-1812981600@spacecenter.org
SUMMARY:James Webb Live Presentation
DESCRIPTION:
URL:https://spacecenter.org/events-calendar-event/james-webb-live-presentation-2/2027-06-14/
LOCATION:Theater – Destiny
CATEGORIES:Live Presentation
END:VEVENT
BEGIN:VEVENT
DTSTART;TZID=America/Chicago:20270614T144500
DTEND;TZID=America/Chicago:20270614T150000
DTSTAMP:20260421T004350
CREATED:20250602T213716Z
LAST-MODIFIED:20250603T191759Z
UID:10189753-1812984300-1812985200@spacecenter.org
SUMMARY:James Webb Live Presentation
DESCRIPTION:
URL:https://spacecenter.org/events-calendar-event/james-webb-live-presentation-3/2027-06-14/
LOCATION:Theater – Destiny
CATEGORIES:Live Presentation
END:VEVENT
BEGIN:VEVENT
DTSTART;TZID=America/Chicago:20270614T151500
DTEND;TZID=America/Chicago:20270614T153000
DTSTAMP:20260421T004350
CREATED:20250602T213249Z
LAST-MODIFIED:20250603T191942Z
UID:10197065-1812986100-1812987000@spacecenter.org
SUMMARY:Story Corner Live Presentation
DESCRIPTION:
URL:https://spacecenter.org/events-calendar-event/story-corner-live-presentation-4/2027-06-14/
LOCATION:Theater – Artemis
CATEGORIES:Live Presentation
END:VEVENT
BEGIN:VEVENT
DTSTART;TZID=America/Chicago:20270614T154500
DTEND;TZID=America/Chicago:20270614T161500
DTSTAMP:20260421T004350
CREATED:20250602T214125Z
LAST-MODIFIED:20250603T192119Z
UID:10208033-1812987900-1812989700@spacecenter.org
SUMMARY:Artemis Live Presentation
DESCRIPTION:
URL:https://spacecenter.org/events-calendar-event/artemis-live-presentation-3/2027-06-14/
LOCATION:Theater – Destiny
CATEGORIES:Live Presentation
ATTACH;FMTTYPE=image/jpeg:https://spacecenter.org/wp-content/uploads/2022/10/Artemis-Capsule.jpeg
END:VEVENT
BEGIN:VEVENT
DTSTART;TZID=America/Chicago:20270614T163000
DTEND;TZID=America/Chicago:20270614T164500
DTSTAMP:20260421T004350
CREATED:20250602T212726Z
LAST-MODIFIED:20250603T192225Z
UID:10215345-1812990600-1812991500@spacecenter.org
SUMMARY:OSIRIS Rex Live Presentation
DESCRIPTION:
URL:https://spacecenter.org/events-calendar-event/osiris-rex-live-presentation-3/2027-06-14/
LOCATION:Mission Sketch Staircase
CATEGORIES:Live Presentation
ATTACH;FMTTYPE=image/jpeg:https://spacecenter.org/wp-content/uploads/2024/03/web-march2024_tls_osirisrex.jpg
END:VEVENT
BEGIN:VEVENT
DTSTART;TZID=America/Chicago:20270615T104500
DTEND;TZID=America/Chicago:20270615T110000
DTSTAMP:20260421T004350
CREATED:20250602T212526Z
LAST-MODIFIED:20250603T185502Z
UID:10102010-1813056300-1813057200@spacecenter.org
SUMMARY:OSIRIS Rex Live Presentation
DESCRIPTION:
URL:https://spacecenter.org/events-calendar-event/osiris-rex-live-presentation/2027-06-15/
LOCATION:Mission Sketch Staircase
CATEGORIES:Live Presentation
ATTACH;FMTTYPE=image/jpeg:https://spacecenter.org/wp-content/uploads/2024/03/web-march2024_tls_osirisrex.jpg
END:VEVENT
BEGIN:VEVENT
DTSTART;TZID=America/Chicago:20270615T104500
DTEND;TZID=America/Chicago:20270615T111500
DTSTAMP:20260421T004350
CREATED:20250602T213905Z
LAST-MODIFIED:20250603T185637Z
UID:10109322-1813056300-1813058100@spacecenter.org
SUMMARY:Artemis Live Presentation
DESCRIPTION:
URL:https://spacecenter.org/events-calendar-event/artemis-live-presentation/2027-06-15/
LOCATION:Theater – Destiny
CATEGORIES:Live Presentation
ATTACH;FMTTYPE=image/jpeg:https://spacecenter.org/wp-content/uploads/2022/10/Artemis-Capsule.jpeg
END:VEVENT
BEGIN:VEVENT
DTSTART;TZID=America/Chicago:20270615T111500
DTEND;TZID=America/Chicago:20270615T113000
DTSTAMP:20260421T004350
CREATED:20250602T213010Z
LAST-MODIFIED:20250603T185901Z
UID:10120290-1813058100-1813059000@spacecenter.org
SUMMARY:Story Corner Live Presentation
DESCRIPTION:
URL:https://spacecenter.org/events-calendar-event/story-corner-live-presentation/2027-06-15/
LOCATION:Theater – Artemis
CATEGORIES:Live Presentation
END:VEVENT
BEGIN:VEVENT
DTSTART;TZID=America/Chicago:20270615T114500
DTEND;TZID=America/Chicago:20270615T120000
DTSTAMP:20260421T004350
CREATED:20250602T213503Z
LAST-MODIFIED:20250603T190256Z
UID:10138570-1813059900-1813060800@spacecenter.org
SUMMARY:James Webb Live Presentation
DESCRIPTION:
URL:https://spacecenter.org/events-calendar-event/james-webb-live-presentation/2027-06-15/
LOCATION:Theater – Destiny
CATEGORIES:Live Presentation
END:VEVENT
BEGIN:VEVENT
DTSTART;TZID=America/Chicago:20270615T121500
DTEND;TZID=America/Chicago:20270615T123000
DTSTAMP:20260421T004350
CREATED:20250602T213059Z
LAST-MODIFIED:20250603T190345Z
UID:10142226-1813061700-1813062600@spacecenter.org
SUMMARY:Story Corner Live Presentation
DESCRIPTION:
URL:https://spacecenter.org/events-calendar-event/story-corner-live-presentation-2/2027-06-15/
LOCATION:Theater – Artemis
CATEGORIES:Live Presentation
END:VEVENT
BEGIN:VEVENT
DTSTART;TZID=America/Chicago:20270615T124500
DTEND;TZID=America/Chicago:20270615T131500
DTSTAMP:20260421T004350
CREATED:20250602T214012Z
LAST-MODIFIED:20250603T190811Z
UID:10153194-1813063500-1813065300@spacecenter.org
SUMMARY:Artemis Live Presentation
DESCRIPTION:
URL:https://spacecenter.org/events-calendar-event/artemis-live-presentation-2/2027-06-15/
LOCATION:Theater – Destiny
CATEGORIES:Live Presentation
ATTACH;FMTTYPE=image/jpeg:https://spacecenter.org/wp-content/uploads/2022/10/Artemis-Capsule.jpeg
END:VEVENT
BEGIN:VEVENT
DTSTART;TZID=America/Chicago:20270615T131500
DTEND;TZID=America/Chicago:20270615T133000
DTSTAMP:20260421T004350
CREATED:20250602T213201Z
LAST-MODIFIED:20250603T190922Z
UID:10160506-1813065300-1813066200@spacecenter.org
SUMMARY:Story Corner Live Presentation
DESCRIPTION:
URL:https://spacecenter.org/events-calendar-event/story-corner-live-presentation-3/2027-06-15/
LOCATION:Theater – Artemis
CATEGORIES:Live Presentation
END:VEVENT
BEGIN:VEVENT
DTSTART;TZID=America/Chicago:20270615T134500
DTEND;TZID=America/Chicago:20270615T140000
DTSTAMP:20260421T004350
CREATED:20250602T212635Z
LAST-MODIFIED:20250603T191121Z
UID:10171474-1813067100-1813068000@spacecenter.org
SUMMARY:OSIRIS Rex Live Presentation
DESCRIPTION:
URL:https://spacecenter.org/events-calendar-event/osiris-rex-live-presentation-2/2027-06-15/
LOCATION:Mission Sketch Staircase
CATEGORIES:Live Presentation
ATTACH;FMTTYPE=image/jpeg:https://spacecenter.org/wp-content/uploads/2024/03/web-march2024_tls_osirisrex.jpg
END:VEVENT
BEGIN:VEVENT
DTSTART;TZID=America/Chicago:20270615T134500
DTEND;TZID=America/Chicago:20270615T140000
DTSTAMP:20260421T004350
CREATED:20250602T213557Z
LAST-MODIFIED:20250603T191327Z
UID:10175130-1813067100-1813068000@spacecenter.org
SUMMARY:James Webb Live Presentation
DESCRIPTION:
URL:https://spacecenter.org/events-calendar-event/james-webb-live-presentation-2/2027-06-15/
LOCATION:Theater – Destiny
CATEGORIES:Live Presentation
END:VEVENT
BEGIN:VEVENT
DTSTART;TZID=America/Chicago:20270615T144500
DTEND;TZID=America/Chicago:20270615T150000
DTSTAMP:20260421T004350
CREATED:20250602T213716Z
LAST-MODIFIED:20250603T191759Z
UID:10189754-1813070700-1813071600@spacecenter.org
SUMMARY:James Webb Live Presentation
DESCRIPTION:
URL:https://spacecenter.org/events-calendar-event/james-webb-live-presentation-3/2027-06-15/
LOCATION:Theater – Destiny
CATEGORIES:Live Presentation
END:VEVENT
BEGIN:VEVENT
DTSTART;TZID=America/Chicago:20270615T151500
DTEND;TZID=America/Chicago:20270615T153000
DTSTAMP:20260421T004350
CREATED:20250602T213249Z
LAST-MODIFIED:20250603T191942Z
UID:10197066-1813072500-1813073400@spacecenter.org
SUMMARY:Story Corner Live Presentation
DESCRIPTION:
URL:https://spacecenter.org/events-calendar-event/story-corner-live-presentation-4/2027-06-15/
LOCATION:Theater – Artemis
CATEGORIES:Live Presentation
END:VEVENT
BEGIN:VEVENT
DTSTART;TZID=America/Chicago:20270615T154500
DTEND;TZID=America/Chicago:20270615T161500
DTSTAMP:20260421T004350
CREATED:20250602T214125Z
LAST-MODIFIED:20250603T192119Z
UID:10208034-1813074300-1813076100@spacecenter.org
SUMMARY:Artemis Live Presentation
DESCRIPTION:
URL:https://spacecenter.org/events-calendar-event/artemis-live-presentation-3/2027-06-15/
LOCATION:Theater – Destiny
CATEGORIES:Live Presentation
ATTACH;FMTTYPE=image/jpeg:https://spacecenter.org/wp-content/uploads/2022/10/Artemis-Capsule.jpeg
END:VEVENT
BEGIN:VEVENT
DTSTART;TZID=America/Chicago:20270615T163000
DTEND;TZID=America/Chicago:20270615T164500
DTSTAMP:20260421T004350
CREATED:20250602T212726Z
LAST-MODIFIED:20250603T192225Z
UID:10215346-1813077000-1813077900@spacecenter.org
SUMMARY:OSIRIS Rex Live Presentation
DESCRIPTION:
URL:https://spacecenter.org/events-calendar-event/osiris-rex-live-presentation-3/2027-06-15/
LOCATION:Mission Sketch Staircase
CATEGORIES:Live Presentation
ATTACH;FMTTYPE=image/jpeg:https://spacecenter.org/wp-content/uploads/2024/03/web-march2024_tls_osirisrex.jpg
END:VEVENT
BEGIN:VEVENT
DTSTART;TZID=America/Chicago:20270616T104500
DTEND;TZID=America/Chicago:20270616T110000
DTSTAMP:20260421T004350
CREATED:20250602T212526Z
LAST-MODIFIED:20250603T185502Z
UID:10102011-1813142700-1813143600@spacecenter.org
SUMMARY:OSIRIS Rex Live Presentation
DESCRIPTION:
URL:https://spacecenter.org/events-calendar-event/osiris-rex-live-presentation/2027-06-16/
LOCATION:Mission Sketch Staircase
CATEGORIES:Live Presentation
ATTACH;FMTTYPE=image/jpeg:https://spacecenter.org/wp-content/uploads/2024/03/web-march2024_tls_osirisrex.jpg
END:VEVENT
BEGIN:VEVENT
DTSTART;TZID=America/Chicago:20270616T104500
DTEND;TZID=America/Chicago:20270616T111500
DTSTAMP:20260421T004350
CREATED:20250602T213905Z
LAST-MODIFIED:20250603T185637Z
UID:10109323-1813142700-1813144500@spacecenter.org
SUMMARY:Artemis Live Presentation
DESCRIPTION:
URL:https://spacecenter.org/events-calendar-event/artemis-live-presentation/2027-06-16/
LOCATION:Theater – Destiny
CATEGORIES:Live Presentation
ATTACH;FMTTYPE=image/jpeg:https://spacecenter.org/wp-content/uploads/2022/10/Artemis-Capsule.jpeg
END:VEVENT
BEGIN:VEVENT
DTSTART;TZID=America/Chicago:20270616T111500
DTEND;TZID=America/Chicago:20270616T113000
DTSTAMP:20260421T004350
CREATED:20250602T213010Z
LAST-MODIFIED:20250603T185901Z
UID:10120291-1813144500-1813145400@spacecenter.org
SUMMARY:Story Corner Live Presentation
DESCRIPTION:
URL:https://spacecenter.org/events-calendar-event/story-corner-live-presentation/2027-06-16/
LOCATION:Theater – Artemis
CATEGORIES:Live Presentation
END:VEVENT
BEGIN:VEVENT
DTSTART;TZID=America/Chicago:20270616T114500
DTEND;TZID=America/Chicago:20270616T120000
DTSTAMP:20260421T004350
CREATED:20250602T213503Z
LAST-MODIFIED:20250603T190256Z
UID:10138571-1813146300-1813147200@spacecenter.org
SUMMARY:James Webb Live Presentation
DESCRIPTION:
URL:https://spacecenter.org/events-calendar-event/james-webb-live-presentation/2027-06-16/
LOCATION:Theater – Destiny
CATEGORIES:Live Presentation
END:VEVENT
BEGIN:VEVENT
DTSTART;TZID=America/Chicago:20270616T121500
DTEND;TZID=America/Chicago:20270616T123000
DTSTAMP:20260421T004350
CREATED:20250602T213059Z
LAST-MODIFIED:20250603T190345Z
UID:10142227-1813148100-1813149000@spacecenter.org
SUMMARY:Story Corner Live Presentation
DESCRIPTION:
URL:https://spacecenter.org/events-calendar-event/story-corner-live-presentation-2/2027-06-16/
LOCATION:Theater – Artemis
CATEGORIES:Live Presentation
END:VEVENT
BEGIN:VEVENT
DTSTART;TZID=America/Chicago:20270616T124500
DTEND;TZID=America/Chicago:20270616T131500
DTSTAMP:20260421T004350
CREATED:20250602T214012Z
LAST-MODIFIED:20250603T190811Z
UID:10153195-1813149900-1813151700@spacecenter.org
SUMMARY:Artemis Live Presentation
DESCRIPTION:
URL:https://spacecenter.org/events-calendar-event/artemis-live-presentation-2/2027-06-16/
LOCATION:Theater – Destiny
CATEGORIES:Live Presentation
ATTACH;FMTTYPE=image/jpeg:https://spacecenter.org/wp-content/uploads/2022/10/Artemis-Capsule.jpeg
END:VEVENT
BEGIN:VEVENT
DTSTART;TZID=America/Chicago:20270616T131500
DTEND;TZID=America/Chicago:20270616T133000
DTSTAMP:20260421T004350
CREATED:20250602T213201Z
LAST-MODIFIED:20250603T190922Z
UID:10160507-1813151700-1813152600@spacecenter.org
SUMMARY:Story Corner Live Presentation
DESCRIPTION:
URL:https://spacecenter.org/events-calendar-event/story-corner-live-presentation-3/2027-06-16/
LOCATION:Theater – Artemis
CATEGORIES:Live Presentation
END:VEVENT
END:VCALENDAR