BEGIN:VCALENDAR
VERSION:2.0
PRODID:-//Space Center Houston - ECPv6.15.15//NONSGML v1.0//EN
CALSCALE:GREGORIAN
METHOD:PUBLISH
X-WR-CALNAME:Space Center Houston
X-ORIGINAL-URL:https://spacecenter.org
X-WR-CALDESC:Events for Space Center Houston
REFRESH-INTERVAL;VALUE=DURATION:PT1H
X-Robots-Tag:noindex
X-PUBLISHED-TTL:PT1H
BEGIN:VTIMEZONE
TZID:America/Chicago
BEGIN:DAYLIGHT
TZOFFSETFROM:-0600
TZOFFSETTO:-0500
TZNAME:CDT
DTSTART:20260308T080000
END:DAYLIGHT
BEGIN:STANDARD
TZOFFSETFROM:-0500
TZOFFSETTO:-0600
TZNAME:CST
DTSTART:20261101T070000
END:STANDARD
BEGIN:DAYLIGHT
TZOFFSETFROM:-0600
TZOFFSETTO:-0500
TZNAME:CDT
DTSTART:20270314T080000
END:DAYLIGHT
BEGIN:STANDARD
TZOFFSETFROM:-0500
TZOFFSETTO:-0600
TZNAME:CST
DTSTART:20271107T070000
END:STANDARD
BEGIN:DAYLIGHT
TZOFFSETFROM:-0600
TZOFFSETTO:-0500
TZNAME:CDT
DTSTART:20280312T080000
END:DAYLIGHT
BEGIN:STANDARD
TZOFFSETFROM:-0500
TZOFFSETTO:-0600
TZNAME:CST
DTSTART:20281105T070000
END:STANDARD
END:VTIMEZONE
BEGIN:VEVENT
DTSTART;TZID=America/Chicago:20270609T124500
DTEND;TZID=America/Chicago:20270609T131500
DTSTAMP:20260419T174452
CREATED:20250602T214012Z
LAST-MODIFIED:20250603T190811Z
UID:10153188-1812545100-1812546900@spacecenter.org
SUMMARY:Artemis Live Presentation
DESCRIPTION:
URL:https://spacecenter.org/events-calendar-event/artemis-live-presentation-2/2027-06-09/
LOCATION:Theater – Destiny
CATEGORIES:Live Presentation
ATTACH;FMTTYPE=image/jpeg:https://spacecenter.org/wp-content/uploads/2022/10/Artemis-Capsule.jpeg
END:VEVENT
BEGIN:VEVENT
DTSTART;TZID=America/Chicago:20270609T131500
DTEND;TZID=America/Chicago:20270609T133000
DTSTAMP:20260419T174452
CREATED:20250602T213201Z
LAST-MODIFIED:20250603T190922Z
UID:10160500-1812546900-1812547800@spacecenter.org
SUMMARY:Story Corner Live Presentation
DESCRIPTION:
URL:https://spacecenter.org/events-calendar-event/story-corner-live-presentation-3/2027-06-09/
LOCATION:Theater – Artemis
CATEGORIES:Live Presentation
END:VEVENT
BEGIN:VEVENT
DTSTART;TZID=America/Chicago:20270609T134500
DTEND;TZID=America/Chicago:20270609T140000
DTSTAMP:20260419T174452
CREATED:20250602T212635Z
LAST-MODIFIED:20250603T191121Z
UID:10171468-1812548700-1812549600@spacecenter.org
SUMMARY:OSIRIS Rex Live Presentation
DESCRIPTION:
URL:https://spacecenter.org/events-calendar-event/osiris-rex-live-presentation-2/2027-06-09/
LOCATION:Mission Sketch Staircase
CATEGORIES:Live Presentation
ATTACH;FMTTYPE=image/jpeg:https://spacecenter.org/wp-content/uploads/2024/03/web-march2024_tls_osirisrex.jpg
END:VEVENT
BEGIN:VEVENT
DTSTART;TZID=America/Chicago:20270609T134500
DTEND;TZID=America/Chicago:20270609T140000
DTSTAMP:20260419T174452
CREATED:20250602T213557Z
LAST-MODIFIED:20250603T191327Z
UID:10175124-1812548700-1812549600@spacecenter.org
SUMMARY:James Webb Live Presentation
DESCRIPTION:
URL:https://spacecenter.org/events-calendar-event/james-webb-live-presentation-2/2027-06-09/
LOCATION:Theater – Destiny
CATEGORIES:Live Presentation
END:VEVENT
BEGIN:VEVENT
DTSTART;TZID=America/Chicago:20270609T144500
DTEND;TZID=America/Chicago:20270609T150000
DTSTAMP:20260419T174452
CREATED:20250602T213716Z
LAST-MODIFIED:20250603T191759Z
UID:10189748-1812552300-1812553200@spacecenter.org
SUMMARY:James Webb Live Presentation
DESCRIPTION:
URL:https://spacecenter.org/events-calendar-event/james-webb-live-presentation-3/2027-06-09/
LOCATION:Theater – Destiny
CATEGORIES:Live Presentation
END:VEVENT
BEGIN:VEVENT
DTSTART;TZID=America/Chicago:20270609T151500
DTEND;TZID=America/Chicago:20270609T153000
DTSTAMP:20260419T174452
CREATED:20250602T213249Z
LAST-MODIFIED:20250603T191942Z
UID:10197060-1812554100-1812555000@spacecenter.org
SUMMARY:Story Corner Live Presentation
DESCRIPTION:
URL:https://spacecenter.org/events-calendar-event/story-corner-live-presentation-4/2027-06-09/
LOCATION:Theater – Artemis
CATEGORIES:Live Presentation
END:VEVENT
BEGIN:VEVENT
DTSTART;TZID=America/Chicago:20270609T154500
DTEND;TZID=America/Chicago:20270609T161500
DTSTAMP:20260419T174452
CREATED:20250602T214125Z
LAST-MODIFIED:20250603T192119Z
UID:10208028-1812555900-1812557700@spacecenter.org
SUMMARY:Artemis Live Presentation
DESCRIPTION:
URL:https://spacecenter.org/events-calendar-event/artemis-live-presentation-3/2027-06-09/
LOCATION:Theater – Destiny
CATEGORIES:Live Presentation
ATTACH;FMTTYPE=image/jpeg:https://spacecenter.org/wp-content/uploads/2022/10/Artemis-Capsule.jpeg
END:VEVENT
BEGIN:VEVENT
DTSTART;TZID=America/Chicago:20270609T163000
DTEND;TZID=America/Chicago:20270609T164500
DTSTAMP:20260419T174452
CREATED:20250602T212726Z
LAST-MODIFIED:20250603T192225Z
UID:10215340-1812558600-1812559500@spacecenter.org
SUMMARY:OSIRIS Rex Live Presentation
DESCRIPTION:
URL:https://spacecenter.org/events-calendar-event/osiris-rex-live-presentation-3/2027-06-09/
LOCATION:Mission Sketch Staircase
CATEGORIES:Live Presentation
ATTACH;FMTTYPE=image/jpeg:https://spacecenter.org/wp-content/uploads/2024/03/web-march2024_tls_osirisrex.jpg
END:VEVENT
BEGIN:VEVENT
DTSTART;TZID=America/Chicago:20270610T104500
DTEND;TZID=America/Chicago:20270610T110000
DTSTAMP:20260419T174452
CREATED:20250602T212526Z
LAST-MODIFIED:20250603T185502Z
UID:10102005-1812624300-1812625200@spacecenter.org
SUMMARY:OSIRIS Rex Live Presentation
DESCRIPTION:
URL:https://spacecenter.org/events-calendar-event/osiris-rex-live-presentation/2027-06-10/
LOCATION:Mission Sketch Staircase
CATEGORIES:Live Presentation
ATTACH;FMTTYPE=image/jpeg:https://spacecenter.org/wp-content/uploads/2024/03/web-march2024_tls_osirisrex.jpg
END:VEVENT
BEGIN:VEVENT
DTSTART;TZID=America/Chicago:20270610T104500
DTEND;TZID=America/Chicago:20270610T111500
DTSTAMP:20260419T174452
CREATED:20250602T213905Z
LAST-MODIFIED:20250603T185637Z
UID:10109317-1812624300-1812626100@spacecenter.org
SUMMARY:Artemis Live Presentation
DESCRIPTION:
URL:https://spacecenter.org/events-calendar-event/artemis-live-presentation/2027-06-10/
LOCATION:Theater – Destiny
CATEGORIES:Live Presentation
ATTACH;FMTTYPE=image/jpeg:https://spacecenter.org/wp-content/uploads/2022/10/Artemis-Capsule.jpeg
END:VEVENT
BEGIN:VEVENT
DTSTART;TZID=America/Chicago:20270610T111500
DTEND;TZID=America/Chicago:20270610T113000
DTSTAMP:20260419T174452
CREATED:20250602T213010Z
LAST-MODIFIED:20250603T185901Z
UID:10120285-1812626100-1812627000@spacecenter.org
SUMMARY:Story Corner Live Presentation
DESCRIPTION:
URL:https://spacecenter.org/events-calendar-event/story-corner-live-presentation/2027-06-10/
LOCATION:Theater – Artemis
CATEGORIES:Live Presentation
END:VEVENT
BEGIN:VEVENT
DTSTART;TZID=America/Chicago:20270610T114500
DTEND;TZID=America/Chicago:20270610T120000
DTSTAMP:20260419T174452
CREATED:20250602T213503Z
LAST-MODIFIED:20250603T190256Z
UID:10138565-1812627900-1812628800@spacecenter.org
SUMMARY:James Webb Live Presentation
DESCRIPTION:
URL:https://spacecenter.org/events-calendar-event/james-webb-live-presentation/2027-06-10/
LOCATION:Theater – Destiny
CATEGORIES:Live Presentation
END:VEVENT
BEGIN:VEVENT
DTSTART;TZID=America/Chicago:20270610T121500
DTEND;TZID=America/Chicago:20270610T123000
DTSTAMP:20260419T174452
CREATED:20250602T213059Z
LAST-MODIFIED:20250603T190345Z
UID:10142221-1812629700-1812630600@spacecenter.org
SUMMARY:Story Corner Live Presentation
DESCRIPTION:
URL:https://spacecenter.org/events-calendar-event/story-corner-live-presentation-2/2027-06-10/
LOCATION:Theater – Artemis
CATEGORIES:Live Presentation
END:VEVENT
BEGIN:VEVENT
DTSTART;TZID=America/Chicago:20270610T124500
DTEND;TZID=America/Chicago:20270610T131500
DTSTAMP:20260419T174452
CREATED:20250602T214012Z
LAST-MODIFIED:20250603T190811Z
UID:10153189-1812631500-1812633300@spacecenter.org
SUMMARY:Artemis Live Presentation
DESCRIPTION:
URL:https://spacecenter.org/events-calendar-event/artemis-live-presentation-2/2027-06-10/
LOCATION:Theater – Destiny
CATEGORIES:Live Presentation
ATTACH;FMTTYPE=image/jpeg:https://spacecenter.org/wp-content/uploads/2022/10/Artemis-Capsule.jpeg
END:VEVENT
BEGIN:VEVENT
DTSTART;TZID=America/Chicago:20270610T131500
DTEND;TZID=America/Chicago:20270610T133000
DTSTAMP:20260419T174452
CREATED:20250602T213201Z
LAST-MODIFIED:20250603T190922Z
UID:10160501-1812633300-1812634200@spacecenter.org
SUMMARY:Story Corner Live Presentation
DESCRIPTION:
URL:https://spacecenter.org/events-calendar-event/story-corner-live-presentation-3/2027-06-10/
LOCATION:Theater – Artemis
CATEGORIES:Live Presentation
END:VEVENT
BEGIN:VEVENT
DTSTART;TZID=America/Chicago:20270610T134500
DTEND;TZID=America/Chicago:20270610T140000
DTSTAMP:20260419T174452
CREATED:20250602T212635Z
LAST-MODIFIED:20250603T191121Z
UID:10171469-1812635100-1812636000@spacecenter.org
SUMMARY:OSIRIS Rex Live Presentation
DESCRIPTION:
URL:https://spacecenter.org/events-calendar-event/osiris-rex-live-presentation-2/2027-06-10/
LOCATION:Mission Sketch Staircase
CATEGORIES:Live Presentation
ATTACH;FMTTYPE=image/jpeg:https://spacecenter.org/wp-content/uploads/2024/03/web-march2024_tls_osirisrex.jpg
END:VEVENT
BEGIN:VEVENT
DTSTART;TZID=America/Chicago:20270610T134500
DTEND;TZID=America/Chicago:20270610T140000
DTSTAMP:20260419T174452
CREATED:20250602T213557Z
LAST-MODIFIED:20250603T191327Z
UID:10175125-1812635100-1812636000@spacecenter.org
SUMMARY:James Webb Live Presentation
DESCRIPTION:
URL:https://spacecenter.org/events-calendar-event/james-webb-live-presentation-2/2027-06-10/
LOCATION:Theater – Destiny
CATEGORIES:Live Presentation
END:VEVENT
BEGIN:VEVENT
DTSTART;TZID=America/Chicago:20270610T144500
DTEND;TZID=America/Chicago:20270610T150000
DTSTAMP:20260419T174452
CREATED:20250602T213716Z
LAST-MODIFIED:20250603T191759Z
UID:10189749-1812638700-1812639600@spacecenter.org
SUMMARY:James Webb Live Presentation
DESCRIPTION:
URL:https://spacecenter.org/events-calendar-event/james-webb-live-presentation-3/2027-06-10/
LOCATION:Theater – Destiny
CATEGORIES:Live Presentation
END:VEVENT
BEGIN:VEVENT
DTSTART;TZID=America/Chicago:20270610T151500
DTEND;TZID=America/Chicago:20270610T153000
DTSTAMP:20260419T174452
CREATED:20250602T213249Z
LAST-MODIFIED:20250603T191942Z
UID:10197061-1812640500-1812641400@spacecenter.org
SUMMARY:Story Corner Live Presentation
DESCRIPTION:
URL:https://spacecenter.org/events-calendar-event/story-corner-live-presentation-4/2027-06-10/
LOCATION:Theater – Artemis
CATEGORIES:Live Presentation
END:VEVENT
BEGIN:VEVENT
DTSTART;TZID=America/Chicago:20270610T154500
DTEND;TZID=America/Chicago:20270610T161500
DTSTAMP:20260419T174452
CREATED:20250602T214125Z
LAST-MODIFIED:20250603T192119Z
UID:10208029-1812642300-1812644100@spacecenter.org
SUMMARY:Artemis Live Presentation
DESCRIPTION:
URL:https://spacecenter.org/events-calendar-event/artemis-live-presentation-3/2027-06-10/
LOCATION:Theater – Destiny
CATEGORIES:Live Presentation
ATTACH;FMTTYPE=image/jpeg:https://spacecenter.org/wp-content/uploads/2022/10/Artemis-Capsule.jpeg
END:VEVENT
BEGIN:VEVENT
DTSTART;TZID=America/Chicago:20270610T163000
DTEND;TZID=America/Chicago:20270610T164500
DTSTAMP:20260419T174452
CREATED:20250602T212726Z
LAST-MODIFIED:20250603T192225Z
UID:10215341-1812645000-1812645900@spacecenter.org
SUMMARY:OSIRIS Rex Live Presentation
DESCRIPTION:
URL:https://spacecenter.org/events-calendar-event/osiris-rex-live-presentation-3/2027-06-10/
LOCATION:Mission Sketch Staircase
CATEGORIES:Live Presentation
ATTACH;FMTTYPE=image/jpeg:https://spacecenter.org/wp-content/uploads/2024/03/web-march2024_tls_osirisrex.jpg
END:VEVENT
BEGIN:VEVENT
DTSTART;TZID=America/Chicago:20270611T104500
DTEND;TZID=America/Chicago:20270611T110000
DTSTAMP:20260419T174452
CREATED:20250602T212526Z
LAST-MODIFIED:20250603T185502Z
UID:10102006-1812710700-1812711600@spacecenter.org
SUMMARY:OSIRIS Rex Live Presentation
DESCRIPTION:
URL:https://spacecenter.org/events-calendar-event/osiris-rex-live-presentation/2027-06-11/
LOCATION:Mission Sketch Staircase
CATEGORIES:Live Presentation
ATTACH;FMTTYPE=image/jpeg:https://spacecenter.org/wp-content/uploads/2024/03/web-march2024_tls_osirisrex.jpg
END:VEVENT
BEGIN:VEVENT
DTSTART;TZID=America/Chicago:20270611T104500
DTEND;TZID=America/Chicago:20270611T111500
DTSTAMP:20260419T174452
CREATED:20250602T213905Z
LAST-MODIFIED:20250603T185637Z
UID:10109318-1812710700-1812712500@spacecenter.org
SUMMARY:Artemis Live Presentation
DESCRIPTION:
URL:https://spacecenter.org/events-calendar-event/artemis-live-presentation/2027-06-11/
LOCATION:Theater – Destiny
CATEGORIES:Live Presentation
ATTACH;FMTTYPE=image/jpeg:https://spacecenter.org/wp-content/uploads/2022/10/Artemis-Capsule.jpeg
END:VEVENT
BEGIN:VEVENT
DTSTART;TZID=America/Chicago:20270611T111500
DTEND;TZID=America/Chicago:20270611T113000
DTSTAMP:20260419T174452
CREATED:20250602T213010Z
LAST-MODIFIED:20250603T185901Z
UID:10120286-1812712500-1812713400@spacecenter.org
SUMMARY:Story Corner Live Presentation
DESCRIPTION:
URL:https://spacecenter.org/events-calendar-event/story-corner-live-presentation/2027-06-11/
LOCATION:Theater – Artemis
CATEGORIES:Live Presentation
END:VEVENT
BEGIN:VEVENT
DTSTART;TZID=America/Chicago:20270611T114500
DTEND;TZID=America/Chicago:20270611T120000
DTSTAMP:20260419T174452
CREATED:20250602T213503Z
LAST-MODIFIED:20250603T190256Z
UID:10138566-1812714300-1812715200@spacecenter.org
SUMMARY:James Webb Live Presentation
DESCRIPTION:
URL:https://spacecenter.org/events-calendar-event/james-webb-live-presentation/2027-06-11/
LOCATION:Theater – Destiny
CATEGORIES:Live Presentation
END:VEVENT
BEGIN:VEVENT
DTSTART;TZID=America/Chicago:20270611T121500
DTEND;TZID=America/Chicago:20270611T123000
DTSTAMP:20260419T174452
CREATED:20250602T213059Z
LAST-MODIFIED:20250603T190345Z
UID:10142222-1812716100-1812717000@spacecenter.org
SUMMARY:Story Corner Live Presentation
DESCRIPTION:
URL:https://spacecenter.org/events-calendar-event/story-corner-live-presentation-2/2027-06-11/
LOCATION:Theater – Artemis
CATEGORIES:Live Presentation
END:VEVENT
BEGIN:VEVENT
DTSTART;TZID=America/Chicago:20270611T124500
DTEND;TZID=America/Chicago:20270611T131500
DTSTAMP:20260419T174452
CREATED:20250602T214012Z
LAST-MODIFIED:20250603T190811Z
UID:10153190-1812717900-1812719700@spacecenter.org
SUMMARY:Artemis Live Presentation
DESCRIPTION:
URL:https://spacecenter.org/events-calendar-event/artemis-live-presentation-2/2027-06-11/
LOCATION:Theater – Destiny
CATEGORIES:Live Presentation
ATTACH;FMTTYPE=image/jpeg:https://spacecenter.org/wp-content/uploads/2022/10/Artemis-Capsule.jpeg
END:VEVENT
BEGIN:VEVENT
DTSTART;TZID=America/Chicago:20270611T131500
DTEND;TZID=America/Chicago:20270611T133000
DTSTAMP:20260419T174452
CREATED:20250602T213201Z
LAST-MODIFIED:20250603T190922Z
UID:10160502-1812719700-1812720600@spacecenter.org
SUMMARY:Story Corner Live Presentation
DESCRIPTION:
URL:https://spacecenter.org/events-calendar-event/story-corner-live-presentation-3/2027-06-11/
LOCATION:Theater – Artemis
CATEGORIES:Live Presentation
END:VEVENT
BEGIN:VEVENT
DTSTART;TZID=America/Chicago:20270611T134500
DTEND;TZID=America/Chicago:20270611T140000
DTSTAMP:20260419T174452
CREATED:20250602T212635Z
LAST-MODIFIED:20250603T191121Z
UID:10171470-1812721500-1812722400@spacecenter.org
SUMMARY:OSIRIS Rex Live Presentation
DESCRIPTION:
URL:https://spacecenter.org/events-calendar-event/osiris-rex-live-presentation-2/2027-06-11/
LOCATION:Mission Sketch Staircase
CATEGORIES:Live Presentation
ATTACH;FMTTYPE=image/jpeg:https://spacecenter.org/wp-content/uploads/2024/03/web-march2024_tls_osirisrex.jpg
END:VEVENT
BEGIN:VEVENT
DTSTART;TZID=America/Chicago:20270611T134500
DTEND;TZID=America/Chicago:20270611T140000
DTSTAMP:20260419T174452
CREATED:20250602T213557Z
LAST-MODIFIED:20250603T191327Z
UID:10175126-1812721500-1812722400@spacecenter.org
SUMMARY:James Webb Live Presentation
DESCRIPTION:
URL:https://spacecenter.org/events-calendar-event/james-webb-live-presentation-2/2027-06-11/
LOCATION:Theater – Destiny
CATEGORIES:Live Presentation
END:VEVENT
END:VCALENDAR